BEGIN:VCALENDAR
VERSION:2.0
PRODID:-//MaddHatterPro.com - ECPv6.15.20//NONSGML v1.0//EN
CALSCALE:GREGORIAN
METHOD:PUBLISH
X-ORIGINAL-URL:https://www.maddhatterpro.com
X-WR-CALDESC:Events for MaddHatterPro.com
REFRESH-INTERVAL;VALUE=DURATION:PT1H
X-Robots-Tag:noindex
X-PUBLISHED-TTL:PT1H
BEGIN:VTIMEZONE
TZID:UTC
BEGIN:STANDARD
TZOFFSETFROM:+0000
TZOFFSETTO:+0000
TZNAME:UTC
DTSTART:20260101T000000
END:STANDARD
END:VTIMEZONE
BEGIN:VEVENT
DTSTART;TZID=UTC:20270911T210000
DTEND;TZID=UTC:20270911T210000
DTSTAMP:20260424T030721
CREATED:20250704T004113Z
LAST-MODIFIED:20260206T144717Z
UID:10023403-1820696400-1820696400@www.maddhatterpro.com
SUMMARY:Third Base Karaoke
DESCRIPTION:Super chill and ready to hear you sing! KJ Amygdala in the house slinging those tunes\, and your bar tenders\, slinging those drinks. Lets have a blast! \n4910 W Ray Rd #3\, Chandler\, AZ\, United States\, Arizona \n\n\n\n(480) 687-1556
URL:https://www.maddhatterpro.com/event/third-base-karaoke/2027-09-11/
LOCATION:Third Base\, 4910 W Ray Rd #3\, Chandler\, AZ\, 85226\, United States
CATEGORIES:Karaoke,KJ Amygdala
ATTACH;FMTTYPE=image/jpeg:https://www.maddhatterpro.com/wp-content/uploads/2026/02/Third-Base-Chandler.jpg
END:VEVENT
BEGIN:VEVENT
DTSTART;TZID=UTC:20270918T210000
DTEND;TZID=UTC:20270918T210000
DTSTAMP:20260424T030721
CREATED:20250704T004113Z
LAST-MODIFIED:20260206T144717Z
UID:10023404-1821301200-1821301200@www.maddhatterpro.com
SUMMARY:Third Base Karaoke
DESCRIPTION:Super chill and ready to hear you sing! KJ Amygdala in the house slinging those tunes\, and your bar tenders\, slinging those drinks. Lets have a blast! \n4910 W Ray Rd #3\, Chandler\, AZ\, United States\, Arizona \n\n\n\n(480) 687-1556
URL:https://www.maddhatterpro.com/event/third-base-karaoke/2027-09-18/
LOCATION:Third Base\, 4910 W Ray Rd #3\, Chandler\, AZ\, 85226\, United States
CATEGORIES:Karaoke,KJ Amygdala
ATTACH;FMTTYPE=image/jpeg:https://www.maddhatterpro.com/wp-content/uploads/2026/02/Third-Base-Chandler.jpg
END:VEVENT
BEGIN:VEVENT
DTSTART;TZID=UTC:20270925T210000
DTEND;TZID=UTC:20270925T210000
DTSTAMP:20260424T030721
CREATED:20250704T004113Z
LAST-MODIFIED:20260206T144717Z
UID:10023405-1821906000-1821906000@www.maddhatterpro.com
SUMMARY:Third Base Karaoke
DESCRIPTION:Super chill and ready to hear you sing! KJ Amygdala in the house slinging those tunes\, and your bar tenders\, slinging those drinks. Lets have a blast! \n4910 W Ray Rd #3\, Chandler\, AZ\, United States\, Arizona \n\n\n\n(480) 687-1556
URL:https://www.maddhatterpro.com/event/third-base-karaoke/2027-09-25/
LOCATION:Third Base\, 4910 W Ray Rd #3\, Chandler\, AZ\, 85226\, United States
CATEGORIES:Karaoke,KJ Amygdala
ATTACH;FMTTYPE=image/jpeg:https://www.maddhatterpro.com/wp-content/uploads/2026/02/Third-Base-Chandler.jpg
END:VEVENT
BEGIN:VEVENT
DTSTART;TZID=UTC:20271002T210000
DTEND;TZID=UTC:20271002T210000
DTSTAMP:20260424T030721
CREATED:20250704T004113Z
LAST-MODIFIED:20260206T144717Z
UID:10023406-1822510800-1822510800@www.maddhatterpro.com
SUMMARY:Third Base Karaoke
DESCRIPTION:Super chill and ready to hear you sing! KJ Amygdala in the house slinging those tunes\, and your bar tenders\, slinging those drinks. Lets have a blast! \n4910 W Ray Rd #3\, Chandler\, AZ\, United States\, Arizona \n\n\n\n(480) 687-1556
URL:https://www.maddhatterpro.com/event/third-base-karaoke/2027-10-02/
LOCATION:Third Base\, 4910 W Ray Rd #3\, Chandler\, AZ\, 85226\, United States
CATEGORIES:Karaoke,KJ Amygdala
ATTACH;FMTTYPE=image/jpeg:https://www.maddhatterpro.com/wp-content/uploads/2026/02/Third-Base-Chandler.jpg
END:VEVENT
BEGIN:VEVENT
DTSTART;TZID=UTC:20271009T210000
DTEND;TZID=UTC:20271009T210000
DTSTAMP:20260424T030721
CREATED:20250704T004113Z
LAST-MODIFIED:20260206T144717Z
UID:10023407-1823115600-1823115600@www.maddhatterpro.com
SUMMARY:Third Base Karaoke
DESCRIPTION:Super chill and ready to hear you sing! KJ Amygdala in the house slinging those tunes\, and your bar tenders\, slinging those drinks. Lets have a blast! \n4910 W Ray Rd #3\, Chandler\, AZ\, United States\, Arizona \n\n\n\n(480) 687-1556
URL:https://www.maddhatterpro.com/event/third-base-karaoke/2027-10-09/
LOCATION:Third Base\, 4910 W Ray Rd #3\, Chandler\, AZ\, 85226\, United States
CATEGORIES:Karaoke,KJ Amygdala
ATTACH;FMTTYPE=image/jpeg:https://www.maddhatterpro.com/wp-content/uploads/2026/02/Third-Base-Chandler.jpg
END:VEVENT
BEGIN:VEVENT
DTSTART;TZID=UTC:20271016T210000
DTEND;TZID=UTC:20271016T210000
DTSTAMP:20260424T030721
CREATED:20250704T004113Z
LAST-MODIFIED:20260206T144717Z
UID:10023408-1823720400-1823720400@www.maddhatterpro.com
SUMMARY:Third Base Karaoke
DESCRIPTION:Super chill and ready to hear you sing! KJ Amygdala in the house slinging those tunes\, and your bar tenders\, slinging those drinks. Lets have a blast! \n4910 W Ray Rd #3\, Chandler\, AZ\, United States\, Arizona \n\n\n\n(480) 687-1556
URL:https://www.maddhatterpro.com/event/third-base-karaoke/2027-10-16/
LOCATION:Third Base\, 4910 W Ray Rd #3\, Chandler\, AZ\, 85226\, United States
CATEGORIES:Karaoke,KJ Amygdala
ATTACH;FMTTYPE=image/jpeg:https://www.maddhatterpro.com/wp-content/uploads/2026/02/Third-Base-Chandler.jpg
END:VEVENT
BEGIN:VEVENT
DTSTART;TZID=UTC:20271023T210000
DTEND;TZID=UTC:20271023T210000
DTSTAMP:20260424T030721
CREATED:20250704T004113Z
LAST-MODIFIED:20260206T144717Z
UID:10023409-1824325200-1824325200@www.maddhatterpro.com
SUMMARY:Third Base Karaoke
DESCRIPTION:Super chill and ready to hear you sing! KJ Amygdala in the house slinging those tunes\, and your bar tenders\, slinging those drinks. Lets have a blast! \n4910 W Ray Rd #3\, Chandler\, AZ\, United States\, Arizona \n\n\n\n(480) 687-1556
URL:https://www.maddhatterpro.com/event/third-base-karaoke/2027-10-23/
LOCATION:Third Base\, 4910 W Ray Rd #3\, Chandler\, AZ\, 85226\, United States
CATEGORIES:Karaoke,KJ Amygdala
ATTACH;FMTTYPE=image/jpeg:https://www.maddhatterpro.com/wp-content/uploads/2026/02/Third-Base-Chandler.jpg
END:VEVENT
BEGIN:VEVENT
DTSTART;TZID=UTC:20271030T210000
DTEND;TZID=UTC:20271030T210000
DTSTAMP:20260424T030721
CREATED:20250704T004113Z
LAST-MODIFIED:20260206T144717Z
UID:10023410-1824930000-1824930000@www.maddhatterpro.com
SUMMARY:Third Base Karaoke
DESCRIPTION:Super chill and ready to hear you sing! KJ Amygdala in the house slinging those tunes\, and your bar tenders\, slinging those drinks. Lets have a blast! \n4910 W Ray Rd #3\, Chandler\, AZ\, United States\, Arizona \n\n\n\n(480) 687-1556
URL:https://www.maddhatterpro.com/event/third-base-karaoke/2027-10-30/
LOCATION:Third Base\, 4910 W Ray Rd #3\, Chandler\, AZ\, 85226\, United States
CATEGORIES:Karaoke,KJ Amygdala
ATTACH;FMTTYPE=image/jpeg:https://www.maddhatterpro.com/wp-content/uploads/2026/02/Third-Base-Chandler.jpg
END:VEVENT
BEGIN:VEVENT
DTSTART;TZID=UTC:20271106T210000
DTEND;TZID=UTC:20271106T210000
DTSTAMP:20260424T030721
CREATED:20250704T004113Z
LAST-MODIFIED:20260206T144717Z
UID:10023411-1825534800-1825534800@www.maddhatterpro.com
SUMMARY:Third Base Karaoke
DESCRIPTION:Super chill and ready to hear you sing! KJ Amygdala in the house slinging those tunes\, and your bar tenders\, slinging those drinks. Lets have a blast! \n4910 W Ray Rd #3\, Chandler\, AZ\, United States\, Arizona \n\n\n\n(480) 687-1556
URL:https://www.maddhatterpro.com/event/third-base-karaoke/2027-11-06/
LOCATION:Third Base\, 4910 W Ray Rd #3\, Chandler\, AZ\, 85226\, United States
CATEGORIES:Karaoke,KJ Amygdala
ATTACH;FMTTYPE=image/jpeg:https://www.maddhatterpro.com/wp-content/uploads/2026/02/Third-Base-Chandler.jpg
END:VEVENT
BEGIN:VEVENT
DTSTART;TZID=UTC:20271113T210000
DTEND;TZID=UTC:20271113T210000
DTSTAMP:20260424T030721
CREATED:20250704T004113Z
LAST-MODIFIED:20260206T144717Z
UID:10023412-1826139600-1826139600@www.maddhatterpro.com
SUMMARY:Third Base Karaoke
DESCRIPTION:Super chill and ready to hear you sing! KJ Amygdala in the house slinging those tunes\, and your bar tenders\, slinging those drinks. Lets have a blast! \n4910 W Ray Rd #3\, Chandler\, AZ\, United States\, Arizona \n\n\n\n(480) 687-1556
URL:https://www.maddhatterpro.com/event/third-base-karaoke/2027-11-13/
LOCATION:Third Base\, 4910 W Ray Rd #3\, Chandler\, AZ\, 85226\, United States
CATEGORIES:Karaoke,KJ Amygdala
ATTACH;FMTTYPE=image/jpeg:https://www.maddhatterpro.com/wp-content/uploads/2026/02/Third-Base-Chandler.jpg
END:VEVENT
BEGIN:VEVENT
DTSTART;TZID=UTC:20271120T210000
DTEND;TZID=UTC:20271120T210000
DTSTAMP:20260424T030721
CREATED:20250704T004113Z
LAST-MODIFIED:20260206T144717Z
UID:10023413-1826744400-1826744400@www.maddhatterpro.com
SUMMARY:Third Base Karaoke
DESCRIPTION:Super chill and ready to hear you sing! KJ Amygdala in the house slinging those tunes\, and your bar tenders\, slinging those drinks. Lets have a blast! \n4910 W Ray Rd #3\, Chandler\, AZ\, United States\, Arizona \n\n\n\n(480) 687-1556
URL:https://www.maddhatterpro.com/event/third-base-karaoke/2027-11-20/
LOCATION:Third Base\, 4910 W Ray Rd #3\, Chandler\, AZ\, 85226\, United States
CATEGORIES:Karaoke,KJ Amygdala
ATTACH;FMTTYPE=image/jpeg:https://www.maddhatterpro.com/wp-content/uploads/2026/02/Third-Base-Chandler.jpg
END:VEVENT
BEGIN:VEVENT
DTSTART;TZID=UTC:20271127T210000
DTEND;TZID=UTC:20271127T210000
DTSTAMP:20260424T030721
CREATED:20250704T004113Z
LAST-MODIFIED:20260206T144717Z
UID:10023414-1827349200-1827349200@www.maddhatterpro.com
SUMMARY:Third Base Karaoke
DESCRIPTION:Super chill and ready to hear you sing! KJ Amygdala in the house slinging those tunes\, and your bar tenders\, slinging those drinks. Lets have a blast! \n4910 W Ray Rd #3\, Chandler\, AZ\, United States\, Arizona \n\n\n\n(480) 687-1556
URL:https://www.maddhatterpro.com/event/third-base-karaoke/2027-11-27/
LOCATION:Third Base\, 4910 W Ray Rd #3\, Chandler\, AZ\, 85226\, United States
CATEGORIES:Karaoke,KJ Amygdala
ATTACH;FMTTYPE=image/jpeg:https://www.maddhatterpro.com/wp-content/uploads/2026/02/Third-Base-Chandler.jpg
END:VEVENT
BEGIN:VEVENT
DTSTART;TZID=UTC:20271204T210000
DTEND;TZID=UTC:20271204T210000
DTSTAMP:20260424T030721
CREATED:20250704T004113Z
LAST-MODIFIED:20260206T144717Z
UID:10023415-1827954000-1827954000@www.maddhatterpro.com
SUMMARY:Third Base Karaoke
DESCRIPTION:Super chill and ready to hear you sing! KJ Amygdala in the house slinging those tunes\, and your bar tenders\, slinging those drinks. Lets have a blast! \n4910 W Ray Rd #3\, Chandler\, AZ\, United States\, Arizona \n\n\n\n(480) 687-1556
URL:https://www.maddhatterpro.com/event/third-base-karaoke/2027-12-04/
LOCATION:Third Base\, 4910 W Ray Rd #3\, Chandler\, AZ\, 85226\, United States
CATEGORIES:Karaoke,KJ Amygdala
ATTACH;FMTTYPE=image/jpeg:https://www.maddhatterpro.com/wp-content/uploads/2026/02/Third-Base-Chandler.jpg
END:VEVENT
BEGIN:VEVENT
DTSTART;TZID=UTC:20271211T210000
DTEND;TZID=UTC:20271211T210000
DTSTAMP:20260424T030721
CREATED:20250704T004113Z
LAST-MODIFIED:20260206T144717Z
UID:10023416-1828558800-1828558800@www.maddhatterpro.com
SUMMARY:Third Base Karaoke
DESCRIPTION:Super chill and ready to hear you sing! KJ Amygdala in the house slinging those tunes\, and your bar tenders\, slinging those drinks. Lets have a blast! \n4910 W Ray Rd #3\, Chandler\, AZ\, United States\, Arizona \n\n\n\n(480) 687-1556
URL:https://www.maddhatterpro.com/event/third-base-karaoke/2027-12-11/
LOCATION:Third Base\, 4910 W Ray Rd #3\, Chandler\, AZ\, 85226\, United States
CATEGORIES:Karaoke,KJ Amygdala
ATTACH;FMTTYPE=image/jpeg:https://www.maddhatterpro.com/wp-content/uploads/2026/02/Third-Base-Chandler.jpg
END:VEVENT
BEGIN:VEVENT
DTSTART;TZID=UTC:20271218T210000
DTEND;TZID=UTC:20271218T210000
DTSTAMP:20260424T030721
CREATED:20250704T004113Z
LAST-MODIFIED:20260206T144717Z
UID:10023417-1829163600-1829163600@www.maddhatterpro.com
SUMMARY:Third Base Karaoke
DESCRIPTION:Super chill and ready to hear you sing! KJ Amygdala in the house slinging those tunes\, and your bar tenders\, slinging those drinks. Lets have a blast! \n4910 W Ray Rd #3\, Chandler\, AZ\, United States\, Arizona \n\n\n\n(480) 687-1556
URL:https://www.maddhatterpro.com/event/third-base-karaoke/2027-12-18/
LOCATION:Third Base\, 4910 W Ray Rd #3\, Chandler\, AZ\, 85226\, United States
CATEGORIES:Karaoke,KJ Amygdala
ATTACH;FMTTYPE=image/jpeg:https://www.maddhatterpro.com/wp-content/uploads/2026/02/Third-Base-Chandler.jpg
END:VEVENT
BEGIN:VEVENT
DTSTART;TZID=UTC:20271225T210000
DTEND;TZID=UTC:20271225T210000
DTSTAMP:20260424T030721
CREATED:20250704T004113Z
LAST-MODIFIED:20260206T144717Z
UID:10023418-1829768400-1829768400@www.maddhatterpro.com
SUMMARY:Third Base Karaoke
DESCRIPTION:Super chill and ready to hear you sing! KJ Amygdala in the house slinging those tunes\, and your bar tenders\, slinging those drinks. Lets have a blast! \n4910 W Ray Rd #3\, Chandler\, AZ\, United States\, Arizona \n\n\n\n(480) 687-1556
URL:https://www.maddhatterpro.com/event/third-base-karaoke/2027-12-25/
LOCATION:Third Base\, 4910 W Ray Rd #3\, Chandler\, AZ\, 85226\, United States
CATEGORIES:Karaoke,KJ Amygdala
ATTACH;FMTTYPE=image/jpeg:https://www.maddhatterpro.com/wp-content/uploads/2026/02/Third-Base-Chandler.jpg
END:VEVENT
BEGIN:VEVENT
DTSTART;TZID=UTC:20280101T210000
DTEND;TZID=UTC:20280101T210000
DTSTAMP:20260424T030721
CREATED:20250704T004113Z
LAST-MODIFIED:20260206T144717Z
UID:10023419-1830373200-1830373200@www.maddhatterpro.com
SUMMARY:Third Base Karaoke
DESCRIPTION:Super chill and ready to hear you sing! KJ Amygdala in the house slinging those tunes\, and your bar tenders\, slinging those drinks. Lets have a blast! \n4910 W Ray Rd #3\, Chandler\, AZ\, United States\, Arizona \n\n\n\n(480) 687-1556
URL:https://www.maddhatterpro.com/event/third-base-karaoke/2028-01-01/
LOCATION:Third Base\, 4910 W Ray Rd #3\, Chandler\, AZ\, 85226\, United States
CATEGORIES:Karaoke,KJ Amygdala
ATTACH;FMTTYPE=image/jpeg:https://www.maddhatterpro.com/wp-content/uploads/2026/02/Third-Base-Chandler.jpg
END:VEVENT
BEGIN:VEVENT
DTSTART;TZID=UTC:20280108T210000
DTEND;TZID=UTC:20280108T210000
DTSTAMP:20260424T030721
CREATED:20250704T004113Z
LAST-MODIFIED:20260206T144717Z
UID:10023420-1830978000-1830978000@www.maddhatterpro.com
SUMMARY:Third Base Karaoke
DESCRIPTION:Super chill and ready to hear you sing! KJ Amygdala in the house slinging those tunes\, and your bar tenders\, slinging those drinks. Lets have a blast! \n4910 W Ray Rd #3\, Chandler\, AZ\, United States\, Arizona \n\n\n\n(480) 687-1556
URL:https://www.maddhatterpro.com/event/third-base-karaoke/2028-01-08/
LOCATION:Third Base\, 4910 W Ray Rd #3\, Chandler\, AZ\, 85226\, United States
CATEGORIES:Karaoke,KJ Amygdala
ATTACH;FMTTYPE=image/jpeg:https://www.maddhatterpro.com/wp-content/uploads/2026/02/Third-Base-Chandler.jpg
END:VEVENT
BEGIN:VEVENT
DTSTART;TZID=UTC:20280115T210000
DTEND;TZID=UTC:20280115T210000
DTSTAMP:20260424T030721
CREATED:20250704T004113Z
LAST-MODIFIED:20260206T144717Z
UID:10023421-1831582800-1831582800@www.maddhatterpro.com
SUMMARY:Third Base Karaoke
DESCRIPTION:Super chill and ready to hear you sing! KJ Amygdala in the house slinging those tunes\, and your bar tenders\, slinging those drinks. Lets have a blast! \n4910 W Ray Rd #3\, Chandler\, AZ\, United States\, Arizona \n\n\n\n(480) 687-1556
URL:https://www.maddhatterpro.com/event/third-base-karaoke/2028-01-15/
LOCATION:Third Base\, 4910 W Ray Rd #3\, Chandler\, AZ\, 85226\, United States
CATEGORIES:Karaoke,KJ Amygdala
ATTACH;FMTTYPE=image/jpeg:https://www.maddhatterpro.com/wp-content/uploads/2026/02/Third-Base-Chandler.jpg
END:VEVENT
BEGIN:VEVENT
DTSTART;TZID=UTC:20280122T210000
DTEND;TZID=UTC:20280122T210000
DTSTAMP:20260424T030721
CREATED:20250704T004113Z
LAST-MODIFIED:20260206T144717Z
UID:10023422-1832187600-1832187600@www.maddhatterpro.com
SUMMARY:Third Base Karaoke
DESCRIPTION:Super chill and ready to hear you sing! KJ Amygdala in the house slinging those tunes\, and your bar tenders\, slinging those drinks. Lets have a blast! \n4910 W Ray Rd #3\, Chandler\, AZ\, United States\, Arizona \n\n\n\n(480) 687-1556
URL:https://www.maddhatterpro.com/event/third-base-karaoke/2028-01-22/
LOCATION:Third Base\, 4910 W Ray Rd #3\, Chandler\, AZ\, 85226\, United States
CATEGORIES:Karaoke,KJ Amygdala
ATTACH;FMTTYPE=image/jpeg:https://www.maddhatterpro.com/wp-content/uploads/2026/02/Third-Base-Chandler.jpg
END:VEVENT
BEGIN:VEVENT
DTSTART;TZID=UTC:20280129T210000
DTEND;TZID=UTC:20280129T210000
DTSTAMP:20260424T030721
CREATED:20250704T004113Z
LAST-MODIFIED:20260206T144717Z
UID:10023423-1832792400-1832792400@www.maddhatterpro.com
SUMMARY:Third Base Karaoke
DESCRIPTION:Super chill and ready to hear you sing! KJ Amygdala in the house slinging those tunes\, and your bar tenders\, slinging those drinks. Lets have a blast! \n4910 W Ray Rd #3\, Chandler\, AZ\, United States\, Arizona \n\n\n\n(480) 687-1556
URL:https://www.maddhatterpro.com/event/third-base-karaoke/2028-01-29/
LOCATION:Third Base\, 4910 W Ray Rd #3\, Chandler\, AZ\, 85226\, United States
CATEGORIES:Karaoke,KJ Amygdala
ATTACH;FMTTYPE=image/jpeg:https://www.maddhatterpro.com/wp-content/uploads/2026/02/Third-Base-Chandler.jpg
END:VEVENT
BEGIN:VEVENT
DTSTART;TZID=UTC:20280205T210000
DTEND;TZID=UTC:20280205T210000
DTSTAMP:20260424T030721
CREATED:20250704T004113Z
LAST-MODIFIED:20260206T144717Z
UID:10023424-1833397200-1833397200@www.maddhatterpro.com
SUMMARY:Third Base Karaoke
DESCRIPTION:Super chill and ready to hear you sing! KJ Amygdala in the house slinging those tunes\, and your bar tenders\, slinging those drinks. Lets have a blast! \n4910 W Ray Rd #3\, Chandler\, AZ\, United States\, Arizona \n\n\n\n(480) 687-1556
URL:https://www.maddhatterpro.com/event/third-base-karaoke/2028-02-05/
LOCATION:Third Base\, 4910 W Ray Rd #3\, Chandler\, AZ\, 85226\, United States
CATEGORIES:Karaoke,KJ Amygdala
ATTACH;FMTTYPE=image/jpeg:https://www.maddhatterpro.com/wp-content/uploads/2026/02/Third-Base-Chandler.jpg
END:VEVENT
BEGIN:VEVENT
DTSTART;TZID=UTC:20280212T210000
DTEND;TZID=UTC:20280212T210000
DTSTAMP:20260424T030721
CREATED:20250704T004113Z
LAST-MODIFIED:20260206T144717Z
UID:10023425-1834002000-1834002000@www.maddhatterpro.com
SUMMARY:Third Base Karaoke
DESCRIPTION:Super chill and ready to hear you sing! KJ Amygdala in the house slinging those tunes\, and your bar tenders\, slinging those drinks. Lets have a blast! \n4910 W Ray Rd #3\, Chandler\, AZ\, United States\, Arizona \n\n\n\n(480) 687-1556
URL:https://www.maddhatterpro.com/event/third-base-karaoke/2028-02-12/
LOCATION:Third Base\, 4910 W Ray Rd #3\, Chandler\, AZ\, 85226\, United States
CATEGORIES:Karaoke,KJ Amygdala
ATTACH;FMTTYPE=image/jpeg:https://www.maddhatterpro.com/wp-content/uploads/2026/02/Third-Base-Chandler.jpg
END:VEVENT
BEGIN:VEVENT
DTSTART;TZID=UTC:20280219T210000
DTEND;TZID=UTC:20280219T210000
DTSTAMP:20260424T030721
CREATED:20250704T004113Z
LAST-MODIFIED:20260206T144717Z
UID:10023426-1834606800-1834606800@www.maddhatterpro.com
SUMMARY:Third Base Karaoke
DESCRIPTION:Super chill and ready to hear you sing! KJ Amygdala in the house slinging those tunes\, and your bar tenders\, slinging those drinks. Lets have a blast! \n4910 W Ray Rd #3\, Chandler\, AZ\, United States\, Arizona \n\n\n\n(480) 687-1556
URL:https://www.maddhatterpro.com/event/third-base-karaoke/2028-02-19/
LOCATION:Third Base\, 4910 W Ray Rd #3\, Chandler\, AZ\, 85226\, United States
CATEGORIES:Karaoke,KJ Amygdala
ATTACH;FMTTYPE=image/jpeg:https://www.maddhatterpro.com/wp-content/uploads/2026/02/Third-Base-Chandler.jpg
END:VEVENT
BEGIN:VEVENT
DTSTART;TZID=UTC:20280226T210000
DTEND;TZID=UTC:20280226T210000
DTSTAMP:20260424T030721
CREATED:20250704T004113Z
LAST-MODIFIED:20260206T144717Z
UID:10023427-1835211600-1835211600@www.maddhatterpro.com
SUMMARY:Third Base Karaoke
DESCRIPTION:Super chill and ready to hear you sing! KJ Amygdala in the house slinging those tunes\, and your bar tenders\, slinging those drinks. Lets have a blast! \n4910 W Ray Rd #3\, Chandler\, AZ\, United States\, Arizona \n\n\n\n(480) 687-1556
URL:https://www.maddhatterpro.com/event/third-base-karaoke/2028-02-26/
LOCATION:Third Base\, 4910 W Ray Rd #3\, Chandler\, AZ\, 85226\, United States
CATEGORIES:Karaoke,KJ Amygdala
ATTACH;FMTTYPE=image/jpeg:https://www.maddhatterpro.com/wp-content/uploads/2026/02/Third-Base-Chandler.jpg
END:VEVENT
BEGIN:VEVENT
DTSTART;TZID=UTC:20280304T210000
DTEND;TZID=UTC:20280304T210000
DTSTAMP:20260424T030721
CREATED:20250704T004113Z
LAST-MODIFIED:20260206T144717Z
UID:10023428-1835816400-1835816400@www.maddhatterpro.com
SUMMARY:Third Base Karaoke
DESCRIPTION:Super chill and ready to hear you sing! KJ Amygdala in the house slinging those tunes\, and your bar tenders\, slinging those drinks. Lets have a blast! \n4910 W Ray Rd #3\, Chandler\, AZ\, United States\, Arizona \n\n\n\n(480) 687-1556
URL:https://www.maddhatterpro.com/event/third-base-karaoke/2028-03-04/
LOCATION:Third Base\, 4910 W Ray Rd #3\, Chandler\, AZ\, 85226\, United States
CATEGORIES:Karaoke,KJ Amygdala
ATTACH;FMTTYPE=image/jpeg:https://www.maddhatterpro.com/wp-content/uploads/2026/02/Third-Base-Chandler.jpg
END:VEVENT
BEGIN:VEVENT
DTSTART;TZID=UTC:20280311T210000
DTEND;TZID=UTC:20280311T210000
DTSTAMP:20260424T030721
CREATED:20250704T004113Z
LAST-MODIFIED:20260206T144717Z
UID:10023429-1836421200-1836421200@www.maddhatterpro.com
SUMMARY:Third Base Karaoke
DESCRIPTION:Super chill and ready to hear you sing! KJ Amygdala in the house slinging those tunes\, and your bar tenders\, slinging those drinks. Lets have a blast! \n4910 W Ray Rd #3\, Chandler\, AZ\, United States\, Arizona \n\n\n\n(480) 687-1556
URL:https://www.maddhatterpro.com/event/third-base-karaoke/2028-03-11/
LOCATION:Third Base\, 4910 W Ray Rd #3\, Chandler\, AZ\, 85226\, United States
CATEGORIES:Karaoke,KJ Amygdala
ATTACH;FMTTYPE=image/jpeg:https://www.maddhatterpro.com/wp-content/uploads/2026/02/Third-Base-Chandler.jpg
END:VEVENT
BEGIN:VEVENT
DTSTART;TZID=UTC:20280318T210000
DTEND;TZID=UTC:20280318T210000
DTSTAMP:20260424T030721
CREATED:20250704T004113Z
LAST-MODIFIED:20260206T144717Z
UID:10023430-1837026000-1837026000@www.maddhatterpro.com
SUMMARY:Third Base Karaoke
DESCRIPTION:Super chill and ready to hear you sing! KJ Amygdala in the house slinging those tunes\, and your bar tenders\, slinging those drinks. Lets have a blast! \n4910 W Ray Rd #3\, Chandler\, AZ\, United States\, Arizona \n\n\n\n(480) 687-1556
URL:https://www.maddhatterpro.com/event/third-base-karaoke/2028-03-18/
LOCATION:Third Base\, 4910 W Ray Rd #3\, Chandler\, AZ\, 85226\, United States
CATEGORIES:Karaoke,KJ Amygdala
ATTACH;FMTTYPE=image/jpeg:https://www.maddhatterpro.com/wp-content/uploads/2026/02/Third-Base-Chandler.jpg
END:VEVENT
BEGIN:VEVENT
DTSTART;TZID=UTC:20280325T210000
DTEND;TZID=UTC:20280325T210000
DTSTAMP:20260424T030721
CREATED:20250704T004113Z
LAST-MODIFIED:20260206T144717Z
UID:10023431-1837630800-1837630800@www.maddhatterpro.com
SUMMARY:Third Base Karaoke
DESCRIPTION:Super chill and ready to hear you sing! KJ Amygdala in the house slinging those tunes\, and your bar tenders\, slinging those drinks. Lets have a blast! \n4910 W Ray Rd #3\, Chandler\, AZ\, United States\, Arizona \n\n\n\n(480) 687-1556
URL:https://www.maddhatterpro.com/event/third-base-karaoke/2028-03-25/
LOCATION:Third Base\, 4910 W Ray Rd #3\, Chandler\, AZ\, 85226\, United States
CATEGORIES:Karaoke,KJ Amygdala
ATTACH;FMTTYPE=image/jpeg:https://www.maddhatterpro.com/wp-content/uploads/2026/02/Third-Base-Chandler.jpg
END:VEVENT
BEGIN:VEVENT
DTSTART;TZID=UTC:20280401T210000
DTEND;TZID=UTC:20280401T210000
DTSTAMP:20260424T030721
CREATED:20250704T004113Z
LAST-MODIFIED:20260206T144717Z
UID:10023432-1838235600-1838235600@www.maddhatterpro.com
SUMMARY:Third Base Karaoke
DESCRIPTION:Super chill and ready to hear you sing! KJ Amygdala in the house slinging those tunes\, and your bar tenders\, slinging those drinks. Lets have a blast! \n4910 W Ray Rd #3\, Chandler\, AZ\, United States\, Arizona \n\n\n\n(480) 687-1556
URL:https://www.maddhatterpro.com/event/third-base-karaoke/2028-04-01/
LOCATION:Third Base\, 4910 W Ray Rd #3\, Chandler\, AZ\, 85226\, United States
CATEGORIES:Karaoke,KJ Amygdala
ATTACH;FMTTYPE=image/jpeg:https://www.maddhatterpro.com/wp-content/uploads/2026/02/Third-Base-Chandler.jpg
END:VEVENT
END:VCALENDAR