BEGIN:VCALENDAR
VERSION:2.0
PRODID:-//MaddHatterPro.com - ECPv6.15.20//NONSGML v1.0//EN
CALSCALE:GREGORIAN
METHOD:PUBLISH
X-ORIGINAL-URL:https://www.maddhatterpro.com
X-WR-CALDESC:Events for MaddHatterPro.com
REFRESH-INTERVAL;VALUE=DURATION:PT1H
X-Robots-Tag:noindex
X-PUBLISHED-TTL:PT1H
BEGIN:VTIMEZONE
TZID:UTC
BEGIN:STANDARD
TZOFFSETFROM:+0000
TZOFFSETTO:+0000
TZNAME:UTC
DTSTART:20250101T000000
END:STANDARD
END:VTIMEZONE
BEGIN:VEVENT
DTSTART;TZID=UTC:20260718T210000
DTEND;TZID=UTC:20260718T210000
DTSTAMP:20260423T202439
CREATED:20250704T004113Z
LAST-MODIFIED:20260206T144717Z
UID:10023343-1784408400-1784408400@www.maddhatterpro.com
SUMMARY:Third Base Karaoke
DESCRIPTION:Super chill and ready to hear you sing! KJ Amygdala in the house slinging those tunes\, and your bar tenders\, slinging those drinks. Lets have a blast! \n4910 W Ray Rd #3\, Chandler\, AZ\, United States\, Arizona \n\n\n\n(480) 687-1556
URL:https://www.maddhatterpro.com/event/third-base-karaoke/2026-07-18/
LOCATION:Third Base\, 4910 W Ray Rd #3\, Chandler\, AZ\, 85226\, United States
CATEGORIES:Karaoke,KJ Amygdala
ATTACH;FMTTYPE=image/jpeg:https://www.maddhatterpro.com/wp-content/uploads/2026/02/Third-Base-Chandler.jpg
END:VEVENT
BEGIN:VEVENT
DTSTART;TZID=UTC:20260725T210000
DTEND;TZID=UTC:20260725T210000
DTSTAMP:20260423T202439
CREATED:20250704T004113Z
LAST-MODIFIED:20260206T144717Z
UID:10023344-1785013200-1785013200@www.maddhatterpro.com
SUMMARY:Third Base Karaoke
DESCRIPTION:Super chill and ready to hear you sing! KJ Amygdala in the house slinging those tunes\, and your bar tenders\, slinging those drinks. Lets have a blast! \n4910 W Ray Rd #3\, Chandler\, AZ\, United States\, Arizona \n\n\n\n(480) 687-1556
URL:https://www.maddhatterpro.com/event/third-base-karaoke/2026-07-25/
LOCATION:Third Base\, 4910 W Ray Rd #3\, Chandler\, AZ\, 85226\, United States
CATEGORIES:Karaoke,KJ Amygdala
ATTACH;FMTTYPE=image/jpeg:https://www.maddhatterpro.com/wp-content/uploads/2026/02/Third-Base-Chandler.jpg
END:VEVENT
BEGIN:VEVENT
DTSTART;TZID=UTC:20260801T210000
DTEND;TZID=UTC:20260801T210000
DTSTAMP:20260423T202439
CREATED:20250704T004113Z
LAST-MODIFIED:20260206T144717Z
UID:10023345-1785618000-1785618000@www.maddhatterpro.com
SUMMARY:Third Base Karaoke
DESCRIPTION:Super chill and ready to hear you sing! KJ Amygdala in the house slinging those tunes\, and your bar tenders\, slinging those drinks. Lets have a blast! \n4910 W Ray Rd #3\, Chandler\, AZ\, United States\, Arizona \n\n\n\n(480) 687-1556
URL:https://www.maddhatterpro.com/event/third-base-karaoke/2026-08-01/
LOCATION:Third Base\, 4910 W Ray Rd #3\, Chandler\, AZ\, 85226\, United States
CATEGORIES:Karaoke,KJ Amygdala
ATTACH;FMTTYPE=image/jpeg:https://www.maddhatterpro.com/wp-content/uploads/2026/02/Third-Base-Chandler.jpg
END:VEVENT
BEGIN:VEVENT
DTSTART;TZID=UTC:20260808T210000
DTEND;TZID=UTC:20260808T210000
DTSTAMP:20260423T202439
CREATED:20250704T004113Z
LAST-MODIFIED:20260206T144717Z
UID:10023346-1786222800-1786222800@www.maddhatterpro.com
SUMMARY:Third Base Karaoke
DESCRIPTION:Super chill and ready to hear you sing! KJ Amygdala in the house slinging those tunes\, and your bar tenders\, slinging those drinks. Lets have a blast! \n4910 W Ray Rd #3\, Chandler\, AZ\, United States\, Arizona \n\n\n\n(480) 687-1556
URL:https://www.maddhatterpro.com/event/third-base-karaoke/2026-08-08/
LOCATION:Third Base\, 4910 W Ray Rd #3\, Chandler\, AZ\, 85226\, United States
CATEGORIES:Karaoke,KJ Amygdala
ATTACH;FMTTYPE=image/jpeg:https://www.maddhatterpro.com/wp-content/uploads/2026/02/Third-Base-Chandler.jpg
END:VEVENT
BEGIN:VEVENT
DTSTART;TZID=UTC:20260815T210000
DTEND;TZID=UTC:20260815T210000
DTSTAMP:20260423T202439
CREATED:20250704T004113Z
LAST-MODIFIED:20260206T144717Z
UID:10023347-1786827600-1786827600@www.maddhatterpro.com
SUMMARY:Third Base Karaoke
DESCRIPTION:Super chill and ready to hear you sing! KJ Amygdala in the house slinging those tunes\, and your bar tenders\, slinging those drinks. Lets have a blast! \n4910 W Ray Rd #3\, Chandler\, AZ\, United States\, Arizona \n\n\n\n(480) 687-1556
URL:https://www.maddhatterpro.com/event/third-base-karaoke/2026-08-15/
LOCATION:Third Base\, 4910 W Ray Rd #3\, Chandler\, AZ\, 85226\, United States
CATEGORIES:Karaoke,KJ Amygdala
ATTACH;FMTTYPE=image/jpeg:https://www.maddhatterpro.com/wp-content/uploads/2026/02/Third-Base-Chandler.jpg
END:VEVENT
BEGIN:VEVENT
DTSTART;TZID=UTC:20260822T210000
DTEND;TZID=UTC:20260822T210000
DTSTAMP:20260423T202439
CREATED:20250704T004113Z
LAST-MODIFIED:20260206T144717Z
UID:10023348-1787432400-1787432400@www.maddhatterpro.com
SUMMARY:Third Base Karaoke
DESCRIPTION:Super chill and ready to hear you sing! KJ Amygdala in the house slinging those tunes\, and your bar tenders\, slinging those drinks. Lets have a blast! \n4910 W Ray Rd #3\, Chandler\, AZ\, United States\, Arizona \n\n\n\n(480) 687-1556
URL:https://www.maddhatterpro.com/event/third-base-karaoke/2026-08-22/
LOCATION:Third Base\, 4910 W Ray Rd #3\, Chandler\, AZ\, 85226\, United States
CATEGORIES:Karaoke,KJ Amygdala
ATTACH;FMTTYPE=image/jpeg:https://www.maddhatterpro.com/wp-content/uploads/2026/02/Third-Base-Chandler.jpg
END:VEVENT
BEGIN:VEVENT
DTSTART;TZID=UTC:20260829T210000
DTEND;TZID=UTC:20260829T210000
DTSTAMP:20260423T202439
CREATED:20250704T004113Z
LAST-MODIFIED:20260206T144717Z
UID:10023349-1788037200-1788037200@www.maddhatterpro.com
SUMMARY:Third Base Karaoke
DESCRIPTION:Super chill and ready to hear you sing! KJ Amygdala in the house slinging those tunes\, and your bar tenders\, slinging those drinks. Lets have a blast! \n4910 W Ray Rd #3\, Chandler\, AZ\, United States\, Arizona \n\n\n\n(480) 687-1556
URL:https://www.maddhatterpro.com/event/third-base-karaoke/2026-08-29/
LOCATION:Third Base\, 4910 W Ray Rd #3\, Chandler\, AZ\, 85226\, United States
CATEGORIES:Karaoke,KJ Amygdala
ATTACH;FMTTYPE=image/jpeg:https://www.maddhatterpro.com/wp-content/uploads/2026/02/Third-Base-Chandler.jpg
END:VEVENT
BEGIN:VEVENT
DTSTART;TZID=UTC:20260905T210000
DTEND;TZID=UTC:20260905T210000
DTSTAMP:20260423T202439
CREATED:20250704T004113Z
LAST-MODIFIED:20260206T144717Z
UID:10023350-1788642000-1788642000@www.maddhatterpro.com
SUMMARY:Third Base Karaoke
DESCRIPTION:Super chill and ready to hear you sing! KJ Amygdala in the house slinging those tunes\, and your bar tenders\, slinging those drinks. Lets have a blast! \n4910 W Ray Rd #3\, Chandler\, AZ\, United States\, Arizona \n\n\n\n(480) 687-1556
URL:https://www.maddhatterpro.com/event/third-base-karaoke/2026-09-05/
LOCATION:Third Base\, 4910 W Ray Rd #3\, Chandler\, AZ\, 85226\, United States
CATEGORIES:Karaoke,KJ Amygdala
ATTACH;FMTTYPE=image/jpeg:https://www.maddhatterpro.com/wp-content/uploads/2026/02/Third-Base-Chandler.jpg
END:VEVENT
BEGIN:VEVENT
DTSTART;TZID=UTC:20260912T210000
DTEND;TZID=UTC:20260912T210000
DTSTAMP:20260423T202439
CREATED:20250704T004113Z
LAST-MODIFIED:20260206T144717Z
UID:10023351-1789246800-1789246800@www.maddhatterpro.com
SUMMARY:Third Base Karaoke
DESCRIPTION:Super chill and ready to hear you sing! KJ Amygdala in the house slinging those tunes\, and your bar tenders\, slinging those drinks. Lets have a blast! \n4910 W Ray Rd #3\, Chandler\, AZ\, United States\, Arizona \n\n\n\n(480) 687-1556
URL:https://www.maddhatterpro.com/event/third-base-karaoke/2026-09-12/
LOCATION:Third Base\, 4910 W Ray Rd #3\, Chandler\, AZ\, 85226\, United States
CATEGORIES:Karaoke,KJ Amygdala
ATTACH;FMTTYPE=image/jpeg:https://www.maddhatterpro.com/wp-content/uploads/2026/02/Third-Base-Chandler.jpg
END:VEVENT
BEGIN:VEVENT
DTSTART;TZID=UTC:20260919T210000
DTEND;TZID=UTC:20260919T210000
DTSTAMP:20260423T202439
CREATED:20250704T004113Z
LAST-MODIFIED:20260206T144717Z
UID:10023352-1789851600-1789851600@www.maddhatterpro.com
SUMMARY:Third Base Karaoke
DESCRIPTION:Super chill and ready to hear you sing! KJ Amygdala in the house slinging those tunes\, and your bar tenders\, slinging those drinks. Lets have a blast! \n4910 W Ray Rd #3\, Chandler\, AZ\, United States\, Arizona \n\n\n\n(480) 687-1556
URL:https://www.maddhatterpro.com/event/third-base-karaoke/2026-09-19/
LOCATION:Third Base\, 4910 W Ray Rd #3\, Chandler\, AZ\, 85226\, United States
CATEGORIES:Karaoke,KJ Amygdala
ATTACH;FMTTYPE=image/jpeg:https://www.maddhatterpro.com/wp-content/uploads/2026/02/Third-Base-Chandler.jpg
END:VEVENT
BEGIN:VEVENT
DTSTART;TZID=UTC:20260926T210000
DTEND;TZID=UTC:20260926T210000
DTSTAMP:20260423T202439
CREATED:20250704T004113Z
LAST-MODIFIED:20260206T144717Z
UID:10023353-1790456400-1790456400@www.maddhatterpro.com
SUMMARY:Third Base Karaoke
DESCRIPTION:Super chill and ready to hear you sing! KJ Amygdala in the house slinging those tunes\, and your bar tenders\, slinging those drinks. Lets have a blast! \n4910 W Ray Rd #3\, Chandler\, AZ\, United States\, Arizona \n\n\n\n(480) 687-1556
URL:https://www.maddhatterpro.com/event/third-base-karaoke/2026-09-26/
LOCATION:Third Base\, 4910 W Ray Rd #3\, Chandler\, AZ\, 85226\, United States
CATEGORIES:Karaoke,KJ Amygdala
ATTACH;FMTTYPE=image/jpeg:https://www.maddhatterpro.com/wp-content/uploads/2026/02/Third-Base-Chandler.jpg
END:VEVENT
BEGIN:VEVENT
DTSTART;TZID=UTC:20261003T210000
DTEND;TZID=UTC:20261003T210000
DTSTAMP:20260423T202439
CREATED:20250704T004113Z
LAST-MODIFIED:20260206T144717Z
UID:10023354-1791061200-1791061200@www.maddhatterpro.com
SUMMARY:Third Base Karaoke
DESCRIPTION:Super chill and ready to hear you sing! KJ Amygdala in the house slinging those tunes\, and your bar tenders\, slinging those drinks. Lets have a blast! \n4910 W Ray Rd #3\, Chandler\, AZ\, United States\, Arizona \n\n\n\n(480) 687-1556
URL:https://www.maddhatterpro.com/event/third-base-karaoke/2026-10-03/
LOCATION:Third Base\, 4910 W Ray Rd #3\, Chandler\, AZ\, 85226\, United States
CATEGORIES:Karaoke,KJ Amygdala
ATTACH;FMTTYPE=image/jpeg:https://www.maddhatterpro.com/wp-content/uploads/2026/02/Third-Base-Chandler.jpg
END:VEVENT
BEGIN:VEVENT
DTSTART;TZID=UTC:20261010T210000
DTEND;TZID=UTC:20261010T210000
DTSTAMP:20260423T202439
CREATED:20250704T004113Z
LAST-MODIFIED:20260206T144717Z
UID:10023355-1791666000-1791666000@www.maddhatterpro.com
SUMMARY:Third Base Karaoke
DESCRIPTION:Super chill and ready to hear you sing! KJ Amygdala in the house slinging those tunes\, and your bar tenders\, slinging those drinks. Lets have a blast! \n4910 W Ray Rd #3\, Chandler\, AZ\, United States\, Arizona \n\n\n\n(480) 687-1556
URL:https://www.maddhatterpro.com/event/third-base-karaoke/2026-10-10/
LOCATION:Third Base\, 4910 W Ray Rd #3\, Chandler\, AZ\, 85226\, United States
CATEGORIES:Karaoke,KJ Amygdala
ATTACH;FMTTYPE=image/jpeg:https://www.maddhatterpro.com/wp-content/uploads/2026/02/Third-Base-Chandler.jpg
END:VEVENT
BEGIN:VEVENT
DTSTART;TZID=UTC:20261017T210000
DTEND;TZID=UTC:20261017T210000
DTSTAMP:20260423T202439
CREATED:20250704T004113Z
LAST-MODIFIED:20260206T144717Z
UID:10023356-1792270800-1792270800@www.maddhatterpro.com
SUMMARY:Third Base Karaoke
DESCRIPTION:Super chill and ready to hear you sing! KJ Amygdala in the house slinging those tunes\, and your bar tenders\, slinging those drinks. Lets have a blast! \n4910 W Ray Rd #3\, Chandler\, AZ\, United States\, Arizona \n\n\n\n(480) 687-1556
URL:https://www.maddhatterpro.com/event/third-base-karaoke/2026-10-17/
LOCATION:Third Base\, 4910 W Ray Rd #3\, Chandler\, AZ\, 85226\, United States
CATEGORIES:Karaoke,KJ Amygdala
ATTACH;FMTTYPE=image/jpeg:https://www.maddhatterpro.com/wp-content/uploads/2026/02/Third-Base-Chandler.jpg
END:VEVENT
BEGIN:VEVENT
DTSTART;TZID=UTC:20261024T210000
DTEND;TZID=UTC:20261024T210000
DTSTAMP:20260423T202439
CREATED:20250704T004113Z
LAST-MODIFIED:20260206T144717Z
UID:10023357-1792875600-1792875600@www.maddhatterpro.com
SUMMARY:Third Base Karaoke
DESCRIPTION:Super chill and ready to hear you sing! KJ Amygdala in the house slinging those tunes\, and your bar tenders\, slinging those drinks. Lets have a blast! \n4910 W Ray Rd #3\, Chandler\, AZ\, United States\, Arizona \n\n\n\n(480) 687-1556
URL:https://www.maddhatterpro.com/event/third-base-karaoke/2026-10-24/
LOCATION:Third Base\, 4910 W Ray Rd #3\, Chandler\, AZ\, 85226\, United States
CATEGORIES:Karaoke,KJ Amygdala
ATTACH;FMTTYPE=image/jpeg:https://www.maddhatterpro.com/wp-content/uploads/2026/02/Third-Base-Chandler.jpg
END:VEVENT
BEGIN:VEVENT
DTSTART;TZID=UTC:20261031T210000
DTEND;TZID=UTC:20261031T210000
DTSTAMP:20260423T202439
CREATED:20250704T004113Z
LAST-MODIFIED:20260206T144717Z
UID:10023358-1793480400-1793480400@www.maddhatterpro.com
SUMMARY:Third Base Karaoke
DESCRIPTION:Super chill and ready to hear you sing! KJ Amygdala in the house slinging those tunes\, and your bar tenders\, slinging those drinks. Lets have a blast! \n4910 W Ray Rd #3\, Chandler\, AZ\, United States\, Arizona \n\n\n\n(480) 687-1556
URL:https://www.maddhatterpro.com/event/third-base-karaoke/2026-10-31/
LOCATION:Third Base\, 4910 W Ray Rd #3\, Chandler\, AZ\, 85226\, United States
CATEGORIES:Karaoke,KJ Amygdala
ATTACH;FMTTYPE=image/jpeg:https://www.maddhatterpro.com/wp-content/uploads/2026/02/Third-Base-Chandler.jpg
END:VEVENT
BEGIN:VEVENT
DTSTART;TZID=UTC:20261107T210000
DTEND;TZID=UTC:20261107T210000
DTSTAMP:20260423T202439
CREATED:20250704T004113Z
LAST-MODIFIED:20260206T144717Z
UID:10023359-1794085200-1794085200@www.maddhatterpro.com
SUMMARY:Third Base Karaoke
DESCRIPTION:Super chill and ready to hear you sing! KJ Amygdala in the house slinging those tunes\, and your bar tenders\, slinging those drinks. Lets have a blast! \n4910 W Ray Rd #3\, Chandler\, AZ\, United States\, Arizona \n\n\n\n(480) 687-1556
URL:https://www.maddhatterpro.com/event/third-base-karaoke/2026-11-07/
LOCATION:Third Base\, 4910 W Ray Rd #3\, Chandler\, AZ\, 85226\, United States
CATEGORIES:Karaoke,KJ Amygdala
ATTACH;FMTTYPE=image/jpeg:https://www.maddhatterpro.com/wp-content/uploads/2026/02/Third-Base-Chandler.jpg
END:VEVENT
BEGIN:VEVENT
DTSTART;TZID=UTC:20261114T210000
DTEND;TZID=UTC:20261114T210000
DTSTAMP:20260423T202439
CREATED:20250704T004113Z
LAST-MODIFIED:20260206T144717Z
UID:10023360-1794690000-1794690000@www.maddhatterpro.com
SUMMARY:Third Base Karaoke
DESCRIPTION:Super chill and ready to hear you sing! KJ Amygdala in the house slinging those tunes\, and your bar tenders\, slinging those drinks. Lets have a blast! \n4910 W Ray Rd #3\, Chandler\, AZ\, United States\, Arizona \n\n\n\n(480) 687-1556
URL:https://www.maddhatterpro.com/event/third-base-karaoke/2026-11-14/
LOCATION:Third Base\, 4910 W Ray Rd #3\, Chandler\, AZ\, 85226\, United States
CATEGORIES:Karaoke,KJ Amygdala
ATTACH;FMTTYPE=image/jpeg:https://www.maddhatterpro.com/wp-content/uploads/2026/02/Third-Base-Chandler.jpg
END:VEVENT
BEGIN:VEVENT
DTSTART;TZID=UTC:20261121T210000
DTEND;TZID=UTC:20261121T210000
DTSTAMP:20260423T202439
CREATED:20250704T004113Z
LAST-MODIFIED:20260206T144717Z
UID:10023361-1795294800-1795294800@www.maddhatterpro.com
SUMMARY:Third Base Karaoke
DESCRIPTION:Super chill and ready to hear you sing! KJ Amygdala in the house slinging those tunes\, and your bar tenders\, slinging those drinks. Lets have a blast! \n4910 W Ray Rd #3\, Chandler\, AZ\, United States\, Arizona \n\n\n\n(480) 687-1556
URL:https://www.maddhatterpro.com/event/third-base-karaoke/2026-11-21/
LOCATION:Third Base\, 4910 W Ray Rd #3\, Chandler\, AZ\, 85226\, United States
CATEGORIES:Karaoke,KJ Amygdala
ATTACH;FMTTYPE=image/jpeg:https://www.maddhatterpro.com/wp-content/uploads/2026/02/Third-Base-Chandler.jpg
END:VEVENT
BEGIN:VEVENT
DTSTART;TZID=UTC:20261128T210000
DTEND;TZID=UTC:20261128T210000
DTSTAMP:20260423T202439
CREATED:20250704T004113Z
LAST-MODIFIED:20260206T144717Z
UID:10023362-1795899600-1795899600@www.maddhatterpro.com
SUMMARY:Third Base Karaoke
DESCRIPTION:Super chill and ready to hear you sing! KJ Amygdala in the house slinging those tunes\, and your bar tenders\, slinging those drinks. Lets have a blast! \n4910 W Ray Rd #3\, Chandler\, AZ\, United States\, Arizona \n\n\n\n(480) 687-1556
URL:https://www.maddhatterpro.com/event/third-base-karaoke/2026-11-28/
LOCATION:Third Base\, 4910 W Ray Rd #3\, Chandler\, AZ\, 85226\, United States
CATEGORIES:Karaoke,KJ Amygdala
ATTACH;FMTTYPE=image/jpeg:https://www.maddhatterpro.com/wp-content/uploads/2026/02/Third-Base-Chandler.jpg
END:VEVENT
BEGIN:VEVENT
DTSTART;TZID=UTC:20261205T210000
DTEND;TZID=UTC:20261205T210000
DTSTAMP:20260423T202439
CREATED:20250704T004113Z
LAST-MODIFIED:20260206T144717Z
UID:10023363-1796504400-1796504400@www.maddhatterpro.com
SUMMARY:Third Base Karaoke
DESCRIPTION:Super chill and ready to hear you sing! KJ Amygdala in the house slinging those tunes\, and your bar tenders\, slinging those drinks. Lets have a blast! \n4910 W Ray Rd #3\, Chandler\, AZ\, United States\, Arizona \n\n\n\n(480) 687-1556
URL:https://www.maddhatterpro.com/event/third-base-karaoke/2026-12-05/
LOCATION:Third Base\, 4910 W Ray Rd #3\, Chandler\, AZ\, 85226\, United States
CATEGORIES:Karaoke,KJ Amygdala
ATTACH;FMTTYPE=image/jpeg:https://www.maddhatterpro.com/wp-content/uploads/2026/02/Third-Base-Chandler.jpg
END:VEVENT
BEGIN:VEVENT
DTSTART;TZID=UTC:20261212T210000
DTEND;TZID=UTC:20261212T210000
DTSTAMP:20260423T202439
CREATED:20250704T004113Z
LAST-MODIFIED:20260206T144717Z
UID:10023364-1797109200-1797109200@www.maddhatterpro.com
SUMMARY:Third Base Karaoke
DESCRIPTION:Super chill and ready to hear you sing! KJ Amygdala in the house slinging those tunes\, and your bar tenders\, slinging those drinks. Lets have a blast! \n4910 W Ray Rd #3\, Chandler\, AZ\, United States\, Arizona \n\n\n\n(480) 687-1556
URL:https://www.maddhatterpro.com/event/third-base-karaoke/2026-12-12/
LOCATION:Third Base\, 4910 W Ray Rd #3\, Chandler\, AZ\, 85226\, United States
CATEGORIES:Karaoke,KJ Amygdala
ATTACH;FMTTYPE=image/jpeg:https://www.maddhatterpro.com/wp-content/uploads/2026/02/Third-Base-Chandler.jpg
END:VEVENT
BEGIN:VEVENT
DTSTART;TZID=UTC:20261219T210000
DTEND;TZID=UTC:20261219T210000
DTSTAMP:20260423T202439
CREATED:20250704T004113Z
LAST-MODIFIED:20260206T144717Z
UID:10023365-1797714000-1797714000@www.maddhatterpro.com
SUMMARY:Third Base Karaoke
DESCRIPTION:Super chill and ready to hear you sing! KJ Amygdala in the house slinging those tunes\, and your bar tenders\, slinging those drinks. Lets have a blast! \n4910 W Ray Rd #3\, Chandler\, AZ\, United States\, Arizona \n\n\n\n(480) 687-1556
URL:https://www.maddhatterpro.com/event/third-base-karaoke/2026-12-19/
LOCATION:Third Base\, 4910 W Ray Rd #3\, Chandler\, AZ\, 85226\, United States
CATEGORIES:Karaoke,KJ Amygdala
ATTACH;FMTTYPE=image/jpeg:https://www.maddhatterpro.com/wp-content/uploads/2026/02/Third-Base-Chandler.jpg
END:VEVENT
BEGIN:VEVENT
DTSTART;TZID=UTC:20261226T210000
DTEND;TZID=UTC:20261226T210000
DTSTAMP:20260423T202439
CREATED:20250704T004113Z
LAST-MODIFIED:20260206T144717Z
UID:10023366-1798318800-1798318800@www.maddhatterpro.com
SUMMARY:Third Base Karaoke
DESCRIPTION:Super chill and ready to hear you sing! KJ Amygdala in the house slinging those tunes\, and your bar tenders\, slinging those drinks. Lets have a blast! \n4910 W Ray Rd #3\, Chandler\, AZ\, United States\, Arizona \n\n\n\n(480) 687-1556
URL:https://www.maddhatterpro.com/event/third-base-karaoke/2026-12-26/
LOCATION:Third Base\, 4910 W Ray Rd #3\, Chandler\, AZ\, 85226\, United States
CATEGORIES:Karaoke,KJ Amygdala
ATTACH;FMTTYPE=image/jpeg:https://www.maddhatterpro.com/wp-content/uploads/2026/02/Third-Base-Chandler.jpg
END:VEVENT
BEGIN:VEVENT
DTSTART;TZID=UTC:20270102T210000
DTEND;TZID=UTC:20270102T210000
DTSTAMP:20260423T202439
CREATED:20250704T004113Z
LAST-MODIFIED:20260206T144717Z
UID:10023367-1798923600-1798923600@www.maddhatterpro.com
SUMMARY:Third Base Karaoke
DESCRIPTION:Super chill and ready to hear you sing! KJ Amygdala in the house slinging those tunes\, and your bar tenders\, slinging those drinks. Lets have a blast! \n4910 W Ray Rd #3\, Chandler\, AZ\, United States\, Arizona \n\n\n\n(480) 687-1556
URL:https://www.maddhatterpro.com/event/third-base-karaoke/2027-01-02/
LOCATION:Third Base\, 4910 W Ray Rd #3\, Chandler\, AZ\, 85226\, United States
CATEGORIES:Karaoke,KJ Amygdala
ATTACH;FMTTYPE=image/jpeg:https://www.maddhatterpro.com/wp-content/uploads/2026/02/Third-Base-Chandler.jpg
END:VEVENT
BEGIN:VEVENT
DTSTART;TZID=UTC:20270109T210000
DTEND;TZID=UTC:20270109T210000
DTSTAMP:20260423T202439
CREATED:20250704T004113Z
LAST-MODIFIED:20260206T144717Z
UID:10023368-1799528400-1799528400@www.maddhatterpro.com
SUMMARY:Third Base Karaoke
DESCRIPTION:Super chill and ready to hear you sing! KJ Amygdala in the house slinging those tunes\, and your bar tenders\, slinging those drinks. Lets have a blast! \n4910 W Ray Rd #3\, Chandler\, AZ\, United States\, Arizona \n\n\n\n(480) 687-1556
URL:https://www.maddhatterpro.com/event/third-base-karaoke/2027-01-09/
LOCATION:Third Base\, 4910 W Ray Rd #3\, Chandler\, AZ\, 85226\, United States
CATEGORIES:Karaoke,KJ Amygdala
ATTACH;FMTTYPE=image/jpeg:https://www.maddhatterpro.com/wp-content/uploads/2026/02/Third-Base-Chandler.jpg
END:VEVENT
BEGIN:VEVENT
DTSTART;TZID=UTC:20270116T210000
DTEND;TZID=UTC:20270116T210000
DTSTAMP:20260423T202439
CREATED:20250704T004113Z
LAST-MODIFIED:20260206T144717Z
UID:10023369-1800133200-1800133200@www.maddhatterpro.com
SUMMARY:Third Base Karaoke
DESCRIPTION:Super chill and ready to hear you sing! KJ Amygdala in the house slinging those tunes\, and your bar tenders\, slinging those drinks. Lets have a blast! \n4910 W Ray Rd #3\, Chandler\, AZ\, United States\, Arizona \n\n\n\n(480) 687-1556
URL:https://www.maddhatterpro.com/event/third-base-karaoke/2027-01-16/
LOCATION:Third Base\, 4910 W Ray Rd #3\, Chandler\, AZ\, 85226\, United States
CATEGORIES:Karaoke,KJ Amygdala
ATTACH;FMTTYPE=image/jpeg:https://www.maddhatterpro.com/wp-content/uploads/2026/02/Third-Base-Chandler.jpg
END:VEVENT
BEGIN:VEVENT
DTSTART;TZID=UTC:20270123T210000
DTEND;TZID=UTC:20270123T210000
DTSTAMP:20260423T202439
CREATED:20250704T004113Z
LAST-MODIFIED:20260206T144717Z
UID:10023370-1800738000-1800738000@www.maddhatterpro.com
SUMMARY:Third Base Karaoke
DESCRIPTION:Super chill and ready to hear you sing! KJ Amygdala in the house slinging those tunes\, and your bar tenders\, slinging those drinks. Lets have a blast! \n4910 W Ray Rd #3\, Chandler\, AZ\, United States\, Arizona \n\n\n\n(480) 687-1556
URL:https://www.maddhatterpro.com/event/third-base-karaoke/2027-01-23/
LOCATION:Third Base\, 4910 W Ray Rd #3\, Chandler\, AZ\, 85226\, United States
CATEGORIES:Karaoke,KJ Amygdala
ATTACH;FMTTYPE=image/jpeg:https://www.maddhatterpro.com/wp-content/uploads/2026/02/Third-Base-Chandler.jpg
END:VEVENT
BEGIN:VEVENT
DTSTART;TZID=UTC:20270130T210000
DTEND;TZID=UTC:20270130T210000
DTSTAMP:20260423T202439
CREATED:20250704T004113Z
LAST-MODIFIED:20260206T144717Z
UID:10023371-1801342800-1801342800@www.maddhatterpro.com
SUMMARY:Third Base Karaoke
DESCRIPTION:Super chill and ready to hear you sing! KJ Amygdala in the house slinging those tunes\, and your bar tenders\, slinging those drinks. Lets have a blast! \n4910 W Ray Rd #3\, Chandler\, AZ\, United States\, Arizona \n\n\n\n(480) 687-1556
URL:https://www.maddhatterpro.com/event/third-base-karaoke/2027-01-30/
LOCATION:Third Base\, 4910 W Ray Rd #3\, Chandler\, AZ\, 85226\, United States
CATEGORIES:Karaoke,KJ Amygdala
ATTACH;FMTTYPE=image/jpeg:https://www.maddhatterpro.com/wp-content/uploads/2026/02/Third-Base-Chandler.jpg
END:VEVENT
BEGIN:VEVENT
DTSTART;TZID=UTC:20270206T210000
DTEND;TZID=UTC:20270206T210000
DTSTAMP:20260423T202439
CREATED:20250704T004113Z
LAST-MODIFIED:20260206T144717Z
UID:10023372-1801947600-1801947600@www.maddhatterpro.com
SUMMARY:Third Base Karaoke
DESCRIPTION:Super chill and ready to hear you sing! KJ Amygdala in the house slinging those tunes\, and your bar tenders\, slinging those drinks. Lets have a blast! \n4910 W Ray Rd #3\, Chandler\, AZ\, United States\, Arizona \n\n\n\n(480) 687-1556
URL:https://www.maddhatterpro.com/event/third-base-karaoke/2027-02-06/
LOCATION:Third Base\, 4910 W Ray Rd #3\, Chandler\, AZ\, 85226\, United States
CATEGORIES:Karaoke,KJ Amygdala
ATTACH;FMTTYPE=image/jpeg:https://www.maddhatterpro.com/wp-content/uploads/2026/02/Third-Base-Chandler.jpg
END:VEVENT
END:VCALENDAR