BEGIN:VCALENDAR
VERSION:2.0
PRODID:-//MaddHatterPro.com - ECPv6.15.20//NONSGML v1.0//EN
CALSCALE:GREGORIAN
METHOD:PUBLISH
X-ORIGINAL-URL:https://www.maddhatterpro.com
X-WR-CALDESC:Events for MaddHatterPro.com
REFRESH-INTERVAL;VALUE=DURATION:PT1H
X-Robots-Tag:noindex
X-PUBLISHED-TTL:PT1H
BEGIN:VTIMEZONE
TZID:UTC
BEGIN:STANDARD
TZOFFSETFROM:+0000
TZOFFSETTO:+0000
TZNAME:UTC
DTSTART:20280101T000000
END:STANDARD
END:VTIMEZONE
BEGIN:VEVENT
DTSTART;TZID=UTC:20290426T200000
DTEND;TZID=UTC:20290426T200000
DTSTAMP:20260425T235906
CREATED:20250703T235739Z
LAST-MODIFIED:20260206T144305Z
UID:10021396-1871928000-1871928000@www.maddhatterpro.com
SUMMARY:The480Bar Karaoke
DESCRIPTION:Everyone’s favorite neighborhood bar in chandler! Always a great time with Wilde in the house. Come see what the big deal is. Thursdays 8pm-midnight\, Friday/Saturday 9pm-1am \n480 N Arizona Ave\, Chandler\, AZ 85225 \n+14808992268
URL:https://www.maddhatterpro.com/event/the480bar-karaoke/2029-04-26/
LOCATION:the480bar\, 480 N Arizona Ave\, Chandler\, AZ\, 85225\, United States
CATEGORIES:Karaoke,KJ Wilde
ATTACH;FMTTYPE=image/jpeg:https://www.maddhatterpro.com/wp-content/uploads/2026/02/480-Chandler.jpg
END:VEVENT
BEGIN:VEVENT
DTSTART;TZID=UTC:20290427T210000
DTEND;TZID=UTC:20290427T210000
DTSTAMP:20260425T235906
CREATED:20250703T235929Z
LAST-MODIFIED:20260206T145047Z
UID:10021919-1872018000-1872018000@www.maddhatterpro.com
SUMMARY:The480Bar Karaoke
DESCRIPTION:Everyone’s favorite neighborhood bar in chandler! Always a great time with Wilde in the house. Come see what the big deal is. Thursdays 8pm-midnight\, Friday/Saturday 9pm-1am \n480 N Arizona Ave\, Chandler\, AZ 85225 \n+14808992268
URL:https://www.maddhatterpro.com/event/the480bar-karaoke-2/2029-04-27/
LOCATION:the480bar\, 480 N Arizona Ave\, Chandler\, AZ\, 85225\, United States
CATEGORIES:Karaoke,KJ Wilde
ATTACH;FMTTYPE=image/jpeg:https://www.maddhatterpro.com/wp-content/uploads/2026/02/480-Chandler.jpg
END:VEVENT
BEGIN:VEVENT
DTSTART;TZID=UTC:20290428T210000
DTEND;TZID=UTC:20290428T210000
DTSTAMP:20260425T235906
CREATED:20250703T235929Z
LAST-MODIFIED:20260206T145047Z
UID:10025272-1872104400-1872104400@www.maddhatterpro.com
SUMMARY:The480Bar Karaoke
DESCRIPTION:Everyone’s favorite neighborhood bar in chandler! Always a great time with Wilde in the house. Come see what the big deal is. Thursdays 8pm-midnight\, Friday/Saturday 9pm-1am \n480 N Arizona Ave\, Chandler\, AZ 85225 \n+14808992268
URL:https://www.maddhatterpro.com/event/the480bar-karaoke-2/2029-04-28/
LOCATION:the480bar\, 480 N Arizona Ave\, Chandler\, AZ\, 85225\, United States
CATEGORIES:Karaoke,KJ Wilde
ATTACH;FMTTYPE=image/jpeg:https://www.maddhatterpro.com/wp-content/uploads/2026/02/480-Chandler.jpg
END:VEVENT
BEGIN:VEVENT
DTSTART;TZID=UTC:20290503T200000
DTEND;TZID=UTC:20290503T200000
DTSTAMP:20260425T235906
CREATED:20250703T235739Z
LAST-MODIFIED:20260206T144305Z
UID:10021397-1872532800-1872532800@www.maddhatterpro.com
SUMMARY:The480Bar Karaoke
DESCRIPTION:Everyone’s favorite neighborhood bar in chandler! Always a great time with Wilde in the house. Come see what the big deal is. Thursdays 8pm-midnight\, Friday/Saturday 9pm-1am \n480 N Arizona Ave\, Chandler\, AZ 85225 \n+14808992268
URL:https://www.maddhatterpro.com/event/the480bar-karaoke/2029-05-03/
LOCATION:the480bar\, 480 N Arizona Ave\, Chandler\, AZ\, 85225\, United States
CATEGORIES:Karaoke,KJ Wilde
ATTACH;FMTTYPE=image/jpeg:https://www.maddhatterpro.com/wp-content/uploads/2026/02/480-Chandler.jpg
END:VEVENT
BEGIN:VEVENT
DTSTART;TZID=UTC:20290504T210000
DTEND;TZID=UTC:20290504T210000
DTSTAMP:20260425T235906
CREATED:20250703T235929Z
LAST-MODIFIED:20260206T145047Z
UID:10021920-1872622800-1872622800@www.maddhatterpro.com
SUMMARY:The480Bar Karaoke
DESCRIPTION:Everyone’s favorite neighborhood bar in chandler! Always a great time with Wilde in the house. Come see what the big deal is. Thursdays 8pm-midnight\, Friday/Saturday 9pm-1am \n480 N Arizona Ave\, Chandler\, AZ 85225 \n+14808992268
URL:https://www.maddhatterpro.com/event/the480bar-karaoke-2/2029-05-04/
LOCATION:the480bar\, 480 N Arizona Ave\, Chandler\, AZ\, 85225\, United States
CATEGORIES:Karaoke,KJ Wilde
ATTACH;FMTTYPE=image/jpeg:https://www.maddhatterpro.com/wp-content/uploads/2026/02/480-Chandler.jpg
END:VEVENT
BEGIN:VEVENT
DTSTART;TZID=UTC:20290505T210000
DTEND;TZID=UTC:20290505T210000
DTSTAMP:20260425T235906
CREATED:20250703T235929Z
LAST-MODIFIED:20260206T145047Z
UID:10025273-1872709200-1872709200@www.maddhatterpro.com
SUMMARY:The480Bar Karaoke
DESCRIPTION:Everyone’s favorite neighborhood bar in chandler! Always a great time with Wilde in the house. Come see what the big deal is. Thursdays 8pm-midnight\, Friday/Saturday 9pm-1am \n480 N Arizona Ave\, Chandler\, AZ 85225 \n+14808992268
URL:https://www.maddhatterpro.com/event/the480bar-karaoke-2/2029-05-05/
LOCATION:the480bar\, 480 N Arizona Ave\, Chandler\, AZ\, 85225\, United States
CATEGORIES:Karaoke,KJ Wilde
ATTACH;FMTTYPE=image/jpeg:https://www.maddhatterpro.com/wp-content/uploads/2026/02/480-Chandler.jpg
END:VEVENT
BEGIN:VEVENT
DTSTART;TZID=UTC:20290510T200000
DTEND;TZID=UTC:20290510T200000
DTSTAMP:20260425T235906
CREATED:20250703T235739Z
LAST-MODIFIED:20260206T144305Z
UID:10021398-1873137600-1873137600@www.maddhatterpro.com
SUMMARY:The480Bar Karaoke
DESCRIPTION:Everyone’s favorite neighborhood bar in chandler! Always a great time with Wilde in the house. Come see what the big deal is. Thursdays 8pm-midnight\, Friday/Saturday 9pm-1am \n480 N Arizona Ave\, Chandler\, AZ 85225 \n+14808992268
URL:https://www.maddhatterpro.com/event/the480bar-karaoke/2029-05-10/
LOCATION:the480bar\, 480 N Arizona Ave\, Chandler\, AZ\, 85225\, United States
CATEGORIES:Karaoke,KJ Wilde
ATTACH;FMTTYPE=image/jpeg:https://www.maddhatterpro.com/wp-content/uploads/2026/02/480-Chandler.jpg
END:VEVENT
BEGIN:VEVENT
DTSTART;TZID=UTC:20290511T210000
DTEND;TZID=UTC:20290511T210000
DTSTAMP:20260425T235906
CREATED:20250703T235929Z
LAST-MODIFIED:20260206T145047Z
UID:10021921-1873227600-1873227600@www.maddhatterpro.com
SUMMARY:The480Bar Karaoke
DESCRIPTION:Everyone’s favorite neighborhood bar in chandler! Always a great time with Wilde in the house. Come see what the big deal is. Thursdays 8pm-midnight\, Friday/Saturday 9pm-1am \n480 N Arizona Ave\, Chandler\, AZ 85225 \n+14808992268
URL:https://www.maddhatterpro.com/event/the480bar-karaoke-2/2029-05-11/
LOCATION:the480bar\, 480 N Arizona Ave\, Chandler\, AZ\, 85225\, United States
CATEGORIES:Karaoke,KJ Wilde
ATTACH;FMTTYPE=image/jpeg:https://www.maddhatterpro.com/wp-content/uploads/2026/02/480-Chandler.jpg
END:VEVENT
BEGIN:VEVENT
DTSTART;TZID=UTC:20290512T210000
DTEND;TZID=UTC:20290512T210000
DTSTAMP:20260425T235906
CREATED:20250703T235929Z
LAST-MODIFIED:20260206T145047Z
UID:10025274-1873314000-1873314000@www.maddhatterpro.com
SUMMARY:The480Bar Karaoke
DESCRIPTION:Everyone’s favorite neighborhood bar in chandler! Always a great time with Wilde in the house. Come see what the big deal is. Thursdays 8pm-midnight\, Friday/Saturday 9pm-1am \n480 N Arizona Ave\, Chandler\, AZ 85225 \n+14808992268
URL:https://www.maddhatterpro.com/event/the480bar-karaoke-2/2029-05-12/
LOCATION:the480bar\, 480 N Arizona Ave\, Chandler\, AZ\, 85225\, United States
CATEGORIES:Karaoke,KJ Wilde
ATTACH;FMTTYPE=image/jpeg:https://www.maddhatterpro.com/wp-content/uploads/2026/02/480-Chandler.jpg
END:VEVENT
BEGIN:VEVENT
DTSTART;TZID=UTC:20290517T200000
DTEND;TZID=UTC:20290517T200000
DTSTAMP:20260425T235906
CREATED:20250703T235739Z
LAST-MODIFIED:20260206T144305Z
UID:10021399-1873742400-1873742400@www.maddhatterpro.com
SUMMARY:The480Bar Karaoke
DESCRIPTION:Everyone’s favorite neighborhood bar in chandler! Always a great time with Wilde in the house. Come see what the big deal is. Thursdays 8pm-midnight\, Friday/Saturday 9pm-1am \n480 N Arizona Ave\, Chandler\, AZ 85225 \n+14808992268
URL:https://www.maddhatterpro.com/event/the480bar-karaoke/2029-05-17/
LOCATION:the480bar\, 480 N Arizona Ave\, Chandler\, AZ\, 85225\, United States
CATEGORIES:Karaoke,KJ Wilde
ATTACH;FMTTYPE=image/jpeg:https://www.maddhatterpro.com/wp-content/uploads/2026/02/480-Chandler.jpg
END:VEVENT
BEGIN:VEVENT
DTSTART;TZID=UTC:20290518T210000
DTEND;TZID=UTC:20290518T210000
DTSTAMP:20260425T235906
CREATED:20250703T235929Z
LAST-MODIFIED:20260206T145047Z
UID:10021922-1873832400-1873832400@www.maddhatterpro.com
SUMMARY:The480Bar Karaoke
DESCRIPTION:Everyone’s favorite neighborhood bar in chandler! Always a great time with Wilde in the house. Come see what the big deal is. Thursdays 8pm-midnight\, Friday/Saturday 9pm-1am \n480 N Arizona Ave\, Chandler\, AZ 85225 \n+14808992268
URL:https://www.maddhatterpro.com/event/the480bar-karaoke-2/2029-05-18/
LOCATION:the480bar\, 480 N Arizona Ave\, Chandler\, AZ\, 85225\, United States
CATEGORIES:Karaoke,KJ Wilde
ATTACH;FMTTYPE=image/jpeg:https://www.maddhatterpro.com/wp-content/uploads/2026/02/480-Chandler.jpg
END:VEVENT
BEGIN:VEVENT
DTSTART;TZID=UTC:20290519T210000
DTEND;TZID=UTC:20290519T210000
DTSTAMP:20260425T235906
CREATED:20250703T235929Z
LAST-MODIFIED:20260206T145047Z
UID:10025275-1873918800-1873918800@www.maddhatterpro.com
SUMMARY:The480Bar Karaoke
DESCRIPTION:Everyone’s favorite neighborhood bar in chandler! Always a great time with Wilde in the house. Come see what the big deal is. Thursdays 8pm-midnight\, Friday/Saturday 9pm-1am \n480 N Arizona Ave\, Chandler\, AZ 85225 \n+14808992268
URL:https://www.maddhatterpro.com/event/the480bar-karaoke-2/2029-05-19/
LOCATION:the480bar\, 480 N Arizona Ave\, Chandler\, AZ\, 85225\, United States
CATEGORIES:Karaoke,KJ Wilde
ATTACH;FMTTYPE=image/jpeg:https://www.maddhatterpro.com/wp-content/uploads/2026/02/480-Chandler.jpg
END:VEVENT
BEGIN:VEVENT
DTSTART;TZID=UTC:20290524T200000
DTEND;TZID=UTC:20290524T200000
DTSTAMP:20260425T235906
CREATED:20250703T235739Z
LAST-MODIFIED:20260206T144305Z
UID:10021400-1874347200-1874347200@www.maddhatterpro.com
SUMMARY:The480Bar Karaoke
DESCRIPTION:Everyone’s favorite neighborhood bar in chandler! Always a great time with Wilde in the house. Come see what the big deal is. Thursdays 8pm-midnight\, Friday/Saturday 9pm-1am \n480 N Arizona Ave\, Chandler\, AZ 85225 \n+14808992268
URL:https://www.maddhatterpro.com/event/the480bar-karaoke/2029-05-24/
LOCATION:the480bar\, 480 N Arizona Ave\, Chandler\, AZ\, 85225\, United States
CATEGORIES:Karaoke,KJ Wilde
ATTACH;FMTTYPE=image/jpeg:https://www.maddhatterpro.com/wp-content/uploads/2026/02/480-Chandler.jpg
END:VEVENT
BEGIN:VEVENT
DTSTART;TZID=UTC:20290525T210000
DTEND;TZID=UTC:20290525T210000
DTSTAMP:20260425T235906
CREATED:20250703T235929Z
LAST-MODIFIED:20260206T145047Z
UID:10021923-1874437200-1874437200@www.maddhatterpro.com
SUMMARY:The480Bar Karaoke
DESCRIPTION:Everyone’s favorite neighborhood bar in chandler! Always a great time with Wilde in the house. Come see what the big deal is. Thursdays 8pm-midnight\, Friday/Saturday 9pm-1am \n480 N Arizona Ave\, Chandler\, AZ 85225 \n+14808992268
URL:https://www.maddhatterpro.com/event/the480bar-karaoke-2/2029-05-25/
LOCATION:the480bar\, 480 N Arizona Ave\, Chandler\, AZ\, 85225\, United States
CATEGORIES:Karaoke,KJ Wilde
ATTACH;FMTTYPE=image/jpeg:https://www.maddhatterpro.com/wp-content/uploads/2026/02/480-Chandler.jpg
END:VEVENT
BEGIN:VEVENT
DTSTART;TZID=UTC:20290526T210000
DTEND;TZID=UTC:20290526T210000
DTSTAMP:20260425T235906
CREATED:20250703T235929Z
LAST-MODIFIED:20260206T145047Z
UID:10025276-1874523600-1874523600@www.maddhatterpro.com
SUMMARY:The480Bar Karaoke
DESCRIPTION:Everyone’s favorite neighborhood bar in chandler! Always a great time with Wilde in the house. Come see what the big deal is. Thursdays 8pm-midnight\, Friday/Saturday 9pm-1am \n480 N Arizona Ave\, Chandler\, AZ 85225 \n+14808992268
URL:https://www.maddhatterpro.com/event/the480bar-karaoke-2/2029-05-26/
LOCATION:the480bar\, 480 N Arizona Ave\, Chandler\, AZ\, 85225\, United States
CATEGORIES:Karaoke,KJ Wilde
ATTACH;FMTTYPE=image/jpeg:https://www.maddhatterpro.com/wp-content/uploads/2026/02/480-Chandler.jpg
END:VEVENT
BEGIN:VEVENT
DTSTART;TZID=UTC:20290531T200000
DTEND;TZID=UTC:20290531T200000
DTSTAMP:20260425T235906
CREATED:20250703T235739Z
LAST-MODIFIED:20260206T144305Z
UID:10021401-1874952000-1874952000@www.maddhatterpro.com
SUMMARY:The480Bar Karaoke
DESCRIPTION:Everyone’s favorite neighborhood bar in chandler! Always a great time with Wilde in the house. Come see what the big deal is. Thursdays 8pm-midnight\, Friday/Saturday 9pm-1am \n480 N Arizona Ave\, Chandler\, AZ 85225 \n+14808992268
URL:https://www.maddhatterpro.com/event/the480bar-karaoke/2029-05-31/
LOCATION:the480bar\, 480 N Arizona Ave\, Chandler\, AZ\, 85225\, United States
CATEGORIES:Karaoke,KJ Wilde
ATTACH;FMTTYPE=image/jpeg:https://www.maddhatterpro.com/wp-content/uploads/2026/02/480-Chandler.jpg
END:VEVENT
BEGIN:VEVENT
DTSTART;TZID=UTC:20290601T210000
DTEND;TZID=UTC:20290601T210000
DTSTAMP:20260425T235906
CREATED:20250703T235929Z
LAST-MODIFIED:20260206T145047Z
UID:10021924-1875042000-1875042000@www.maddhatterpro.com
SUMMARY:The480Bar Karaoke
DESCRIPTION:Everyone’s favorite neighborhood bar in chandler! Always a great time with Wilde in the house. Come see what the big deal is. Thursdays 8pm-midnight\, Friday/Saturday 9pm-1am \n480 N Arizona Ave\, Chandler\, AZ 85225 \n+14808992268
URL:https://www.maddhatterpro.com/event/the480bar-karaoke-2/2029-06-01/
LOCATION:the480bar\, 480 N Arizona Ave\, Chandler\, AZ\, 85225\, United States
CATEGORIES:Karaoke,KJ Wilde
ATTACH;FMTTYPE=image/jpeg:https://www.maddhatterpro.com/wp-content/uploads/2026/02/480-Chandler.jpg
END:VEVENT
BEGIN:VEVENT
DTSTART;TZID=UTC:20290602T210000
DTEND;TZID=UTC:20290602T210000
DTSTAMP:20260425T235906
CREATED:20250703T235929Z
LAST-MODIFIED:20260206T145047Z
UID:10025277-1875128400-1875128400@www.maddhatterpro.com
SUMMARY:The480Bar Karaoke
DESCRIPTION:Everyone’s favorite neighborhood bar in chandler! Always a great time with Wilde in the house. Come see what the big deal is. Thursdays 8pm-midnight\, Friday/Saturday 9pm-1am \n480 N Arizona Ave\, Chandler\, AZ 85225 \n+14808992268
URL:https://www.maddhatterpro.com/event/the480bar-karaoke-2/2029-06-02/
LOCATION:the480bar\, 480 N Arizona Ave\, Chandler\, AZ\, 85225\, United States
CATEGORIES:Karaoke,KJ Wilde
ATTACH;FMTTYPE=image/jpeg:https://www.maddhatterpro.com/wp-content/uploads/2026/02/480-Chandler.jpg
END:VEVENT
BEGIN:VEVENT
DTSTART;TZID=UTC:20290607T200000
DTEND;TZID=UTC:20290607T200000
DTSTAMP:20260425T235906
CREATED:20250703T235739Z
LAST-MODIFIED:20260206T144305Z
UID:10021402-1875556800-1875556800@www.maddhatterpro.com
SUMMARY:The480Bar Karaoke
DESCRIPTION:Everyone’s favorite neighborhood bar in chandler! Always a great time with Wilde in the house. Come see what the big deal is. Thursdays 8pm-midnight\, Friday/Saturday 9pm-1am \n480 N Arizona Ave\, Chandler\, AZ 85225 \n+14808992268
URL:https://www.maddhatterpro.com/event/the480bar-karaoke/2029-06-07/
LOCATION:the480bar\, 480 N Arizona Ave\, Chandler\, AZ\, 85225\, United States
CATEGORIES:Karaoke,KJ Wilde
ATTACH;FMTTYPE=image/jpeg:https://www.maddhatterpro.com/wp-content/uploads/2026/02/480-Chandler.jpg
END:VEVENT
BEGIN:VEVENT
DTSTART;TZID=UTC:20290608T210000
DTEND;TZID=UTC:20290608T210000
DTSTAMP:20260425T235906
CREATED:20250703T235929Z
LAST-MODIFIED:20260206T145047Z
UID:10021925-1875646800-1875646800@www.maddhatterpro.com
SUMMARY:The480Bar Karaoke
DESCRIPTION:Everyone’s favorite neighborhood bar in chandler! Always a great time with Wilde in the house. Come see what the big deal is. Thursdays 8pm-midnight\, Friday/Saturday 9pm-1am \n480 N Arizona Ave\, Chandler\, AZ 85225 \n+14808992268
URL:https://www.maddhatterpro.com/event/the480bar-karaoke-2/2029-06-08/
LOCATION:the480bar\, 480 N Arizona Ave\, Chandler\, AZ\, 85225\, United States
CATEGORIES:Karaoke,KJ Wilde
ATTACH;FMTTYPE=image/jpeg:https://www.maddhatterpro.com/wp-content/uploads/2026/02/480-Chandler.jpg
END:VEVENT
BEGIN:VEVENT
DTSTART;TZID=UTC:20290609T210000
DTEND;TZID=UTC:20290609T210000
DTSTAMP:20260425T235906
CREATED:20250703T235929Z
LAST-MODIFIED:20260206T145047Z
UID:10025278-1875733200-1875733200@www.maddhatterpro.com
SUMMARY:The480Bar Karaoke
DESCRIPTION:Everyone’s favorite neighborhood bar in chandler! Always a great time with Wilde in the house. Come see what the big deal is. Thursdays 8pm-midnight\, Friday/Saturday 9pm-1am \n480 N Arizona Ave\, Chandler\, AZ 85225 \n+14808992268
URL:https://www.maddhatterpro.com/event/the480bar-karaoke-2/2029-06-09/
LOCATION:the480bar\, 480 N Arizona Ave\, Chandler\, AZ\, 85225\, United States
CATEGORIES:Karaoke,KJ Wilde
ATTACH;FMTTYPE=image/jpeg:https://www.maddhatterpro.com/wp-content/uploads/2026/02/480-Chandler.jpg
END:VEVENT
BEGIN:VEVENT
DTSTART;TZID=UTC:20290614T200000
DTEND;TZID=UTC:20290614T200000
DTSTAMP:20260425T235906
CREATED:20250703T235739Z
LAST-MODIFIED:20260206T144305Z
UID:10021403-1876161600-1876161600@www.maddhatterpro.com
SUMMARY:The480Bar Karaoke
DESCRIPTION:Everyone’s favorite neighborhood bar in chandler! Always a great time with Wilde in the house. Come see what the big deal is. Thursdays 8pm-midnight\, Friday/Saturday 9pm-1am \n480 N Arizona Ave\, Chandler\, AZ 85225 \n+14808992268
URL:https://www.maddhatterpro.com/event/the480bar-karaoke/2029-06-14/
LOCATION:the480bar\, 480 N Arizona Ave\, Chandler\, AZ\, 85225\, United States
CATEGORIES:Karaoke,KJ Wilde
ATTACH;FMTTYPE=image/jpeg:https://www.maddhatterpro.com/wp-content/uploads/2026/02/480-Chandler.jpg
END:VEVENT
BEGIN:VEVENT
DTSTART;TZID=UTC:20290615T210000
DTEND;TZID=UTC:20290615T210000
DTSTAMP:20260425T235906
CREATED:20250703T235929Z
LAST-MODIFIED:20260206T145047Z
UID:10021926-1876251600-1876251600@www.maddhatterpro.com
SUMMARY:The480Bar Karaoke
DESCRIPTION:Everyone’s favorite neighborhood bar in chandler! Always a great time with Wilde in the house. Come see what the big deal is. Thursdays 8pm-midnight\, Friday/Saturday 9pm-1am \n480 N Arizona Ave\, Chandler\, AZ 85225 \n+14808992268
URL:https://www.maddhatterpro.com/event/the480bar-karaoke-2/2029-06-15/
LOCATION:the480bar\, 480 N Arizona Ave\, Chandler\, AZ\, 85225\, United States
CATEGORIES:Karaoke,KJ Wilde
ATTACH;FMTTYPE=image/jpeg:https://www.maddhatterpro.com/wp-content/uploads/2026/02/480-Chandler.jpg
END:VEVENT
BEGIN:VEVENT
DTSTART;TZID=UTC:20290616T210000
DTEND;TZID=UTC:20290616T210000
DTSTAMP:20260425T235906
CREATED:20250703T235929Z
LAST-MODIFIED:20260206T145047Z
UID:10025279-1876338000-1876338000@www.maddhatterpro.com
SUMMARY:The480Bar Karaoke
DESCRIPTION:Everyone’s favorite neighborhood bar in chandler! Always a great time with Wilde in the house. Come see what the big deal is. Thursdays 8pm-midnight\, Friday/Saturday 9pm-1am \n480 N Arizona Ave\, Chandler\, AZ 85225 \n+14808992268
URL:https://www.maddhatterpro.com/event/the480bar-karaoke-2/2029-06-16/
LOCATION:the480bar\, 480 N Arizona Ave\, Chandler\, AZ\, 85225\, United States
CATEGORIES:Karaoke,KJ Wilde
ATTACH;FMTTYPE=image/jpeg:https://www.maddhatterpro.com/wp-content/uploads/2026/02/480-Chandler.jpg
END:VEVENT
BEGIN:VEVENT
DTSTART;TZID=UTC:20290621T200000
DTEND;TZID=UTC:20290621T200000
DTSTAMP:20260425T235906
CREATED:20250703T235739Z
LAST-MODIFIED:20260206T144305Z
UID:10021404-1876766400-1876766400@www.maddhatterpro.com
SUMMARY:The480Bar Karaoke
DESCRIPTION:Everyone’s favorite neighborhood bar in chandler! Always a great time with Wilde in the house. Come see what the big deal is. Thursdays 8pm-midnight\, Friday/Saturday 9pm-1am \n480 N Arizona Ave\, Chandler\, AZ 85225 \n+14808992268
URL:https://www.maddhatterpro.com/event/the480bar-karaoke/2029-06-21/
LOCATION:the480bar\, 480 N Arizona Ave\, Chandler\, AZ\, 85225\, United States
CATEGORIES:Karaoke,KJ Wilde
ATTACH;FMTTYPE=image/jpeg:https://www.maddhatterpro.com/wp-content/uploads/2026/02/480-Chandler.jpg
END:VEVENT
BEGIN:VEVENT
DTSTART;TZID=UTC:20290622T210000
DTEND;TZID=UTC:20290622T210000
DTSTAMP:20260425T235906
CREATED:20250703T235929Z
LAST-MODIFIED:20260206T145047Z
UID:10021927-1876856400-1876856400@www.maddhatterpro.com
SUMMARY:The480Bar Karaoke
DESCRIPTION:Everyone’s favorite neighborhood bar in chandler! Always a great time with Wilde in the house. Come see what the big deal is. Thursdays 8pm-midnight\, Friday/Saturday 9pm-1am \n480 N Arizona Ave\, Chandler\, AZ 85225 \n+14808992268
URL:https://www.maddhatterpro.com/event/the480bar-karaoke-2/2029-06-22/
LOCATION:the480bar\, 480 N Arizona Ave\, Chandler\, AZ\, 85225\, United States
CATEGORIES:Karaoke,KJ Wilde
ATTACH;FMTTYPE=image/jpeg:https://www.maddhatterpro.com/wp-content/uploads/2026/02/480-Chandler.jpg
END:VEVENT
BEGIN:VEVENT
DTSTART;TZID=UTC:20290623T210000
DTEND;TZID=UTC:20290623T210000
DTSTAMP:20260425T235906
CREATED:20250703T235929Z
LAST-MODIFIED:20260206T145047Z
UID:10025280-1876942800-1876942800@www.maddhatterpro.com
SUMMARY:The480Bar Karaoke
DESCRIPTION:Everyone’s favorite neighborhood bar in chandler! Always a great time with Wilde in the house. Come see what the big deal is. Thursdays 8pm-midnight\, Friday/Saturday 9pm-1am \n480 N Arizona Ave\, Chandler\, AZ 85225 \n+14808992268
URL:https://www.maddhatterpro.com/event/the480bar-karaoke-2/2029-06-23/
LOCATION:the480bar\, 480 N Arizona Ave\, Chandler\, AZ\, 85225\, United States
CATEGORIES:Karaoke,KJ Wilde
ATTACH;FMTTYPE=image/jpeg:https://www.maddhatterpro.com/wp-content/uploads/2026/02/480-Chandler.jpg
END:VEVENT
BEGIN:VEVENT
DTSTART;TZID=UTC:20290628T200000
DTEND;TZID=UTC:20290628T200000
DTSTAMP:20260425T235906
CREATED:20250703T235739Z
LAST-MODIFIED:20260206T144305Z
UID:10021405-1877371200-1877371200@www.maddhatterpro.com
SUMMARY:The480Bar Karaoke
DESCRIPTION:Everyone’s favorite neighborhood bar in chandler! Always a great time with Wilde in the house. Come see what the big deal is. Thursdays 8pm-midnight\, Friday/Saturday 9pm-1am \n480 N Arizona Ave\, Chandler\, AZ 85225 \n+14808992268
URL:https://www.maddhatterpro.com/event/the480bar-karaoke/2029-06-28/
LOCATION:the480bar\, 480 N Arizona Ave\, Chandler\, AZ\, 85225\, United States
CATEGORIES:Karaoke,KJ Wilde
ATTACH;FMTTYPE=image/jpeg:https://www.maddhatterpro.com/wp-content/uploads/2026/02/480-Chandler.jpg
END:VEVENT
BEGIN:VEVENT
DTSTART;TZID=UTC:20290629T210000
DTEND;TZID=UTC:20290629T210000
DTSTAMP:20260425T235906
CREATED:20250703T235929Z
LAST-MODIFIED:20260206T145047Z
UID:10021928-1877461200-1877461200@www.maddhatterpro.com
SUMMARY:The480Bar Karaoke
DESCRIPTION:Everyone’s favorite neighborhood bar in chandler! Always a great time with Wilde in the house. Come see what the big deal is. Thursdays 8pm-midnight\, Friday/Saturday 9pm-1am \n480 N Arizona Ave\, Chandler\, AZ 85225 \n+14808992268
URL:https://www.maddhatterpro.com/event/the480bar-karaoke-2/2029-06-29/
LOCATION:the480bar\, 480 N Arizona Ave\, Chandler\, AZ\, 85225\, United States
CATEGORIES:Karaoke,KJ Wilde
ATTACH;FMTTYPE=image/jpeg:https://www.maddhatterpro.com/wp-content/uploads/2026/02/480-Chandler.jpg
END:VEVENT
BEGIN:VEVENT
DTSTART;TZID=UTC:20290630T210000
DTEND;TZID=UTC:20290630T210000
DTSTAMP:20260425T235906
CREATED:20250703T235929Z
LAST-MODIFIED:20260206T145047Z
UID:10025281-1877547600-1877547600@www.maddhatterpro.com
SUMMARY:The480Bar Karaoke
DESCRIPTION:Everyone’s favorite neighborhood bar in chandler! Always a great time with Wilde in the house. Come see what the big deal is. Thursdays 8pm-midnight\, Friday/Saturday 9pm-1am \n480 N Arizona Ave\, Chandler\, AZ 85225 \n+14808992268
URL:https://www.maddhatterpro.com/event/the480bar-karaoke-2/2029-06-30/
LOCATION:the480bar\, 480 N Arizona Ave\, Chandler\, AZ\, 85225\, United States
CATEGORIES:Karaoke,KJ Wilde
ATTACH;FMTTYPE=image/jpeg:https://www.maddhatterpro.com/wp-content/uploads/2026/02/480-Chandler.jpg
END:VEVENT
END:VCALENDAR