BEGIN:VCALENDAR
VERSION:2.0
PRODID:-//MaddHatterPro.com - ECPv6.15.20//NONSGML v1.0//EN
CALSCALE:GREGORIAN
METHOD:PUBLISH
X-WR-CALNAME:MaddHatterPro.com
X-ORIGINAL-URL:https://www.maddhatterpro.com
X-WR-CALDESC:Events for MaddHatterPro.com
REFRESH-INTERVAL;VALUE=DURATION:PT1H
X-Robots-Tag:noindex
X-PUBLISHED-TTL:PT1H
BEGIN:VTIMEZONE
TZID:UTC
BEGIN:STANDARD
TZOFFSETFROM:+0000
TZOFFSETTO:+0000
TZNAME:UTC
DTSTART:20240101T000000
END:STANDARD
END:VTIMEZONE
BEGIN:VEVENT
DTSTART;TZID=UTC:20250814T200000
DTEND;TZID=UTC:20250814T200000
DTSTAMP:20260424T061327
CREATED:20250703T235739Z
LAST-MODIFIED:20260206T144305Z
UID:10021203-1755201600-1755201600@www.maddhatterpro.com
SUMMARY:The480Bar Karaoke
DESCRIPTION:Everyone’s favorite neighborhood bar in chandler! Always a great time with Wilde in the house. Come see what the big deal is. Thursdays 8pm-midnight\, Friday/Saturday 9pm-1am \n480 N Arizona Ave\, Chandler\, AZ 85225 \n+14808992268
URL:https://www.maddhatterpro.com/event/the480bar-karaoke/2025-08-14/
LOCATION:the480bar\, 480 N Arizona Ave\, Chandler\, AZ\, 85225\, United States
CATEGORIES:Karaoke,KJ Wilde
ATTACH;FMTTYPE=image/jpeg:https://www.maddhatterpro.com/wp-content/uploads/2026/02/480-Chandler.jpg
END:VEVENT
BEGIN:VEVENT
DTSTART;TZID=UTC:20250809T210000
DTEND;TZID=UTC:20250809T210000
DTSTAMP:20260424T061327
CREATED:20250703T235929Z
LAST-MODIFIED:20260206T145047Z
UID:10025078-1754773200-1754773200@www.maddhatterpro.com
SUMMARY:The480Bar Karaoke
DESCRIPTION:Everyone’s favorite neighborhood bar in chandler! Always a great time with Wilde in the house. Come see what the big deal is. Thursdays 8pm-midnight\, Friday/Saturday 9pm-1am \n480 N Arizona Ave\, Chandler\, AZ 85225 \n+14808992268
URL:https://www.maddhatterpro.com/event/the480bar-karaoke-2/2025-08-09/
LOCATION:the480bar\, 480 N Arizona Ave\, Chandler\, AZ\, 85225\, United States
CATEGORIES:Karaoke,KJ Wilde
ATTACH;FMTTYPE=image/jpeg:https://www.maddhatterpro.com/wp-content/uploads/2026/02/480-Chandler.jpg
END:VEVENT
BEGIN:VEVENT
DTSTART;TZID=UTC:20250808T210000
DTEND;TZID=UTC:20250808T210000
DTSTAMP:20260424T061327
CREATED:20250703T235929Z
LAST-MODIFIED:20260206T145047Z
UID:10021725-1754686800-1754686800@www.maddhatterpro.com
SUMMARY:The480Bar Karaoke
DESCRIPTION:Everyone’s favorite neighborhood bar in chandler! Always a great time with Wilde in the house. Come see what the big deal is. Thursdays 8pm-midnight\, Friday/Saturday 9pm-1am \n480 N Arizona Ave\, Chandler\, AZ 85225 \n+14808992268
URL:https://www.maddhatterpro.com/event/the480bar-karaoke-2/2025-08-08/
LOCATION:the480bar\, 480 N Arizona Ave\, Chandler\, AZ\, 85225\, United States
CATEGORIES:Karaoke,KJ Wilde
ATTACH;FMTTYPE=image/jpeg:https://www.maddhatterpro.com/wp-content/uploads/2026/02/480-Chandler.jpg
END:VEVENT
BEGIN:VEVENT
DTSTART;TZID=UTC:20250807T200000
DTEND;TZID=UTC:20250807T200000
DTSTAMP:20260424T061327
CREATED:20250703T235739Z
LAST-MODIFIED:20260206T144305Z
UID:10021202-1754596800-1754596800@www.maddhatterpro.com
SUMMARY:The480Bar Karaoke
DESCRIPTION:Everyone’s favorite neighborhood bar in chandler! Always a great time with Wilde in the house. Come see what the big deal is. Thursdays 8pm-midnight\, Friday/Saturday 9pm-1am \n480 N Arizona Ave\, Chandler\, AZ 85225 \n+14808992268
URL:https://www.maddhatterpro.com/event/the480bar-karaoke/2025-08-07/
LOCATION:the480bar\, 480 N Arizona Ave\, Chandler\, AZ\, 85225\, United States
CATEGORIES:Karaoke,KJ Wilde
ATTACH;FMTTYPE=image/jpeg:https://www.maddhatterpro.com/wp-content/uploads/2026/02/480-Chandler.jpg
END:VEVENT
BEGIN:VEVENT
DTSTART;TZID=UTC:20250802T210000
DTEND;TZID=UTC:20250802T210000
DTSTAMP:20260424T061327
CREATED:20250703T235929Z
LAST-MODIFIED:20260206T145047Z
UID:10025077-1754168400-1754168400@www.maddhatterpro.com
SUMMARY:The480Bar Karaoke
DESCRIPTION:Everyone’s favorite neighborhood bar in chandler! Always a great time with Wilde in the house. Come see what the big deal is. Thursdays 8pm-midnight\, Friday/Saturday 9pm-1am \n480 N Arizona Ave\, Chandler\, AZ 85225 \n+14808992268
URL:https://www.maddhatterpro.com/event/the480bar-karaoke-2/2025-08-02/
LOCATION:the480bar\, 480 N Arizona Ave\, Chandler\, AZ\, 85225\, United States
CATEGORIES:Karaoke,KJ Wilde
ATTACH;FMTTYPE=image/jpeg:https://www.maddhatterpro.com/wp-content/uploads/2026/02/480-Chandler.jpg
END:VEVENT
BEGIN:VEVENT
DTSTART;TZID=UTC:20250801T210000
DTEND;TZID=UTC:20250801T210000
DTSTAMP:20260424T061327
CREATED:20250703T235929Z
LAST-MODIFIED:20260206T145047Z
UID:10021724-1754082000-1754082000@www.maddhatterpro.com
SUMMARY:The480Bar Karaoke
DESCRIPTION:Everyone’s favorite neighborhood bar in chandler! Always a great time with Wilde in the house. Come see what the big deal is. Thursdays 8pm-midnight\, Friday/Saturday 9pm-1am \n480 N Arizona Ave\, Chandler\, AZ 85225 \n+14808992268
URL:https://www.maddhatterpro.com/event/the480bar-karaoke-2/2025-08-01/
LOCATION:the480bar\, 480 N Arizona Ave\, Chandler\, AZ\, 85225\, United States
CATEGORIES:Karaoke,KJ Wilde
ATTACH;FMTTYPE=image/jpeg:https://www.maddhatterpro.com/wp-content/uploads/2026/02/480-Chandler.jpg
END:VEVENT
BEGIN:VEVENT
DTSTART;TZID=UTC:20250731T200000
DTEND;TZID=UTC:20250731T200000
DTSTAMP:20260424T061327
CREATED:20250703T235739Z
LAST-MODIFIED:20260206T144305Z
UID:10021201-1753992000-1753992000@www.maddhatterpro.com
SUMMARY:The480Bar Karaoke
DESCRIPTION:Everyone’s favorite neighborhood bar in chandler! Always a great time with Wilde in the house. Come see what the big deal is. Thursdays 8pm-midnight\, Friday/Saturday 9pm-1am \n480 N Arizona Ave\, Chandler\, AZ 85225 \n+14808992268
URL:https://www.maddhatterpro.com/event/the480bar-karaoke/2025-07-31/
LOCATION:the480bar\, 480 N Arizona Ave\, Chandler\, AZ\, 85225\, United States
CATEGORIES:Karaoke,KJ Wilde
ATTACH;FMTTYPE=image/jpeg:https://www.maddhatterpro.com/wp-content/uploads/2026/02/480-Chandler.jpg
END:VEVENT
BEGIN:VEVENT
DTSTART;TZID=UTC:20250726T210000
DTEND;TZID=UTC:20250726T210000
DTSTAMP:20260424T061327
CREATED:20250703T235929Z
LAST-MODIFIED:20260206T145047Z
UID:10025076-1753563600-1753563600@www.maddhatterpro.com
SUMMARY:The480Bar Karaoke
DESCRIPTION:Everyone’s favorite neighborhood bar in chandler! Always a great time with Wilde in the house. Come see what the big deal is. Thursdays 8pm-midnight\, Friday/Saturday 9pm-1am \n480 N Arizona Ave\, Chandler\, AZ 85225 \n+14808992268
URL:https://www.maddhatterpro.com/event/the480bar-karaoke-2/2025-07-26/
LOCATION:the480bar\, 480 N Arizona Ave\, Chandler\, AZ\, 85225\, United States
CATEGORIES:Karaoke,KJ Wilde
ATTACH;FMTTYPE=image/jpeg:https://www.maddhatterpro.com/wp-content/uploads/2026/02/480-Chandler.jpg
END:VEVENT
BEGIN:VEVENT
DTSTART;TZID=UTC:20250725T210000
DTEND;TZID=UTC:20250725T210000
DTSTAMP:20260424T061327
CREATED:20250703T235929Z
LAST-MODIFIED:20260206T145047Z
UID:10021723-1753477200-1753477200@www.maddhatterpro.com
SUMMARY:The480Bar Karaoke
DESCRIPTION:Everyone’s favorite neighborhood bar in chandler! Always a great time with Wilde in the house. Come see what the big deal is. Thursdays 8pm-midnight\, Friday/Saturday 9pm-1am \n480 N Arizona Ave\, Chandler\, AZ 85225 \n+14808992268
URL:https://www.maddhatterpro.com/event/the480bar-karaoke-2/2025-07-25/
LOCATION:the480bar\, 480 N Arizona Ave\, Chandler\, AZ\, 85225\, United States
CATEGORIES:Karaoke,KJ Wilde
ATTACH;FMTTYPE=image/jpeg:https://www.maddhatterpro.com/wp-content/uploads/2026/02/480-Chandler.jpg
END:VEVENT
BEGIN:VEVENT
DTSTART;TZID=UTC:20250724T200000
DTEND;TZID=UTC:20250724T200000
DTSTAMP:20260424T061327
CREATED:20250703T235739Z
LAST-MODIFIED:20260206T144305Z
UID:10021200-1753387200-1753387200@www.maddhatterpro.com
SUMMARY:The480Bar Karaoke
DESCRIPTION:Everyone’s favorite neighborhood bar in chandler! Always a great time with Wilde in the house. Come see what the big deal is. Thursdays 8pm-midnight\, Friday/Saturday 9pm-1am \n480 N Arizona Ave\, Chandler\, AZ 85225 \n+14808992268
URL:https://www.maddhatterpro.com/event/the480bar-karaoke/2025-07-24/
LOCATION:the480bar\, 480 N Arizona Ave\, Chandler\, AZ\, 85225\, United States
CATEGORIES:Karaoke,KJ Wilde
ATTACH;FMTTYPE=image/jpeg:https://www.maddhatterpro.com/wp-content/uploads/2026/02/480-Chandler.jpg
END:VEVENT
BEGIN:VEVENT
DTSTART;TZID=UTC:20250719T210000
DTEND;TZID=UTC:20250719T210000
DTSTAMP:20260424T061327
CREATED:20250703T235929Z
LAST-MODIFIED:20260206T145047Z
UID:10025075-1752958800-1752958800@www.maddhatterpro.com
SUMMARY:The480Bar Karaoke
DESCRIPTION:Everyone’s favorite neighborhood bar in chandler! Always a great time with Wilde in the house. Come see what the big deal is. Thursdays 8pm-midnight\, Friday/Saturday 9pm-1am \n480 N Arizona Ave\, Chandler\, AZ 85225 \n+14808992268
URL:https://www.maddhatterpro.com/event/the480bar-karaoke-2/2025-07-19/
LOCATION:the480bar\, 480 N Arizona Ave\, Chandler\, AZ\, 85225\, United States
CATEGORIES:Karaoke,KJ Wilde
ATTACH;FMTTYPE=image/jpeg:https://www.maddhatterpro.com/wp-content/uploads/2026/02/480-Chandler.jpg
END:VEVENT
BEGIN:VEVENT
DTSTART;TZID=UTC:20250718T210000
DTEND;TZID=UTC:20250718T210000
DTSTAMP:20260424T061327
CREATED:20250703T235929Z
LAST-MODIFIED:20260206T145047Z
UID:10021722-1752872400-1752872400@www.maddhatterpro.com
SUMMARY:The480Bar Karaoke
DESCRIPTION:Everyone’s favorite neighborhood bar in chandler! Always a great time with Wilde in the house. Come see what the big deal is. Thursdays 8pm-midnight\, Friday/Saturday 9pm-1am \n480 N Arizona Ave\, Chandler\, AZ 85225 \n+14808992268
URL:https://www.maddhatterpro.com/event/the480bar-karaoke-2/2025-07-18/
LOCATION:the480bar\, 480 N Arizona Ave\, Chandler\, AZ\, 85225\, United States
CATEGORIES:Karaoke,KJ Wilde
ATTACH;FMTTYPE=image/jpeg:https://www.maddhatterpro.com/wp-content/uploads/2026/02/480-Chandler.jpg
END:VEVENT
BEGIN:VEVENT
DTSTART;TZID=UTC:20250717T200000
DTEND;TZID=UTC:20250717T200000
DTSTAMP:20260424T061327
CREATED:20250703T235739Z
LAST-MODIFIED:20260206T144305Z
UID:10021199-1752782400-1752782400@www.maddhatterpro.com
SUMMARY:The480Bar Karaoke
DESCRIPTION:Everyone’s favorite neighborhood bar in chandler! Always a great time with Wilde in the house. Come see what the big deal is. Thursdays 8pm-midnight\, Friday/Saturday 9pm-1am \n480 N Arizona Ave\, Chandler\, AZ 85225 \n+14808992268
URL:https://www.maddhatterpro.com/event/the480bar-karaoke/2025-07-17/
LOCATION:the480bar\, 480 N Arizona Ave\, Chandler\, AZ\, 85225\, United States
CATEGORIES:Karaoke,KJ Wilde
ATTACH;FMTTYPE=image/jpeg:https://www.maddhatterpro.com/wp-content/uploads/2026/02/480-Chandler.jpg
END:VEVENT
BEGIN:VEVENT
DTSTART;TZID=UTC:20250712T210000
DTEND;TZID=UTC:20250712T210000
DTSTAMP:20260424T061327
CREATED:20250703T235929Z
LAST-MODIFIED:20260206T145047Z
UID:10025074-1752354000-1752354000@www.maddhatterpro.com
SUMMARY:The480Bar Karaoke
DESCRIPTION:Everyone’s favorite neighborhood bar in chandler! Always a great time with Wilde in the house. Come see what the big deal is. Thursdays 8pm-midnight\, Friday/Saturday 9pm-1am \n480 N Arizona Ave\, Chandler\, AZ 85225 \n+14808992268
URL:https://www.maddhatterpro.com/event/the480bar-karaoke-2/2025-07-12/
LOCATION:the480bar\, 480 N Arizona Ave\, Chandler\, AZ\, 85225\, United States
CATEGORIES:Karaoke,KJ Wilde
ATTACH;FMTTYPE=image/jpeg:https://www.maddhatterpro.com/wp-content/uploads/2026/02/480-Chandler.jpg
END:VEVENT
BEGIN:VEVENT
DTSTART;TZID=UTC:20250711T210000
DTEND;TZID=UTC:20250711T210000
DTSTAMP:20260424T061327
CREATED:20250703T235929Z
LAST-MODIFIED:20260206T145047Z
UID:10021721-1752267600-1752267600@www.maddhatterpro.com
SUMMARY:The480Bar Karaoke
DESCRIPTION:Everyone’s favorite neighborhood bar in chandler! Always a great time with Wilde in the house. Come see what the big deal is. Thursdays 8pm-midnight\, Friday/Saturday 9pm-1am \n480 N Arizona Ave\, Chandler\, AZ 85225 \n+14808992268
URL:https://www.maddhatterpro.com/event/the480bar-karaoke-2/2025-07-11/
LOCATION:the480bar\, 480 N Arizona Ave\, Chandler\, AZ\, 85225\, United States
CATEGORIES:Karaoke,KJ Wilde
ATTACH;FMTTYPE=image/jpeg:https://www.maddhatterpro.com/wp-content/uploads/2026/02/480-Chandler.jpg
END:VEVENT
BEGIN:VEVENT
DTSTART;TZID=UTC:20250710T200000
DTEND;TZID=UTC:20250710T200000
DTSTAMP:20260424T061327
CREATED:20250703T235739Z
LAST-MODIFIED:20260206T144305Z
UID:10021198-1752177600-1752177600@www.maddhatterpro.com
SUMMARY:The480Bar Karaoke
DESCRIPTION:Everyone’s favorite neighborhood bar in chandler! Always a great time with Wilde in the house. Come see what the big deal is. Thursdays 8pm-midnight\, Friday/Saturday 9pm-1am \n480 N Arizona Ave\, Chandler\, AZ 85225 \n+14808992268
URL:https://www.maddhatterpro.com/event/the480bar-karaoke/2025-07-10/
LOCATION:the480bar\, 480 N Arizona Ave\, Chandler\, AZ\, 85225\, United States
CATEGORIES:Karaoke,KJ Wilde
ATTACH;FMTTYPE=image/jpeg:https://www.maddhatterpro.com/wp-content/uploads/2026/02/480-Chandler.jpg
END:VEVENT
BEGIN:VEVENT
DTSTART;TZID=UTC:20250705T210000
DTEND;TZID=UTC:20250705T210000
DTSTAMP:20260424T061327
CREATED:20250703T235929Z
LAST-MODIFIED:20260206T145047Z
UID:10021720-1751749200-1751749200@www.maddhatterpro.com
SUMMARY:The480Bar Karaoke
DESCRIPTION:Everyone’s favorite neighborhood bar in chandler! Always a great time with Wilde in the house. Come see what the big deal is. Thursdays 8pm-midnight\, Friday/Saturday 9pm-1am \n480 N Arizona Ave\, Chandler\, AZ 85225 \n+14808992268
URL:https://www.maddhatterpro.com/event/the480bar-karaoke-2/2025-07-05/
LOCATION:the480bar\, 480 N Arizona Ave\, Chandler\, AZ\, 85225\, United States
CATEGORIES:Karaoke,KJ Wilde
ATTACH;FMTTYPE=image/jpeg:https://www.maddhatterpro.com/wp-content/uploads/2026/02/480-Chandler.jpg
END:VEVENT
BEGIN:VEVENT
DTSTART;TZID=UTC:20250704T210000
DTEND;TZID=UTC:20250704T210000
DTSTAMP:20260424T061327
CREATED:20250703T235929Z
LAST-MODIFIED:20260206T145047Z
UID:10021719-1751662800-1751662800@www.maddhatterpro.com
SUMMARY:The480Bar Karaoke
DESCRIPTION:Everyone’s favorite neighborhood bar in chandler! Always a great time with Wilde in the house. Come see what the big deal is. Thursdays 8pm-midnight\, Friday/Saturday 9pm-1am \n480 N Arizona Ave\, Chandler\, AZ 85225 \n+14808992268
URL:https://www.maddhatterpro.com/event/the480bar-karaoke-2/2025-07-04/
LOCATION:the480bar\, 480 N Arizona Ave\, Chandler\, AZ\, 85225\, United States
CATEGORIES:Karaoke,KJ Wilde
ATTACH;FMTTYPE=image/jpeg:https://www.maddhatterpro.com/wp-content/uploads/2026/02/480-Chandler.jpg
END:VEVENT
BEGIN:VEVENT
DTSTART;TZID=UTC:20250703T200000
DTEND;TZID=UTC:20250703T200000
DTSTAMP:20260424T061327
CREATED:20250703T235739Z
LAST-MODIFIED:20260206T144305Z
UID:10021197-1751572800-1751572800@www.maddhatterpro.com
SUMMARY:The480Bar Karaoke
DESCRIPTION:Everyone’s favorite neighborhood bar in chandler! Always a great time with Wilde in the house. Come see what the big deal is. Thursdays 8pm-midnight\, Friday/Saturday 9pm-1am \n480 N Arizona Ave\, Chandler\, AZ 85225 \n+14808992268
URL:https://www.maddhatterpro.com/event/the480bar-karaoke/2025-07-03/
LOCATION:the480bar\, 480 N Arizona Ave\, Chandler\, AZ\, 85225\, United States
CATEGORIES:Karaoke,KJ Wilde
ATTACH;FMTTYPE=image/jpeg:https://www.maddhatterpro.com/wp-content/uploads/2026/02/480-Chandler.jpg
END:VEVENT
END:VCALENDAR