BEGIN:VCALENDAR
VERSION:2.0
PRODID:-//MaddHatterPro.com - ECPv6.15.20//NONSGML v1.0//EN
CALSCALE:GREGORIAN
METHOD:PUBLISH
X-ORIGINAL-URL:https://www.maddhatterpro.com
X-WR-CALDESC:Events for MaddHatterPro.com
REFRESH-INTERVAL;VALUE=DURATION:PT1H
X-Robots-Tag:noindex
X-PUBLISHED-TTL:PT1H
BEGIN:VTIMEZONE
TZID:UTC
BEGIN:STANDARD
TZOFFSETFROM:+0000
TZOFFSETTO:+0000
TZNAME:UTC
DTSTART:20260101T000000
END:STANDARD
END:VTIMEZONE
BEGIN:VEVENT
DTSTART;TZID=UTC:20270623T200000
DTEND;TZID=UTC:20270623T233000
DTSTAMP:20260424T130549
CREATED:20260206T145935Z
LAST-MODIFIED:20260206T145935Z
UID:10025701-1813780800-1813793400@www.maddhatterpro.com
SUMMARY:The V Spot
DESCRIPTION:Downtown Glendale’s newest night life! The V Spot joining MaddHatter Productions in karaoke! KJ Amygdala in the house making sure you have a blast. Come out to see us and sing the night away!
URL:https://www.maddhatterpro.com/event/the-v-spot/2027-06-23/
LOCATION:The V Spot\, 5601 W Glendale Ave\, Glendale\, AZ\, 85301\, United States
ATTACH;FMTTYPE=image/jpeg:https://www.maddhatterpro.com/wp-content/uploads/2026/02/The-V-Spot-Glendale.jpg
END:VEVENT
BEGIN:VEVENT
DTSTART;TZID=UTC:20270630T200000
DTEND;TZID=UTC:20270630T233000
DTSTAMP:20260424T130549
CREATED:20260206T145935Z
LAST-MODIFIED:20260206T145935Z
UID:10025702-1814385600-1814398200@www.maddhatterpro.com
SUMMARY:The V Spot
DESCRIPTION:Downtown Glendale’s newest night life! The V Spot joining MaddHatter Productions in karaoke! KJ Amygdala in the house making sure you have a blast. Come out to see us and sing the night away!
URL:https://www.maddhatterpro.com/event/the-v-spot/2027-06-30/
LOCATION:The V Spot\, 5601 W Glendale Ave\, Glendale\, AZ\, 85301\, United States
ATTACH;FMTTYPE=image/jpeg:https://www.maddhatterpro.com/wp-content/uploads/2026/02/The-V-Spot-Glendale.jpg
END:VEVENT
BEGIN:VEVENT
DTSTART;TZID=UTC:20270707T200000
DTEND;TZID=UTC:20270707T233000
DTSTAMP:20260424T130549
CREATED:20260206T145935Z
LAST-MODIFIED:20260206T145935Z
UID:10025703-1814990400-1815003000@www.maddhatterpro.com
SUMMARY:The V Spot
DESCRIPTION:Downtown Glendale’s newest night life! The V Spot joining MaddHatter Productions in karaoke! KJ Amygdala in the house making sure you have a blast. Come out to see us and sing the night away!
URL:https://www.maddhatterpro.com/event/the-v-spot/2027-07-07/
LOCATION:The V Spot\, 5601 W Glendale Ave\, Glendale\, AZ\, 85301\, United States
ATTACH;FMTTYPE=image/jpeg:https://www.maddhatterpro.com/wp-content/uploads/2026/02/The-V-Spot-Glendale.jpg
END:VEVENT
BEGIN:VEVENT
DTSTART;TZID=UTC:20270714T200000
DTEND;TZID=UTC:20270714T233000
DTSTAMP:20260424T130549
CREATED:20260206T145935Z
LAST-MODIFIED:20260206T145935Z
UID:10025704-1815595200-1815607800@www.maddhatterpro.com
SUMMARY:The V Spot
DESCRIPTION:Downtown Glendale’s newest night life! The V Spot joining MaddHatter Productions in karaoke! KJ Amygdala in the house making sure you have a blast. Come out to see us and sing the night away!
URL:https://www.maddhatterpro.com/event/the-v-spot/2027-07-14/
LOCATION:The V Spot\, 5601 W Glendale Ave\, Glendale\, AZ\, 85301\, United States
ATTACH;FMTTYPE=image/jpeg:https://www.maddhatterpro.com/wp-content/uploads/2026/02/The-V-Spot-Glendale.jpg
END:VEVENT
BEGIN:VEVENT
DTSTART;TZID=UTC:20270721T200000
DTEND;TZID=UTC:20270721T233000
DTSTAMP:20260424T130549
CREATED:20260206T145935Z
LAST-MODIFIED:20260206T145935Z
UID:10025705-1816200000-1816212600@www.maddhatterpro.com
SUMMARY:The V Spot
DESCRIPTION:Downtown Glendale’s newest night life! The V Spot joining MaddHatter Productions in karaoke! KJ Amygdala in the house making sure you have a blast. Come out to see us and sing the night away!
URL:https://www.maddhatterpro.com/event/the-v-spot/2027-07-21/
LOCATION:The V Spot\, 5601 W Glendale Ave\, Glendale\, AZ\, 85301\, United States
ATTACH;FMTTYPE=image/jpeg:https://www.maddhatterpro.com/wp-content/uploads/2026/02/The-V-Spot-Glendale.jpg
END:VEVENT
BEGIN:VEVENT
DTSTART;TZID=UTC:20270728T200000
DTEND;TZID=UTC:20270728T233000
DTSTAMP:20260424T130549
CREATED:20260206T145935Z
LAST-MODIFIED:20260206T145935Z
UID:10025706-1816804800-1816817400@www.maddhatterpro.com
SUMMARY:The V Spot
DESCRIPTION:Downtown Glendale’s newest night life! The V Spot joining MaddHatter Productions in karaoke! KJ Amygdala in the house making sure you have a blast. Come out to see us and sing the night away!
URL:https://www.maddhatterpro.com/event/the-v-spot/2027-07-28/
LOCATION:The V Spot\, 5601 W Glendale Ave\, Glendale\, AZ\, 85301\, United States
ATTACH;FMTTYPE=image/jpeg:https://www.maddhatterpro.com/wp-content/uploads/2026/02/The-V-Spot-Glendale.jpg
END:VEVENT
BEGIN:VEVENT
DTSTART;TZID=UTC:20270804T200000
DTEND;TZID=UTC:20270804T233000
DTSTAMP:20260424T130549
CREATED:20260206T145935Z
LAST-MODIFIED:20260206T145935Z
UID:10025707-1817409600-1817422200@www.maddhatterpro.com
SUMMARY:The V Spot
DESCRIPTION:Downtown Glendale’s newest night life! The V Spot joining MaddHatter Productions in karaoke! KJ Amygdala in the house making sure you have a blast. Come out to see us and sing the night away!
URL:https://www.maddhatterpro.com/event/the-v-spot/2027-08-04/
LOCATION:The V Spot\, 5601 W Glendale Ave\, Glendale\, AZ\, 85301\, United States
ATTACH;FMTTYPE=image/jpeg:https://www.maddhatterpro.com/wp-content/uploads/2026/02/The-V-Spot-Glendale.jpg
END:VEVENT
BEGIN:VEVENT
DTSTART;TZID=UTC:20270811T200000
DTEND;TZID=UTC:20270811T233000
DTSTAMP:20260424T130549
CREATED:20260206T145935Z
LAST-MODIFIED:20260206T145935Z
UID:10025708-1818014400-1818027000@www.maddhatterpro.com
SUMMARY:The V Spot
DESCRIPTION:Downtown Glendale’s newest night life! The V Spot joining MaddHatter Productions in karaoke! KJ Amygdala in the house making sure you have a blast. Come out to see us and sing the night away!
URL:https://www.maddhatterpro.com/event/the-v-spot/2027-08-11/
LOCATION:The V Spot\, 5601 W Glendale Ave\, Glendale\, AZ\, 85301\, United States
ATTACH;FMTTYPE=image/jpeg:https://www.maddhatterpro.com/wp-content/uploads/2026/02/The-V-Spot-Glendale.jpg
END:VEVENT
BEGIN:VEVENT
DTSTART;TZID=UTC:20270818T200000
DTEND;TZID=UTC:20270818T233000
DTSTAMP:20260424T130549
CREATED:20260206T145935Z
LAST-MODIFIED:20260206T145935Z
UID:10025709-1818619200-1818631800@www.maddhatterpro.com
SUMMARY:The V Spot
DESCRIPTION:Downtown Glendale’s newest night life! The V Spot joining MaddHatter Productions in karaoke! KJ Amygdala in the house making sure you have a blast. Come out to see us and sing the night away!
URL:https://www.maddhatterpro.com/event/the-v-spot/2027-08-18/
LOCATION:The V Spot\, 5601 W Glendale Ave\, Glendale\, AZ\, 85301\, United States
ATTACH;FMTTYPE=image/jpeg:https://www.maddhatterpro.com/wp-content/uploads/2026/02/The-V-Spot-Glendale.jpg
END:VEVENT
BEGIN:VEVENT
DTSTART;TZID=UTC:20270825T200000
DTEND;TZID=UTC:20270825T233000
DTSTAMP:20260424T130549
CREATED:20260206T145935Z
LAST-MODIFIED:20260206T145935Z
UID:10025710-1819224000-1819236600@www.maddhatterpro.com
SUMMARY:The V Spot
DESCRIPTION:Downtown Glendale’s newest night life! The V Spot joining MaddHatter Productions in karaoke! KJ Amygdala in the house making sure you have a blast. Come out to see us and sing the night away!
URL:https://www.maddhatterpro.com/event/the-v-spot/2027-08-25/
LOCATION:The V Spot\, 5601 W Glendale Ave\, Glendale\, AZ\, 85301\, United States
ATTACH;FMTTYPE=image/jpeg:https://www.maddhatterpro.com/wp-content/uploads/2026/02/The-V-Spot-Glendale.jpg
END:VEVENT
BEGIN:VEVENT
DTSTART;TZID=UTC:20270901T200000
DTEND;TZID=UTC:20270901T233000
DTSTAMP:20260424T130549
CREATED:20260206T145935Z
LAST-MODIFIED:20260206T145935Z
UID:10025711-1819828800-1819841400@www.maddhatterpro.com
SUMMARY:The V Spot
DESCRIPTION:Downtown Glendale’s newest night life! The V Spot joining MaddHatter Productions in karaoke! KJ Amygdala in the house making sure you have a blast. Come out to see us and sing the night away!
URL:https://www.maddhatterpro.com/event/the-v-spot/2027-09-01/
LOCATION:The V Spot\, 5601 W Glendale Ave\, Glendale\, AZ\, 85301\, United States
ATTACH;FMTTYPE=image/jpeg:https://www.maddhatterpro.com/wp-content/uploads/2026/02/The-V-Spot-Glendale.jpg
END:VEVENT
BEGIN:VEVENT
DTSTART;TZID=UTC:20270908T200000
DTEND;TZID=UTC:20270908T233000
DTSTAMP:20260424T130549
CREATED:20260206T145935Z
LAST-MODIFIED:20260206T145935Z
UID:10025712-1820433600-1820446200@www.maddhatterpro.com
SUMMARY:The V Spot
DESCRIPTION:Downtown Glendale’s newest night life! The V Spot joining MaddHatter Productions in karaoke! KJ Amygdala in the house making sure you have a blast. Come out to see us and sing the night away!
URL:https://www.maddhatterpro.com/event/the-v-spot/2027-09-08/
LOCATION:The V Spot\, 5601 W Glendale Ave\, Glendale\, AZ\, 85301\, United States
ATTACH;FMTTYPE=image/jpeg:https://www.maddhatterpro.com/wp-content/uploads/2026/02/The-V-Spot-Glendale.jpg
END:VEVENT
BEGIN:VEVENT
DTSTART;TZID=UTC:20270915T200000
DTEND;TZID=UTC:20270915T233000
DTSTAMP:20260424T130549
CREATED:20260206T145935Z
LAST-MODIFIED:20260206T145935Z
UID:10025713-1821038400-1821051000@www.maddhatterpro.com
SUMMARY:The V Spot
DESCRIPTION:Downtown Glendale’s newest night life! The V Spot joining MaddHatter Productions in karaoke! KJ Amygdala in the house making sure you have a blast. Come out to see us and sing the night away!
URL:https://www.maddhatterpro.com/event/the-v-spot/2027-09-15/
LOCATION:The V Spot\, 5601 W Glendale Ave\, Glendale\, AZ\, 85301\, United States
ATTACH;FMTTYPE=image/jpeg:https://www.maddhatterpro.com/wp-content/uploads/2026/02/The-V-Spot-Glendale.jpg
END:VEVENT
BEGIN:VEVENT
DTSTART;TZID=UTC:20270922T200000
DTEND;TZID=UTC:20270922T233000
DTSTAMP:20260424T130549
CREATED:20260206T145935Z
LAST-MODIFIED:20260206T145935Z
UID:10025714-1821643200-1821655800@www.maddhatterpro.com
SUMMARY:The V Spot
DESCRIPTION:Downtown Glendale’s newest night life! The V Spot joining MaddHatter Productions in karaoke! KJ Amygdala in the house making sure you have a blast. Come out to see us and sing the night away!
URL:https://www.maddhatterpro.com/event/the-v-spot/2027-09-22/
LOCATION:The V Spot\, 5601 W Glendale Ave\, Glendale\, AZ\, 85301\, United States
ATTACH;FMTTYPE=image/jpeg:https://www.maddhatterpro.com/wp-content/uploads/2026/02/The-V-Spot-Glendale.jpg
END:VEVENT
BEGIN:VEVENT
DTSTART;TZID=UTC:20270929T200000
DTEND;TZID=UTC:20270929T233000
DTSTAMP:20260424T130549
CREATED:20260206T145935Z
LAST-MODIFIED:20260206T145935Z
UID:10025715-1822248000-1822260600@www.maddhatterpro.com
SUMMARY:The V Spot
DESCRIPTION:Downtown Glendale’s newest night life! The V Spot joining MaddHatter Productions in karaoke! KJ Amygdala in the house making sure you have a blast. Come out to see us and sing the night away!
URL:https://www.maddhatterpro.com/event/the-v-spot/2027-09-29/
LOCATION:The V Spot\, 5601 W Glendale Ave\, Glendale\, AZ\, 85301\, United States
ATTACH;FMTTYPE=image/jpeg:https://www.maddhatterpro.com/wp-content/uploads/2026/02/The-V-Spot-Glendale.jpg
END:VEVENT
BEGIN:VEVENT
DTSTART;TZID=UTC:20271006T200000
DTEND;TZID=UTC:20271006T233000
DTSTAMP:20260424T130549
CREATED:20260206T145935Z
LAST-MODIFIED:20260206T145935Z
UID:10025716-1822852800-1822865400@www.maddhatterpro.com
SUMMARY:The V Spot
DESCRIPTION:Downtown Glendale’s newest night life! The V Spot joining MaddHatter Productions in karaoke! KJ Amygdala in the house making sure you have a blast. Come out to see us and sing the night away!
URL:https://www.maddhatterpro.com/event/the-v-spot/2027-10-06/
LOCATION:The V Spot\, 5601 W Glendale Ave\, Glendale\, AZ\, 85301\, United States
ATTACH;FMTTYPE=image/jpeg:https://www.maddhatterpro.com/wp-content/uploads/2026/02/The-V-Spot-Glendale.jpg
END:VEVENT
BEGIN:VEVENT
DTSTART;TZID=UTC:20271013T200000
DTEND;TZID=UTC:20271013T233000
DTSTAMP:20260424T130549
CREATED:20260206T145935Z
LAST-MODIFIED:20260206T145935Z
UID:10025717-1823457600-1823470200@www.maddhatterpro.com
SUMMARY:The V Spot
DESCRIPTION:Downtown Glendale’s newest night life! The V Spot joining MaddHatter Productions in karaoke! KJ Amygdala in the house making sure you have a blast. Come out to see us and sing the night away!
URL:https://www.maddhatterpro.com/event/the-v-spot/2027-10-13/
LOCATION:The V Spot\, 5601 W Glendale Ave\, Glendale\, AZ\, 85301\, United States
ATTACH;FMTTYPE=image/jpeg:https://www.maddhatterpro.com/wp-content/uploads/2026/02/The-V-Spot-Glendale.jpg
END:VEVENT
BEGIN:VEVENT
DTSTART;TZID=UTC:20271020T200000
DTEND;TZID=UTC:20271020T233000
DTSTAMP:20260424T130549
CREATED:20260206T145935Z
LAST-MODIFIED:20260206T145935Z
UID:10025718-1824062400-1824075000@www.maddhatterpro.com
SUMMARY:The V Spot
DESCRIPTION:Downtown Glendale’s newest night life! The V Spot joining MaddHatter Productions in karaoke! KJ Amygdala in the house making sure you have a blast. Come out to see us and sing the night away!
URL:https://www.maddhatterpro.com/event/the-v-spot/2027-10-20/
LOCATION:The V Spot\, 5601 W Glendale Ave\, Glendale\, AZ\, 85301\, United States
ATTACH;FMTTYPE=image/jpeg:https://www.maddhatterpro.com/wp-content/uploads/2026/02/The-V-Spot-Glendale.jpg
END:VEVENT
BEGIN:VEVENT
DTSTART;TZID=UTC:20271027T200000
DTEND;TZID=UTC:20271027T233000
DTSTAMP:20260424T130549
CREATED:20260206T145935Z
LAST-MODIFIED:20260206T145935Z
UID:10025719-1824667200-1824679800@www.maddhatterpro.com
SUMMARY:The V Spot
DESCRIPTION:Downtown Glendale’s newest night life! The V Spot joining MaddHatter Productions in karaoke! KJ Amygdala in the house making sure you have a blast. Come out to see us and sing the night away!
URL:https://www.maddhatterpro.com/event/the-v-spot/2027-10-27/
LOCATION:The V Spot\, 5601 W Glendale Ave\, Glendale\, AZ\, 85301\, United States
ATTACH;FMTTYPE=image/jpeg:https://www.maddhatterpro.com/wp-content/uploads/2026/02/The-V-Spot-Glendale.jpg
END:VEVENT
BEGIN:VEVENT
DTSTART;TZID=UTC:20271103T200000
DTEND;TZID=UTC:20271103T233000
DTSTAMP:20260424T130549
CREATED:20260206T145935Z
LAST-MODIFIED:20260206T145935Z
UID:10025720-1825272000-1825284600@www.maddhatterpro.com
SUMMARY:The V Spot
DESCRIPTION:Downtown Glendale’s newest night life! The V Spot joining MaddHatter Productions in karaoke! KJ Amygdala in the house making sure you have a blast. Come out to see us and sing the night away!
URL:https://www.maddhatterpro.com/event/the-v-spot/2027-11-03/
LOCATION:The V Spot\, 5601 W Glendale Ave\, Glendale\, AZ\, 85301\, United States
ATTACH;FMTTYPE=image/jpeg:https://www.maddhatterpro.com/wp-content/uploads/2026/02/The-V-Spot-Glendale.jpg
END:VEVENT
BEGIN:VEVENT
DTSTART;TZID=UTC:20271110T200000
DTEND;TZID=UTC:20271110T233000
DTSTAMP:20260424T130549
CREATED:20260206T145935Z
LAST-MODIFIED:20260206T145935Z
UID:10025721-1825876800-1825889400@www.maddhatterpro.com
SUMMARY:The V Spot
DESCRIPTION:Downtown Glendale’s newest night life! The V Spot joining MaddHatter Productions in karaoke! KJ Amygdala in the house making sure you have a blast. Come out to see us and sing the night away!
URL:https://www.maddhatterpro.com/event/the-v-spot/2027-11-10/
LOCATION:The V Spot\, 5601 W Glendale Ave\, Glendale\, AZ\, 85301\, United States
ATTACH;FMTTYPE=image/jpeg:https://www.maddhatterpro.com/wp-content/uploads/2026/02/The-V-Spot-Glendale.jpg
END:VEVENT
BEGIN:VEVENT
DTSTART;TZID=UTC:20271117T200000
DTEND;TZID=UTC:20271117T233000
DTSTAMP:20260424T130549
CREATED:20260206T145935Z
LAST-MODIFIED:20260206T145935Z
UID:10025722-1826481600-1826494200@www.maddhatterpro.com
SUMMARY:The V Spot
DESCRIPTION:Downtown Glendale’s newest night life! The V Spot joining MaddHatter Productions in karaoke! KJ Amygdala in the house making sure you have a blast. Come out to see us and sing the night away!
URL:https://www.maddhatterpro.com/event/the-v-spot/2027-11-17/
LOCATION:The V Spot\, 5601 W Glendale Ave\, Glendale\, AZ\, 85301\, United States
ATTACH;FMTTYPE=image/jpeg:https://www.maddhatterpro.com/wp-content/uploads/2026/02/The-V-Spot-Glendale.jpg
END:VEVENT
BEGIN:VEVENT
DTSTART;TZID=UTC:20271124T200000
DTEND;TZID=UTC:20271124T233000
DTSTAMP:20260424T130549
CREATED:20260206T145935Z
LAST-MODIFIED:20260206T145935Z
UID:10025723-1827086400-1827099000@www.maddhatterpro.com
SUMMARY:The V Spot
DESCRIPTION:Downtown Glendale’s newest night life! The V Spot joining MaddHatter Productions in karaoke! KJ Amygdala in the house making sure you have a blast. Come out to see us and sing the night away!
URL:https://www.maddhatterpro.com/event/the-v-spot/2027-11-24/
LOCATION:The V Spot\, 5601 W Glendale Ave\, Glendale\, AZ\, 85301\, United States
ATTACH;FMTTYPE=image/jpeg:https://www.maddhatterpro.com/wp-content/uploads/2026/02/The-V-Spot-Glendale.jpg
END:VEVENT
BEGIN:VEVENT
DTSTART;TZID=UTC:20271201T200000
DTEND;TZID=UTC:20271201T233000
DTSTAMP:20260424T130549
CREATED:20260206T145935Z
LAST-MODIFIED:20260206T145935Z
UID:10025724-1827691200-1827703800@www.maddhatterpro.com
SUMMARY:The V Spot
DESCRIPTION:Downtown Glendale’s newest night life! The V Spot joining MaddHatter Productions in karaoke! KJ Amygdala in the house making sure you have a blast. Come out to see us and sing the night away!
URL:https://www.maddhatterpro.com/event/the-v-spot/2027-12-01/
LOCATION:The V Spot\, 5601 W Glendale Ave\, Glendale\, AZ\, 85301\, United States
ATTACH;FMTTYPE=image/jpeg:https://www.maddhatterpro.com/wp-content/uploads/2026/02/The-V-Spot-Glendale.jpg
END:VEVENT
BEGIN:VEVENT
DTSTART;TZID=UTC:20271208T200000
DTEND;TZID=UTC:20271208T233000
DTSTAMP:20260424T130549
CREATED:20260206T145935Z
LAST-MODIFIED:20260206T145935Z
UID:10025725-1828296000-1828308600@www.maddhatterpro.com
SUMMARY:The V Spot
DESCRIPTION:Downtown Glendale’s newest night life! The V Spot joining MaddHatter Productions in karaoke! KJ Amygdala in the house making sure you have a blast. Come out to see us and sing the night away!
URL:https://www.maddhatterpro.com/event/the-v-spot/2027-12-08/
LOCATION:The V Spot\, 5601 W Glendale Ave\, Glendale\, AZ\, 85301\, United States
ATTACH;FMTTYPE=image/jpeg:https://www.maddhatterpro.com/wp-content/uploads/2026/02/The-V-Spot-Glendale.jpg
END:VEVENT
BEGIN:VEVENT
DTSTART;TZID=UTC:20271215T200000
DTEND;TZID=UTC:20271215T233000
DTSTAMP:20260424T130549
CREATED:20260206T145935Z
LAST-MODIFIED:20260206T145935Z
UID:10025726-1828900800-1828913400@www.maddhatterpro.com
SUMMARY:The V Spot
DESCRIPTION:Downtown Glendale’s newest night life! The V Spot joining MaddHatter Productions in karaoke! KJ Amygdala in the house making sure you have a blast. Come out to see us and sing the night away!
URL:https://www.maddhatterpro.com/event/the-v-spot/2027-12-15/
LOCATION:The V Spot\, 5601 W Glendale Ave\, Glendale\, AZ\, 85301\, United States
ATTACH;FMTTYPE=image/jpeg:https://www.maddhatterpro.com/wp-content/uploads/2026/02/The-V-Spot-Glendale.jpg
END:VEVENT
BEGIN:VEVENT
DTSTART;TZID=UTC:20271222T200000
DTEND;TZID=UTC:20271222T233000
DTSTAMP:20260424T130549
CREATED:20260206T145935Z
LAST-MODIFIED:20260206T145935Z
UID:10025727-1829505600-1829518200@www.maddhatterpro.com
SUMMARY:The V Spot
DESCRIPTION:Downtown Glendale’s newest night life! The V Spot joining MaddHatter Productions in karaoke! KJ Amygdala in the house making sure you have a blast. Come out to see us and sing the night away!
URL:https://www.maddhatterpro.com/event/the-v-spot/2027-12-22/
LOCATION:The V Spot\, 5601 W Glendale Ave\, Glendale\, AZ\, 85301\, United States
ATTACH;FMTTYPE=image/jpeg:https://www.maddhatterpro.com/wp-content/uploads/2026/02/The-V-Spot-Glendale.jpg
END:VEVENT
BEGIN:VEVENT
DTSTART;TZID=UTC:20271229T200000
DTEND;TZID=UTC:20271229T233000
DTSTAMP:20260424T130549
CREATED:20260206T145935Z
LAST-MODIFIED:20260206T145935Z
UID:10025728-1830110400-1830123000@www.maddhatterpro.com
SUMMARY:The V Spot
DESCRIPTION:Downtown Glendale’s newest night life! The V Spot joining MaddHatter Productions in karaoke! KJ Amygdala in the house making sure you have a blast. Come out to see us and sing the night away!
URL:https://www.maddhatterpro.com/event/the-v-spot/2027-12-29/
LOCATION:The V Spot\, 5601 W Glendale Ave\, Glendale\, AZ\, 85301\, United States
ATTACH;FMTTYPE=image/jpeg:https://www.maddhatterpro.com/wp-content/uploads/2026/02/The-V-Spot-Glendale.jpg
END:VEVENT
BEGIN:VEVENT
DTSTART;TZID=UTC:20280105T200000
DTEND;TZID=UTC:20280105T233000
DTSTAMP:20260424T130549
CREATED:20260206T145935Z
LAST-MODIFIED:20260206T145935Z
UID:10025729-1830715200-1830727800@www.maddhatterpro.com
SUMMARY:The V Spot
DESCRIPTION:Downtown Glendale’s newest night life! The V Spot joining MaddHatter Productions in karaoke! KJ Amygdala in the house making sure you have a blast. Come out to see us and sing the night away!
URL:https://www.maddhatterpro.com/event/the-v-spot/2028-01-05/
LOCATION:The V Spot\, 5601 W Glendale Ave\, Glendale\, AZ\, 85301\, United States
ATTACH;FMTTYPE=image/jpeg:https://www.maddhatterpro.com/wp-content/uploads/2026/02/The-V-Spot-Glendale.jpg
END:VEVENT
BEGIN:VEVENT
DTSTART;TZID=UTC:20280112T200000
DTEND;TZID=UTC:20280112T233000
DTSTAMP:20260424T130549
CREATED:20260206T145935Z
LAST-MODIFIED:20260206T145935Z
UID:10025730-1831320000-1831332600@www.maddhatterpro.com
SUMMARY:The V Spot
DESCRIPTION:Downtown Glendale’s newest night life! The V Spot joining MaddHatter Productions in karaoke! KJ Amygdala in the house making sure you have a blast. Come out to see us and sing the night away!
URL:https://www.maddhatterpro.com/event/the-v-spot/2028-01-12/
LOCATION:The V Spot\, 5601 W Glendale Ave\, Glendale\, AZ\, 85301\, United States
ATTACH;FMTTYPE=image/jpeg:https://www.maddhatterpro.com/wp-content/uploads/2026/02/The-V-Spot-Glendale.jpg
END:VEVENT
END:VCALENDAR