BEGIN:VCALENDAR
VERSION:2.0
PRODID:-//MaddHatterPro.com - ECPv6.15.20//NONSGML v1.0//EN
CALSCALE:GREGORIAN
METHOD:PUBLISH
X-WR-CALNAME:MaddHatterPro.com
X-ORIGINAL-URL:https://www.maddhatterpro.com
X-WR-CALDESC:Events for MaddHatterPro.com
REFRESH-INTERVAL;VALUE=DURATION:PT1H
X-Robots-Tag:noindex
X-PUBLISHED-TTL:PT1H
BEGIN:VTIMEZONE
TZID:UTC
BEGIN:STANDARD
TZOFFSETFROM:+0000
TZOFFSETTO:+0000
TZNAME:UTC
DTSTART:20270101T000000
END:STANDARD
END:VTIMEZONE
BEGIN:VEVENT
DTSTART;TZID=UTC:20280816T200000
DTEND;TZID=UTC:20280816T233000
DTSTAMP:20260424T075452
CREATED:20260206T145935Z
LAST-MODIFIED:20260206T145935Z
UID:10025761-1850068800-1850081400@www.maddhatterpro.com
SUMMARY:The V Spot
DESCRIPTION:Downtown Glendale’s newest night life! The V Spot joining MaddHatter Productions in karaoke! KJ Amygdala in the house making sure you have a blast. Come out to see us and sing the night away!
URL:https://www.maddhatterpro.com/event/the-v-spot/2028-08-16/
LOCATION:The V Spot\, 5601 W Glendale Ave\, Glendale\, AZ\, 85301\, United States
ATTACH;FMTTYPE=image/jpeg:https://www.maddhatterpro.com/wp-content/uploads/2026/02/The-V-Spot-Glendale.jpg
END:VEVENT
BEGIN:VEVENT
DTSTART;TZID=UTC:20280823T200000
DTEND;TZID=UTC:20280823T233000
DTSTAMP:20260424T075452
CREATED:20260206T145935Z
LAST-MODIFIED:20260206T145935Z
UID:10025762-1850673600-1850686200@www.maddhatterpro.com
SUMMARY:The V Spot
DESCRIPTION:Downtown Glendale’s newest night life! The V Spot joining MaddHatter Productions in karaoke! KJ Amygdala in the house making sure you have a blast. Come out to see us and sing the night away!
URL:https://www.maddhatterpro.com/event/the-v-spot/2028-08-23/
LOCATION:The V Spot\, 5601 W Glendale Ave\, Glendale\, AZ\, 85301\, United States
ATTACH;FMTTYPE=image/jpeg:https://www.maddhatterpro.com/wp-content/uploads/2026/02/The-V-Spot-Glendale.jpg
END:VEVENT
BEGIN:VEVENT
DTSTART;TZID=UTC:20280830T200000
DTEND;TZID=UTC:20280830T233000
DTSTAMP:20260424T075452
CREATED:20260206T145935Z
LAST-MODIFIED:20260206T145935Z
UID:10025763-1851278400-1851291000@www.maddhatterpro.com
SUMMARY:The V Spot
DESCRIPTION:Downtown Glendale’s newest night life! The V Spot joining MaddHatter Productions in karaoke! KJ Amygdala in the house making sure you have a blast. Come out to see us and sing the night away!
URL:https://www.maddhatterpro.com/event/the-v-spot/2028-08-30/
LOCATION:The V Spot\, 5601 W Glendale Ave\, Glendale\, AZ\, 85301\, United States
ATTACH;FMTTYPE=image/jpeg:https://www.maddhatterpro.com/wp-content/uploads/2026/02/The-V-Spot-Glendale.jpg
END:VEVENT
BEGIN:VEVENT
DTSTART;TZID=UTC:20280906T200000
DTEND;TZID=UTC:20280906T233000
DTSTAMP:20260424T075452
CREATED:20260206T145935Z
LAST-MODIFIED:20260206T145935Z
UID:10025764-1851883200-1851895800@www.maddhatterpro.com
SUMMARY:The V Spot
DESCRIPTION:Downtown Glendale’s newest night life! The V Spot joining MaddHatter Productions in karaoke! KJ Amygdala in the house making sure you have a blast. Come out to see us and sing the night away!
URL:https://www.maddhatterpro.com/event/the-v-spot/2028-09-06/
LOCATION:The V Spot\, 5601 W Glendale Ave\, Glendale\, AZ\, 85301\, United States
ATTACH;FMTTYPE=image/jpeg:https://www.maddhatterpro.com/wp-content/uploads/2026/02/The-V-Spot-Glendale.jpg
END:VEVENT
BEGIN:VEVENT
DTSTART;TZID=UTC:20280913T200000
DTEND;TZID=UTC:20280913T233000
DTSTAMP:20260424T075452
CREATED:20260206T145935Z
LAST-MODIFIED:20260206T145935Z
UID:10025765-1852488000-1852500600@www.maddhatterpro.com
SUMMARY:The V Spot
DESCRIPTION:Downtown Glendale’s newest night life! The V Spot joining MaddHatter Productions in karaoke! KJ Amygdala in the house making sure you have a blast. Come out to see us and sing the night away!
URL:https://www.maddhatterpro.com/event/the-v-spot/2028-09-13/
LOCATION:The V Spot\, 5601 W Glendale Ave\, Glendale\, AZ\, 85301\, United States
ATTACH;FMTTYPE=image/jpeg:https://www.maddhatterpro.com/wp-content/uploads/2026/02/The-V-Spot-Glendale.jpg
END:VEVENT
BEGIN:VEVENT
DTSTART;TZID=UTC:20280920T200000
DTEND;TZID=UTC:20280920T233000
DTSTAMP:20260424T075452
CREATED:20260206T145935Z
LAST-MODIFIED:20260206T145935Z
UID:10025766-1853092800-1853105400@www.maddhatterpro.com
SUMMARY:The V Spot
DESCRIPTION:Downtown Glendale’s newest night life! The V Spot joining MaddHatter Productions in karaoke! KJ Amygdala in the house making sure you have a blast. Come out to see us and sing the night away!
URL:https://www.maddhatterpro.com/event/the-v-spot/2028-09-20/
LOCATION:The V Spot\, 5601 W Glendale Ave\, Glendale\, AZ\, 85301\, United States
ATTACH;FMTTYPE=image/jpeg:https://www.maddhatterpro.com/wp-content/uploads/2026/02/The-V-Spot-Glendale.jpg
END:VEVENT
BEGIN:VEVENT
DTSTART;TZID=UTC:20280927T200000
DTEND;TZID=UTC:20280927T233000
DTSTAMP:20260424T075452
CREATED:20260206T145935Z
LAST-MODIFIED:20260206T145935Z
UID:10025767-1853697600-1853710200@www.maddhatterpro.com
SUMMARY:The V Spot
DESCRIPTION:Downtown Glendale’s newest night life! The V Spot joining MaddHatter Productions in karaoke! KJ Amygdala in the house making sure you have a blast. Come out to see us and sing the night away!
URL:https://www.maddhatterpro.com/event/the-v-spot/2028-09-27/
LOCATION:The V Spot\, 5601 W Glendale Ave\, Glendale\, AZ\, 85301\, United States
ATTACH;FMTTYPE=image/jpeg:https://www.maddhatterpro.com/wp-content/uploads/2026/02/The-V-Spot-Glendale.jpg
END:VEVENT
BEGIN:VEVENT
DTSTART;TZID=UTC:20281004T200000
DTEND;TZID=UTC:20281004T233000
DTSTAMP:20260424T075452
CREATED:20260206T145935Z
LAST-MODIFIED:20260206T145935Z
UID:10025768-1854302400-1854315000@www.maddhatterpro.com
SUMMARY:The V Spot
DESCRIPTION:Downtown Glendale’s newest night life! The V Spot joining MaddHatter Productions in karaoke! KJ Amygdala in the house making sure you have a blast. Come out to see us and sing the night away!
URL:https://www.maddhatterpro.com/event/the-v-spot/2028-10-04/
LOCATION:The V Spot\, 5601 W Glendale Ave\, Glendale\, AZ\, 85301\, United States
ATTACH;FMTTYPE=image/jpeg:https://www.maddhatterpro.com/wp-content/uploads/2026/02/The-V-Spot-Glendale.jpg
END:VEVENT
BEGIN:VEVENT
DTSTART;TZID=UTC:20281011T200000
DTEND;TZID=UTC:20281011T233000
DTSTAMP:20260424T075452
CREATED:20260206T145935Z
LAST-MODIFIED:20260206T145935Z
UID:10025769-1854907200-1854919800@www.maddhatterpro.com
SUMMARY:The V Spot
DESCRIPTION:Downtown Glendale’s newest night life! The V Spot joining MaddHatter Productions in karaoke! KJ Amygdala in the house making sure you have a blast. Come out to see us and sing the night away!
URL:https://www.maddhatterpro.com/event/the-v-spot/2028-10-11/
LOCATION:The V Spot\, 5601 W Glendale Ave\, Glendale\, AZ\, 85301\, United States
ATTACH;FMTTYPE=image/jpeg:https://www.maddhatterpro.com/wp-content/uploads/2026/02/The-V-Spot-Glendale.jpg
END:VEVENT
BEGIN:VEVENT
DTSTART;TZID=UTC:20281018T200000
DTEND;TZID=UTC:20281018T233000
DTSTAMP:20260424T075452
CREATED:20260206T145935Z
LAST-MODIFIED:20260206T145935Z
UID:10025770-1855512000-1855524600@www.maddhatterpro.com
SUMMARY:The V Spot
DESCRIPTION:Downtown Glendale’s newest night life! The V Spot joining MaddHatter Productions in karaoke! KJ Amygdala in the house making sure you have a blast. Come out to see us and sing the night away!
URL:https://www.maddhatterpro.com/event/the-v-spot/2028-10-18/
LOCATION:The V Spot\, 5601 W Glendale Ave\, Glendale\, AZ\, 85301\, United States
ATTACH;FMTTYPE=image/jpeg:https://www.maddhatterpro.com/wp-content/uploads/2026/02/The-V-Spot-Glendale.jpg
END:VEVENT
BEGIN:VEVENT
DTSTART;TZID=UTC:20281025T200000
DTEND;TZID=UTC:20281025T233000
DTSTAMP:20260424T075452
CREATED:20260206T145935Z
LAST-MODIFIED:20260206T145935Z
UID:10025771-1856116800-1856129400@www.maddhatterpro.com
SUMMARY:The V Spot
DESCRIPTION:Downtown Glendale’s newest night life! The V Spot joining MaddHatter Productions in karaoke! KJ Amygdala in the house making sure you have a blast. Come out to see us and sing the night away!
URL:https://www.maddhatterpro.com/event/the-v-spot/2028-10-25/
LOCATION:The V Spot\, 5601 W Glendale Ave\, Glendale\, AZ\, 85301\, United States
ATTACH;FMTTYPE=image/jpeg:https://www.maddhatterpro.com/wp-content/uploads/2026/02/The-V-Spot-Glendale.jpg
END:VEVENT
BEGIN:VEVENT
DTSTART;TZID=UTC:20281101T200000
DTEND;TZID=UTC:20281101T233000
DTSTAMP:20260424T075452
CREATED:20260206T145935Z
LAST-MODIFIED:20260206T145935Z
UID:10025772-1856721600-1856734200@www.maddhatterpro.com
SUMMARY:The V Spot
DESCRIPTION:Downtown Glendale’s newest night life! The V Spot joining MaddHatter Productions in karaoke! KJ Amygdala in the house making sure you have a blast. Come out to see us and sing the night away!
URL:https://www.maddhatterpro.com/event/the-v-spot/2028-11-01/
LOCATION:The V Spot\, 5601 W Glendale Ave\, Glendale\, AZ\, 85301\, United States
ATTACH;FMTTYPE=image/jpeg:https://www.maddhatterpro.com/wp-content/uploads/2026/02/The-V-Spot-Glendale.jpg
END:VEVENT
BEGIN:VEVENT
DTSTART;TZID=UTC:20281108T200000
DTEND;TZID=UTC:20281108T233000
DTSTAMP:20260424T075452
CREATED:20260206T145935Z
LAST-MODIFIED:20260206T145935Z
UID:10025773-1857326400-1857339000@www.maddhatterpro.com
SUMMARY:The V Spot
DESCRIPTION:Downtown Glendale’s newest night life! The V Spot joining MaddHatter Productions in karaoke! KJ Amygdala in the house making sure you have a blast. Come out to see us and sing the night away!
URL:https://www.maddhatterpro.com/event/the-v-spot/2028-11-08/
LOCATION:The V Spot\, 5601 W Glendale Ave\, Glendale\, AZ\, 85301\, United States
ATTACH;FMTTYPE=image/jpeg:https://www.maddhatterpro.com/wp-content/uploads/2026/02/The-V-Spot-Glendale.jpg
END:VEVENT
BEGIN:VEVENT
DTSTART;TZID=UTC:20281115T200000
DTEND;TZID=UTC:20281115T233000
DTSTAMP:20260424T075452
CREATED:20260206T145935Z
LAST-MODIFIED:20260206T145935Z
UID:10025774-1857931200-1857943800@www.maddhatterpro.com
SUMMARY:The V Spot
DESCRIPTION:Downtown Glendale’s newest night life! The V Spot joining MaddHatter Productions in karaoke! KJ Amygdala in the house making sure you have a blast. Come out to see us and sing the night away!
URL:https://www.maddhatterpro.com/event/the-v-spot/2028-11-15/
LOCATION:The V Spot\, 5601 W Glendale Ave\, Glendale\, AZ\, 85301\, United States
ATTACH;FMTTYPE=image/jpeg:https://www.maddhatterpro.com/wp-content/uploads/2026/02/The-V-Spot-Glendale.jpg
END:VEVENT
BEGIN:VEVENT
DTSTART;TZID=UTC:20281122T200000
DTEND;TZID=UTC:20281122T233000
DTSTAMP:20260424T075452
CREATED:20260206T145935Z
LAST-MODIFIED:20260206T145935Z
UID:10025775-1858536000-1858548600@www.maddhatterpro.com
SUMMARY:The V Spot
DESCRIPTION:Downtown Glendale’s newest night life! The V Spot joining MaddHatter Productions in karaoke! KJ Amygdala in the house making sure you have a blast. Come out to see us and sing the night away!
URL:https://www.maddhatterpro.com/event/the-v-spot/2028-11-22/
LOCATION:The V Spot\, 5601 W Glendale Ave\, Glendale\, AZ\, 85301\, United States
ATTACH;FMTTYPE=image/jpeg:https://www.maddhatterpro.com/wp-content/uploads/2026/02/The-V-Spot-Glendale.jpg
END:VEVENT
BEGIN:VEVENT
DTSTART;TZID=UTC:20281129T200000
DTEND;TZID=UTC:20281129T233000
DTSTAMP:20260424T075452
CREATED:20260206T145935Z
LAST-MODIFIED:20260206T145935Z
UID:10025776-1859140800-1859153400@www.maddhatterpro.com
SUMMARY:The V Spot
DESCRIPTION:Downtown Glendale’s newest night life! The V Spot joining MaddHatter Productions in karaoke! KJ Amygdala in the house making sure you have a blast. Come out to see us and sing the night away!
URL:https://www.maddhatterpro.com/event/the-v-spot/2028-11-29/
LOCATION:The V Spot\, 5601 W Glendale Ave\, Glendale\, AZ\, 85301\, United States
ATTACH;FMTTYPE=image/jpeg:https://www.maddhatterpro.com/wp-content/uploads/2026/02/The-V-Spot-Glendale.jpg
END:VEVENT
BEGIN:VEVENT
DTSTART;TZID=UTC:20281206T200000
DTEND;TZID=UTC:20281206T233000
DTSTAMP:20260424T075452
CREATED:20260206T145935Z
LAST-MODIFIED:20260206T145935Z
UID:10025777-1859745600-1859758200@www.maddhatterpro.com
SUMMARY:The V Spot
DESCRIPTION:Downtown Glendale’s newest night life! The V Spot joining MaddHatter Productions in karaoke! KJ Amygdala in the house making sure you have a blast. Come out to see us and sing the night away!
URL:https://www.maddhatterpro.com/event/the-v-spot/2028-12-06/
LOCATION:The V Spot\, 5601 W Glendale Ave\, Glendale\, AZ\, 85301\, United States
ATTACH;FMTTYPE=image/jpeg:https://www.maddhatterpro.com/wp-content/uploads/2026/02/The-V-Spot-Glendale.jpg
END:VEVENT
BEGIN:VEVENT
DTSTART;TZID=UTC:20281213T200000
DTEND;TZID=UTC:20281213T233000
DTSTAMP:20260424T075452
CREATED:20260206T145935Z
LAST-MODIFIED:20260206T145935Z
UID:10025778-1860350400-1860363000@www.maddhatterpro.com
SUMMARY:The V Spot
DESCRIPTION:Downtown Glendale’s newest night life! The V Spot joining MaddHatter Productions in karaoke! KJ Amygdala in the house making sure you have a blast. Come out to see us and sing the night away!
URL:https://www.maddhatterpro.com/event/the-v-spot/2028-12-13/
LOCATION:The V Spot\, 5601 W Glendale Ave\, Glendale\, AZ\, 85301\, United States
ATTACH;FMTTYPE=image/jpeg:https://www.maddhatterpro.com/wp-content/uploads/2026/02/The-V-Spot-Glendale.jpg
END:VEVENT
BEGIN:VEVENT
DTSTART;TZID=UTC:20281220T200000
DTEND;TZID=UTC:20281220T233000
DTSTAMP:20260424T075452
CREATED:20260206T145935Z
LAST-MODIFIED:20260206T145935Z
UID:10025779-1860955200-1860967800@www.maddhatterpro.com
SUMMARY:The V Spot
DESCRIPTION:Downtown Glendale’s newest night life! The V Spot joining MaddHatter Productions in karaoke! KJ Amygdala in the house making sure you have a blast. Come out to see us and sing the night away!
URL:https://www.maddhatterpro.com/event/the-v-spot/2028-12-20/
LOCATION:The V Spot\, 5601 W Glendale Ave\, Glendale\, AZ\, 85301\, United States
ATTACH;FMTTYPE=image/jpeg:https://www.maddhatterpro.com/wp-content/uploads/2026/02/The-V-Spot-Glendale.jpg
END:VEVENT
BEGIN:VEVENT
DTSTART;TZID=UTC:20281227T200000
DTEND;TZID=UTC:20281227T233000
DTSTAMP:20260424T075452
CREATED:20260206T145935Z
LAST-MODIFIED:20260206T145935Z
UID:10025780-1861560000-1861572600@www.maddhatterpro.com
SUMMARY:The V Spot
DESCRIPTION:Downtown Glendale’s newest night life! The V Spot joining MaddHatter Productions in karaoke! KJ Amygdala in the house making sure you have a blast. Come out to see us and sing the night away!
URL:https://www.maddhatterpro.com/event/the-v-spot/2028-12-27/
LOCATION:The V Spot\, 5601 W Glendale Ave\, Glendale\, AZ\, 85301\, United States
ATTACH;FMTTYPE=image/jpeg:https://www.maddhatterpro.com/wp-content/uploads/2026/02/The-V-Spot-Glendale.jpg
END:VEVENT
BEGIN:VEVENT
DTSTART;TZID=UTC:20290103T200000
DTEND;TZID=UTC:20290103T233000
DTSTAMP:20260424T075452
CREATED:20260206T145935Z
LAST-MODIFIED:20260206T145935Z
UID:10025781-1862164800-1862177400@www.maddhatterpro.com
SUMMARY:The V Spot
DESCRIPTION:Downtown Glendale’s newest night life! The V Spot joining MaddHatter Productions in karaoke! KJ Amygdala in the house making sure you have a blast. Come out to see us and sing the night away!
URL:https://www.maddhatterpro.com/event/the-v-spot/2029-01-03/
LOCATION:The V Spot\, 5601 W Glendale Ave\, Glendale\, AZ\, 85301\, United States
ATTACH;FMTTYPE=image/jpeg:https://www.maddhatterpro.com/wp-content/uploads/2026/02/The-V-Spot-Glendale.jpg
END:VEVENT
BEGIN:VEVENT
DTSTART;TZID=UTC:20290110T200000
DTEND;TZID=UTC:20290110T233000
DTSTAMP:20260424T075452
CREATED:20260206T145935Z
LAST-MODIFIED:20260206T145935Z
UID:10025782-1862769600-1862782200@www.maddhatterpro.com
SUMMARY:The V Spot
DESCRIPTION:Downtown Glendale’s newest night life! The V Spot joining MaddHatter Productions in karaoke! KJ Amygdala in the house making sure you have a blast. Come out to see us and sing the night away!
URL:https://www.maddhatterpro.com/event/the-v-spot/2029-01-10/
LOCATION:The V Spot\, 5601 W Glendale Ave\, Glendale\, AZ\, 85301\, United States
ATTACH;FMTTYPE=image/jpeg:https://www.maddhatterpro.com/wp-content/uploads/2026/02/The-V-Spot-Glendale.jpg
END:VEVENT
BEGIN:VEVENT
DTSTART;TZID=UTC:20290117T200000
DTEND;TZID=UTC:20290117T233000
DTSTAMP:20260424T075452
CREATED:20260206T145935Z
LAST-MODIFIED:20260206T145935Z
UID:10025783-1863374400-1863387000@www.maddhatterpro.com
SUMMARY:The V Spot
DESCRIPTION:Downtown Glendale’s newest night life! The V Spot joining MaddHatter Productions in karaoke! KJ Amygdala in the house making sure you have a blast. Come out to see us and sing the night away!
URL:https://www.maddhatterpro.com/event/the-v-spot/2029-01-17/
LOCATION:The V Spot\, 5601 W Glendale Ave\, Glendale\, AZ\, 85301\, United States
ATTACH;FMTTYPE=image/jpeg:https://www.maddhatterpro.com/wp-content/uploads/2026/02/The-V-Spot-Glendale.jpg
END:VEVENT
BEGIN:VEVENT
DTSTART;TZID=UTC:20290124T200000
DTEND;TZID=UTC:20290124T233000
DTSTAMP:20260424T075452
CREATED:20260206T145935Z
LAST-MODIFIED:20260206T145935Z
UID:10025784-1863979200-1863991800@www.maddhatterpro.com
SUMMARY:The V Spot
DESCRIPTION:Downtown Glendale’s newest night life! The V Spot joining MaddHatter Productions in karaoke! KJ Amygdala in the house making sure you have a blast. Come out to see us and sing the night away!
URL:https://www.maddhatterpro.com/event/the-v-spot/2029-01-24/
LOCATION:The V Spot\, 5601 W Glendale Ave\, Glendale\, AZ\, 85301\, United States
ATTACH;FMTTYPE=image/jpeg:https://www.maddhatterpro.com/wp-content/uploads/2026/02/The-V-Spot-Glendale.jpg
END:VEVENT
BEGIN:VEVENT
DTSTART;TZID=UTC:20290131T200000
DTEND;TZID=UTC:20290131T233000
DTSTAMP:20260424T075452
CREATED:20260206T145935Z
LAST-MODIFIED:20260206T145935Z
UID:10025785-1864584000-1864596600@www.maddhatterpro.com
SUMMARY:The V Spot
DESCRIPTION:Downtown Glendale’s newest night life! The V Spot joining MaddHatter Productions in karaoke! KJ Amygdala in the house making sure you have a blast. Come out to see us and sing the night away!
URL:https://www.maddhatterpro.com/event/the-v-spot/2029-01-31/
LOCATION:The V Spot\, 5601 W Glendale Ave\, Glendale\, AZ\, 85301\, United States
ATTACH;FMTTYPE=image/jpeg:https://www.maddhatterpro.com/wp-content/uploads/2026/02/The-V-Spot-Glendale.jpg
END:VEVENT
BEGIN:VEVENT
DTSTART;TZID=UTC:20290207T200000
DTEND;TZID=UTC:20290207T233000
DTSTAMP:20260424T075452
CREATED:20260206T145935Z
LAST-MODIFIED:20260206T145935Z
UID:10025786-1865188800-1865201400@www.maddhatterpro.com
SUMMARY:The V Spot
DESCRIPTION:Downtown Glendale’s newest night life! The V Spot joining MaddHatter Productions in karaoke! KJ Amygdala in the house making sure you have a blast. Come out to see us and sing the night away!
URL:https://www.maddhatterpro.com/event/the-v-spot/2029-02-07/
LOCATION:The V Spot\, 5601 W Glendale Ave\, Glendale\, AZ\, 85301\, United States
ATTACH;FMTTYPE=image/jpeg:https://www.maddhatterpro.com/wp-content/uploads/2026/02/The-V-Spot-Glendale.jpg
END:VEVENT
BEGIN:VEVENT
DTSTART;TZID=UTC:20290214T200000
DTEND;TZID=UTC:20290214T233000
DTSTAMP:20260424T075452
CREATED:20260206T145935Z
LAST-MODIFIED:20260206T145935Z
UID:10025787-1865793600-1865806200@www.maddhatterpro.com
SUMMARY:The V Spot
DESCRIPTION:Downtown Glendale’s newest night life! The V Spot joining MaddHatter Productions in karaoke! KJ Amygdala in the house making sure you have a blast. Come out to see us and sing the night away!
URL:https://www.maddhatterpro.com/event/the-v-spot/2029-02-14/
LOCATION:The V Spot\, 5601 W Glendale Ave\, Glendale\, AZ\, 85301\, United States
ATTACH;FMTTYPE=image/jpeg:https://www.maddhatterpro.com/wp-content/uploads/2026/02/The-V-Spot-Glendale.jpg
END:VEVENT
BEGIN:VEVENT
DTSTART;TZID=UTC:20290221T200000
DTEND;TZID=UTC:20290221T233000
DTSTAMP:20260424T075452
CREATED:20260206T145935Z
LAST-MODIFIED:20260206T145935Z
UID:10025788-1866398400-1866411000@www.maddhatterpro.com
SUMMARY:The V Spot
DESCRIPTION:Downtown Glendale’s newest night life! The V Spot joining MaddHatter Productions in karaoke! KJ Amygdala in the house making sure you have a blast. Come out to see us and sing the night away!
URL:https://www.maddhatterpro.com/event/the-v-spot/2029-02-21/
LOCATION:The V Spot\, 5601 W Glendale Ave\, Glendale\, AZ\, 85301\, United States
ATTACH;FMTTYPE=image/jpeg:https://www.maddhatterpro.com/wp-content/uploads/2026/02/The-V-Spot-Glendale.jpg
END:VEVENT
BEGIN:VEVENT
DTSTART;TZID=UTC:20290228T200000
DTEND;TZID=UTC:20290228T233000
DTSTAMP:20260424T075452
CREATED:20260206T145935Z
LAST-MODIFIED:20260206T145935Z
UID:10025789-1867003200-1867015800@www.maddhatterpro.com
SUMMARY:The V Spot
DESCRIPTION:Downtown Glendale’s newest night life! The V Spot joining MaddHatter Productions in karaoke! KJ Amygdala in the house making sure you have a blast. Come out to see us and sing the night away!
URL:https://www.maddhatterpro.com/event/the-v-spot/2029-02-28/
LOCATION:The V Spot\, 5601 W Glendale Ave\, Glendale\, AZ\, 85301\, United States
ATTACH;FMTTYPE=image/jpeg:https://www.maddhatterpro.com/wp-content/uploads/2026/02/The-V-Spot-Glendale.jpg
END:VEVENT
BEGIN:VEVENT
DTSTART;TZID=UTC:20290307T200000
DTEND;TZID=UTC:20290307T233000
DTSTAMP:20260424T075452
CREATED:20260206T145935Z
LAST-MODIFIED:20260206T145935Z
UID:10025790-1867608000-1867620600@www.maddhatterpro.com
SUMMARY:The V Spot
DESCRIPTION:Downtown Glendale’s newest night life! The V Spot joining MaddHatter Productions in karaoke! KJ Amygdala in the house making sure you have a blast. Come out to see us and sing the night away!
URL:https://www.maddhatterpro.com/event/the-v-spot/2029-03-07/
LOCATION:The V Spot\, 5601 W Glendale Ave\, Glendale\, AZ\, 85301\, United States
ATTACH;FMTTYPE=image/jpeg:https://www.maddhatterpro.com/wp-content/uploads/2026/02/The-V-Spot-Glendale.jpg
END:VEVENT
END:VCALENDAR