BEGIN:VCALENDAR
VERSION:2.0
PRODID:-//MaddHatterPro.com - ECPv6.15.20//NONSGML v1.0//EN
CALSCALE:GREGORIAN
METHOD:PUBLISH
X-ORIGINAL-URL:https://www.maddhatterpro.com
X-WR-CALDESC:Events for MaddHatterPro.com
REFRESH-INTERVAL;VALUE=DURATION:PT1H
X-Robots-Tag:noindex
X-PUBLISHED-TTL:PT1H
BEGIN:VTIMEZONE
TZID:UTC
BEGIN:STANDARD
TZOFFSETFROM:+0000
TZOFFSETTO:+0000
TZNAME:UTC
DTSTART:20250101T000000
END:STANDARD
END:VTIMEZONE
BEGIN:VEVENT
DTSTART;TZID=UTC:20260422T200000
DTEND;TZID=UTC:20260422T233000
DTSTAMP:20260423T190004
CREATED:20260206T145935Z
LAST-MODIFIED:20260206T145935Z
UID:10025640-1776888000-1776900600@www.maddhatterpro.com
SUMMARY:The V Spot
DESCRIPTION:Downtown Glendale’s newest night life! The V Spot joining MaddHatter Productions in karaoke! KJ Amygdala in the house making sure you have a blast. Come out to see us and sing the night away!
URL:https://www.maddhatterpro.com/event/the-v-spot/2026-04-22/
LOCATION:The V Spot\, 5601 W Glendale Ave\, Glendale\, AZ\, 85301\, United States
ATTACH;FMTTYPE=image/jpeg:https://www.maddhatterpro.com/wp-content/uploads/2026/02/The-V-Spot-Glendale.jpg
END:VEVENT
BEGIN:VEVENT
DTSTART;TZID=UTC:20260415T200000
DTEND;TZID=UTC:20260415T233000
DTSTAMP:20260423T190004
CREATED:20260206T145935Z
LAST-MODIFIED:20260206T145935Z
UID:10025639-1776283200-1776295800@www.maddhatterpro.com
SUMMARY:The V Spot
DESCRIPTION:Downtown Glendale’s newest night life! The V Spot joining MaddHatter Productions in karaoke! KJ Amygdala in the house making sure you have a blast. Come out to see us and sing the night away!
URL:https://www.maddhatterpro.com/event/the-v-spot/2026-04-15/
LOCATION:The V Spot\, 5601 W Glendale Ave\, Glendale\, AZ\, 85301\, United States
ATTACH;FMTTYPE=image/jpeg:https://www.maddhatterpro.com/wp-content/uploads/2026/02/The-V-Spot-Glendale.jpg
END:VEVENT
BEGIN:VEVENT
DTSTART;TZID=UTC:20260408T200000
DTEND;TZID=UTC:20260408T233000
DTSTAMP:20260423T190005
CREATED:20260206T145935Z
LAST-MODIFIED:20260206T145935Z
UID:10025638-1775678400-1775691000@www.maddhatterpro.com
SUMMARY:The V Spot
DESCRIPTION:Downtown Glendale’s newest night life! The V Spot joining MaddHatter Productions in karaoke! KJ Amygdala in the house making sure you have a blast. Come out to see us and sing the night away!
URL:https://www.maddhatterpro.com/event/the-v-spot/2026-04-08/
LOCATION:The V Spot\, 5601 W Glendale Ave\, Glendale\, AZ\, 85301\, United States
ATTACH;FMTTYPE=image/jpeg:https://www.maddhatterpro.com/wp-content/uploads/2026/02/The-V-Spot-Glendale.jpg
END:VEVENT
BEGIN:VEVENT
DTSTART;TZID=UTC:20260401T200000
DTEND;TZID=UTC:20260401T233000
DTSTAMP:20260423T190005
CREATED:20260206T145935Z
LAST-MODIFIED:20260206T145935Z
UID:10025637-1775073600-1775086200@www.maddhatterpro.com
SUMMARY:The V Spot
DESCRIPTION:Downtown Glendale’s newest night life! The V Spot joining MaddHatter Productions in karaoke! KJ Amygdala in the house making sure you have a blast. Come out to see us and sing the night away!
URL:https://www.maddhatterpro.com/event/the-v-spot/2026-04-01/
LOCATION:The V Spot\, 5601 W Glendale Ave\, Glendale\, AZ\, 85301\, United States
ATTACH;FMTTYPE=image/jpeg:https://www.maddhatterpro.com/wp-content/uploads/2026/02/The-V-Spot-Glendale.jpg
END:VEVENT
BEGIN:VEVENT
DTSTART;TZID=UTC:20260325T200000
DTEND;TZID=UTC:20260325T233000
DTSTAMP:20260423T190005
CREATED:20260206T145935Z
LAST-MODIFIED:20260206T145935Z
UID:10025636-1774468800-1774481400@www.maddhatterpro.com
SUMMARY:The V Spot
DESCRIPTION:Downtown Glendale’s newest night life! The V Spot joining MaddHatter Productions in karaoke! KJ Amygdala in the house making sure you have a blast. Come out to see us and sing the night away!
URL:https://www.maddhatterpro.com/event/the-v-spot/2026-03-25/
LOCATION:The V Spot\, 5601 W Glendale Ave\, Glendale\, AZ\, 85301\, United States
ATTACH;FMTTYPE=image/jpeg:https://www.maddhatterpro.com/wp-content/uploads/2026/02/The-V-Spot-Glendale.jpg
END:VEVENT
BEGIN:VEVENT
DTSTART;TZID=UTC:20260318T200000
DTEND;TZID=UTC:20260318T233000
DTSTAMP:20260423T190005
CREATED:20260206T145935Z
LAST-MODIFIED:20260206T145935Z
UID:10025635-1773864000-1773876600@www.maddhatterpro.com
SUMMARY:The V Spot
DESCRIPTION:Downtown Glendale’s newest night life! The V Spot joining MaddHatter Productions in karaoke! KJ Amygdala in the house making sure you have a blast. Come out to see us and sing the night away!
URL:https://www.maddhatterpro.com/event/the-v-spot/2026-03-18/
LOCATION:The V Spot\, 5601 W Glendale Ave\, Glendale\, AZ\, 85301\, United States
ATTACH;FMTTYPE=image/jpeg:https://www.maddhatterpro.com/wp-content/uploads/2026/02/The-V-Spot-Glendale.jpg
END:VEVENT
BEGIN:VEVENT
DTSTART;TZID=UTC:20260311T200000
DTEND;TZID=UTC:20260311T233000
DTSTAMP:20260423T190005
CREATED:20260206T145935Z
LAST-MODIFIED:20260206T145935Z
UID:10025634-1773259200-1773271800@www.maddhatterpro.com
SUMMARY:The V Spot
DESCRIPTION:Downtown Glendale’s newest night life! The V Spot joining MaddHatter Productions in karaoke! KJ Amygdala in the house making sure you have a blast. Come out to see us and sing the night away!
URL:https://www.maddhatterpro.com/event/the-v-spot/2026-03-11/
LOCATION:The V Spot\, 5601 W Glendale Ave\, Glendale\, AZ\, 85301\, United States
ATTACH;FMTTYPE=image/jpeg:https://www.maddhatterpro.com/wp-content/uploads/2026/02/The-V-Spot-Glendale.jpg
END:VEVENT
BEGIN:VEVENT
DTSTART;TZID=UTC:20260304T200000
DTEND;TZID=UTC:20260304T233000
DTSTAMP:20260423T190005
CREATED:20260206T145935Z
LAST-MODIFIED:20260206T145935Z
UID:10025633-1772654400-1772667000@www.maddhatterpro.com
SUMMARY:The V Spot
DESCRIPTION:Downtown Glendale’s newest night life! The V Spot joining MaddHatter Productions in karaoke! KJ Amygdala in the house making sure you have a blast. Come out to see us and sing the night away!
URL:https://www.maddhatterpro.com/event/the-v-spot/2026-03-04/
LOCATION:The V Spot\, 5601 W Glendale Ave\, Glendale\, AZ\, 85301\, United States
ATTACH;FMTTYPE=image/jpeg:https://www.maddhatterpro.com/wp-content/uploads/2026/02/The-V-Spot-Glendale.jpg
END:VEVENT
BEGIN:VEVENT
DTSTART;TZID=UTC:20260225T200000
DTEND;TZID=UTC:20260225T233000
DTSTAMP:20260423T190005
CREATED:20260206T145935Z
LAST-MODIFIED:20260206T145935Z
UID:10025632-1772049600-1772062200@www.maddhatterpro.com
SUMMARY:The V Spot
DESCRIPTION:Downtown Glendale’s newest night life! The V Spot joining MaddHatter Productions in karaoke! KJ Amygdala in the house making sure you have a blast. Come out to see us and sing the night away!
URL:https://www.maddhatterpro.com/event/the-v-spot/2026-02-25/
LOCATION:The V Spot\, 5601 W Glendale Ave\, Glendale\, AZ\, 85301\, United States
ATTACH;FMTTYPE=image/jpeg:https://www.maddhatterpro.com/wp-content/uploads/2026/02/The-V-Spot-Glendale.jpg
END:VEVENT
BEGIN:VEVENT
DTSTART;TZID=UTC:20260218T200000
DTEND;TZID=UTC:20260218T233000
DTSTAMP:20260423T190005
CREATED:20260206T145935Z
LAST-MODIFIED:20260206T145935Z
UID:10025631-1771444800-1771457400@www.maddhatterpro.com
SUMMARY:The V Spot
DESCRIPTION:Downtown Glendale’s newest night life! The V Spot joining MaddHatter Productions in karaoke! KJ Amygdala in the house making sure you have a blast. Come out to see us and sing the night away!
URL:https://www.maddhatterpro.com/event/the-v-spot/2026-02-18/
LOCATION:The V Spot\, 5601 W Glendale Ave\, Glendale\, AZ\, 85301\, United States
ATTACH;FMTTYPE=image/jpeg:https://www.maddhatterpro.com/wp-content/uploads/2026/02/The-V-Spot-Glendale.jpg
END:VEVENT
BEGIN:VEVENT
DTSTART;TZID=UTC:20260211T200000
DTEND;TZID=UTC:20260211T233000
DTSTAMP:20260423T190005
CREATED:20260206T145935Z
LAST-MODIFIED:20260206T145935Z
UID:10025630-1770840000-1770852600@www.maddhatterpro.com
SUMMARY:The V Spot
DESCRIPTION:Downtown Glendale’s newest night life! The V Spot joining MaddHatter Productions in karaoke! KJ Amygdala in the house making sure you have a blast. Come out to see us and sing the night away!
URL:https://www.maddhatterpro.com/event/the-v-spot/2026-02-11/
LOCATION:The V Spot\, 5601 W Glendale Ave\, Glendale\, AZ\, 85301\, United States
ATTACH;FMTTYPE=image/jpeg:https://www.maddhatterpro.com/wp-content/uploads/2026/02/The-V-Spot-Glendale.jpg
END:VEVENT
BEGIN:VEVENT
DTSTART;TZID=UTC:20260204T200000
DTEND;TZID=UTC:20260204T233000
DTSTAMP:20260423T190005
CREATED:20260206T145935Z
LAST-MODIFIED:20260206T145935Z
UID:10025629-1770235200-1770247800@www.maddhatterpro.com
SUMMARY:The V Spot
DESCRIPTION:Downtown Glendale’s newest night life! The V Spot joining MaddHatter Productions in karaoke! KJ Amygdala in the house making sure you have a blast. Come out to see us and sing the night away!
URL:https://www.maddhatterpro.com/event/the-v-spot/2026-02-04/
LOCATION:The V Spot\, 5601 W Glendale Ave\, Glendale\, AZ\, 85301\, United States
ATTACH;FMTTYPE=image/jpeg:https://www.maddhatterpro.com/wp-content/uploads/2026/02/The-V-Spot-Glendale.jpg
END:VEVENT
BEGIN:VEVENT
DTSTART;TZID=UTC:20260128T200000
DTEND;TZID=UTC:20260128T233000
DTSTAMP:20260423T190005
CREATED:20260206T145935Z
LAST-MODIFIED:20260206T145935Z
UID:10025628-1769630400-1769643000@www.maddhatterpro.com
SUMMARY:The V Spot
DESCRIPTION:Downtown Glendale’s newest night life! The V Spot joining MaddHatter Productions in karaoke! KJ Amygdala in the house making sure you have a blast. Come out to see us and sing the night away!
URL:https://www.maddhatterpro.com/event/the-v-spot/2026-01-28/
LOCATION:The V Spot\, 5601 W Glendale Ave\, Glendale\, AZ\, 85301\, United States
ATTACH;FMTTYPE=image/jpeg:https://www.maddhatterpro.com/wp-content/uploads/2026/02/The-V-Spot-Glendale.jpg
END:VEVENT
END:VCALENDAR