BEGIN:VCALENDAR
VERSION:2.0
PRODID:-//MaddHatterPro.com - ECPv6.15.20//NONSGML v1.0//EN
CALSCALE:GREGORIAN
METHOD:PUBLISH
X-WR-CALNAME:MaddHatterPro.com
X-ORIGINAL-URL:https://www.maddhatterpro.com
X-WR-CALDESC:Events for MaddHatterPro.com
REFRESH-INTERVAL;VALUE=DURATION:PT1H
X-Robots-Tag:noindex
X-PUBLISHED-TTL:PT1H
BEGIN:VTIMEZONE
TZID:UTC
BEGIN:STANDARD
TZOFFSETFROM:+0000
TZOFFSETTO:+0000
TZNAME:UTC
DTSTART:20260101T000000
END:STANDARD
END:VTIMEZONE
BEGIN:VEVENT
DTSTART;TZID=UTC:20270105T200000
DTEND;TZID=UTC:20270105T200000
DTSTAMP:20260423T220245
CREATED:20250703T234609Z
LAST-MODIFIED:20260206T143724Z
UID:10021014-1799179200-1799179200@www.maddhatterpro.com
SUMMARY:Spokes on Southern Karaoke
DESCRIPTION:Great food\, great community oriented staff\, and stars like you make this  show a blast for the lovely KJ Wilde! Come sing the evening away 8pm-midnight. \n1470 E Southern Ave\, Tempe\, AZ 85282 \n+14803079920
URL:https://www.maddhatterpro.com/event/spokes-on-southern-karaoke/2027-01-05/
LOCATION:Spokes on Southern\, 1470 E Southern Ave\, Tempe\, AZ\, 85282\, United States
CATEGORIES:Karaoke,KJ Wilde
ATTACH;FMTTYPE=image/jpeg:https://www.maddhatterpro.com/wp-content/uploads/2026/02/spokes-tempe.jpg
END:VEVENT
BEGIN:VEVENT
DTSTART;TZID=UTC:20270112T200000
DTEND;TZID=UTC:20270112T200000
DTSTAMP:20260423T220245
CREATED:20250703T234609Z
LAST-MODIFIED:20260206T143724Z
UID:10021015-1799784000-1799784000@www.maddhatterpro.com
SUMMARY:Spokes on Southern Karaoke
DESCRIPTION:Great food\, great community oriented staff\, and stars like you make this  show a blast for the lovely KJ Wilde! Come sing the evening away 8pm-midnight. \n1470 E Southern Ave\, Tempe\, AZ 85282 \n+14803079920
URL:https://www.maddhatterpro.com/event/spokes-on-southern-karaoke/2027-01-12/
LOCATION:Spokes on Southern\, 1470 E Southern Ave\, Tempe\, AZ\, 85282\, United States
CATEGORIES:Karaoke,KJ Wilde
ATTACH;FMTTYPE=image/jpeg:https://www.maddhatterpro.com/wp-content/uploads/2026/02/spokes-tempe.jpg
END:VEVENT
BEGIN:VEVENT
DTSTART;TZID=UTC:20270119T200000
DTEND;TZID=UTC:20270119T200000
DTSTAMP:20260423T220245
CREATED:20250703T234609Z
LAST-MODIFIED:20260206T143724Z
UID:10021016-1800388800-1800388800@www.maddhatterpro.com
SUMMARY:Spokes on Southern Karaoke
DESCRIPTION:Great food\, great community oriented staff\, and stars like you make this  show a blast for the lovely KJ Wilde! Come sing the evening away 8pm-midnight. \n1470 E Southern Ave\, Tempe\, AZ 85282 \n+14803079920
URL:https://www.maddhatterpro.com/event/spokes-on-southern-karaoke/2027-01-19/
LOCATION:Spokes on Southern\, 1470 E Southern Ave\, Tempe\, AZ\, 85282\, United States
CATEGORIES:Karaoke,KJ Wilde
ATTACH;FMTTYPE=image/jpeg:https://www.maddhatterpro.com/wp-content/uploads/2026/02/spokes-tempe.jpg
END:VEVENT
BEGIN:VEVENT
DTSTART;TZID=UTC:20270126T200000
DTEND;TZID=UTC:20270126T200000
DTSTAMP:20260423T220245
CREATED:20250703T234609Z
LAST-MODIFIED:20260206T143724Z
UID:10021017-1800993600-1800993600@www.maddhatterpro.com
SUMMARY:Spokes on Southern Karaoke
DESCRIPTION:Great food\, great community oriented staff\, and stars like you make this  show a blast for the lovely KJ Wilde! Come sing the evening away 8pm-midnight. \n1470 E Southern Ave\, Tempe\, AZ 85282 \n+14803079920
URL:https://www.maddhatterpro.com/event/spokes-on-southern-karaoke/2027-01-26/
LOCATION:Spokes on Southern\, 1470 E Southern Ave\, Tempe\, AZ\, 85282\, United States
CATEGORIES:Karaoke,KJ Wilde
ATTACH;FMTTYPE=image/jpeg:https://www.maddhatterpro.com/wp-content/uploads/2026/02/spokes-tempe.jpg
END:VEVENT
BEGIN:VEVENT
DTSTART;TZID=UTC:20270202T200000
DTEND;TZID=UTC:20270202T200000
DTSTAMP:20260423T220245
CREATED:20250703T234609Z
LAST-MODIFIED:20260206T143724Z
UID:10021018-1801598400-1801598400@www.maddhatterpro.com
SUMMARY:Spokes on Southern Karaoke
DESCRIPTION:Great food\, great community oriented staff\, and stars like you make this  show a blast for the lovely KJ Wilde! Come sing the evening away 8pm-midnight. \n1470 E Southern Ave\, Tempe\, AZ 85282 \n+14803079920
URL:https://www.maddhatterpro.com/event/spokes-on-southern-karaoke/2027-02-02/
LOCATION:Spokes on Southern\, 1470 E Southern Ave\, Tempe\, AZ\, 85282\, United States
CATEGORIES:Karaoke,KJ Wilde
ATTACH;FMTTYPE=image/jpeg:https://www.maddhatterpro.com/wp-content/uploads/2026/02/spokes-tempe.jpg
END:VEVENT
BEGIN:VEVENT
DTSTART;TZID=UTC:20270209T200000
DTEND;TZID=UTC:20270209T200000
DTSTAMP:20260423T220245
CREATED:20250703T234609Z
LAST-MODIFIED:20260206T143724Z
UID:10021019-1802203200-1802203200@www.maddhatterpro.com
SUMMARY:Spokes on Southern Karaoke
DESCRIPTION:Great food\, great community oriented staff\, and stars like you make this  show a blast for the lovely KJ Wilde! Come sing the evening away 8pm-midnight. \n1470 E Southern Ave\, Tempe\, AZ 85282 \n+14803079920
URL:https://www.maddhatterpro.com/event/spokes-on-southern-karaoke/2027-02-09/
LOCATION:Spokes on Southern\, 1470 E Southern Ave\, Tempe\, AZ\, 85282\, United States
CATEGORIES:Karaoke,KJ Wilde
ATTACH;FMTTYPE=image/jpeg:https://www.maddhatterpro.com/wp-content/uploads/2026/02/spokes-tempe.jpg
END:VEVENT
BEGIN:VEVENT
DTSTART;TZID=UTC:20270216T200000
DTEND;TZID=UTC:20270216T200000
DTSTAMP:20260423T220245
CREATED:20250703T234609Z
LAST-MODIFIED:20260206T143724Z
UID:10021020-1802808000-1802808000@www.maddhatterpro.com
SUMMARY:Spokes on Southern Karaoke
DESCRIPTION:Great food\, great community oriented staff\, and stars like you make this  show a blast for the lovely KJ Wilde! Come sing the evening away 8pm-midnight. \n1470 E Southern Ave\, Tempe\, AZ 85282 \n+14803079920
URL:https://www.maddhatterpro.com/event/spokes-on-southern-karaoke/2027-02-16/
LOCATION:Spokes on Southern\, 1470 E Southern Ave\, Tempe\, AZ\, 85282\, United States
CATEGORIES:Karaoke,KJ Wilde
ATTACH;FMTTYPE=image/jpeg:https://www.maddhatterpro.com/wp-content/uploads/2026/02/spokes-tempe.jpg
END:VEVENT
BEGIN:VEVENT
DTSTART;TZID=UTC:20270223T200000
DTEND;TZID=UTC:20270223T200000
DTSTAMP:20260423T220245
CREATED:20250703T234609Z
LAST-MODIFIED:20260206T143724Z
UID:10021021-1803412800-1803412800@www.maddhatterpro.com
SUMMARY:Spokes on Southern Karaoke
DESCRIPTION:Great food\, great community oriented staff\, and stars like you make this  show a blast for the lovely KJ Wilde! Come sing the evening away 8pm-midnight. \n1470 E Southern Ave\, Tempe\, AZ 85282 \n+14803079920
URL:https://www.maddhatterpro.com/event/spokes-on-southern-karaoke/2027-02-23/
LOCATION:Spokes on Southern\, 1470 E Southern Ave\, Tempe\, AZ\, 85282\, United States
CATEGORIES:Karaoke,KJ Wilde
ATTACH;FMTTYPE=image/jpeg:https://www.maddhatterpro.com/wp-content/uploads/2026/02/spokes-tempe.jpg
END:VEVENT
BEGIN:VEVENT
DTSTART;TZID=UTC:20270302T200000
DTEND;TZID=UTC:20270302T200000
DTSTAMP:20260423T220245
CREATED:20250703T234609Z
LAST-MODIFIED:20260206T143724Z
UID:10021022-1804017600-1804017600@www.maddhatterpro.com
SUMMARY:Spokes on Southern Karaoke
DESCRIPTION:Great food\, great community oriented staff\, and stars like you make this  show a blast for the lovely KJ Wilde! Come sing the evening away 8pm-midnight. \n1470 E Southern Ave\, Tempe\, AZ 85282 \n+14803079920
URL:https://www.maddhatterpro.com/event/spokes-on-southern-karaoke/2027-03-02/
LOCATION:Spokes on Southern\, 1470 E Southern Ave\, Tempe\, AZ\, 85282\, United States
CATEGORIES:Karaoke,KJ Wilde
ATTACH;FMTTYPE=image/jpeg:https://www.maddhatterpro.com/wp-content/uploads/2026/02/spokes-tempe.jpg
END:VEVENT
BEGIN:VEVENT
DTSTART;TZID=UTC:20270309T200000
DTEND;TZID=UTC:20270309T200000
DTSTAMP:20260423T220245
CREATED:20250703T234609Z
LAST-MODIFIED:20260206T143724Z
UID:10021023-1804622400-1804622400@www.maddhatterpro.com
SUMMARY:Spokes on Southern Karaoke
DESCRIPTION:Great food\, great community oriented staff\, and stars like you make this  show a blast for the lovely KJ Wilde! Come sing the evening away 8pm-midnight. \n1470 E Southern Ave\, Tempe\, AZ 85282 \n+14803079920
URL:https://www.maddhatterpro.com/event/spokes-on-southern-karaoke/2027-03-09/
LOCATION:Spokes on Southern\, 1470 E Southern Ave\, Tempe\, AZ\, 85282\, United States
CATEGORIES:Karaoke,KJ Wilde
ATTACH;FMTTYPE=image/jpeg:https://www.maddhatterpro.com/wp-content/uploads/2026/02/spokes-tempe.jpg
END:VEVENT
BEGIN:VEVENT
DTSTART;TZID=UTC:20270316T200000
DTEND;TZID=UTC:20270316T200000
DTSTAMP:20260423T220245
CREATED:20250703T234609Z
LAST-MODIFIED:20260206T143724Z
UID:10021024-1805227200-1805227200@www.maddhatterpro.com
SUMMARY:Spokes on Southern Karaoke
DESCRIPTION:Great food\, great community oriented staff\, and stars like you make this  show a blast for the lovely KJ Wilde! Come sing the evening away 8pm-midnight. \n1470 E Southern Ave\, Tempe\, AZ 85282 \n+14803079920
URL:https://www.maddhatterpro.com/event/spokes-on-southern-karaoke/2027-03-16/
LOCATION:Spokes on Southern\, 1470 E Southern Ave\, Tempe\, AZ\, 85282\, United States
CATEGORIES:Karaoke,KJ Wilde
ATTACH;FMTTYPE=image/jpeg:https://www.maddhatterpro.com/wp-content/uploads/2026/02/spokes-tempe.jpg
END:VEVENT
BEGIN:VEVENT
DTSTART;TZID=UTC:20270323T200000
DTEND;TZID=UTC:20270323T200000
DTSTAMP:20260423T220245
CREATED:20250703T234609Z
LAST-MODIFIED:20260206T143724Z
UID:10021025-1805832000-1805832000@www.maddhatterpro.com
SUMMARY:Spokes on Southern Karaoke
DESCRIPTION:Great food\, great community oriented staff\, and stars like you make this  show a blast for the lovely KJ Wilde! Come sing the evening away 8pm-midnight. \n1470 E Southern Ave\, Tempe\, AZ 85282 \n+14803079920
URL:https://www.maddhatterpro.com/event/spokes-on-southern-karaoke/2027-03-23/
LOCATION:Spokes on Southern\, 1470 E Southern Ave\, Tempe\, AZ\, 85282\, United States
CATEGORIES:Karaoke,KJ Wilde
ATTACH;FMTTYPE=image/jpeg:https://www.maddhatterpro.com/wp-content/uploads/2026/02/spokes-tempe.jpg
END:VEVENT
BEGIN:VEVENT
DTSTART;TZID=UTC:20270330T200000
DTEND;TZID=UTC:20270330T200000
DTSTAMP:20260423T220245
CREATED:20250703T234609Z
LAST-MODIFIED:20260206T143724Z
UID:10021026-1806436800-1806436800@www.maddhatterpro.com
SUMMARY:Spokes on Southern Karaoke
DESCRIPTION:Great food\, great community oriented staff\, and stars like you make this  show a blast for the lovely KJ Wilde! Come sing the evening away 8pm-midnight. \n1470 E Southern Ave\, Tempe\, AZ 85282 \n+14803079920
URL:https://www.maddhatterpro.com/event/spokes-on-southern-karaoke/2027-03-30/
LOCATION:Spokes on Southern\, 1470 E Southern Ave\, Tempe\, AZ\, 85282\, United States
CATEGORIES:Karaoke,KJ Wilde
ATTACH;FMTTYPE=image/jpeg:https://www.maddhatterpro.com/wp-content/uploads/2026/02/spokes-tempe.jpg
END:VEVENT
BEGIN:VEVENT
DTSTART;TZID=UTC:20270406T200000
DTEND;TZID=UTC:20270406T200000
DTSTAMP:20260423T220245
CREATED:20250703T234609Z
LAST-MODIFIED:20260206T143724Z
UID:10021027-1807041600-1807041600@www.maddhatterpro.com
SUMMARY:Spokes on Southern Karaoke
DESCRIPTION:Great food\, great community oriented staff\, and stars like you make this  show a blast for the lovely KJ Wilde! Come sing the evening away 8pm-midnight. \n1470 E Southern Ave\, Tempe\, AZ 85282 \n+14803079920
URL:https://www.maddhatterpro.com/event/spokes-on-southern-karaoke/2027-04-06/
LOCATION:Spokes on Southern\, 1470 E Southern Ave\, Tempe\, AZ\, 85282\, United States
CATEGORIES:Karaoke,KJ Wilde
ATTACH;FMTTYPE=image/jpeg:https://www.maddhatterpro.com/wp-content/uploads/2026/02/spokes-tempe.jpg
END:VEVENT
BEGIN:VEVENT
DTSTART;TZID=UTC:20270413T200000
DTEND;TZID=UTC:20270413T200000
DTSTAMP:20260423T220245
CREATED:20250703T234609Z
LAST-MODIFIED:20260206T143724Z
UID:10021028-1807646400-1807646400@www.maddhatterpro.com
SUMMARY:Spokes on Southern Karaoke
DESCRIPTION:Great food\, great community oriented staff\, and stars like you make this  show a blast for the lovely KJ Wilde! Come sing the evening away 8pm-midnight. \n1470 E Southern Ave\, Tempe\, AZ 85282 \n+14803079920
URL:https://www.maddhatterpro.com/event/spokes-on-southern-karaoke/2027-04-13/
LOCATION:Spokes on Southern\, 1470 E Southern Ave\, Tempe\, AZ\, 85282\, United States
CATEGORIES:Karaoke,KJ Wilde
ATTACH;FMTTYPE=image/jpeg:https://www.maddhatterpro.com/wp-content/uploads/2026/02/spokes-tempe.jpg
END:VEVENT
BEGIN:VEVENT
DTSTART;TZID=UTC:20270420T200000
DTEND;TZID=UTC:20270420T200000
DTSTAMP:20260423T220245
CREATED:20250703T234609Z
LAST-MODIFIED:20260206T143724Z
UID:10021029-1808251200-1808251200@www.maddhatterpro.com
SUMMARY:Spokes on Southern Karaoke
DESCRIPTION:Great food\, great community oriented staff\, and stars like you make this  show a blast for the lovely KJ Wilde! Come sing the evening away 8pm-midnight. \n1470 E Southern Ave\, Tempe\, AZ 85282 \n+14803079920
URL:https://www.maddhatterpro.com/event/spokes-on-southern-karaoke/2027-04-20/
LOCATION:Spokes on Southern\, 1470 E Southern Ave\, Tempe\, AZ\, 85282\, United States
CATEGORIES:Karaoke,KJ Wilde
ATTACH;FMTTYPE=image/jpeg:https://www.maddhatterpro.com/wp-content/uploads/2026/02/spokes-tempe.jpg
END:VEVENT
BEGIN:VEVENT
DTSTART;TZID=UTC:20270427T200000
DTEND;TZID=UTC:20270427T200000
DTSTAMP:20260423T220245
CREATED:20250703T234609Z
LAST-MODIFIED:20260206T143724Z
UID:10021030-1808856000-1808856000@www.maddhatterpro.com
SUMMARY:Spokes on Southern Karaoke
DESCRIPTION:Great food\, great community oriented staff\, and stars like you make this  show a blast for the lovely KJ Wilde! Come sing the evening away 8pm-midnight. \n1470 E Southern Ave\, Tempe\, AZ 85282 \n+14803079920
URL:https://www.maddhatterpro.com/event/spokes-on-southern-karaoke/2027-04-27/
LOCATION:Spokes on Southern\, 1470 E Southern Ave\, Tempe\, AZ\, 85282\, United States
CATEGORIES:Karaoke,KJ Wilde
ATTACH;FMTTYPE=image/jpeg:https://www.maddhatterpro.com/wp-content/uploads/2026/02/spokes-tempe.jpg
END:VEVENT
BEGIN:VEVENT
DTSTART;TZID=UTC:20270504T200000
DTEND;TZID=UTC:20270504T200000
DTSTAMP:20260423T220245
CREATED:20250703T234609Z
LAST-MODIFIED:20260206T143724Z
UID:10021031-1809460800-1809460800@www.maddhatterpro.com
SUMMARY:Spokes on Southern Karaoke
DESCRIPTION:Great food\, great community oriented staff\, and stars like you make this  show a blast for the lovely KJ Wilde! Come sing the evening away 8pm-midnight. \n1470 E Southern Ave\, Tempe\, AZ 85282 \n+14803079920
URL:https://www.maddhatterpro.com/event/spokes-on-southern-karaoke/2027-05-04/
LOCATION:Spokes on Southern\, 1470 E Southern Ave\, Tempe\, AZ\, 85282\, United States
CATEGORIES:Karaoke,KJ Wilde
ATTACH;FMTTYPE=image/jpeg:https://www.maddhatterpro.com/wp-content/uploads/2026/02/spokes-tempe.jpg
END:VEVENT
BEGIN:VEVENT
DTSTART;TZID=UTC:20270511T200000
DTEND;TZID=UTC:20270511T200000
DTSTAMP:20260423T220245
CREATED:20250703T234609Z
LAST-MODIFIED:20260206T143724Z
UID:10021032-1810065600-1810065600@www.maddhatterpro.com
SUMMARY:Spokes on Southern Karaoke
DESCRIPTION:Great food\, great community oriented staff\, and stars like you make this  show a blast for the lovely KJ Wilde! Come sing the evening away 8pm-midnight. \n1470 E Southern Ave\, Tempe\, AZ 85282 \n+14803079920
URL:https://www.maddhatterpro.com/event/spokes-on-southern-karaoke/2027-05-11/
LOCATION:Spokes on Southern\, 1470 E Southern Ave\, Tempe\, AZ\, 85282\, United States
CATEGORIES:Karaoke,KJ Wilde
ATTACH;FMTTYPE=image/jpeg:https://www.maddhatterpro.com/wp-content/uploads/2026/02/spokes-tempe.jpg
END:VEVENT
BEGIN:VEVENT
DTSTART;TZID=UTC:20270518T200000
DTEND;TZID=UTC:20270518T200000
DTSTAMP:20260423T220245
CREATED:20250703T234609Z
LAST-MODIFIED:20260206T143724Z
UID:10021033-1810670400-1810670400@www.maddhatterpro.com
SUMMARY:Spokes on Southern Karaoke
DESCRIPTION:Great food\, great community oriented staff\, and stars like you make this  show a blast for the lovely KJ Wilde! Come sing the evening away 8pm-midnight. \n1470 E Southern Ave\, Tempe\, AZ 85282 \n+14803079920
URL:https://www.maddhatterpro.com/event/spokes-on-southern-karaoke/2027-05-18/
LOCATION:Spokes on Southern\, 1470 E Southern Ave\, Tempe\, AZ\, 85282\, United States
CATEGORIES:Karaoke,KJ Wilde
ATTACH;FMTTYPE=image/jpeg:https://www.maddhatterpro.com/wp-content/uploads/2026/02/spokes-tempe.jpg
END:VEVENT
BEGIN:VEVENT
DTSTART;TZID=UTC:20270525T200000
DTEND;TZID=UTC:20270525T200000
DTSTAMP:20260423T220245
CREATED:20250703T234609Z
LAST-MODIFIED:20260206T143724Z
UID:10021034-1811275200-1811275200@www.maddhatterpro.com
SUMMARY:Spokes on Southern Karaoke
DESCRIPTION:Great food\, great community oriented staff\, and stars like you make this  show a blast for the lovely KJ Wilde! Come sing the evening away 8pm-midnight. \n1470 E Southern Ave\, Tempe\, AZ 85282 \n+14803079920
URL:https://www.maddhatterpro.com/event/spokes-on-southern-karaoke/2027-05-25/
LOCATION:Spokes on Southern\, 1470 E Southern Ave\, Tempe\, AZ\, 85282\, United States
CATEGORIES:Karaoke,KJ Wilde
ATTACH;FMTTYPE=image/jpeg:https://www.maddhatterpro.com/wp-content/uploads/2026/02/spokes-tempe.jpg
END:VEVENT
BEGIN:VEVENT
DTSTART;TZID=UTC:20270601T200000
DTEND;TZID=UTC:20270601T200000
DTSTAMP:20260423T220245
CREATED:20250703T234609Z
LAST-MODIFIED:20260206T143724Z
UID:10021035-1811880000-1811880000@www.maddhatterpro.com
SUMMARY:Spokes on Southern Karaoke
DESCRIPTION:Great food\, great community oriented staff\, and stars like you make this  show a blast for the lovely KJ Wilde! Come sing the evening away 8pm-midnight. \n1470 E Southern Ave\, Tempe\, AZ 85282 \n+14803079920
URL:https://www.maddhatterpro.com/event/spokes-on-southern-karaoke/2027-06-01/
LOCATION:Spokes on Southern\, 1470 E Southern Ave\, Tempe\, AZ\, 85282\, United States
CATEGORIES:Karaoke,KJ Wilde
ATTACH;FMTTYPE=image/jpeg:https://www.maddhatterpro.com/wp-content/uploads/2026/02/spokes-tempe.jpg
END:VEVENT
BEGIN:VEVENT
DTSTART;TZID=UTC:20270608T200000
DTEND;TZID=UTC:20270608T200000
DTSTAMP:20260423T220245
CREATED:20250703T234609Z
LAST-MODIFIED:20260206T143724Z
UID:10021036-1812484800-1812484800@www.maddhatterpro.com
SUMMARY:Spokes on Southern Karaoke
DESCRIPTION:Great food\, great community oriented staff\, and stars like you make this  show a blast for the lovely KJ Wilde! Come sing the evening away 8pm-midnight. \n1470 E Southern Ave\, Tempe\, AZ 85282 \n+14803079920
URL:https://www.maddhatterpro.com/event/spokes-on-southern-karaoke/2027-06-08/
LOCATION:Spokes on Southern\, 1470 E Southern Ave\, Tempe\, AZ\, 85282\, United States
CATEGORIES:Karaoke,KJ Wilde
ATTACH;FMTTYPE=image/jpeg:https://www.maddhatterpro.com/wp-content/uploads/2026/02/spokes-tempe.jpg
END:VEVENT
BEGIN:VEVENT
DTSTART;TZID=UTC:20270615T200000
DTEND;TZID=UTC:20270615T200000
DTSTAMP:20260423T220245
CREATED:20250703T234609Z
LAST-MODIFIED:20260206T143724Z
UID:10021037-1813089600-1813089600@www.maddhatterpro.com
SUMMARY:Spokes on Southern Karaoke
DESCRIPTION:Great food\, great community oriented staff\, and stars like you make this  show a blast for the lovely KJ Wilde! Come sing the evening away 8pm-midnight. \n1470 E Southern Ave\, Tempe\, AZ 85282 \n+14803079920
URL:https://www.maddhatterpro.com/event/spokes-on-southern-karaoke/2027-06-15/
LOCATION:Spokes on Southern\, 1470 E Southern Ave\, Tempe\, AZ\, 85282\, United States
CATEGORIES:Karaoke,KJ Wilde
ATTACH;FMTTYPE=image/jpeg:https://www.maddhatterpro.com/wp-content/uploads/2026/02/spokes-tempe.jpg
END:VEVENT
BEGIN:VEVENT
DTSTART;TZID=UTC:20270622T200000
DTEND;TZID=UTC:20270622T200000
DTSTAMP:20260423T220245
CREATED:20250703T234609Z
LAST-MODIFIED:20260206T143724Z
UID:10021038-1813694400-1813694400@www.maddhatterpro.com
SUMMARY:Spokes on Southern Karaoke
DESCRIPTION:Great food\, great community oriented staff\, and stars like you make this  show a blast for the lovely KJ Wilde! Come sing the evening away 8pm-midnight. \n1470 E Southern Ave\, Tempe\, AZ 85282 \n+14803079920
URL:https://www.maddhatterpro.com/event/spokes-on-southern-karaoke/2027-06-22/
LOCATION:Spokes on Southern\, 1470 E Southern Ave\, Tempe\, AZ\, 85282\, United States
CATEGORIES:Karaoke,KJ Wilde
ATTACH;FMTTYPE=image/jpeg:https://www.maddhatterpro.com/wp-content/uploads/2026/02/spokes-tempe.jpg
END:VEVENT
BEGIN:VEVENT
DTSTART;TZID=UTC:20270629T200000
DTEND;TZID=UTC:20270629T200000
DTSTAMP:20260423T220245
CREATED:20250703T234609Z
LAST-MODIFIED:20260206T143724Z
UID:10021039-1814299200-1814299200@www.maddhatterpro.com
SUMMARY:Spokes on Southern Karaoke
DESCRIPTION:Great food\, great community oriented staff\, and stars like you make this  show a blast for the lovely KJ Wilde! Come sing the evening away 8pm-midnight. \n1470 E Southern Ave\, Tempe\, AZ 85282 \n+14803079920
URL:https://www.maddhatterpro.com/event/spokes-on-southern-karaoke/2027-06-29/
LOCATION:Spokes on Southern\, 1470 E Southern Ave\, Tempe\, AZ\, 85282\, United States
CATEGORIES:Karaoke,KJ Wilde
ATTACH;FMTTYPE=image/jpeg:https://www.maddhatterpro.com/wp-content/uploads/2026/02/spokes-tempe.jpg
END:VEVENT
BEGIN:VEVENT
DTSTART;TZID=UTC:20270706T200000
DTEND;TZID=UTC:20270706T200000
DTSTAMP:20260423T220245
CREATED:20250703T234609Z
LAST-MODIFIED:20260206T143724Z
UID:10021040-1814904000-1814904000@www.maddhatterpro.com
SUMMARY:Spokes on Southern Karaoke
DESCRIPTION:Great food\, great community oriented staff\, and stars like you make this  show a blast for the lovely KJ Wilde! Come sing the evening away 8pm-midnight. \n1470 E Southern Ave\, Tempe\, AZ 85282 \n+14803079920
URL:https://www.maddhatterpro.com/event/spokes-on-southern-karaoke/2027-07-06/
LOCATION:Spokes on Southern\, 1470 E Southern Ave\, Tempe\, AZ\, 85282\, United States
CATEGORIES:Karaoke,KJ Wilde
ATTACH;FMTTYPE=image/jpeg:https://www.maddhatterpro.com/wp-content/uploads/2026/02/spokes-tempe.jpg
END:VEVENT
BEGIN:VEVENT
DTSTART;TZID=UTC:20270713T200000
DTEND;TZID=UTC:20270713T200000
DTSTAMP:20260423T220245
CREATED:20250703T234609Z
LAST-MODIFIED:20260206T143724Z
UID:10021041-1815508800-1815508800@www.maddhatterpro.com
SUMMARY:Spokes on Southern Karaoke
DESCRIPTION:Great food\, great community oriented staff\, and stars like you make this  show a blast for the lovely KJ Wilde! Come sing the evening away 8pm-midnight. \n1470 E Southern Ave\, Tempe\, AZ 85282 \n+14803079920
URL:https://www.maddhatterpro.com/event/spokes-on-southern-karaoke/2027-07-13/
LOCATION:Spokes on Southern\, 1470 E Southern Ave\, Tempe\, AZ\, 85282\, United States
CATEGORIES:Karaoke,KJ Wilde
ATTACH;FMTTYPE=image/jpeg:https://www.maddhatterpro.com/wp-content/uploads/2026/02/spokes-tempe.jpg
END:VEVENT
BEGIN:VEVENT
DTSTART;TZID=UTC:20270720T200000
DTEND;TZID=UTC:20270720T200000
DTSTAMP:20260423T220245
CREATED:20250703T234609Z
LAST-MODIFIED:20260206T143724Z
UID:10021042-1816113600-1816113600@www.maddhatterpro.com
SUMMARY:Spokes on Southern Karaoke
DESCRIPTION:Great food\, great community oriented staff\, and stars like you make this  show a blast for the lovely KJ Wilde! Come sing the evening away 8pm-midnight. \n1470 E Southern Ave\, Tempe\, AZ 85282 \n+14803079920
URL:https://www.maddhatterpro.com/event/spokes-on-southern-karaoke/2027-07-20/
LOCATION:Spokes on Southern\, 1470 E Southern Ave\, Tempe\, AZ\, 85282\, United States
CATEGORIES:Karaoke,KJ Wilde
ATTACH;FMTTYPE=image/jpeg:https://www.maddhatterpro.com/wp-content/uploads/2026/02/spokes-tempe.jpg
END:VEVENT
BEGIN:VEVENT
DTSTART;TZID=UTC:20270727T200000
DTEND;TZID=UTC:20270727T200000
DTSTAMP:20260423T220245
CREATED:20250703T234609Z
LAST-MODIFIED:20260206T143724Z
UID:10021043-1816718400-1816718400@www.maddhatterpro.com
SUMMARY:Spokes on Southern Karaoke
DESCRIPTION:Great food\, great community oriented staff\, and stars like you make this  show a blast for the lovely KJ Wilde! Come sing the evening away 8pm-midnight. \n1470 E Southern Ave\, Tempe\, AZ 85282 \n+14803079920
URL:https://www.maddhatterpro.com/event/spokes-on-southern-karaoke/2027-07-27/
LOCATION:Spokes on Southern\, 1470 E Southern Ave\, Tempe\, AZ\, 85282\, United States
CATEGORIES:Karaoke,KJ Wilde
ATTACH;FMTTYPE=image/jpeg:https://www.maddhatterpro.com/wp-content/uploads/2026/02/spokes-tempe.jpg
END:VEVENT
END:VCALENDAR