BEGIN:VCALENDAR
VERSION:2.0
PRODID:-//MaddHatterPro.com - ECPv6.15.20//NONSGML v1.0//EN
CALSCALE:GREGORIAN
METHOD:PUBLISH
X-WR-CALNAME:MaddHatterPro.com
X-ORIGINAL-URL:https://www.maddhatterpro.com
X-WR-CALDESC:Events for MaddHatterPro.com
REFRESH-INTERVAL;VALUE=DURATION:PT1H
X-Robots-Tag:noindex
X-PUBLISHED-TTL:PT1H
BEGIN:VTIMEZONE
TZID:UTC
BEGIN:STANDARD
TZOFFSETFROM:+0000
TZOFFSETTO:+0000
TZNAME:UTC
DTSTART:20250101T000000
END:STANDARD
END:VTIMEZONE
BEGIN:VEVENT
DTSTART;TZID=UTC:20260721T200000
DTEND;TZID=UTC:20260721T200000
DTSTAMP:20260423T185920
CREATED:20250703T234609Z
LAST-MODIFIED:20260206T143724Z
UID:10020990-1784664000-1784664000@www.maddhatterpro.com
SUMMARY:Spokes on Southern Karaoke
DESCRIPTION:Great food\, great community oriented staff\, and stars like you make this  show a blast for the lovely KJ Wilde! Come sing the evening away 8pm-midnight. \n1470 E Southern Ave\, Tempe\, AZ 85282 \n+14803079920
URL:https://www.maddhatterpro.com/event/spokes-on-southern-karaoke/2026-07-21/
LOCATION:Spokes on Southern\, 1470 E Southern Ave\, Tempe\, AZ\, 85282\, United States
CATEGORIES:Karaoke,KJ Wilde
ATTACH;FMTTYPE=image/jpeg:https://www.maddhatterpro.com/wp-content/uploads/2026/02/spokes-tempe.jpg
END:VEVENT
BEGIN:VEVENT
DTSTART;TZID=UTC:20260728T200000
DTEND;TZID=UTC:20260728T200000
DTSTAMP:20260423T185920
CREATED:20250703T234609Z
LAST-MODIFIED:20260206T143724Z
UID:10020991-1785268800-1785268800@www.maddhatterpro.com
SUMMARY:Spokes on Southern Karaoke
DESCRIPTION:Great food\, great community oriented staff\, and stars like you make this  show a blast for the lovely KJ Wilde! Come sing the evening away 8pm-midnight. \n1470 E Southern Ave\, Tempe\, AZ 85282 \n+14803079920
URL:https://www.maddhatterpro.com/event/spokes-on-southern-karaoke/2026-07-28/
LOCATION:Spokes on Southern\, 1470 E Southern Ave\, Tempe\, AZ\, 85282\, United States
CATEGORIES:Karaoke,KJ Wilde
ATTACH;FMTTYPE=image/jpeg:https://www.maddhatterpro.com/wp-content/uploads/2026/02/spokes-tempe.jpg
END:VEVENT
BEGIN:VEVENT
DTSTART;TZID=UTC:20260804T200000
DTEND;TZID=UTC:20260804T200000
DTSTAMP:20260423T185920
CREATED:20250703T234609Z
LAST-MODIFIED:20260206T143724Z
UID:10020992-1785873600-1785873600@www.maddhatterpro.com
SUMMARY:Spokes on Southern Karaoke
DESCRIPTION:Great food\, great community oriented staff\, and stars like you make this  show a blast for the lovely KJ Wilde! Come sing the evening away 8pm-midnight. \n1470 E Southern Ave\, Tempe\, AZ 85282 \n+14803079920
URL:https://www.maddhatterpro.com/event/spokes-on-southern-karaoke/2026-08-04/
LOCATION:Spokes on Southern\, 1470 E Southern Ave\, Tempe\, AZ\, 85282\, United States
CATEGORIES:Karaoke,KJ Wilde
ATTACH;FMTTYPE=image/jpeg:https://www.maddhatterpro.com/wp-content/uploads/2026/02/spokes-tempe.jpg
END:VEVENT
BEGIN:VEVENT
DTSTART;TZID=UTC:20260811T200000
DTEND;TZID=UTC:20260811T200000
DTSTAMP:20260423T185920
CREATED:20250703T234609Z
LAST-MODIFIED:20260206T143724Z
UID:10020993-1786478400-1786478400@www.maddhatterpro.com
SUMMARY:Spokes on Southern Karaoke
DESCRIPTION:Great food\, great community oriented staff\, and stars like you make this  show a blast for the lovely KJ Wilde! Come sing the evening away 8pm-midnight. \n1470 E Southern Ave\, Tempe\, AZ 85282 \n+14803079920
URL:https://www.maddhatterpro.com/event/spokes-on-southern-karaoke/2026-08-11/
LOCATION:Spokes on Southern\, 1470 E Southern Ave\, Tempe\, AZ\, 85282\, United States
CATEGORIES:Karaoke,KJ Wilde
ATTACH;FMTTYPE=image/jpeg:https://www.maddhatterpro.com/wp-content/uploads/2026/02/spokes-tempe.jpg
END:VEVENT
BEGIN:VEVENT
DTSTART;TZID=UTC:20260818T200000
DTEND;TZID=UTC:20260818T200000
DTSTAMP:20260423T185920
CREATED:20250703T234609Z
LAST-MODIFIED:20260206T143724Z
UID:10020994-1787083200-1787083200@www.maddhatterpro.com
SUMMARY:Spokes on Southern Karaoke
DESCRIPTION:Great food\, great community oriented staff\, and stars like you make this  show a blast for the lovely KJ Wilde! Come sing the evening away 8pm-midnight. \n1470 E Southern Ave\, Tempe\, AZ 85282 \n+14803079920
URL:https://www.maddhatterpro.com/event/spokes-on-southern-karaoke/2026-08-18/
LOCATION:Spokes on Southern\, 1470 E Southern Ave\, Tempe\, AZ\, 85282\, United States
CATEGORIES:Karaoke,KJ Wilde
ATTACH;FMTTYPE=image/jpeg:https://www.maddhatterpro.com/wp-content/uploads/2026/02/spokes-tempe.jpg
END:VEVENT
BEGIN:VEVENT
DTSTART;TZID=UTC:20260825T200000
DTEND;TZID=UTC:20260825T200000
DTSTAMP:20260423T185920
CREATED:20250703T234609Z
LAST-MODIFIED:20260206T143724Z
UID:10020995-1787688000-1787688000@www.maddhatterpro.com
SUMMARY:Spokes on Southern Karaoke
DESCRIPTION:Great food\, great community oriented staff\, and stars like you make this  show a blast for the lovely KJ Wilde! Come sing the evening away 8pm-midnight. \n1470 E Southern Ave\, Tempe\, AZ 85282 \n+14803079920
URL:https://www.maddhatterpro.com/event/spokes-on-southern-karaoke/2026-08-25/
LOCATION:Spokes on Southern\, 1470 E Southern Ave\, Tempe\, AZ\, 85282\, United States
CATEGORIES:Karaoke,KJ Wilde
ATTACH;FMTTYPE=image/jpeg:https://www.maddhatterpro.com/wp-content/uploads/2026/02/spokes-tempe.jpg
END:VEVENT
BEGIN:VEVENT
DTSTART;TZID=UTC:20260901T200000
DTEND;TZID=UTC:20260901T200000
DTSTAMP:20260423T185920
CREATED:20250703T234609Z
LAST-MODIFIED:20260206T143724Z
UID:10020996-1788292800-1788292800@www.maddhatterpro.com
SUMMARY:Spokes on Southern Karaoke
DESCRIPTION:Great food\, great community oriented staff\, and stars like you make this  show a blast for the lovely KJ Wilde! Come sing the evening away 8pm-midnight. \n1470 E Southern Ave\, Tempe\, AZ 85282 \n+14803079920
URL:https://www.maddhatterpro.com/event/spokes-on-southern-karaoke/2026-09-01/
LOCATION:Spokes on Southern\, 1470 E Southern Ave\, Tempe\, AZ\, 85282\, United States
CATEGORIES:Karaoke,KJ Wilde
ATTACH;FMTTYPE=image/jpeg:https://www.maddhatterpro.com/wp-content/uploads/2026/02/spokes-tempe.jpg
END:VEVENT
BEGIN:VEVENT
DTSTART;TZID=UTC:20260908T200000
DTEND;TZID=UTC:20260908T200000
DTSTAMP:20260423T185920
CREATED:20250703T234609Z
LAST-MODIFIED:20260206T143724Z
UID:10020997-1788897600-1788897600@www.maddhatterpro.com
SUMMARY:Spokes on Southern Karaoke
DESCRIPTION:Great food\, great community oriented staff\, and stars like you make this  show a blast for the lovely KJ Wilde! Come sing the evening away 8pm-midnight. \n1470 E Southern Ave\, Tempe\, AZ 85282 \n+14803079920
URL:https://www.maddhatterpro.com/event/spokes-on-southern-karaoke/2026-09-08/
LOCATION:Spokes on Southern\, 1470 E Southern Ave\, Tempe\, AZ\, 85282\, United States
CATEGORIES:Karaoke,KJ Wilde
ATTACH;FMTTYPE=image/jpeg:https://www.maddhatterpro.com/wp-content/uploads/2026/02/spokes-tempe.jpg
END:VEVENT
BEGIN:VEVENT
DTSTART;TZID=UTC:20260915T200000
DTEND;TZID=UTC:20260915T200000
DTSTAMP:20260423T185920
CREATED:20250703T234609Z
LAST-MODIFIED:20260206T143724Z
UID:10020998-1789502400-1789502400@www.maddhatterpro.com
SUMMARY:Spokes on Southern Karaoke
DESCRIPTION:Great food\, great community oriented staff\, and stars like you make this  show a blast for the lovely KJ Wilde! Come sing the evening away 8pm-midnight. \n1470 E Southern Ave\, Tempe\, AZ 85282 \n+14803079920
URL:https://www.maddhatterpro.com/event/spokes-on-southern-karaoke/2026-09-15/
LOCATION:Spokes on Southern\, 1470 E Southern Ave\, Tempe\, AZ\, 85282\, United States
CATEGORIES:Karaoke,KJ Wilde
ATTACH;FMTTYPE=image/jpeg:https://www.maddhatterpro.com/wp-content/uploads/2026/02/spokes-tempe.jpg
END:VEVENT
BEGIN:VEVENT
DTSTART;TZID=UTC:20260922T200000
DTEND;TZID=UTC:20260922T200000
DTSTAMP:20260423T185920
CREATED:20250703T234609Z
LAST-MODIFIED:20260206T143724Z
UID:10020999-1790107200-1790107200@www.maddhatterpro.com
SUMMARY:Spokes on Southern Karaoke
DESCRIPTION:Great food\, great community oriented staff\, and stars like you make this  show a blast for the lovely KJ Wilde! Come sing the evening away 8pm-midnight. \n1470 E Southern Ave\, Tempe\, AZ 85282 \n+14803079920
URL:https://www.maddhatterpro.com/event/spokes-on-southern-karaoke/2026-09-22/
LOCATION:Spokes on Southern\, 1470 E Southern Ave\, Tempe\, AZ\, 85282\, United States
CATEGORIES:Karaoke,KJ Wilde
ATTACH;FMTTYPE=image/jpeg:https://www.maddhatterpro.com/wp-content/uploads/2026/02/spokes-tempe.jpg
END:VEVENT
BEGIN:VEVENT
DTSTART;TZID=UTC:20260929T200000
DTEND;TZID=UTC:20260929T200000
DTSTAMP:20260423T185920
CREATED:20250703T234609Z
LAST-MODIFIED:20260206T143724Z
UID:10021000-1790712000-1790712000@www.maddhatterpro.com
SUMMARY:Spokes on Southern Karaoke
DESCRIPTION:Great food\, great community oriented staff\, and stars like you make this  show a blast for the lovely KJ Wilde! Come sing the evening away 8pm-midnight. \n1470 E Southern Ave\, Tempe\, AZ 85282 \n+14803079920
URL:https://www.maddhatterpro.com/event/spokes-on-southern-karaoke/2026-09-29/
LOCATION:Spokes on Southern\, 1470 E Southern Ave\, Tempe\, AZ\, 85282\, United States
CATEGORIES:Karaoke,KJ Wilde
ATTACH;FMTTYPE=image/jpeg:https://www.maddhatterpro.com/wp-content/uploads/2026/02/spokes-tempe.jpg
END:VEVENT
BEGIN:VEVENT
DTSTART;TZID=UTC:20261006T200000
DTEND;TZID=UTC:20261006T200000
DTSTAMP:20260423T185920
CREATED:20250703T234609Z
LAST-MODIFIED:20260206T143724Z
UID:10021001-1791316800-1791316800@www.maddhatterpro.com
SUMMARY:Spokes on Southern Karaoke
DESCRIPTION:Great food\, great community oriented staff\, and stars like you make this  show a blast for the lovely KJ Wilde! Come sing the evening away 8pm-midnight. \n1470 E Southern Ave\, Tempe\, AZ 85282 \n+14803079920
URL:https://www.maddhatterpro.com/event/spokes-on-southern-karaoke/2026-10-06/
LOCATION:Spokes on Southern\, 1470 E Southern Ave\, Tempe\, AZ\, 85282\, United States
CATEGORIES:Karaoke,KJ Wilde
ATTACH;FMTTYPE=image/jpeg:https://www.maddhatterpro.com/wp-content/uploads/2026/02/spokes-tempe.jpg
END:VEVENT
BEGIN:VEVENT
DTSTART;TZID=UTC:20261013T200000
DTEND;TZID=UTC:20261013T200000
DTSTAMP:20260423T185920
CREATED:20250703T234609Z
LAST-MODIFIED:20260206T143724Z
UID:10021002-1791921600-1791921600@www.maddhatterpro.com
SUMMARY:Spokes on Southern Karaoke
DESCRIPTION:Great food\, great community oriented staff\, and stars like you make this  show a blast for the lovely KJ Wilde! Come sing the evening away 8pm-midnight. \n1470 E Southern Ave\, Tempe\, AZ 85282 \n+14803079920
URL:https://www.maddhatterpro.com/event/spokes-on-southern-karaoke/2026-10-13/
LOCATION:Spokes on Southern\, 1470 E Southern Ave\, Tempe\, AZ\, 85282\, United States
CATEGORIES:Karaoke,KJ Wilde
ATTACH;FMTTYPE=image/jpeg:https://www.maddhatterpro.com/wp-content/uploads/2026/02/spokes-tempe.jpg
END:VEVENT
BEGIN:VEVENT
DTSTART;TZID=UTC:20261020T200000
DTEND;TZID=UTC:20261020T200000
DTSTAMP:20260423T185920
CREATED:20250703T234609Z
LAST-MODIFIED:20260206T143724Z
UID:10021003-1792526400-1792526400@www.maddhatterpro.com
SUMMARY:Spokes on Southern Karaoke
DESCRIPTION:Great food\, great community oriented staff\, and stars like you make this  show a blast for the lovely KJ Wilde! Come sing the evening away 8pm-midnight. \n1470 E Southern Ave\, Tempe\, AZ 85282 \n+14803079920
URL:https://www.maddhatterpro.com/event/spokes-on-southern-karaoke/2026-10-20/
LOCATION:Spokes on Southern\, 1470 E Southern Ave\, Tempe\, AZ\, 85282\, United States
CATEGORIES:Karaoke,KJ Wilde
ATTACH;FMTTYPE=image/jpeg:https://www.maddhatterpro.com/wp-content/uploads/2026/02/spokes-tempe.jpg
END:VEVENT
BEGIN:VEVENT
DTSTART;TZID=UTC:20261027T200000
DTEND;TZID=UTC:20261027T200000
DTSTAMP:20260423T185920
CREATED:20250703T234609Z
LAST-MODIFIED:20260206T143724Z
UID:10021004-1793131200-1793131200@www.maddhatterpro.com
SUMMARY:Spokes on Southern Karaoke
DESCRIPTION:Great food\, great community oriented staff\, and stars like you make this  show a blast for the lovely KJ Wilde! Come sing the evening away 8pm-midnight. \n1470 E Southern Ave\, Tempe\, AZ 85282 \n+14803079920
URL:https://www.maddhatterpro.com/event/spokes-on-southern-karaoke/2026-10-27/
LOCATION:Spokes on Southern\, 1470 E Southern Ave\, Tempe\, AZ\, 85282\, United States
CATEGORIES:Karaoke,KJ Wilde
ATTACH;FMTTYPE=image/jpeg:https://www.maddhatterpro.com/wp-content/uploads/2026/02/spokes-tempe.jpg
END:VEVENT
BEGIN:VEVENT
DTSTART;TZID=UTC:20261103T200000
DTEND;TZID=UTC:20261103T200000
DTSTAMP:20260423T185920
CREATED:20250703T234609Z
LAST-MODIFIED:20260206T143724Z
UID:10021005-1793736000-1793736000@www.maddhatterpro.com
SUMMARY:Spokes on Southern Karaoke
DESCRIPTION:Great food\, great community oriented staff\, and stars like you make this  show a blast for the lovely KJ Wilde! Come sing the evening away 8pm-midnight. \n1470 E Southern Ave\, Tempe\, AZ 85282 \n+14803079920
URL:https://www.maddhatterpro.com/event/spokes-on-southern-karaoke/2026-11-03/
LOCATION:Spokes on Southern\, 1470 E Southern Ave\, Tempe\, AZ\, 85282\, United States
CATEGORIES:Karaoke,KJ Wilde
ATTACH;FMTTYPE=image/jpeg:https://www.maddhatterpro.com/wp-content/uploads/2026/02/spokes-tempe.jpg
END:VEVENT
BEGIN:VEVENT
DTSTART;TZID=UTC:20261110T200000
DTEND;TZID=UTC:20261110T200000
DTSTAMP:20260423T185920
CREATED:20250703T234609Z
LAST-MODIFIED:20260206T143724Z
UID:10021006-1794340800-1794340800@www.maddhatterpro.com
SUMMARY:Spokes on Southern Karaoke
DESCRIPTION:Great food\, great community oriented staff\, and stars like you make this  show a blast for the lovely KJ Wilde! Come sing the evening away 8pm-midnight. \n1470 E Southern Ave\, Tempe\, AZ 85282 \n+14803079920
URL:https://www.maddhatterpro.com/event/spokes-on-southern-karaoke/2026-11-10/
LOCATION:Spokes on Southern\, 1470 E Southern Ave\, Tempe\, AZ\, 85282\, United States
CATEGORIES:Karaoke,KJ Wilde
ATTACH;FMTTYPE=image/jpeg:https://www.maddhatterpro.com/wp-content/uploads/2026/02/spokes-tempe.jpg
END:VEVENT
BEGIN:VEVENT
DTSTART;TZID=UTC:20261117T200000
DTEND;TZID=UTC:20261117T200000
DTSTAMP:20260423T185920
CREATED:20250703T234609Z
LAST-MODIFIED:20260206T143724Z
UID:10021007-1794945600-1794945600@www.maddhatterpro.com
SUMMARY:Spokes on Southern Karaoke
DESCRIPTION:Great food\, great community oriented staff\, and stars like you make this  show a blast for the lovely KJ Wilde! Come sing the evening away 8pm-midnight. \n1470 E Southern Ave\, Tempe\, AZ 85282 \n+14803079920
URL:https://www.maddhatterpro.com/event/spokes-on-southern-karaoke/2026-11-17/
LOCATION:Spokes on Southern\, 1470 E Southern Ave\, Tempe\, AZ\, 85282\, United States
CATEGORIES:Karaoke,KJ Wilde
ATTACH;FMTTYPE=image/jpeg:https://www.maddhatterpro.com/wp-content/uploads/2026/02/spokes-tempe.jpg
END:VEVENT
BEGIN:VEVENT
DTSTART;TZID=UTC:20261124T200000
DTEND;TZID=UTC:20261124T200000
DTSTAMP:20260423T185920
CREATED:20250703T234609Z
LAST-MODIFIED:20260206T143724Z
UID:10021008-1795550400-1795550400@www.maddhatterpro.com
SUMMARY:Spokes on Southern Karaoke
DESCRIPTION:Great food\, great community oriented staff\, and stars like you make this  show a blast for the lovely KJ Wilde! Come sing the evening away 8pm-midnight. \n1470 E Southern Ave\, Tempe\, AZ 85282 \n+14803079920
URL:https://www.maddhatterpro.com/event/spokes-on-southern-karaoke/2026-11-24/
LOCATION:Spokes on Southern\, 1470 E Southern Ave\, Tempe\, AZ\, 85282\, United States
CATEGORIES:Karaoke,KJ Wilde
ATTACH;FMTTYPE=image/jpeg:https://www.maddhatterpro.com/wp-content/uploads/2026/02/spokes-tempe.jpg
END:VEVENT
BEGIN:VEVENT
DTSTART;TZID=UTC:20261201T200000
DTEND;TZID=UTC:20261201T200000
DTSTAMP:20260423T185920
CREATED:20250703T234609Z
LAST-MODIFIED:20260206T143724Z
UID:10021009-1796155200-1796155200@www.maddhatterpro.com
SUMMARY:Spokes on Southern Karaoke
DESCRIPTION:Great food\, great community oriented staff\, and stars like you make this  show a blast for the lovely KJ Wilde! Come sing the evening away 8pm-midnight. \n1470 E Southern Ave\, Tempe\, AZ 85282 \n+14803079920
URL:https://www.maddhatterpro.com/event/spokes-on-southern-karaoke/2026-12-01/
LOCATION:Spokes on Southern\, 1470 E Southern Ave\, Tempe\, AZ\, 85282\, United States
CATEGORIES:Karaoke,KJ Wilde
ATTACH;FMTTYPE=image/jpeg:https://www.maddhatterpro.com/wp-content/uploads/2026/02/spokes-tempe.jpg
END:VEVENT
BEGIN:VEVENT
DTSTART;TZID=UTC:20261208T200000
DTEND;TZID=UTC:20261208T200000
DTSTAMP:20260423T185920
CREATED:20250703T234609Z
LAST-MODIFIED:20260206T143724Z
UID:10021010-1796760000-1796760000@www.maddhatterpro.com
SUMMARY:Spokes on Southern Karaoke
DESCRIPTION:Great food\, great community oriented staff\, and stars like you make this  show a blast for the lovely KJ Wilde! Come sing the evening away 8pm-midnight. \n1470 E Southern Ave\, Tempe\, AZ 85282 \n+14803079920
URL:https://www.maddhatterpro.com/event/spokes-on-southern-karaoke/2026-12-08/
LOCATION:Spokes on Southern\, 1470 E Southern Ave\, Tempe\, AZ\, 85282\, United States
CATEGORIES:Karaoke,KJ Wilde
ATTACH;FMTTYPE=image/jpeg:https://www.maddhatterpro.com/wp-content/uploads/2026/02/spokes-tempe.jpg
END:VEVENT
BEGIN:VEVENT
DTSTART;TZID=UTC:20261215T200000
DTEND;TZID=UTC:20261215T200000
DTSTAMP:20260423T185920
CREATED:20250703T234609Z
LAST-MODIFIED:20260206T143724Z
UID:10021011-1797364800-1797364800@www.maddhatterpro.com
SUMMARY:Spokes on Southern Karaoke
DESCRIPTION:Great food\, great community oriented staff\, and stars like you make this  show a blast for the lovely KJ Wilde! Come sing the evening away 8pm-midnight. \n1470 E Southern Ave\, Tempe\, AZ 85282 \n+14803079920
URL:https://www.maddhatterpro.com/event/spokes-on-southern-karaoke/2026-12-15/
LOCATION:Spokes on Southern\, 1470 E Southern Ave\, Tempe\, AZ\, 85282\, United States
CATEGORIES:Karaoke,KJ Wilde
ATTACH;FMTTYPE=image/jpeg:https://www.maddhatterpro.com/wp-content/uploads/2026/02/spokes-tempe.jpg
END:VEVENT
BEGIN:VEVENT
DTSTART;TZID=UTC:20261222T200000
DTEND;TZID=UTC:20261222T200000
DTSTAMP:20260423T185920
CREATED:20250703T234609Z
LAST-MODIFIED:20260206T143724Z
UID:10021012-1797969600-1797969600@www.maddhatterpro.com
SUMMARY:Spokes on Southern Karaoke
DESCRIPTION:Great food\, great community oriented staff\, and stars like you make this  show a blast for the lovely KJ Wilde! Come sing the evening away 8pm-midnight. \n1470 E Southern Ave\, Tempe\, AZ 85282 \n+14803079920
URL:https://www.maddhatterpro.com/event/spokes-on-southern-karaoke/2026-12-22/
LOCATION:Spokes on Southern\, 1470 E Southern Ave\, Tempe\, AZ\, 85282\, United States
CATEGORIES:Karaoke,KJ Wilde
ATTACH;FMTTYPE=image/jpeg:https://www.maddhatterpro.com/wp-content/uploads/2026/02/spokes-tempe.jpg
END:VEVENT
BEGIN:VEVENT
DTSTART;TZID=UTC:20261229T200000
DTEND;TZID=UTC:20261229T200000
DTSTAMP:20260423T185920
CREATED:20250703T234609Z
LAST-MODIFIED:20260206T143724Z
UID:10021013-1798574400-1798574400@www.maddhatterpro.com
SUMMARY:Spokes on Southern Karaoke
DESCRIPTION:Great food\, great community oriented staff\, and stars like you make this  show a blast for the lovely KJ Wilde! Come sing the evening away 8pm-midnight. \n1470 E Southern Ave\, Tempe\, AZ 85282 \n+14803079920
URL:https://www.maddhatterpro.com/event/spokes-on-southern-karaoke/2026-12-29/
LOCATION:Spokes on Southern\, 1470 E Southern Ave\, Tempe\, AZ\, 85282\, United States
CATEGORIES:Karaoke,KJ Wilde
ATTACH;FMTTYPE=image/jpeg:https://www.maddhatterpro.com/wp-content/uploads/2026/02/spokes-tempe.jpg
END:VEVENT
BEGIN:VEVENT
DTSTART;TZID=UTC:20270105T200000
DTEND;TZID=UTC:20270105T200000
DTSTAMP:20260423T185920
CREATED:20250703T234609Z
LAST-MODIFIED:20260206T143724Z
UID:10021014-1799179200-1799179200@www.maddhatterpro.com
SUMMARY:Spokes on Southern Karaoke
DESCRIPTION:Great food\, great community oriented staff\, and stars like you make this  show a blast for the lovely KJ Wilde! Come sing the evening away 8pm-midnight. \n1470 E Southern Ave\, Tempe\, AZ 85282 \n+14803079920
URL:https://www.maddhatterpro.com/event/spokes-on-southern-karaoke/2027-01-05/
LOCATION:Spokes on Southern\, 1470 E Southern Ave\, Tempe\, AZ\, 85282\, United States
CATEGORIES:Karaoke,KJ Wilde
ATTACH;FMTTYPE=image/jpeg:https://www.maddhatterpro.com/wp-content/uploads/2026/02/spokes-tempe.jpg
END:VEVENT
BEGIN:VEVENT
DTSTART;TZID=UTC:20270112T200000
DTEND;TZID=UTC:20270112T200000
DTSTAMP:20260423T185920
CREATED:20250703T234609Z
LAST-MODIFIED:20260206T143724Z
UID:10021015-1799784000-1799784000@www.maddhatterpro.com
SUMMARY:Spokes on Southern Karaoke
DESCRIPTION:Great food\, great community oriented staff\, and stars like you make this  show a blast for the lovely KJ Wilde! Come sing the evening away 8pm-midnight. \n1470 E Southern Ave\, Tempe\, AZ 85282 \n+14803079920
URL:https://www.maddhatterpro.com/event/spokes-on-southern-karaoke/2027-01-12/
LOCATION:Spokes on Southern\, 1470 E Southern Ave\, Tempe\, AZ\, 85282\, United States
CATEGORIES:Karaoke,KJ Wilde
ATTACH;FMTTYPE=image/jpeg:https://www.maddhatterpro.com/wp-content/uploads/2026/02/spokes-tempe.jpg
END:VEVENT
BEGIN:VEVENT
DTSTART;TZID=UTC:20270119T200000
DTEND;TZID=UTC:20270119T200000
DTSTAMP:20260423T185920
CREATED:20250703T234609Z
LAST-MODIFIED:20260206T143724Z
UID:10021016-1800388800-1800388800@www.maddhatterpro.com
SUMMARY:Spokes on Southern Karaoke
DESCRIPTION:Great food\, great community oriented staff\, and stars like you make this  show a blast for the lovely KJ Wilde! Come sing the evening away 8pm-midnight. \n1470 E Southern Ave\, Tempe\, AZ 85282 \n+14803079920
URL:https://www.maddhatterpro.com/event/spokes-on-southern-karaoke/2027-01-19/
LOCATION:Spokes on Southern\, 1470 E Southern Ave\, Tempe\, AZ\, 85282\, United States
CATEGORIES:Karaoke,KJ Wilde
ATTACH;FMTTYPE=image/jpeg:https://www.maddhatterpro.com/wp-content/uploads/2026/02/spokes-tempe.jpg
END:VEVENT
BEGIN:VEVENT
DTSTART;TZID=UTC:20270126T200000
DTEND;TZID=UTC:20270126T200000
DTSTAMP:20260423T185920
CREATED:20250703T234609Z
LAST-MODIFIED:20260206T143724Z
UID:10021017-1800993600-1800993600@www.maddhatterpro.com
SUMMARY:Spokes on Southern Karaoke
DESCRIPTION:Great food\, great community oriented staff\, and stars like you make this  show a blast for the lovely KJ Wilde! Come sing the evening away 8pm-midnight. \n1470 E Southern Ave\, Tempe\, AZ 85282 \n+14803079920
URL:https://www.maddhatterpro.com/event/spokes-on-southern-karaoke/2027-01-26/
LOCATION:Spokes on Southern\, 1470 E Southern Ave\, Tempe\, AZ\, 85282\, United States
CATEGORIES:Karaoke,KJ Wilde
ATTACH;FMTTYPE=image/jpeg:https://www.maddhatterpro.com/wp-content/uploads/2026/02/spokes-tempe.jpg
END:VEVENT
BEGIN:VEVENT
DTSTART;TZID=UTC:20270202T200000
DTEND;TZID=UTC:20270202T200000
DTSTAMP:20260423T185920
CREATED:20250703T234609Z
LAST-MODIFIED:20260206T143724Z
UID:10021018-1801598400-1801598400@www.maddhatterpro.com
SUMMARY:Spokes on Southern Karaoke
DESCRIPTION:Great food\, great community oriented staff\, and stars like you make this  show a blast for the lovely KJ Wilde! Come sing the evening away 8pm-midnight. \n1470 E Southern Ave\, Tempe\, AZ 85282 \n+14803079920
URL:https://www.maddhatterpro.com/event/spokes-on-southern-karaoke/2027-02-02/
LOCATION:Spokes on Southern\, 1470 E Southern Ave\, Tempe\, AZ\, 85282\, United States
CATEGORIES:Karaoke,KJ Wilde
ATTACH;FMTTYPE=image/jpeg:https://www.maddhatterpro.com/wp-content/uploads/2026/02/spokes-tempe.jpg
END:VEVENT
BEGIN:VEVENT
DTSTART;TZID=UTC:20270209T200000
DTEND;TZID=UTC:20270209T200000
DTSTAMP:20260423T185920
CREATED:20250703T234609Z
LAST-MODIFIED:20260206T143724Z
UID:10021019-1802203200-1802203200@www.maddhatterpro.com
SUMMARY:Spokes on Southern Karaoke
DESCRIPTION:Great food\, great community oriented staff\, and stars like you make this  show a blast for the lovely KJ Wilde! Come sing the evening away 8pm-midnight. \n1470 E Southern Ave\, Tempe\, AZ 85282 \n+14803079920
URL:https://www.maddhatterpro.com/event/spokes-on-southern-karaoke/2027-02-09/
LOCATION:Spokes on Southern\, 1470 E Southern Ave\, Tempe\, AZ\, 85282\, United States
CATEGORIES:Karaoke,KJ Wilde
ATTACH;FMTTYPE=image/jpeg:https://www.maddhatterpro.com/wp-content/uploads/2026/02/spokes-tempe.jpg
END:VEVENT
END:VCALENDAR