BEGIN:VCALENDAR
VERSION:2.0
PRODID:-//MaddHatterPro.com - ECPv6.15.20//NONSGML v1.0//EN
CALSCALE:GREGORIAN
METHOD:PUBLISH
X-ORIGINAL-URL:https://www.maddhatterpro.com
X-WR-CALDESC:Events for MaddHatterPro.com
REFRESH-INTERVAL;VALUE=DURATION:PT1H
X-Robots-Tag:noindex
X-PUBLISHED-TTL:PT1H
BEGIN:VTIMEZONE
TZID:UTC
BEGIN:STANDARD
TZOFFSETFROM:+0000
TZOFFSETTO:+0000
TZNAME:UTC
DTSTART:20270101T000000
END:STANDARD
END:VTIMEZONE
BEGIN:VEVENT
DTSTART;TZID=UTC:20280523T200000
DTEND;TZID=UTC:20280523T200000
DTSTAMP:20260424T064652
CREATED:20250703T234609Z
LAST-MODIFIED:20260206T143724Z
UID:10021086-1842724800-1842724800@www.maddhatterpro.com
SUMMARY:Spokes on Southern Karaoke
DESCRIPTION:Great food\, great community oriented staff\, and stars like you make this  show a blast for the lovely KJ Wilde! Come sing the evening away 8pm-midnight. \n1470 E Southern Ave\, Tempe\, AZ 85282 \n+14803079920
URL:https://www.maddhatterpro.com/event/spokes-on-southern-karaoke/2028-05-23/
LOCATION:Spokes on Southern\, 1470 E Southern Ave\, Tempe\, AZ\, 85282\, United States
CATEGORIES:Karaoke,KJ Wilde
ATTACH;FMTTYPE=image/jpeg:https://www.maddhatterpro.com/wp-content/uploads/2026/02/spokes-tempe.jpg
END:VEVENT
BEGIN:VEVENT
DTSTART;TZID=UTC:20280530T200000
DTEND;TZID=UTC:20280530T200000
DTSTAMP:20260424T064652
CREATED:20250703T234609Z
LAST-MODIFIED:20260206T143724Z
UID:10021087-1843329600-1843329600@www.maddhatterpro.com
SUMMARY:Spokes on Southern Karaoke
DESCRIPTION:Great food\, great community oriented staff\, and stars like you make this  show a blast for the lovely KJ Wilde! Come sing the evening away 8pm-midnight. \n1470 E Southern Ave\, Tempe\, AZ 85282 \n+14803079920
URL:https://www.maddhatterpro.com/event/spokes-on-southern-karaoke/2028-05-30/
LOCATION:Spokes on Southern\, 1470 E Southern Ave\, Tempe\, AZ\, 85282\, United States
CATEGORIES:Karaoke,KJ Wilde
ATTACH;FMTTYPE=image/jpeg:https://www.maddhatterpro.com/wp-content/uploads/2026/02/spokes-tempe.jpg
END:VEVENT
BEGIN:VEVENT
DTSTART;TZID=UTC:20280606T200000
DTEND;TZID=UTC:20280606T200000
DTSTAMP:20260424T064652
CREATED:20250703T234609Z
LAST-MODIFIED:20260206T143724Z
UID:10021088-1843934400-1843934400@www.maddhatterpro.com
SUMMARY:Spokes on Southern Karaoke
DESCRIPTION:Great food\, great community oriented staff\, and stars like you make this  show a blast for the lovely KJ Wilde! Come sing the evening away 8pm-midnight. \n1470 E Southern Ave\, Tempe\, AZ 85282 \n+14803079920
URL:https://www.maddhatterpro.com/event/spokes-on-southern-karaoke/2028-06-06/
LOCATION:Spokes on Southern\, 1470 E Southern Ave\, Tempe\, AZ\, 85282\, United States
CATEGORIES:Karaoke,KJ Wilde
ATTACH;FMTTYPE=image/jpeg:https://www.maddhatterpro.com/wp-content/uploads/2026/02/spokes-tempe.jpg
END:VEVENT
BEGIN:VEVENT
DTSTART;TZID=UTC:20280613T200000
DTEND;TZID=UTC:20280613T200000
DTSTAMP:20260424T064652
CREATED:20250703T234609Z
LAST-MODIFIED:20260206T143724Z
UID:10021089-1844539200-1844539200@www.maddhatterpro.com
SUMMARY:Spokes on Southern Karaoke
DESCRIPTION:Great food\, great community oriented staff\, and stars like you make this  show a blast for the lovely KJ Wilde! Come sing the evening away 8pm-midnight. \n1470 E Southern Ave\, Tempe\, AZ 85282 \n+14803079920
URL:https://www.maddhatterpro.com/event/spokes-on-southern-karaoke/2028-06-13/
LOCATION:Spokes on Southern\, 1470 E Southern Ave\, Tempe\, AZ\, 85282\, United States
CATEGORIES:Karaoke,KJ Wilde
ATTACH;FMTTYPE=image/jpeg:https://www.maddhatterpro.com/wp-content/uploads/2026/02/spokes-tempe.jpg
END:VEVENT
BEGIN:VEVENT
DTSTART;TZID=UTC:20280620T200000
DTEND;TZID=UTC:20280620T200000
DTSTAMP:20260424T064652
CREATED:20250703T234609Z
LAST-MODIFIED:20260206T143724Z
UID:10021090-1845144000-1845144000@www.maddhatterpro.com
SUMMARY:Spokes on Southern Karaoke
DESCRIPTION:Great food\, great community oriented staff\, and stars like you make this  show a blast for the lovely KJ Wilde! Come sing the evening away 8pm-midnight. \n1470 E Southern Ave\, Tempe\, AZ 85282 \n+14803079920
URL:https://www.maddhatterpro.com/event/spokes-on-southern-karaoke/2028-06-20/
LOCATION:Spokes on Southern\, 1470 E Southern Ave\, Tempe\, AZ\, 85282\, United States
CATEGORIES:Karaoke,KJ Wilde
ATTACH;FMTTYPE=image/jpeg:https://www.maddhatterpro.com/wp-content/uploads/2026/02/spokes-tempe.jpg
END:VEVENT
BEGIN:VEVENT
DTSTART;TZID=UTC:20280627T200000
DTEND;TZID=UTC:20280627T200000
DTSTAMP:20260424T064652
CREATED:20250703T234609Z
LAST-MODIFIED:20260206T143724Z
UID:10021091-1845748800-1845748800@www.maddhatterpro.com
SUMMARY:Spokes on Southern Karaoke
DESCRIPTION:Great food\, great community oriented staff\, and stars like you make this  show a blast for the lovely KJ Wilde! Come sing the evening away 8pm-midnight. \n1470 E Southern Ave\, Tempe\, AZ 85282 \n+14803079920
URL:https://www.maddhatterpro.com/event/spokes-on-southern-karaoke/2028-06-27/
LOCATION:Spokes on Southern\, 1470 E Southern Ave\, Tempe\, AZ\, 85282\, United States
CATEGORIES:Karaoke,KJ Wilde
ATTACH;FMTTYPE=image/jpeg:https://www.maddhatterpro.com/wp-content/uploads/2026/02/spokes-tempe.jpg
END:VEVENT
BEGIN:VEVENT
DTSTART;TZID=UTC:20280704T200000
DTEND;TZID=UTC:20280704T200000
DTSTAMP:20260424T064652
CREATED:20250703T234609Z
LAST-MODIFIED:20260206T143724Z
UID:10021092-1846353600-1846353600@www.maddhatterpro.com
SUMMARY:Spokes on Southern Karaoke
DESCRIPTION:Great food\, great community oriented staff\, and stars like you make this  show a blast for the lovely KJ Wilde! Come sing the evening away 8pm-midnight. \n1470 E Southern Ave\, Tempe\, AZ 85282 \n+14803079920
URL:https://www.maddhatterpro.com/event/spokes-on-southern-karaoke/2028-07-04/
LOCATION:Spokes on Southern\, 1470 E Southern Ave\, Tempe\, AZ\, 85282\, United States
CATEGORIES:Karaoke,KJ Wilde
ATTACH;FMTTYPE=image/jpeg:https://www.maddhatterpro.com/wp-content/uploads/2026/02/spokes-tempe.jpg
END:VEVENT
BEGIN:VEVENT
DTSTART;TZID=UTC:20280711T200000
DTEND;TZID=UTC:20280711T200000
DTSTAMP:20260424T064652
CREATED:20250703T234609Z
LAST-MODIFIED:20260206T143724Z
UID:10021093-1846958400-1846958400@www.maddhatterpro.com
SUMMARY:Spokes on Southern Karaoke
DESCRIPTION:Great food\, great community oriented staff\, and stars like you make this  show a blast for the lovely KJ Wilde! Come sing the evening away 8pm-midnight. \n1470 E Southern Ave\, Tempe\, AZ 85282 \n+14803079920
URL:https://www.maddhatterpro.com/event/spokes-on-southern-karaoke/2028-07-11/
LOCATION:Spokes on Southern\, 1470 E Southern Ave\, Tempe\, AZ\, 85282\, United States
CATEGORIES:Karaoke,KJ Wilde
ATTACH;FMTTYPE=image/jpeg:https://www.maddhatterpro.com/wp-content/uploads/2026/02/spokes-tempe.jpg
END:VEVENT
BEGIN:VEVENT
DTSTART;TZID=UTC:20280718T200000
DTEND;TZID=UTC:20280718T200000
DTSTAMP:20260424T064652
CREATED:20250703T234609Z
LAST-MODIFIED:20260206T143724Z
UID:10021094-1847563200-1847563200@www.maddhatterpro.com
SUMMARY:Spokes on Southern Karaoke
DESCRIPTION:Great food\, great community oriented staff\, and stars like you make this  show a blast for the lovely KJ Wilde! Come sing the evening away 8pm-midnight. \n1470 E Southern Ave\, Tempe\, AZ 85282 \n+14803079920
URL:https://www.maddhatterpro.com/event/spokes-on-southern-karaoke/2028-07-18/
LOCATION:Spokes on Southern\, 1470 E Southern Ave\, Tempe\, AZ\, 85282\, United States
CATEGORIES:Karaoke,KJ Wilde
ATTACH;FMTTYPE=image/jpeg:https://www.maddhatterpro.com/wp-content/uploads/2026/02/spokes-tempe.jpg
END:VEVENT
BEGIN:VEVENT
DTSTART;TZID=UTC:20280725T200000
DTEND;TZID=UTC:20280725T200000
DTSTAMP:20260424T064652
CREATED:20250703T234609Z
LAST-MODIFIED:20260206T143724Z
UID:10021095-1848168000-1848168000@www.maddhatterpro.com
SUMMARY:Spokes on Southern Karaoke
DESCRIPTION:Great food\, great community oriented staff\, and stars like you make this  show a blast for the lovely KJ Wilde! Come sing the evening away 8pm-midnight. \n1470 E Southern Ave\, Tempe\, AZ 85282 \n+14803079920
URL:https://www.maddhatterpro.com/event/spokes-on-southern-karaoke/2028-07-25/
LOCATION:Spokes on Southern\, 1470 E Southern Ave\, Tempe\, AZ\, 85282\, United States
CATEGORIES:Karaoke,KJ Wilde
ATTACH;FMTTYPE=image/jpeg:https://www.maddhatterpro.com/wp-content/uploads/2026/02/spokes-tempe.jpg
END:VEVENT
BEGIN:VEVENT
DTSTART;TZID=UTC:20280801T200000
DTEND;TZID=UTC:20280801T200000
DTSTAMP:20260424T064652
CREATED:20250703T234609Z
LAST-MODIFIED:20260206T143724Z
UID:10021096-1848772800-1848772800@www.maddhatterpro.com
SUMMARY:Spokes on Southern Karaoke
DESCRIPTION:Great food\, great community oriented staff\, and stars like you make this  show a blast for the lovely KJ Wilde! Come sing the evening away 8pm-midnight. \n1470 E Southern Ave\, Tempe\, AZ 85282 \n+14803079920
URL:https://www.maddhatterpro.com/event/spokes-on-southern-karaoke/2028-08-01/
LOCATION:Spokes on Southern\, 1470 E Southern Ave\, Tempe\, AZ\, 85282\, United States
CATEGORIES:Karaoke,KJ Wilde
ATTACH;FMTTYPE=image/jpeg:https://www.maddhatterpro.com/wp-content/uploads/2026/02/spokes-tempe.jpg
END:VEVENT
BEGIN:VEVENT
DTSTART;TZID=UTC:20280808T200000
DTEND;TZID=UTC:20280808T200000
DTSTAMP:20260424T064652
CREATED:20250703T234609Z
LAST-MODIFIED:20260206T143724Z
UID:10021097-1849377600-1849377600@www.maddhatterpro.com
SUMMARY:Spokes on Southern Karaoke
DESCRIPTION:Great food\, great community oriented staff\, and stars like you make this  show a blast for the lovely KJ Wilde! Come sing the evening away 8pm-midnight. \n1470 E Southern Ave\, Tempe\, AZ 85282 \n+14803079920
URL:https://www.maddhatterpro.com/event/spokes-on-southern-karaoke/2028-08-08/
LOCATION:Spokes on Southern\, 1470 E Southern Ave\, Tempe\, AZ\, 85282\, United States
CATEGORIES:Karaoke,KJ Wilde
ATTACH;FMTTYPE=image/jpeg:https://www.maddhatterpro.com/wp-content/uploads/2026/02/spokes-tempe.jpg
END:VEVENT
BEGIN:VEVENT
DTSTART;TZID=UTC:20280815T200000
DTEND;TZID=UTC:20280815T200000
DTSTAMP:20260424T064652
CREATED:20250703T234609Z
LAST-MODIFIED:20260206T143724Z
UID:10021098-1849982400-1849982400@www.maddhatterpro.com
SUMMARY:Spokes on Southern Karaoke
DESCRIPTION:Great food\, great community oriented staff\, and stars like you make this  show a blast for the lovely KJ Wilde! Come sing the evening away 8pm-midnight. \n1470 E Southern Ave\, Tempe\, AZ 85282 \n+14803079920
URL:https://www.maddhatterpro.com/event/spokes-on-southern-karaoke/2028-08-15/
LOCATION:Spokes on Southern\, 1470 E Southern Ave\, Tempe\, AZ\, 85282\, United States
CATEGORIES:Karaoke,KJ Wilde
ATTACH;FMTTYPE=image/jpeg:https://www.maddhatterpro.com/wp-content/uploads/2026/02/spokes-tempe.jpg
END:VEVENT
BEGIN:VEVENT
DTSTART;TZID=UTC:20280822T200000
DTEND;TZID=UTC:20280822T200000
DTSTAMP:20260424T064652
CREATED:20250703T234609Z
LAST-MODIFIED:20260206T143724Z
UID:10021099-1850587200-1850587200@www.maddhatterpro.com
SUMMARY:Spokes on Southern Karaoke
DESCRIPTION:Great food\, great community oriented staff\, and stars like you make this  show a blast for the lovely KJ Wilde! Come sing the evening away 8pm-midnight. \n1470 E Southern Ave\, Tempe\, AZ 85282 \n+14803079920
URL:https://www.maddhatterpro.com/event/spokes-on-southern-karaoke/2028-08-22/
LOCATION:Spokes on Southern\, 1470 E Southern Ave\, Tempe\, AZ\, 85282\, United States
CATEGORIES:Karaoke,KJ Wilde
ATTACH;FMTTYPE=image/jpeg:https://www.maddhatterpro.com/wp-content/uploads/2026/02/spokes-tempe.jpg
END:VEVENT
BEGIN:VEVENT
DTSTART;TZID=UTC:20280829T200000
DTEND;TZID=UTC:20280829T200000
DTSTAMP:20260424T064652
CREATED:20250703T234609Z
LAST-MODIFIED:20260206T143724Z
UID:10021100-1851192000-1851192000@www.maddhatterpro.com
SUMMARY:Spokes on Southern Karaoke
DESCRIPTION:Great food\, great community oriented staff\, and stars like you make this  show a blast for the lovely KJ Wilde! Come sing the evening away 8pm-midnight. \n1470 E Southern Ave\, Tempe\, AZ 85282 \n+14803079920
URL:https://www.maddhatterpro.com/event/spokes-on-southern-karaoke/2028-08-29/
LOCATION:Spokes on Southern\, 1470 E Southern Ave\, Tempe\, AZ\, 85282\, United States
CATEGORIES:Karaoke,KJ Wilde
ATTACH;FMTTYPE=image/jpeg:https://www.maddhatterpro.com/wp-content/uploads/2026/02/spokes-tempe.jpg
END:VEVENT
BEGIN:VEVENT
DTSTART;TZID=UTC:20280905T200000
DTEND;TZID=UTC:20280905T200000
DTSTAMP:20260424T064652
CREATED:20250703T234609Z
LAST-MODIFIED:20260206T143724Z
UID:10021101-1851796800-1851796800@www.maddhatterpro.com
SUMMARY:Spokes on Southern Karaoke
DESCRIPTION:Great food\, great community oriented staff\, and stars like you make this  show a blast for the lovely KJ Wilde! Come sing the evening away 8pm-midnight. \n1470 E Southern Ave\, Tempe\, AZ 85282 \n+14803079920
URL:https://www.maddhatterpro.com/event/spokes-on-southern-karaoke/2028-09-05/
LOCATION:Spokes on Southern\, 1470 E Southern Ave\, Tempe\, AZ\, 85282\, United States
CATEGORIES:Karaoke,KJ Wilde
ATTACH;FMTTYPE=image/jpeg:https://www.maddhatterpro.com/wp-content/uploads/2026/02/spokes-tempe.jpg
END:VEVENT
BEGIN:VEVENT
DTSTART;TZID=UTC:20280912T200000
DTEND;TZID=UTC:20280912T200000
DTSTAMP:20260424T064652
CREATED:20250703T234609Z
LAST-MODIFIED:20260206T143724Z
UID:10021102-1852401600-1852401600@www.maddhatterpro.com
SUMMARY:Spokes on Southern Karaoke
DESCRIPTION:Great food\, great community oriented staff\, and stars like you make this  show a blast for the lovely KJ Wilde! Come sing the evening away 8pm-midnight. \n1470 E Southern Ave\, Tempe\, AZ 85282 \n+14803079920
URL:https://www.maddhatterpro.com/event/spokes-on-southern-karaoke/2028-09-12/
LOCATION:Spokes on Southern\, 1470 E Southern Ave\, Tempe\, AZ\, 85282\, United States
CATEGORIES:Karaoke,KJ Wilde
ATTACH;FMTTYPE=image/jpeg:https://www.maddhatterpro.com/wp-content/uploads/2026/02/spokes-tempe.jpg
END:VEVENT
BEGIN:VEVENT
DTSTART;TZID=UTC:20280919T200000
DTEND;TZID=UTC:20280919T200000
DTSTAMP:20260424T064652
CREATED:20250703T234609Z
LAST-MODIFIED:20260206T143724Z
UID:10021103-1853006400-1853006400@www.maddhatterpro.com
SUMMARY:Spokes on Southern Karaoke
DESCRIPTION:Great food\, great community oriented staff\, and stars like you make this  show a blast for the lovely KJ Wilde! Come sing the evening away 8pm-midnight. \n1470 E Southern Ave\, Tempe\, AZ 85282 \n+14803079920
URL:https://www.maddhatterpro.com/event/spokes-on-southern-karaoke/2028-09-19/
LOCATION:Spokes on Southern\, 1470 E Southern Ave\, Tempe\, AZ\, 85282\, United States
CATEGORIES:Karaoke,KJ Wilde
ATTACH;FMTTYPE=image/jpeg:https://www.maddhatterpro.com/wp-content/uploads/2026/02/spokes-tempe.jpg
END:VEVENT
BEGIN:VEVENT
DTSTART;TZID=UTC:20280926T200000
DTEND;TZID=UTC:20280926T200000
DTSTAMP:20260424T064652
CREATED:20250703T234609Z
LAST-MODIFIED:20260206T143724Z
UID:10021104-1853611200-1853611200@www.maddhatterpro.com
SUMMARY:Spokes on Southern Karaoke
DESCRIPTION:Great food\, great community oriented staff\, and stars like you make this  show a blast for the lovely KJ Wilde! Come sing the evening away 8pm-midnight. \n1470 E Southern Ave\, Tempe\, AZ 85282 \n+14803079920
URL:https://www.maddhatterpro.com/event/spokes-on-southern-karaoke/2028-09-26/
LOCATION:Spokes on Southern\, 1470 E Southern Ave\, Tempe\, AZ\, 85282\, United States
CATEGORIES:Karaoke,KJ Wilde
ATTACH;FMTTYPE=image/jpeg:https://www.maddhatterpro.com/wp-content/uploads/2026/02/spokes-tempe.jpg
END:VEVENT
BEGIN:VEVENT
DTSTART;TZID=UTC:20281003T200000
DTEND;TZID=UTC:20281003T200000
DTSTAMP:20260424T064652
CREATED:20250703T234609Z
LAST-MODIFIED:20260206T143724Z
UID:10021105-1854216000-1854216000@www.maddhatterpro.com
SUMMARY:Spokes on Southern Karaoke
DESCRIPTION:Great food\, great community oriented staff\, and stars like you make this  show a blast for the lovely KJ Wilde! Come sing the evening away 8pm-midnight. \n1470 E Southern Ave\, Tempe\, AZ 85282 \n+14803079920
URL:https://www.maddhatterpro.com/event/spokes-on-southern-karaoke/2028-10-03/
LOCATION:Spokes on Southern\, 1470 E Southern Ave\, Tempe\, AZ\, 85282\, United States
CATEGORIES:Karaoke,KJ Wilde
ATTACH;FMTTYPE=image/jpeg:https://www.maddhatterpro.com/wp-content/uploads/2026/02/spokes-tempe.jpg
END:VEVENT
BEGIN:VEVENT
DTSTART;TZID=UTC:20281010T200000
DTEND;TZID=UTC:20281010T200000
DTSTAMP:20260424T064652
CREATED:20250703T234609Z
LAST-MODIFIED:20260206T143724Z
UID:10021106-1854820800-1854820800@www.maddhatterpro.com
SUMMARY:Spokes on Southern Karaoke
DESCRIPTION:Great food\, great community oriented staff\, and stars like you make this  show a blast for the lovely KJ Wilde! Come sing the evening away 8pm-midnight. \n1470 E Southern Ave\, Tempe\, AZ 85282 \n+14803079920
URL:https://www.maddhatterpro.com/event/spokes-on-southern-karaoke/2028-10-10/
LOCATION:Spokes on Southern\, 1470 E Southern Ave\, Tempe\, AZ\, 85282\, United States
CATEGORIES:Karaoke,KJ Wilde
ATTACH;FMTTYPE=image/jpeg:https://www.maddhatterpro.com/wp-content/uploads/2026/02/spokes-tempe.jpg
END:VEVENT
BEGIN:VEVENT
DTSTART;TZID=UTC:20281017T200000
DTEND;TZID=UTC:20281017T200000
DTSTAMP:20260424T064652
CREATED:20250703T234609Z
LAST-MODIFIED:20260206T143724Z
UID:10021107-1855425600-1855425600@www.maddhatterpro.com
SUMMARY:Spokes on Southern Karaoke
DESCRIPTION:Great food\, great community oriented staff\, and stars like you make this  show a blast for the lovely KJ Wilde! Come sing the evening away 8pm-midnight. \n1470 E Southern Ave\, Tempe\, AZ 85282 \n+14803079920
URL:https://www.maddhatterpro.com/event/spokes-on-southern-karaoke/2028-10-17/
LOCATION:Spokes on Southern\, 1470 E Southern Ave\, Tempe\, AZ\, 85282\, United States
CATEGORIES:Karaoke,KJ Wilde
ATTACH;FMTTYPE=image/jpeg:https://www.maddhatterpro.com/wp-content/uploads/2026/02/spokes-tempe.jpg
END:VEVENT
BEGIN:VEVENT
DTSTART;TZID=UTC:20281024T200000
DTEND;TZID=UTC:20281024T200000
DTSTAMP:20260424T064652
CREATED:20250703T234609Z
LAST-MODIFIED:20260206T143724Z
UID:10021108-1856030400-1856030400@www.maddhatterpro.com
SUMMARY:Spokes on Southern Karaoke
DESCRIPTION:Great food\, great community oriented staff\, and stars like you make this  show a blast for the lovely KJ Wilde! Come sing the evening away 8pm-midnight. \n1470 E Southern Ave\, Tempe\, AZ 85282 \n+14803079920
URL:https://www.maddhatterpro.com/event/spokes-on-southern-karaoke/2028-10-24/
LOCATION:Spokes on Southern\, 1470 E Southern Ave\, Tempe\, AZ\, 85282\, United States
CATEGORIES:Karaoke,KJ Wilde
ATTACH;FMTTYPE=image/jpeg:https://www.maddhatterpro.com/wp-content/uploads/2026/02/spokes-tempe.jpg
END:VEVENT
BEGIN:VEVENT
DTSTART;TZID=UTC:20281031T200000
DTEND;TZID=UTC:20281031T200000
DTSTAMP:20260424T064652
CREATED:20250703T234609Z
LAST-MODIFIED:20260206T143724Z
UID:10021109-1856635200-1856635200@www.maddhatterpro.com
SUMMARY:Spokes on Southern Karaoke
DESCRIPTION:Great food\, great community oriented staff\, and stars like you make this  show a blast for the lovely KJ Wilde! Come sing the evening away 8pm-midnight. \n1470 E Southern Ave\, Tempe\, AZ 85282 \n+14803079920
URL:https://www.maddhatterpro.com/event/spokes-on-southern-karaoke/2028-10-31/
LOCATION:Spokes on Southern\, 1470 E Southern Ave\, Tempe\, AZ\, 85282\, United States
CATEGORIES:Karaoke,KJ Wilde
ATTACH;FMTTYPE=image/jpeg:https://www.maddhatterpro.com/wp-content/uploads/2026/02/spokes-tempe.jpg
END:VEVENT
BEGIN:VEVENT
DTSTART;TZID=UTC:20281107T200000
DTEND;TZID=UTC:20281107T200000
DTSTAMP:20260424T064652
CREATED:20250703T234609Z
LAST-MODIFIED:20260206T143724Z
UID:10021110-1857240000-1857240000@www.maddhatterpro.com
SUMMARY:Spokes on Southern Karaoke
DESCRIPTION:Great food\, great community oriented staff\, and stars like you make this  show a blast for the lovely KJ Wilde! Come sing the evening away 8pm-midnight. \n1470 E Southern Ave\, Tempe\, AZ 85282 \n+14803079920
URL:https://www.maddhatterpro.com/event/spokes-on-southern-karaoke/2028-11-07/
LOCATION:Spokes on Southern\, 1470 E Southern Ave\, Tempe\, AZ\, 85282\, United States
CATEGORIES:Karaoke,KJ Wilde
ATTACH;FMTTYPE=image/jpeg:https://www.maddhatterpro.com/wp-content/uploads/2026/02/spokes-tempe.jpg
END:VEVENT
BEGIN:VEVENT
DTSTART;TZID=UTC:20281114T200000
DTEND;TZID=UTC:20281114T200000
DTSTAMP:20260424T064652
CREATED:20250703T234609Z
LAST-MODIFIED:20260206T143724Z
UID:10021111-1857844800-1857844800@www.maddhatterpro.com
SUMMARY:Spokes on Southern Karaoke
DESCRIPTION:Great food\, great community oriented staff\, and stars like you make this  show a blast for the lovely KJ Wilde! Come sing the evening away 8pm-midnight. \n1470 E Southern Ave\, Tempe\, AZ 85282 \n+14803079920
URL:https://www.maddhatterpro.com/event/spokes-on-southern-karaoke/2028-11-14/
LOCATION:Spokes on Southern\, 1470 E Southern Ave\, Tempe\, AZ\, 85282\, United States
CATEGORIES:Karaoke,KJ Wilde
ATTACH;FMTTYPE=image/jpeg:https://www.maddhatterpro.com/wp-content/uploads/2026/02/spokes-tempe.jpg
END:VEVENT
BEGIN:VEVENT
DTSTART;TZID=UTC:20281121T200000
DTEND;TZID=UTC:20281121T200000
DTSTAMP:20260424T064652
CREATED:20250703T234609Z
LAST-MODIFIED:20260206T143724Z
UID:10021112-1858449600-1858449600@www.maddhatterpro.com
SUMMARY:Spokes on Southern Karaoke
DESCRIPTION:Great food\, great community oriented staff\, and stars like you make this  show a blast for the lovely KJ Wilde! Come sing the evening away 8pm-midnight. \n1470 E Southern Ave\, Tempe\, AZ 85282 \n+14803079920
URL:https://www.maddhatterpro.com/event/spokes-on-southern-karaoke/2028-11-21/
LOCATION:Spokes on Southern\, 1470 E Southern Ave\, Tempe\, AZ\, 85282\, United States
CATEGORIES:Karaoke,KJ Wilde
ATTACH;FMTTYPE=image/jpeg:https://www.maddhatterpro.com/wp-content/uploads/2026/02/spokes-tempe.jpg
END:VEVENT
BEGIN:VEVENT
DTSTART;TZID=UTC:20281128T200000
DTEND;TZID=UTC:20281128T200000
DTSTAMP:20260424T064652
CREATED:20250703T234609Z
LAST-MODIFIED:20260206T143724Z
UID:10021113-1859054400-1859054400@www.maddhatterpro.com
SUMMARY:Spokes on Southern Karaoke
DESCRIPTION:Great food\, great community oriented staff\, and stars like you make this  show a blast for the lovely KJ Wilde! Come sing the evening away 8pm-midnight. \n1470 E Southern Ave\, Tempe\, AZ 85282 \n+14803079920
URL:https://www.maddhatterpro.com/event/spokes-on-southern-karaoke/2028-11-28/
LOCATION:Spokes on Southern\, 1470 E Southern Ave\, Tempe\, AZ\, 85282\, United States
CATEGORIES:Karaoke,KJ Wilde
ATTACH;FMTTYPE=image/jpeg:https://www.maddhatterpro.com/wp-content/uploads/2026/02/spokes-tempe.jpg
END:VEVENT
BEGIN:VEVENT
DTSTART;TZID=UTC:20281205T200000
DTEND;TZID=UTC:20281205T200000
DTSTAMP:20260424T064652
CREATED:20250703T234609Z
LAST-MODIFIED:20260206T143724Z
UID:10021114-1859659200-1859659200@www.maddhatterpro.com
SUMMARY:Spokes on Southern Karaoke
DESCRIPTION:Great food\, great community oriented staff\, and stars like you make this  show a blast for the lovely KJ Wilde! Come sing the evening away 8pm-midnight. \n1470 E Southern Ave\, Tempe\, AZ 85282 \n+14803079920
URL:https://www.maddhatterpro.com/event/spokes-on-southern-karaoke/2028-12-05/
LOCATION:Spokes on Southern\, 1470 E Southern Ave\, Tempe\, AZ\, 85282\, United States
CATEGORIES:Karaoke,KJ Wilde
ATTACH;FMTTYPE=image/jpeg:https://www.maddhatterpro.com/wp-content/uploads/2026/02/spokes-tempe.jpg
END:VEVENT
BEGIN:VEVENT
DTSTART;TZID=UTC:20281212T200000
DTEND;TZID=UTC:20281212T200000
DTSTAMP:20260424T064652
CREATED:20250703T234609Z
LAST-MODIFIED:20260206T143724Z
UID:10021115-1860264000-1860264000@www.maddhatterpro.com
SUMMARY:Spokes on Southern Karaoke
DESCRIPTION:Great food\, great community oriented staff\, and stars like you make this  show a blast for the lovely KJ Wilde! Come sing the evening away 8pm-midnight. \n1470 E Southern Ave\, Tempe\, AZ 85282 \n+14803079920
URL:https://www.maddhatterpro.com/event/spokes-on-southern-karaoke/2028-12-12/
LOCATION:Spokes on Southern\, 1470 E Southern Ave\, Tempe\, AZ\, 85282\, United States
CATEGORIES:Karaoke,KJ Wilde
ATTACH;FMTTYPE=image/jpeg:https://www.maddhatterpro.com/wp-content/uploads/2026/02/spokes-tempe.jpg
END:VEVENT
END:VCALENDAR