BEGIN:VCALENDAR
VERSION:2.0
PRODID:-//MaddHatterPro.com - ECPv6.15.20//NONSGML v1.0//EN
CALSCALE:GREGORIAN
METHOD:PUBLISH
X-WR-CALNAME:MaddHatterPro.com
X-ORIGINAL-URL:https://www.maddhatterpro.com
X-WR-CALDESC:Events for MaddHatterPro.com
REFRESH-INTERVAL;VALUE=DURATION:PT1H
X-Robots-Tag:noindex
X-PUBLISHED-TTL:PT1H
BEGIN:VTIMEZONE
TZID:UTC
BEGIN:STANDARD
TZOFFSETFROM:+0000
TZOFFSETTO:+0000
TZNAME:UTC
DTSTART:20240101T000000
END:STANDARD
END:VTIMEZONE
BEGIN:VEVENT
DTSTART;TZID=UTC:20250808T190000
DTEND;TZID=UTC:20250808T190000
DTSTAMP:20260423T232046
CREATED:20250704T003329Z
LAST-MODIFIED:20260206T144450Z
UID:10023033-1754679600-1754679600@www.maddhatterpro.com
SUMMARY:Silver Key Lounge Trivia
DESCRIPTION:Do YOU think you know it all? Welcome to Arizona’s toughest trivia! SKL is an amazing beer/wine bar for table top gaming\, with an oasis of tables to play at. Try their subs and play in the most competitive trivia in the east valley. KJ Skribbz bringing the questions that might make you scratch your head\, and intrigue you at the same time. Lets have some fun\, IF you have what it takes. 7pm-till we’re done \n1837 W Guadalupe Rd Suite 105\, Mesa\, AZ 85202 \n+14805344060
URL:https://www.maddhatterpro.com/event/silver-key-lounge-trivia/2025-08-08/
LOCATION:Silver Key Lounge\, 1837 W Guadalupe Rd Suite 105\, Mesa\, AZ\, 85202\, United States
CATEGORIES:KJ Skribbz,Trivia
ATTACH;FMTTYPE=image/jpeg:https://www.maddhatterpro.com/wp-content/uploads/2026/02/SKL-Mesa.jpg
END:VEVENT
BEGIN:VEVENT
DTSTART;TZID=UTC:20250801T190000
DTEND;TZID=UTC:20250801T190000
DTSTAMP:20260423T232046
CREATED:20250704T003329Z
LAST-MODIFIED:20260206T144450Z
UID:10023032-1754074800-1754074800@www.maddhatterpro.com
SUMMARY:Silver Key Lounge Trivia
DESCRIPTION:Do YOU think you know it all? Welcome to Arizona’s toughest trivia! SKL is an amazing beer/wine bar for table top gaming\, with an oasis of tables to play at. Try their subs and play in the most competitive trivia in the east valley. KJ Skribbz bringing the questions that might make you scratch your head\, and intrigue you at the same time. Lets have some fun\, IF you have what it takes. 7pm-till we’re done \n1837 W Guadalupe Rd Suite 105\, Mesa\, AZ 85202 \n+14805344060
URL:https://www.maddhatterpro.com/event/silver-key-lounge-trivia/2025-08-01/
LOCATION:Silver Key Lounge\, 1837 W Guadalupe Rd Suite 105\, Mesa\, AZ\, 85202\, United States
CATEGORIES:KJ Skribbz,Trivia
ATTACH;FMTTYPE=image/jpeg:https://www.maddhatterpro.com/wp-content/uploads/2026/02/SKL-Mesa.jpg
END:VEVENT
BEGIN:VEVENT
DTSTART;TZID=UTC:20250725T190000
DTEND;TZID=UTC:20250725T190000
DTSTAMP:20260423T232046
CREATED:20250704T003329Z
LAST-MODIFIED:20260206T144450Z
UID:10023031-1753470000-1753470000@www.maddhatterpro.com
SUMMARY:Silver Key Lounge Trivia
DESCRIPTION:Do YOU think you know it all? Welcome to Arizona’s toughest trivia! SKL is an amazing beer/wine bar for table top gaming\, with an oasis of tables to play at. Try their subs and play in the most competitive trivia in the east valley. KJ Skribbz bringing the questions that might make you scratch your head\, and intrigue you at the same time. Lets have some fun\, IF you have what it takes. 7pm-till we’re done \n1837 W Guadalupe Rd Suite 105\, Mesa\, AZ 85202 \n+14805344060
URL:https://www.maddhatterpro.com/event/silver-key-lounge-trivia/2025-07-25/
LOCATION:Silver Key Lounge\, 1837 W Guadalupe Rd Suite 105\, Mesa\, AZ\, 85202\, United States
CATEGORIES:KJ Skribbz,Trivia
ATTACH;FMTTYPE=image/jpeg:https://www.maddhatterpro.com/wp-content/uploads/2026/02/SKL-Mesa.jpg
END:VEVENT
BEGIN:VEVENT
DTSTART;TZID=UTC:20250718T190000
DTEND;TZID=UTC:20250718T190000
DTSTAMP:20260423T232046
CREATED:20250704T003329Z
LAST-MODIFIED:20260206T144450Z
UID:10023030-1752865200-1752865200@www.maddhatterpro.com
SUMMARY:Silver Key Lounge Trivia
DESCRIPTION:Do YOU think you know it all? Welcome to Arizona’s toughest trivia! SKL is an amazing beer/wine bar for table top gaming\, with an oasis of tables to play at. Try their subs and play in the most competitive trivia in the east valley. KJ Skribbz bringing the questions that might make you scratch your head\, and intrigue you at the same time. Lets have some fun\, IF you have what it takes. 7pm-till we’re done \n1837 W Guadalupe Rd Suite 105\, Mesa\, AZ 85202 \n+14805344060
URL:https://www.maddhatterpro.com/event/silver-key-lounge-trivia/2025-07-18/
LOCATION:Silver Key Lounge\, 1837 W Guadalupe Rd Suite 105\, Mesa\, AZ\, 85202\, United States
CATEGORIES:KJ Skribbz,Trivia
ATTACH;FMTTYPE=image/jpeg:https://www.maddhatterpro.com/wp-content/uploads/2026/02/SKL-Mesa.jpg
END:VEVENT
BEGIN:VEVENT
DTSTART;TZID=UTC:20250711T190000
DTEND;TZID=UTC:20250711T190000
DTSTAMP:20260423T232046
CREATED:20250704T003329Z
LAST-MODIFIED:20260206T144450Z
UID:10023029-1752260400-1752260400@www.maddhatterpro.com
SUMMARY:Silver Key Lounge Trivia
DESCRIPTION:Do YOU think you know it all? Welcome to Arizona’s toughest trivia! SKL is an amazing beer/wine bar for table top gaming\, with an oasis of tables to play at. Try their subs and play in the most competitive trivia in the east valley. KJ Skribbz bringing the questions that might make you scratch your head\, and intrigue you at the same time. Lets have some fun\, IF you have what it takes. 7pm-till we’re done \n1837 W Guadalupe Rd Suite 105\, Mesa\, AZ 85202 \n+14805344060
URL:https://www.maddhatterpro.com/event/silver-key-lounge-trivia/2025-07-11/
LOCATION:Silver Key Lounge\, 1837 W Guadalupe Rd Suite 105\, Mesa\, AZ\, 85202\, United States
CATEGORIES:KJ Skribbz,Trivia
ATTACH;FMTTYPE=image/jpeg:https://www.maddhatterpro.com/wp-content/uploads/2026/02/SKL-Mesa.jpg
END:VEVENT
BEGIN:VEVENT
DTSTART;TZID=UTC:20250704T190000
DTEND;TZID=UTC:20250704T190000
DTSTAMP:20260423T232046
CREATED:20250704T003329Z
LAST-MODIFIED:20260206T144450Z
UID:10023028-1751655600-1751655600@www.maddhatterpro.com
SUMMARY:Silver Key Lounge Trivia
DESCRIPTION:Do YOU think you know it all? Welcome to Arizona’s toughest trivia! SKL is an amazing beer/wine bar for table top gaming\, with an oasis of tables to play at. Try their subs and play in the most competitive trivia in the east valley. KJ Skribbz bringing the questions that might make you scratch your head\, and intrigue you at the same time. Lets have some fun\, IF you have what it takes. 7pm-till we’re done \n1837 W Guadalupe Rd Suite 105\, Mesa\, AZ 85202 \n+14805344060
URL:https://www.maddhatterpro.com/event/silver-key-lounge-trivia/2025-07-04/
LOCATION:Silver Key Lounge\, 1837 W Guadalupe Rd Suite 105\, Mesa\, AZ\, 85202\, United States
CATEGORIES:KJ Skribbz,Trivia
ATTACH;FMTTYPE=image/jpeg:https://www.maddhatterpro.com/wp-content/uploads/2026/02/SKL-Mesa.jpg
END:VEVENT
END:VCALENDAR