BEGIN:VCALENDAR
VERSION:2.0
PRODID:-//MaddHatterPro.com - ECPv6.15.20//NONSGML v1.0//EN
CALSCALE:GREGORIAN
METHOD:PUBLISH
X-ORIGINAL-URL:https://www.maddhatterpro.com
X-WR-CALDESC:Events for MaddHatterPro.com
REFRESH-INTERVAL;VALUE=DURATION:PT1H
X-Robots-Tag:noindex
X-PUBLISHED-TTL:PT1H
BEGIN:VTIMEZONE
TZID:UTC
BEGIN:STANDARD
TZOFFSETFROM:+0000
TZOFFSETTO:+0000
TZNAME:UTC
DTSTART:20290101T000000
END:STANDARD
END:VTIMEZONE
BEGIN:VEVENT
DTSTART;TZID=UTC:20300913T190000
DTEND;TZID=UTC:20300913T190000
DTSTAMP:20260424T211036
CREATED:20250704T003329Z
LAST-MODIFIED:20260206T144450Z
UID:10024898-1915556400-1915556400@www.maddhatterpro.com
SUMMARY:Silver Key Lounge Trivia
DESCRIPTION:Do YOU think you know it all? Welcome to Arizona’s toughest trivia! SKL is an amazing beer/wine bar for table top gaming\, with an oasis of tables to play at. Try their subs and play in the most competitive trivia in the east valley. KJ Skribbz bringing the questions that might make you scratch your head\, and intrigue you at the same time. Lets have some fun\, IF you have what it takes. 7pm-till we’re done \n1837 W Guadalupe Rd Suite 105\, Mesa\, AZ 85202 \n+14805344060
URL:https://www.maddhatterpro.com/event/silver-key-lounge-trivia/2030-09-13/
LOCATION:Silver Key Lounge\, 1837 W Guadalupe Rd Suite 105\, Mesa\, AZ\, 85202\, United States
CATEGORIES:KJ Skribbz,Trivia
ATTACH;FMTTYPE=image/jpeg:https://www.maddhatterpro.com/wp-content/uploads/2026/02/SKL-Mesa.jpg
END:VEVENT
BEGIN:VEVENT
DTSTART;TZID=UTC:20300920T190000
DTEND;TZID=UTC:20300920T190000
DTSTAMP:20260424T211036
CREATED:20250704T003329Z
LAST-MODIFIED:20260206T144450Z
UID:10024899-1916161200-1916161200@www.maddhatterpro.com
SUMMARY:Silver Key Lounge Trivia
DESCRIPTION:Do YOU think you know it all? Welcome to Arizona’s toughest trivia! SKL is an amazing beer/wine bar for table top gaming\, with an oasis of tables to play at. Try their subs and play in the most competitive trivia in the east valley. KJ Skribbz bringing the questions that might make you scratch your head\, and intrigue you at the same time. Lets have some fun\, IF you have what it takes. 7pm-till we’re done \n1837 W Guadalupe Rd Suite 105\, Mesa\, AZ 85202 \n+14805344060
URL:https://www.maddhatterpro.com/event/silver-key-lounge-trivia/2030-09-20/
LOCATION:Silver Key Lounge\, 1837 W Guadalupe Rd Suite 105\, Mesa\, AZ\, 85202\, United States
CATEGORIES:KJ Skribbz,Trivia
ATTACH;FMTTYPE=image/jpeg:https://www.maddhatterpro.com/wp-content/uploads/2026/02/SKL-Mesa.jpg
END:VEVENT
BEGIN:VEVENT
DTSTART;TZID=UTC:20300927T190000
DTEND;TZID=UTC:20300927T190000
DTSTAMP:20260424T211036
CREATED:20250704T003329Z
LAST-MODIFIED:20260206T144450Z
UID:10024900-1916766000-1916766000@www.maddhatterpro.com
SUMMARY:Silver Key Lounge Trivia
DESCRIPTION:Do YOU think you know it all? Welcome to Arizona’s toughest trivia! SKL is an amazing beer/wine bar for table top gaming\, with an oasis of tables to play at. Try their subs and play in the most competitive trivia in the east valley. KJ Skribbz bringing the questions that might make you scratch your head\, and intrigue you at the same time. Lets have some fun\, IF you have what it takes. 7pm-till we’re done \n1837 W Guadalupe Rd Suite 105\, Mesa\, AZ 85202 \n+14805344060
URL:https://www.maddhatterpro.com/event/silver-key-lounge-trivia/2030-09-27/
LOCATION:Silver Key Lounge\, 1837 W Guadalupe Rd Suite 105\, Mesa\, AZ\, 85202\, United States
CATEGORIES:KJ Skribbz,Trivia
ATTACH;FMTTYPE=image/jpeg:https://www.maddhatterpro.com/wp-content/uploads/2026/02/SKL-Mesa.jpg
END:VEVENT
BEGIN:VEVENT
DTSTART;TZID=UTC:20301004T190000
DTEND;TZID=UTC:20301004T190000
DTSTAMP:20260424T211036
CREATED:20250704T003329Z
LAST-MODIFIED:20260206T144450Z
UID:10024901-1917370800-1917370800@www.maddhatterpro.com
SUMMARY:Silver Key Lounge Trivia
DESCRIPTION:Do YOU think you know it all? Welcome to Arizona’s toughest trivia! SKL is an amazing beer/wine bar for table top gaming\, with an oasis of tables to play at. Try their subs and play in the most competitive trivia in the east valley. KJ Skribbz bringing the questions that might make you scratch your head\, and intrigue you at the same time. Lets have some fun\, IF you have what it takes. 7pm-till we’re done \n1837 W Guadalupe Rd Suite 105\, Mesa\, AZ 85202 \n+14805344060
URL:https://www.maddhatterpro.com/event/silver-key-lounge-trivia/2030-10-04/
LOCATION:Silver Key Lounge\, 1837 W Guadalupe Rd Suite 105\, Mesa\, AZ\, 85202\, United States
CATEGORIES:KJ Skribbz,Trivia
ATTACH;FMTTYPE=image/jpeg:https://www.maddhatterpro.com/wp-content/uploads/2026/02/SKL-Mesa.jpg
END:VEVENT
BEGIN:VEVENT
DTSTART;TZID=UTC:20301011T190000
DTEND;TZID=UTC:20301011T190000
DTSTAMP:20260424T211036
CREATED:20250704T003329Z
LAST-MODIFIED:20260206T144450Z
UID:10024902-1917975600-1917975600@www.maddhatterpro.com
SUMMARY:Silver Key Lounge Trivia
DESCRIPTION:Do YOU think you know it all? Welcome to Arizona’s toughest trivia! SKL is an amazing beer/wine bar for table top gaming\, with an oasis of tables to play at. Try their subs and play in the most competitive trivia in the east valley. KJ Skribbz bringing the questions that might make you scratch your head\, and intrigue you at the same time. Lets have some fun\, IF you have what it takes. 7pm-till we’re done \n1837 W Guadalupe Rd Suite 105\, Mesa\, AZ 85202 \n+14805344060
URL:https://www.maddhatterpro.com/event/silver-key-lounge-trivia/2030-10-11/
LOCATION:Silver Key Lounge\, 1837 W Guadalupe Rd Suite 105\, Mesa\, AZ\, 85202\, United States
CATEGORIES:KJ Skribbz,Trivia
ATTACH;FMTTYPE=image/jpeg:https://www.maddhatterpro.com/wp-content/uploads/2026/02/SKL-Mesa.jpg
END:VEVENT
BEGIN:VEVENT
DTSTART;TZID=UTC:20301018T190000
DTEND;TZID=UTC:20301018T190000
DTSTAMP:20260424T211036
CREATED:20250704T003329Z
LAST-MODIFIED:20260206T144450Z
UID:10024903-1918580400-1918580400@www.maddhatterpro.com
SUMMARY:Silver Key Lounge Trivia
DESCRIPTION:Do YOU think you know it all? Welcome to Arizona’s toughest trivia! SKL is an amazing beer/wine bar for table top gaming\, with an oasis of tables to play at. Try their subs and play in the most competitive trivia in the east valley. KJ Skribbz bringing the questions that might make you scratch your head\, and intrigue you at the same time. Lets have some fun\, IF you have what it takes. 7pm-till we’re done \n1837 W Guadalupe Rd Suite 105\, Mesa\, AZ 85202 \n+14805344060
URL:https://www.maddhatterpro.com/event/silver-key-lounge-trivia/2030-10-18/
LOCATION:Silver Key Lounge\, 1837 W Guadalupe Rd Suite 105\, Mesa\, AZ\, 85202\, United States
CATEGORIES:KJ Skribbz,Trivia
ATTACH;FMTTYPE=image/jpeg:https://www.maddhatterpro.com/wp-content/uploads/2026/02/SKL-Mesa.jpg
END:VEVENT
BEGIN:VEVENT
DTSTART;TZID=UTC:20301025T190000
DTEND;TZID=UTC:20301025T190000
DTSTAMP:20260424T211036
CREATED:20250704T003329Z
LAST-MODIFIED:20260206T144450Z
UID:10024904-1919185200-1919185200@www.maddhatterpro.com
SUMMARY:Silver Key Lounge Trivia
DESCRIPTION:Do YOU think you know it all? Welcome to Arizona’s toughest trivia! SKL is an amazing beer/wine bar for table top gaming\, with an oasis of tables to play at. Try their subs and play in the most competitive trivia in the east valley. KJ Skribbz bringing the questions that might make you scratch your head\, and intrigue you at the same time. Lets have some fun\, IF you have what it takes. 7pm-till we’re done \n1837 W Guadalupe Rd Suite 105\, Mesa\, AZ 85202 \n+14805344060
URL:https://www.maddhatterpro.com/event/silver-key-lounge-trivia/2030-10-25/
LOCATION:Silver Key Lounge\, 1837 W Guadalupe Rd Suite 105\, Mesa\, AZ\, 85202\, United States
CATEGORIES:KJ Skribbz,Trivia
ATTACH;FMTTYPE=image/jpeg:https://www.maddhatterpro.com/wp-content/uploads/2026/02/SKL-Mesa.jpg
END:VEVENT
BEGIN:VEVENT
DTSTART;TZID=UTC:20301101T190000
DTEND;TZID=UTC:20301101T190000
DTSTAMP:20260424T211036
CREATED:20250704T003329Z
LAST-MODIFIED:20260206T144450Z
UID:10024905-1919790000-1919790000@www.maddhatterpro.com
SUMMARY:Silver Key Lounge Trivia
DESCRIPTION:Do YOU think you know it all? Welcome to Arizona’s toughest trivia! SKL is an amazing beer/wine bar for table top gaming\, with an oasis of tables to play at. Try their subs and play in the most competitive trivia in the east valley. KJ Skribbz bringing the questions that might make you scratch your head\, and intrigue you at the same time. Lets have some fun\, IF you have what it takes. 7pm-till we’re done \n1837 W Guadalupe Rd Suite 105\, Mesa\, AZ 85202 \n+14805344060
URL:https://www.maddhatterpro.com/event/silver-key-lounge-trivia/2030-11-01/
LOCATION:Silver Key Lounge\, 1837 W Guadalupe Rd Suite 105\, Mesa\, AZ\, 85202\, United States
CATEGORIES:KJ Skribbz,Trivia
ATTACH;FMTTYPE=image/jpeg:https://www.maddhatterpro.com/wp-content/uploads/2026/02/SKL-Mesa.jpg
END:VEVENT
BEGIN:VEVENT
DTSTART;TZID=UTC:20301108T190000
DTEND;TZID=UTC:20301108T190000
DTSTAMP:20260424T211036
CREATED:20250704T003329Z
LAST-MODIFIED:20260206T144450Z
UID:10024906-1920394800-1920394800@www.maddhatterpro.com
SUMMARY:Silver Key Lounge Trivia
DESCRIPTION:Do YOU think you know it all? Welcome to Arizona’s toughest trivia! SKL is an amazing beer/wine bar for table top gaming\, with an oasis of tables to play at. Try their subs and play in the most competitive trivia in the east valley. KJ Skribbz bringing the questions that might make you scratch your head\, and intrigue you at the same time. Lets have some fun\, IF you have what it takes. 7pm-till we’re done \n1837 W Guadalupe Rd Suite 105\, Mesa\, AZ 85202 \n+14805344060
URL:https://www.maddhatterpro.com/event/silver-key-lounge-trivia/2030-11-08/
LOCATION:Silver Key Lounge\, 1837 W Guadalupe Rd Suite 105\, Mesa\, AZ\, 85202\, United States
CATEGORIES:KJ Skribbz,Trivia
ATTACH;FMTTYPE=image/jpeg:https://www.maddhatterpro.com/wp-content/uploads/2026/02/SKL-Mesa.jpg
END:VEVENT
BEGIN:VEVENT
DTSTART;TZID=UTC:20301115T190000
DTEND;TZID=UTC:20301115T190000
DTSTAMP:20260424T211036
CREATED:20250704T003329Z
LAST-MODIFIED:20260206T144450Z
UID:10024907-1920999600-1920999600@www.maddhatterpro.com
SUMMARY:Silver Key Lounge Trivia
DESCRIPTION:Do YOU think you know it all? Welcome to Arizona’s toughest trivia! SKL is an amazing beer/wine bar for table top gaming\, with an oasis of tables to play at. Try their subs and play in the most competitive trivia in the east valley. KJ Skribbz bringing the questions that might make you scratch your head\, and intrigue you at the same time. Lets have some fun\, IF you have what it takes. 7pm-till we’re done \n1837 W Guadalupe Rd Suite 105\, Mesa\, AZ 85202 \n+14805344060
URL:https://www.maddhatterpro.com/event/silver-key-lounge-trivia/2030-11-15/
LOCATION:Silver Key Lounge\, 1837 W Guadalupe Rd Suite 105\, Mesa\, AZ\, 85202\, United States
CATEGORIES:KJ Skribbz,Trivia
ATTACH;FMTTYPE=image/jpeg:https://www.maddhatterpro.com/wp-content/uploads/2026/02/SKL-Mesa.jpg
END:VEVENT
BEGIN:VEVENT
DTSTART;TZID=UTC:20301122T190000
DTEND;TZID=UTC:20301122T190000
DTSTAMP:20260424T211036
CREATED:20250704T003329Z
LAST-MODIFIED:20260206T144450Z
UID:10024908-1921604400-1921604400@www.maddhatterpro.com
SUMMARY:Silver Key Lounge Trivia
DESCRIPTION:Do YOU think you know it all? Welcome to Arizona’s toughest trivia! SKL is an amazing beer/wine bar for table top gaming\, with an oasis of tables to play at. Try their subs and play in the most competitive trivia in the east valley. KJ Skribbz bringing the questions that might make you scratch your head\, and intrigue you at the same time. Lets have some fun\, IF you have what it takes. 7pm-till we’re done \n1837 W Guadalupe Rd Suite 105\, Mesa\, AZ 85202 \n+14805344060
URL:https://www.maddhatterpro.com/event/silver-key-lounge-trivia/2030-11-22/
LOCATION:Silver Key Lounge\, 1837 W Guadalupe Rd Suite 105\, Mesa\, AZ\, 85202\, United States
CATEGORIES:KJ Skribbz,Trivia
ATTACH;FMTTYPE=image/jpeg:https://www.maddhatterpro.com/wp-content/uploads/2026/02/SKL-Mesa.jpg
END:VEVENT
BEGIN:VEVENT
DTSTART;TZID=UTC:20301129T190000
DTEND;TZID=UTC:20301129T190000
DTSTAMP:20260424T211036
CREATED:20250704T003329Z
LAST-MODIFIED:20260206T144450Z
UID:10024909-1922209200-1922209200@www.maddhatterpro.com
SUMMARY:Silver Key Lounge Trivia
DESCRIPTION:Do YOU think you know it all? Welcome to Arizona’s toughest trivia! SKL is an amazing beer/wine bar for table top gaming\, with an oasis of tables to play at. Try their subs and play in the most competitive trivia in the east valley. KJ Skribbz bringing the questions that might make you scratch your head\, and intrigue you at the same time. Lets have some fun\, IF you have what it takes. 7pm-till we’re done \n1837 W Guadalupe Rd Suite 105\, Mesa\, AZ 85202 \n+14805344060
URL:https://www.maddhatterpro.com/event/silver-key-lounge-trivia/2030-11-29/
LOCATION:Silver Key Lounge\, 1837 W Guadalupe Rd Suite 105\, Mesa\, AZ\, 85202\, United States
CATEGORIES:KJ Skribbz,Trivia
ATTACH;FMTTYPE=image/jpeg:https://www.maddhatterpro.com/wp-content/uploads/2026/02/SKL-Mesa.jpg
END:VEVENT
BEGIN:VEVENT
DTSTART;TZID=UTC:20301206T190000
DTEND;TZID=UTC:20301206T190000
DTSTAMP:20260424T211036
CREATED:20250704T003329Z
LAST-MODIFIED:20260206T144450Z
UID:10024910-1922814000-1922814000@www.maddhatterpro.com
SUMMARY:Silver Key Lounge Trivia
DESCRIPTION:Do YOU think you know it all? Welcome to Arizona’s toughest trivia! SKL is an amazing beer/wine bar for table top gaming\, with an oasis of tables to play at. Try their subs and play in the most competitive trivia in the east valley. KJ Skribbz bringing the questions that might make you scratch your head\, and intrigue you at the same time. Lets have some fun\, IF you have what it takes. 7pm-till we’re done \n1837 W Guadalupe Rd Suite 105\, Mesa\, AZ 85202 \n+14805344060
URL:https://www.maddhatterpro.com/event/silver-key-lounge-trivia/2030-12-06/
LOCATION:Silver Key Lounge\, 1837 W Guadalupe Rd Suite 105\, Mesa\, AZ\, 85202\, United States
CATEGORIES:KJ Skribbz,Trivia
ATTACH;FMTTYPE=image/jpeg:https://www.maddhatterpro.com/wp-content/uploads/2026/02/SKL-Mesa.jpg
END:VEVENT
BEGIN:VEVENT
DTSTART;TZID=UTC:20301213T190000
DTEND;TZID=UTC:20301213T190000
DTSTAMP:20260424T211036
CREATED:20250704T003329Z
LAST-MODIFIED:20260206T144450Z
UID:10024911-1923418800-1923418800@www.maddhatterpro.com
SUMMARY:Silver Key Lounge Trivia
DESCRIPTION:Do YOU think you know it all? Welcome to Arizona’s toughest trivia! SKL is an amazing beer/wine bar for table top gaming\, with an oasis of tables to play at. Try their subs and play in the most competitive trivia in the east valley. KJ Skribbz bringing the questions that might make you scratch your head\, and intrigue you at the same time. Lets have some fun\, IF you have what it takes. 7pm-till we’re done \n1837 W Guadalupe Rd Suite 105\, Mesa\, AZ 85202 \n+14805344060
URL:https://www.maddhatterpro.com/event/silver-key-lounge-trivia/2030-12-13/
LOCATION:Silver Key Lounge\, 1837 W Guadalupe Rd Suite 105\, Mesa\, AZ\, 85202\, United States
CATEGORIES:KJ Skribbz,Trivia
ATTACH;FMTTYPE=image/jpeg:https://www.maddhatterpro.com/wp-content/uploads/2026/02/SKL-Mesa.jpg
END:VEVENT
BEGIN:VEVENT
DTSTART;TZID=UTC:20301220T190000
DTEND;TZID=UTC:20301220T190000
DTSTAMP:20260424T211036
CREATED:20250704T003329Z
LAST-MODIFIED:20260206T144450Z
UID:10024912-1924023600-1924023600@www.maddhatterpro.com
SUMMARY:Silver Key Lounge Trivia
DESCRIPTION:Do YOU think you know it all? Welcome to Arizona’s toughest trivia! SKL is an amazing beer/wine bar for table top gaming\, with an oasis of tables to play at. Try their subs and play in the most competitive trivia in the east valley. KJ Skribbz bringing the questions that might make you scratch your head\, and intrigue you at the same time. Lets have some fun\, IF you have what it takes. 7pm-till we’re done \n1837 W Guadalupe Rd Suite 105\, Mesa\, AZ 85202 \n+14805344060
URL:https://www.maddhatterpro.com/event/silver-key-lounge-trivia/2030-12-20/
LOCATION:Silver Key Lounge\, 1837 W Guadalupe Rd Suite 105\, Mesa\, AZ\, 85202\, United States
CATEGORIES:KJ Skribbz,Trivia
ATTACH;FMTTYPE=image/jpeg:https://www.maddhatterpro.com/wp-content/uploads/2026/02/SKL-Mesa.jpg
END:VEVENT
BEGIN:VEVENT
DTSTART;TZID=UTC:20301227T190000
DTEND;TZID=UTC:20301227T190000
DTSTAMP:20260424T211036
CREATED:20250704T003329Z
LAST-MODIFIED:20260206T144450Z
UID:10024913-1924628400-1924628400@www.maddhatterpro.com
SUMMARY:Silver Key Lounge Trivia
DESCRIPTION:Do YOU think you know it all? Welcome to Arizona’s toughest trivia! SKL is an amazing beer/wine bar for table top gaming\, with an oasis of tables to play at. Try their subs and play in the most competitive trivia in the east valley. KJ Skribbz bringing the questions that might make you scratch your head\, and intrigue you at the same time. Lets have some fun\, IF you have what it takes. 7pm-till we’re done \n1837 W Guadalupe Rd Suite 105\, Mesa\, AZ 85202 \n+14805344060
URL:https://www.maddhatterpro.com/event/silver-key-lounge-trivia/2030-12-27/
LOCATION:Silver Key Lounge\, 1837 W Guadalupe Rd Suite 105\, Mesa\, AZ\, 85202\, United States
CATEGORIES:KJ Skribbz,Trivia
ATTACH;FMTTYPE=image/jpeg:https://www.maddhatterpro.com/wp-content/uploads/2026/02/SKL-Mesa.jpg
END:VEVENT
BEGIN:VEVENT
DTSTART;TZID=UTC:20310103T190000
DTEND;TZID=UTC:20310103T190000
DTSTAMP:20260424T211036
CREATED:20250704T003329Z
LAST-MODIFIED:20260206T144450Z
UID:10024914-1925233200-1925233200@www.maddhatterpro.com
SUMMARY:Silver Key Lounge Trivia
DESCRIPTION:Do YOU think you know it all? Welcome to Arizona’s toughest trivia! SKL is an amazing beer/wine bar for table top gaming\, with an oasis of tables to play at. Try their subs and play in the most competitive trivia in the east valley. KJ Skribbz bringing the questions that might make you scratch your head\, and intrigue you at the same time. Lets have some fun\, IF you have what it takes. 7pm-till we’re done \n1837 W Guadalupe Rd Suite 105\, Mesa\, AZ 85202 \n+14805344060
URL:https://www.maddhatterpro.com/event/silver-key-lounge-trivia/2031-01-03/
LOCATION:Silver Key Lounge\, 1837 W Guadalupe Rd Suite 105\, Mesa\, AZ\, 85202\, United States
CATEGORIES:KJ Skribbz,Trivia
ATTACH;FMTTYPE=image/jpeg:https://www.maddhatterpro.com/wp-content/uploads/2026/02/SKL-Mesa.jpg
END:VEVENT
BEGIN:VEVENT
DTSTART;TZID=UTC:20310110T190000
DTEND;TZID=UTC:20310110T190000
DTSTAMP:20260424T211036
CREATED:20250704T003329Z
LAST-MODIFIED:20260206T144450Z
UID:10024915-1925838000-1925838000@www.maddhatterpro.com
SUMMARY:Silver Key Lounge Trivia
DESCRIPTION:Do YOU think you know it all? Welcome to Arizona’s toughest trivia! SKL is an amazing beer/wine bar for table top gaming\, with an oasis of tables to play at. Try their subs and play in the most competitive trivia in the east valley. KJ Skribbz bringing the questions that might make you scratch your head\, and intrigue you at the same time. Lets have some fun\, IF you have what it takes. 7pm-till we’re done \n1837 W Guadalupe Rd Suite 105\, Mesa\, AZ 85202 \n+14805344060
URL:https://www.maddhatterpro.com/event/silver-key-lounge-trivia/2031-01-10/
LOCATION:Silver Key Lounge\, 1837 W Guadalupe Rd Suite 105\, Mesa\, AZ\, 85202\, United States
CATEGORIES:KJ Skribbz,Trivia
ATTACH;FMTTYPE=image/jpeg:https://www.maddhatterpro.com/wp-content/uploads/2026/02/SKL-Mesa.jpg
END:VEVENT
BEGIN:VEVENT
DTSTART;TZID=UTC:20310117T190000
DTEND;TZID=UTC:20310117T190000
DTSTAMP:20260424T211036
CREATED:20250704T003329Z
LAST-MODIFIED:20260206T144450Z
UID:10024916-1926442800-1926442800@www.maddhatterpro.com
SUMMARY:Silver Key Lounge Trivia
DESCRIPTION:Do YOU think you know it all? Welcome to Arizona’s toughest trivia! SKL is an amazing beer/wine bar for table top gaming\, with an oasis of tables to play at. Try their subs and play in the most competitive trivia in the east valley. KJ Skribbz bringing the questions that might make you scratch your head\, and intrigue you at the same time. Lets have some fun\, IF you have what it takes. 7pm-till we’re done \n1837 W Guadalupe Rd Suite 105\, Mesa\, AZ 85202 \n+14805344060
URL:https://www.maddhatterpro.com/event/silver-key-lounge-trivia/2031-01-17/
LOCATION:Silver Key Lounge\, 1837 W Guadalupe Rd Suite 105\, Mesa\, AZ\, 85202\, United States
CATEGORIES:KJ Skribbz,Trivia
ATTACH;FMTTYPE=image/jpeg:https://www.maddhatterpro.com/wp-content/uploads/2026/02/SKL-Mesa.jpg
END:VEVENT
BEGIN:VEVENT
DTSTART;TZID=UTC:20310124T190000
DTEND;TZID=UTC:20310124T190000
DTSTAMP:20260424T211036
CREATED:20250704T003329Z
LAST-MODIFIED:20260206T144450Z
UID:10024917-1927047600-1927047600@www.maddhatterpro.com
SUMMARY:Silver Key Lounge Trivia
DESCRIPTION:Do YOU think you know it all? Welcome to Arizona’s toughest trivia! SKL is an amazing beer/wine bar for table top gaming\, with an oasis of tables to play at. Try their subs and play in the most competitive trivia in the east valley. KJ Skribbz bringing the questions that might make you scratch your head\, and intrigue you at the same time. Lets have some fun\, IF you have what it takes. 7pm-till we’re done \n1837 W Guadalupe Rd Suite 105\, Mesa\, AZ 85202 \n+14805344060
URL:https://www.maddhatterpro.com/event/silver-key-lounge-trivia/2031-01-24/
LOCATION:Silver Key Lounge\, 1837 W Guadalupe Rd Suite 105\, Mesa\, AZ\, 85202\, United States
CATEGORIES:KJ Skribbz,Trivia
ATTACH;FMTTYPE=image/jpeg:https://www.maddhatterpro.com/wp-content/uploads/2026/02/SKL-Mesa.jpg
END:VEVENT
BEGIN:VEVENT
DTSTART;TZID=UTC:20310131T190000
DTEND;TZID=UTC:20310131T190000
DTSTAMP:20260424T211036
CREATED:20250704T003329Z
LAST-MODIFIED:20260206T144450Z
UID:10024918-1927652400-1927652400@www.maddhatterpro.com
SUMMARY:Silver Key Lounge Trivia
DESCRIPTION:Do YOU think you know it all? Welcome to Arizona’s toughest trivia! SKL is an amazing beer/wine bar for table top gaming\, with an oasis of tables to play at. Try their subs and play in the most competitive trivia in the east valley. KJ Skribbz bringing the questions that might make you scratch your head\, and intrigue you at the same time. Lets have some fun\, IF you have what it takes. 7pm-till we’re done \n1837 W Guadalupe Rd Suite 105\, Mesa\, AZ 85202 \n+14805344060
URL:https://www.maddhatterpro.com/event/silver-key-lounge-trivia/2031-01-31/
LOCATION:Silver Key Lounge\, 1837 W Guadalupe Rd Suite 105\, Mesa\, AZ\, 85202\, United States
CATEGORIES:KJ Skribbz,Trivia
ATTACH;FMTTYPE=image/jpeg:https://www.maddhatterpro.com/wp-content/uploads/2026/02/SKL-Mesa.jpg
END:VEVENT
END:VCALENDAR