BEGIN:VCALENDAR
VERSION:2.0
PRODID:-//MaddHatterPro.com - ECPv6.15.20//NONSGML v1.0//EN
CALSCALE:GREGORIAN
METHOD:PUBLISH
X-WR-CALNAME:MaddHatterPro.com
X-ORIGINAL-URL:https://www.maddhatterpro.com
X-WR-CALDESC:Events for MaddHatterPro.com
REFRESH-INTERVAL;VALUE=DURATION:PT1H
X-Robots-Tag:noindex
X-PUBLISHED-TTL:PT1H
BEGIN:VTIMEZONE
TZID:UTC
BEGIN:STANDARD
TZOFFSETFROM:+0000
TZOFFSETTO:+0000
TZNAME:UTC
DTSTART:20250101T000000
END:STANDARD
END:VTIMEZONE
BEGIN:VEVENT
DTSTART;TZID=UTC:20261010T210000
DTEND;TZID=UTC:20261010T210000
DTSTAMP:20260423T215446
CREATED:20250703T233325Z
LAST-MODIFIED:20260206T144355Z
UID:10020285-1791666000-1791666000@www.maddhatterpro.com
SUMMARY:Pullanos Pizza
DESCRIPTION:Glendale’s best karaoke spot! The Amazing KJ Zondo in the house\, 9pm-1am. Amazing staff\, amazing foods\, and amazing singers –  but only when YOU take the stage. \n13848 N 51st Ave\, Glendale\, AZ 85306 \n+16029781234
URL:https://www.maddhatterpro.com/event/pullanos-pizza/2026-10-10/
LOCATION:Pullanos Pizza\, 13848 N 51st Ave\, Glendale\, AZ\, 85306\, United States
CATEGORIES:Karaoke,KJ Zondo
ATTACH;FMTTYPE=image/jpeg:https://www.maddhatterpro.com/wp-content/uploads/2026/02/Pullanos-Glendale.jpg
END:VEVENT
BEGIN:VEVENT
DTSTART;TZID=UTC:20261015T210000
DTEND;TZID=UTC:20261015T210000
DTSTAMP:20260423T215446
CREATED:20250703T233325Z
LAST-MODIFIED:20260206T144355Z
UID:10020286-1792098000-1792098000@www.maddhatterpro.com
SUMMARY:Pullanos Pizza
DESCRIPTION:Glendale’s best karaoke spot! The Amazing KJ Zondo in the house\, 9pm-1am. Amazing staff\, amazing foods\, and amazing singers –  but only when YOU take the stage. \n13848 N 51st Ave\, Glendale\, AZ 85306 \n+16029781234
URL:https://www.maddhatterpro.com/event/pullanos-pizza/2026-10-15/
LOCATION:Pullanos Pizza\, 13848 N 51st Ave\, Glendale\, AZ\, 85306\, United States
CATEGORIES:Karaoke,KJ Zondo
ATTACH;FMTTYPE=image/jpeg:https://www.maddhatterpro.com/wp-content/uploads/2026/02/Pullanos-Glendale.jpg
END:VEVENT
BEGIN:VEVENT
DTSTART;TZID=UTC:20261017T210000
DTEND;TZID=UTC:20261017T210000
DTSTAMP:20260423T215446
CREATED:20250703T233325Z
LAST-MODIFIED:20260206T144355Z
UID:10020287-1792270800-1792270800@www.maddhatterpro.com
SUMMARY:Pullanos Pizza
DESCRIPTION:Glendale’s best karaoke spot! The Amazing KJ Zondo in the house\, 9pm-1am. Amazing staff\, amazing foods\, and amazing singers –  but only when YOU take the stage. \n13848 N 51st Ave\, Glendale\, AZ 85306 \n+16029781234
URL:https://www.maddhatterpro.com/event/pullanos-pizza/2026-10-17/
LOCATION:Pullanos Pizza\, 13848 N 51st Ave\, Glendale\, AZ\, 85306\, United States
CATEGORIES:Karaoke,KJ Zondo
ATTACH;FMTTYPE=image/jpeg:https://www.maddhatterpro.com/wp-content/uploads/2026/02/Pullanos-Glendale.jpg
END:VEVENT
BEGIN:VEVENT
DTSTART;TZID=UTC:20261022T210000
DTEND;TZID=UTC:20261022T210000
DTSTAMP:20260423T215446
CREATED:20250703T233325Z
LAST-MODIFIED:20260206T144355Z
UID:10020288-1792702800-1792702800@www.maddhatterpro.com
SUMMARY:Pullanos Pizza
DESCRIPTION:Glendale’s best karaoke spot! The Amazing KJ Zondo in the house\, 9pm-1am. Amazing staff\, amazing foods\, and amazing singers –  but only when YOU take the stage. \n13848 N 51st Ave\, Glendale\, AZ 85306 \n+16029781234
URL:https://www.maddhatterpro.com/event/pullanos-pizza/2026-10-22/
LOCATION:Pullanos Pizza\, 13848 N 51st Ave\, Glendale\, AZ\, 85306\, United States
CATEGORIES:Karaoke,KJ Zondo
ATTACH;FMTTYPE=image/jpeg:https://www.maddhatterpro.com/wp-content/uploads/2026/02/Pullanos-Glendale.jpg
END:VEVENT
BEGIN:VEVENT
DTSTART;TZID=UTC:20261024T210000
DTEND;TZID=UTC:20261024T210000
DTSTAMP:20260423T215446
CREATED:20250703T233325Z
LAST-MODIFIED:20260206T144355Z
UID:10020289-1792875600-1792875600@www.maddhatterpro.com
SUMMARY:Pullanos Pizza
DESCRIPTION:Glendale’s best karaoke spot! The Amazing KJ Zondo in the house\, 9pm-1am. Amazing staff\, amazing foods\, and amazing singers –  but only when YOU take the stage. \n13848 N 51st Ave\, Glendale\, AZ 85306 \n+16029781234
URL:https://www.maddhatterpro.com/event/pullanos-pizza/2026-10-24/
LOCATION:Pullanos Pizza\, 13848 N 51st Ave\, Glendale\, AZ\, 85306\, United States
CATEGORIES:Karaoke,KJ Zondo
ATTACH;FMTTYPE=image/jpeg:https://www.maddhatterpro.com/wp-content/uploads/2026/02/Pullanos-Glendale.jpg
END:VEVENT
BEGIN:VEVENT
DTSTART;TZID=UTC:20261029T210000
DTEND;TZID=UTC:20261029T210000
DTSTAMP:20260423T215446
CREATED:20250703T233325Z
LAST-MODIFIED:20260206T144355Z
UID:10020290-1793307600-1793307600@www.maddhatterpro.com
SUMMARY:Pullanos Pizza
DESCRIPTION:Glendale’s best karaoke spot! The Amazing KJ Zondo in the house\, 9pm-1am. Amazing staff\, amazing foods\, and amazing singers –  but only when YOU take the stage. \n13848 N 51st Ave\, Glendale\, AZ 85306 \n+16029781234
URL:https://www.maddhatterpro.com/event/pullanos-pizza/2026-10-29/
LOCATION:Pullanos Pizza\, 13848 N 51st Ave\, Glendale\, AZ\, 85306\, United States
CATEGORIES:Karaoke,KJ Zondo
ATTACH;FMTTYPE=image/jpeg:https://www.maddhatterpro.com/wp-content/uploads/2026/02/Pullanos-Glendale.jpg
END:VEVENT
BEGIN:VEVENT
DTSTART;TZID=UTC:20261031T210000
DTEND;TZID=UTC:20261031T210000
DTSTAMP:20260423T215446
CREATED:20250703T233325Z
LAST-MODIFIED:20260206T144355Z
UID:10020291-1793480400-1793480400@www.maddhatterpro.com
SUMMARY:Pullanos Pizza
DESCRIPTION:Glendale’s best karaoke spot! The Amazing KJ Zondo in the house\, 9pm-1am. Amazing staff\, amazing foods\, and amazing singers –  but only when YOU take the stage. \n13848 N 51st Ave\, Glendale\, AZ 85306 \n+16029781234
URL:https://www.maddhatterpro.com/event/pullanos-pizza/2026-10-31/
LOCATION:Pullanos Pizza\, 13848 N 51st Ave\, Glendale\, AZ\, 85306\, United States
CATEGORIES:Karaoke,KJ Zondo
ATTACH;FMTTYPE=image/jpeg:https://www.maddhatterpro.com/wp-content/uploads/2026/02/Pullanos-Glendale.jpg
END:VEVENT
BEGIN:VEVENT
DTSTART;TZID=UTC:20261105T210000
DTEND;TZID=UTC:20261105T210000
DTSTAMP:20260423T215446
CREATED:20250703T233325Z
LAST-MODIFIED:20260206T144355Z
UID:10020292-1793912400-1793912400@www.maddhatterpro.com
SUMMARY:Pullanos Pizza
DESCRIPTION:Glendale’s best karaoke spot! The Amazing KJ Zondo in the house\, 9pm-1am. Amazing staff\, amazing foods\, and amazing singers –  but only when YOU take the stage. \n13848 N 51st Ave\, Glendale\, AZ 85306 \n+16029781234
URL:https://www.maddhatterpro.com/event/pullanos-pizza/2026-11-05/
LOCATION:Pullanos Pizza\, 13848 N 51st Ave\, Glendale\, AZ\, 85306\, United States
CATEGORIES:Karaoke,KJ Zondo
ATTACH;FMTTYPE=image/jpeg:https://www.maddhatterpro.com/wp-content/uploads/2026/02/Pullanos-Glendale.jpg
END:VEVENT
BEGIN:VEVENT
DTSTART;TZID=UTC:20261107T210000
DTEND;TZID=UTC:20261107T210000
DTSTAMP:20260423T215446
CREATED:20250703T233325Z
LAST-MODIFIED:20260206T144355Z
UID:10020293-1794085200-1794085200@www.maddhatterpro.com
SUMMARY:Pullanos Pizza
DESCRIPTION:Glendale’s best karaoke spot! The Amazing KJ Zondo in the house\, 9pm-1am. Amazing staff\, amazing foods\, and amazing singers –  but only when YOU take the stage. \n13848 N 51st Ave\, Glendale\, AZ 85306 \n+16029781234
URL:https://www.maddhatterpro.com/event/pullanos-pizza/2026-11-07/
LOCATION:Pullanos Pizza\, 13848 N 51st Ave\, Glendale\, AZ\, 85306\, United States
CATEGORIES:Karaoke,KJ Zondo
ATTACH;FMTTYPE=image/jpeg:https://www.maddhatterpro.com/wp-content/uploads/2026/02/Pullanos-Glendale.jpg
END:VEVENT
BEGIN:VEVENT
DTSTART;TZID=UTC:20261112T210000
DTEND;TZID=UTC:20261112T210000
DTSTAMP:20260423T215446
CREATED:20250703T233325Z
LAST-MODIFIED:20260206T144355Z
UID:10020294-1794517200-1794517200@www.maddhatterpro.com
SUMMARY:Pullanos Pizza
DESCRIPTION:Glendale’s best karaoke spot! The Amazing KJ Zondo in the house\, 9pm-1am. Amazing staff\, amazing foods\, and amazing singers –  but only when YOU take the stage. \n13848 N 51st Ave\, Glendale\, AZ 85306 \n+16029781234
URL:https://www.maddhatterpro.com/event/pullanos-pizza/2026-11-12/
LOCATION:Pullanos Pizza\, 13848 N 51st Ave\, Glendale\, AZ\, 85306\, United States
CATEGORIES:Karaoke,KJ Zondo
ATTACH;FMTTYPE=image/jpeg:https://www.maddhatterpro.com/wp-content/uploads/2026/02/Pullanos-Glendale.jpg
END:VEVENT
BEGIN:VEVENT
DTSTART;TZID=UTC:20261114T210000
DTEND;TZID=UTC:20261114T210000
DTSTAMP:20260423T215446
CREATED:20250703T233325Z
LAST-MODIFIED:20260206T144355Z
UID:10020295-1794690000-1794690000@www.maddhatterpro.com
SUMMARY:Pullanos Pizza
DESCRIPTION:Glendale’s best karaoke spot! The Amazing KJ Zondo in the house\, 9pm-1am. Amazing staff\, amazing foods\, and amazing singers –  but only when YOU take the stage. \n13848 N 51st Ave\, Glendale\, AZ 85306 \n+16029781234
URL:https://www.maddhatterpro.com/event/pullanos-pizza/2026-11-14/
LOCATION:Pullanos Pizza\, 13848 N 51st Ave\, Glendale\, AZ\, 85306\, United States
CATEGORIES:Karaoke,KJ Zondo
ATTACH;FMTTYPE=image/jpeg:https://www.maddhatterpro.com/wp-content/uploads/2026/02/Pullanos-Glendale.jpg
END:VEVENT
BEGIN:VEVENT
DTSTART;TZID=UTC:20261119T210000
DTEND;TZID=UTC:20261119T210000
DTSTAMP:20260423T215446
CREATED:20250703T233325Z
LAST-MODIFIED:20260206T144355Z
UID:10020296-1795122000-1795122000@www.maddhatterpro.com
SUMMARY:Pullanos Pizza
DESCRIPTION:Glendale’s best karaoke spot! The Amazing KJ Zondo in the house\, 9pm-1am. Amazing staff\, amazing foods\, and amazing singers –  but only when YOU take the stage. \n13848 N 51st Ave\, Glendale\, AZ 85306 \n+16029781234
URL:https://www.maddhatterpro.com/event/pullanos-pizza/2026-11-19/
LOCATION:Pullanos Pizza\, 13848 N 51st Ave\, Glendale\, AZ\, 85306\, United States
CATEGORIES:Karaoke,KJ Zondo
ATTACH;FMTTYPE=image/jpeg:https://www.maddhatterpro.com/wp-content/uploads/2026/02/Pullanos-Glendale.jpg
END:VEVENT
BEGIN:VEVENT
DTSTART;TZID=UTC:20261121T210000
DTEND;TZID=UTC:20261121T210000
DTSTAMP:20260423T215446
CREATED:20250703T233325Z
LAST-MODIFIED:20260206T144355Z
UID:10020297-1795294800-1795294800@www.maddhatterpro.com
SUMMARY:Pullanos Pizza
DESCRIPTION:Glendale’s best karaoke spot! The Amazing KJ Zondo in the house\, 9pm-1am. Amazing staff\, amazing foods\, and amazing singers –  but only when YOU take the stage. \n13848 N 51st Ave\, Glendale\, AZ 85306 \n+16029781234
URL:https://www.maddhatterpro.com/event/pullanos-pizza/2026-11-21/
LOCATION:Pullanos Pizza\, 13848 N 51st Ave\, Glendale\, AZ\, 85306\, United States
CATEGORIES:Karaoke,KJ Zondo
ATTACH;FMTTYPE=image/jpeg:https://www.maddhatterpro.com/wp-content/uploads/2026/02/Pullanos-Glendale.jpg
END:VEVENT
BEGIN:VEVENT
DTSTART;TZID=UTC:20261126T210000
DTEND;TZID=UTC:20261126T210000
DTSTAMP:20260423T215446
CREATED:20250703T233325Z
LAST-MODIFIED:20260206T144355Z
UID:10020298-1795726800-1795726800@www.maddhatterpro.com
SUMMARY:Pullanos Pizza
DESCRIPTION:Glendale’s best karaoke spot! The Amazing KJ Zondo in the house\, 9pm-1am. Amazing staff\, amazing foods\, and amazing singers –  but only when YOU take the stage. \n13848 N 51st Ave\, Glendale\, AZ 85306 \n+16029781234
URL:https://www.maddhatterpro.com/event/pullanos-pizza/2026-11-26/
LOCATION:Pullanos Pizza\, 13848 N 51st Ave\, Glendale\, AZ\, 85306\, United States
CATEGORIES:Karaoke,KJ Zondo
ATTACH;FMTTYPE=image/jpeg:https://www.maddhatterpro.com/wp-content/uploads/2026/02/Pullanos-Glendale.jpg
END:VEVENT
BEGIN:VEVENT
DTSTART;TZID=UTC:20261128T210000
DTEND;TZID=UTC:20261128T210000
DTSTAMP:20260423T215446
CREATED:20250703T233325Z
LAST-MODIFIED:20260206T144355Z
UID:10020299-1795899600-1795899600@www.maddhatterpro.com
SUMMARY:Pullanos Pizza
DESCRIPTION:Glendale’s best karaoke spot! The Amazing KJ Zondo in the house\, 9pm-1am. Amazing staff\, amazing foods\, and amazing singers –  but only when YOU take the stage. \n13848 N 51st Ave\, Glendale\, AZ 85306 \n+16029781234
URL:https://www.maddhatterpro.com/event/pullanos-pizza/2026-11-28/
LOCATION:Pullanos Pizza\, 13848 N 51st Ave\, Glendale\, AZ\, 85306\, United States
CATEGORIES:Karaoke,KJ Zondo
ATTACH;FMTTYPE=image/jpeg:https://www.maddhatterpro.com/wp-content/uploads/2026/02/Pullanos-Glendale.jpg
END:VEVENT
BEGIN:VEVENT
DTSTART;TZID=UTC:20261203T210000
DTEND;TZID=UTC:20261203T210000
DTSTAMP:20260423T215446
CREATED:20250703T233325Z
LAST-MODIFIED:20260206T144355Z
UID:10020300-1796331600-1796331600@www.maddhatterpro.com
SUMMARY:Pullanos Pizza
DESCRIPTION:Glendale’s best karaoke spot! The Amazing KJ Zondo in the house\, 9pm-1am. Amazing staff\, amazing foods\, and amazing singers –  but only when YOU take the stage. \n13848 N 51st Ave\, Glendale\, AZ 85306 \n+16029781234
URL:https://www.maddhatterpro.com/event/pullanos-pizza/2026-12-03/
LOCATION:Pullanos Pizza\, 13848 N 51st Ave\, Glendale\, AZ\, 85306\, United States
CATEGORIES:Karaoke,KJ Zondo
ATTACH;FMTTYPE=image/jpeg:https://www.maddhatterpro.com/wp-content/uploads/2026/02/Pullanos-Glendale.jpg
END:VEVENT
BEGIN:VEVENT
DTSTART;TZID=UTC:20261205T210000
DTEND;TZID=UTC:20261205T210000
DTSTAMP:20260423T215446
CREATED:20250703T233325Z
LAST-MODIFIED:20260206T144355Z
UID:10020301-1796504400-1796504400@www.maddhatterpro.com
SUMMARY:Pullanos Pizza
DESCRIPTION:Glendale’s best karaoke spot! The Amazing KJ Zondo in the house\, 9pm-1am. Amazing staff\, amazing foods\, and amazing singers –  but only when YOU take the stage. \n13848 N 51st Ave\, Glendale\, AZ 85306 \n+16029781234
URL:https://www.maddhatterpro.com/event/pullanos-pizza/2026-12-05/
LOCATION:Pullanos Pizza\, 13848 N 51st Ave\, Glendale\, AZ\, 85306\, United States
CATEGORIES:Karaoke,KJ Zondo
ATTACH;FMTTYPE=image/jpeg:https://www.maddhatterpro.com/wp-content/uploads/2026/02/Pullanos-Glendale.jpg
END:VEVENT
BEGIN:VEVENT
DTSTART;TZID=UTC:20261210T210000
DTEND;TZID=UTC:20261210T210000
DTSTAMP:20260423T215446
CREATED:20250703T233325Z
LAST-MODIFIED:20260206T144355Z
UID:10020302-1796936400-1796936400@www.maddhatterpro.com
SUMMARY:Pullanos Pizza
DESCRIPTION:Glendale’s best karaoke spot! The Amazing KJ Zondo in the house\, 9pm-1am. Amazing staff\, amazing foods\, and amazing singers –  but only when YOU take the stage. \n13848 N 51st Ave\, Glendale\, AZ 85306 \n+16029781234
URL:https://www.maddhatterpro.com/event/pullanos-pizza/2026-12-10/
LOCATION:Pullanos Pizza\, 13848 N 51st Ave\, Glendale\, AZ\, 85306\, United States
CATEGORIES:Karaoke,KJ Zondo
ATTACH;FMTTYPE=image/jpeg:https://www.maddhatterpro.com/wp-content/uploads/2026/02/Pullanos-Glendale.jpg
END:VEVENT
BEGIN:VEVENT
DTSTART;TZID=UTC:20261212T210000
DTEND;TZID=UTC:20261212T210000
DTSTAMP:20260423T215446
CREATED:20250703T233325Z
LAST-MODIFIED:20260206T144355Z
UID:10020303-1797109200-1797109200@www.maddhatterpro.com
SUMMARY:Pullanos Pizza
DESCRIPTION:Glendale’s best karaoke spot! The Amazing KJ Zondo in the house\, 9pm-1am. Amazing staff\, amazing foods\, and amazing singers –  but only when YOU take the stage. \n13848 N 51st Ave\, Glendale\, AZ 85306 \n+16029781234
URL:https://www.maddhatterpro.com/event/pullanos-pizza/2026-12-12/
LOCATION:Pullanos Pizza\, 13848 N 51st Ave\, Glendale\, AZ\, 85306\, United States
CATEGORIES:Karaoke,KJ Zondo
ATTACH;FMTTYPE=image/jpeg:https://www.maddhatterpro.com/wp-content/uploads/2026/02/Pullanos-Glendale.jpg
END:VEVENT
BEGIN:VEVENT
DTSTART;TZID=UTC:20261217T210000
DTEND;TZID=UTC:20261217T210000
DTSTAMP:20260423T215446
CREATED:20250703T233325Z
LAST-MODIFIED:20260206T144355Z
UID:10020304-1797541200-1797541200@www.maddhatterpro.com
SUMMARY:Pullanos Pizza
DESCRIPTION:Glendale’s best karaoke spot! The Amazing KJ Zondo in the house\, 9pm-1am. Amazing staff\, amazing foods\, and amazing singers –  but only when YOU take the stage. \n13848 N 51st Ave\, Glendale\, AZ 85306 \n+16029781234
URL:https://www.maddhatterpro.com/event/pullanos-pizza/2026-12-17/
LOCATION:Pullanos Pizza\, 13848 N 51st Ave\, Glendale\, AZ\, 85306\, United States
CATEGORIES:Karaoke,KJ Zondo
ATTACH;FMTTYPE=image/jpeg:https://www.maddhatterpro.com/wp-content/uploads/2026/02/Pullanos-Glendale.jpg
END:VEVENT
BEGIN:VEVENT
DTSTART;TZID=UTC:20261219T210000
DTEND;TZID=UTC:20261219T210000
DTSTAMP:20260423T215446
CREATED:20250703T233325Z
LAST-MODIFIED:20260206T144355Z
UID:10020305-1797714000-1797714000@www.maddhatterpro.com
SUMMARY:Pullanos Pizza
DESCRIPTION:Glendale’s best karaoke spot! The Amazing KJ Zondo in the house\, 9pm-1am. Amazing staff\, amazing foods\, and amazing singers –  but only when YOU take the stage. \n13848 N 51st Ave\, Glendale\, AZ 85306 \n+16029781234
URL:https://www.maddhatterpro.com/event/pullanos-pizza/2026-12-19/
LOCATION:Pullanos Pizza\, 13848 N 51st Ave\, Glendale\, AZ\, 85306\, United States
CATEGORIES:Karaoke,KJ Zondo
ATTACH;FMTTYPE=image/jpeg:https://www.maddhatterpro.com/wp-content/uploads/2026/02/Pullanos-Glendale.jpg
END:VEVENT
BEGIN:VEVENT
DTSTART;TZID=UTC:20261224T210000
DTEND;TZID=UTC:20261224T210000
DTSTAMP:20260423T215446
CREATED:20250703T233325Z
LAST-MODIFIED:20260206T144355Z
UID:10020306-1798146000-1798146000@www.maddhatterpro.com
SUMMARY:Pullanos Pizza
DESCRIPTION:Glendale’s best karaoke spot! The Amazing KJ Zondo in the house\, 9pm-1am. Amazing staff\, amazing foods\, and amazing singers –  but only when YOU take the stage. \n13848 N 51st Ave\, Glendale\, AZ 85306 \n+16029781234
URL:https://www.maddhatterpro.com/event/pullanos-pizza/2026-12-24/
LOCATION:Pullanos Pizza\, 13848 N 51st Ave\, Glendale\, AZ\, 85306\, United States
CATEGORIES:Karaoke,KJ Zondo
ATTACH;FMTTYPE=image/jpeg:https://www.maddhatterpro.com/wp-content/uploads/2026/02/Pullanos-Glendale.jpg
END:VEVENT
BEGIN:VEVENT
DTSTART;TZID=UTC:20261226T210000
DTEND;TZID=UTC:20261226T210000
DTSTAMP:20260423T215446
CREATED:20250703T233325Z
LAST-MODIFIED:20260206T144355Z
UID:10020307-1798318800-1798318800@www.maddhatterpro.com
SUMMARY:Pullanos Pizza
DESCRIPTION:Glendale’s best karaoke spot! The Amazing KJ Zondo in the house\, 9pm-1am. Amazing staff\, amazing foods\, and amazing singers –  but only when YOU take the stage. \n13848 N 51st Ave\, Glendale\, AZ 85306 \n+16029781234
URL:https://www.maddhatterpro.com/event/pullanos-pizza/2026-12-26/
LOCATION:Pullanos Pizza\, 13848 N 51st Ave\, Glendale\, AZ\, 85306\, United States
CATEGORIES:Karaoke,KJ Zondo
ATTACH;FMTTYPE=image/jpeg:https://www.maddhatterpro.com/wp-content/uploads/2026/02/Pullanos-Glendale.jpg
END:VEVENT
BEGIN:VEVENT
DTSTART;TZID=UTC:20261231T210000
DTEND;TZID=UTC:20261231T210000
DTSTAMP:20260423T215446
CREATED:20250703T233325Z
LAST-MODIFIED:20260206T144355Z
UID:10020308-1798750800-1798750800@www.maddhatterpro.com
SUMMARY:Pullanos Pizza
DESCRIPTION:Glendale’s best karaoke spot! The Amazing KJ Zondo in the house\, 9pm-1am. Amazing staff\, amazing foods\, and amazing singers –  but only when YOU take the stage. \n13848 N 51st Ave\, Glendale\, AZ 85306 \n+16029781234
URL:https://www.maddhatterpro.com/event/pullanos-pizza/2026-12-31/
LOCATION:Pullanos Pizza\, 13848 N 51st Ave\, Glendale\, AZ\, 85306\, United States
CATEGORIES:Karaoke,KJ Zondo
ATTACH;FMTTYPE=image/jpeg:https://www.maddhatterpro.com/wp-content/uploads/2026/02/Pullanos-Glendale.jpg
END:VEVENT
BEGIN:VEVENT
DTSTART;TZID=UTC:20270102T210000
DTEND;TZID=UTC:20270102T210000
DTSTAMP:20260423T215446
CREATED:20250703T233325Z
LAST-MODIFIED:20260206T144355Z
UID:10020309-1798923600-1798923600@www.maddhatterpro.com
SUMMARY:Pullanos Pizza
DESCRIPTION:Glendale’s best karaoke spot! The Amazing KJ Zondo in the house\, 9pm-1am. Amazing staff\, amazing foods\, and amazing singers –  but only when YOU take the stage. \n13848 N 51st Ave\, Glendale\, AZ 85306 \n+16029781234
URL:https://www.maddhatterpro.com/event/pullanos-pizza/2027-01-02/
LOCATION:Pullanos Pizza\, 13848 N 51st Ave\, Glendale\, AZ\, 85306\, United States
CATEGORIES:Karaoke,KJ Zondo
ATTACH;FMTTYPE=image/jpeg:https://www.maddhatterpro.com/wp-content/uploads/2026/02/Pullanos-Glendale.jpg
END:VEVENT
BEGIN:VEVENT
DTSTART;TZID=UTC:20270107T210000
DTEND;TZID=UTC:20270107T210000
DTSTAMP:20260423T215446
CREATED:20250703T233325Z
LAST-MODIFIED:20260206T144355Z
UID:10020310-1799355600-1799355600@www.maddhatterpro.com
SUMMARY:Pullanos Pizza
DESCRIPTION:Glendale’s best karaoke spot! The Amazing KJ Zondo in the house\, 9pm-1am. Amazing staff\, amazing foods\, and amazing singers –  but only when YOU take the stage. \n13848 N 51st Ave\, Glendale\, AZ 85306 \n+16029781234
URL:https://www.maddhatterpro.com/event/pullanos-pizza/2027-01-07/
LOCATION:Pullanos Pizza\, 13848 N 51st Ave\, Glendale\, AZ\, 85306\, United States
CATEGORIES:Karaoke,KJ Zondo
ATTACH;FMTTYPE=image/jpeg:https://www.maddhatterpro.com/wp-content/uploads/2026/02/Pullanos-Glendale.jpg
END:VEVENT
BEGIN:VEVENT
DTSTART;TZID=UTC:20270109T210000
DTEND;TZID=UTC:20270109T210000
DTSTAMP:20260423T215446
CREATED:20250703T233325Z
LAST-MODIFIED:20260206T144355Z
UID:10020311-1799528400-1799528400@www.maddhatterpro.com
SUMMARY:Pullanos Pizza
DESCRIPTION:Glendale’s best karaoke spot! The Amazing KJ Zondo in the house\, 9pm-1am. Amazing staff\, amazing foods\, and amazing singers –  but only when YOU take the stage. \n13848 N 51st Ave\, Glendale\, AZ 85306 \n+16029781234
URL:https://www.maddhatterpro.com/event/pullanos-pizza/2027-01-09/
LOCATION:Pullanos Pizza\, 13848 N 51st Ave\, Glendale\, AZ\, 85306\, United States
CATEGORIES:Karaoke,KJ Zondo
ATTACH;FMTTYPE=image/jpeg:https://www.maddhatterpro.com/wp-content/uploads/2026/02/Pullanos-Glendale.jpg
END:VEVENT
BEGIN:VEVENT
DTSTART;TZID=UTC:20270114T210000
DTEND;TZID=UTC:20270114T210000
DTSTAMP:20260423T215446
CREATED:20250703T233325Z
LAST-MODIFIED:20260206T144355Z
UID:10020312-1799960400-1799960400@www.maddhatterpro.com
SUMMARY:Pullanos Pizza
DESCRIPTION:Glendale’s best karaoke spot! The Amazing KJ Zondo in the house\, 9pm-1am. Amazing staff\, amazing foods\, and amazing singers –  but only when YOU take the stage. \n13848 N 51st Ave\, Glendale\, AZ 85306 \n+16029781234
URL:https://www.maddhatterpro.com/event/pullanos-pizza/2027-01-14/
LOCATION:Pullanos Pizza\, 13848 N 51st Ave\, Glendale\, AZ\, 85306\, United States
CATEGORIES:Karaoke,KJ Zondo
ATTACH;FMTTYPE=image/jpeg:https://www.maddhatterpro.com/wp-content/uploads/2026/02/Pullanos-Glendale.jpg
END:VEVENT
BEGIN:VEVENT
DTSTART;TZID=UTC:20270116T210000
DTEND;TZID=UTC:20270116T210000
DTSTAMP:20260423T215446
CREATED:20250703T233325Z
LAST-MODIFIED:20260206T144355Z
UID:10020313-1800133200-1800133200@www.maddhatterpro.com
SUMMARY:Pullanos Pizza
DESCRIPTION:Glendale’s best karaoke spot! The Amazing KJ Zondo in the house\, 9pm-1am. Amazing staff\, amazing foods\, and amazing singers –  but only when YOU take the stage. \n13848 N 51st Ave\, Glendale\, AZ 85306 \n+16029781234
URL:https://www.maddhatterpro.com/event/pullanos-pizza/2027-01-16/
LOCATION:Pullanos Pizza\, 13848 N 51st Ave\, Glendale\, AZ\, 85306\, United States
CATEGORIES:Karaoke,KJ Zondo
ATTACH;FMTTYPE=image/jpeg:https://www.maddhatterpro.com/wp-content/uploads/2026/02/Pullanos-Glendale.jpg
END:VEVENT
BEGIN:VEVENT
DTSTART;TZID=UTC:20270121T210000
DTEND;TZID=UTC:20270121T210000
DTSTAMP:20260423T215446
CREATED:20250703T233325Z
LAST-MODIFIED:20260206T144355Z
UID:10020314-1800565200-1800565200@www.maddhatterpro.com
SUMMARY:Pullanos Pizza
DESCRIPTION:Glendale’s best karaoke spot! The Amazing KJ Zondo in the house\, 9pm-1am. Amazing staff\, amazing foods\, and amazing singers –  but only when YOU take the stage. \n13848 N 51st Ave\, Glendale\, AZ 85306 \n+16029781234
URL:https://www.maddhatterpro.com/event/pullanos-pizza/2027-01-21/
LOCATION:Pullanos Pizza\, 13848 N 51st Ave\, Glendale\, AZ\, 85306\, United States
CATEGORIES:Karaoke,KJ Zondo
ATTACH;FMTTYPE=image/jpeg:https://www.maddhatterpro.com/wp-content/uploads/2026/02/Pullanos-Glendale.jpg
END:VEVENT
END:VCALENDAR