BEGIN:VCALENDAR
VERSION:2.0
PRODID:-//MaddHatterPro.com - ECPv6.15.20//NONSGML v1.0//EN
CALSCALE:GREGORIAN
METHOD:PUBLISH
X-ORIGINAL-URL:https://www.maddhatterpro.com
X-WR-CALDESC:Events for MaddHatterPro.com
REFRESH-INTERVAL;VALUE=DURATION:PT1H
X-Robots-Tag:noindex
X-PUBLISHED-TTL:PT1H
BEGIN:VTIMEZONE
TZID:UTC
BEGIN:STANDARD
TZOFFSETFROM:+0000
TZOFFSETTO:+0000
TZNAME:UTC
DTSTART:20240101T000000
END:STANDARD
END:VTIMEZONE
BEGIN:VEVENT
DTSTART;TZID=UTC:20260307T210000
DTEND;TZID=UTC:20260307T210000
DTSTAMP:20260423T190002
CREATED:20250703T233325Z
LAST-MODIFIED:20260206T144355Z
UID:10020223-1772917200-1772917200@www.maddhatterpro.com
SUMMARY:Pullanos Pizza
DESCRIPTION:Glendale’s best karaoke spot! The Amazing KJ Zondo in the house\, 9pm-1am. Amazing staff\, amazing foods\, and amazing singers –  but only when YOU take the stage. \n13848 N 51st Ave\, Glendale\, AZ 85306 \n+16029781234
URL:https://www.maddhatterpro.com/event/pullanos-pizza/2026-03-07/
LOCATION:Pullanos Pizza\, 13848 N 51st Ave\, Glendale\, AZ\, 85306\, United States
CATEGORIES:Karaoke,KJ Zondo
ATTACH;FMTTYPE=image/jpeg:https://www.maddhatterpro.com/wp-content/uploads/2026/02/Pullanos-Glendale.jpg
END:VEVENT
BEGIN:VEVENT
DTSTART;TZID=UTC:20260305T210000
DTEND;TZID=UTC:20260305T210000
DTSTAMP:20260423T190002
CREATED:20250703T233325Z
LAST-MODIFIED:20260206T144355Z
UID:10020222-1772744400-1772744400@www.maddhatterpro.com
SUMMARY:Pullanos Pizza
DESCRIPTION:Glendale’s best karaoke spot! The Amazing KJ Zondo in the house\, 9pm-1am. Amazing staff\, amazing foods\, and amazing singers –  but only when YOU take the stage. \n13848 N 51st Ave\, Glendale\, AZ 85306 \n+16029781234
URL:https://www.maddhatterpro.com/event/pullanos-pizza/2026-03-05/
LOCATION:Pullanos Pizza\, 13848 N 51st Ave\, Glendale\, AZ\, 85306\, United States
CATEGORIES:Karaoke,KJ Zondo
ATTACH;FMTTYPE=image/jpeg:https://www.maddhatterpro.com/wp-content/uploads/2026/02/Pullanos-Glendale.jpg
END:VEVENT
BEGIN:VEVENT
DTSTART;TZID=UTC:20260228T210000
DTEND;TZID=UTC:20260228T210000
DTSTAMP:20260423T190002
CREATED:20250703T233325Z
LAST-MODIFIED:20260206T144355Z
UID:10020221-1772312400-1772312400@www.maddhatterpro.com
SUMMARY:Pullanos Pizza
DESCRIPTION:Glendale’s best karaoke spot! The Amazing KJ Zondo in the house\, 9pm-1am. Amazing staff\, amazing foods\, and amazing singers –  but only when YOU take the stage. \n13848 N 51st Ave\, Glendale\, AZ 85306 \n+16029781234
URL:https://www.maddhatterpro.com/event/pullanos-pizza/2026-02-28/
LOCATION:Pullanos Pizza\, 13848 N 51st Ave\, Glendale\, AZ\, 85306\, United States
CATEGORIES:Karaoke,KJ Zondo
ATTACH;FMTTYPE=image/jpeg:https://www.maddhatterpro.com/wp-content/uploads/2026/02/Pullanos-Glendale.jpg
END:VEVENT
BEGIN:VEVENT
DTSTART;TZID=UTC:20260226T210000
DTEND;TZID=UTC:20260226T210000
DTSTAMP:20260423T190002
CREATED:20250703T233325Z
LAST-MODIFIED:20260206T144355Z
UID:10020220-1772139600-1772139600@www.maddhatterpro.com
SUMMARY:Pullanos Pizza
DESCRIPTION:Glendale’s best karaoke spot! The Amazing KJ Zondo in the house\, 9pm-1am. Amazing staff\, amazing foods\, and amazing singers –  but only when YOU take the stage. \n13848 N 51st Ave\, Glendale\, AZ 85306 \n+16029781234
URL:https://www.maddhatterpro.com/event/pullanos-pizza/2026-02-26/
LOCATION:Pullanos Pizza\, 13848 N 51st Ave\, Glendale\, AZ\, 85306\, United States
CATEGORIES:Karaoke,KJ Zondo
ATTACH;FMTTYPE=image/jpeg:https://www.maddhatterpro.com/wp-content/uploads/2026/02/Pullanos-Glendale.jpg
END:VEVENT
BEGIN:VEVENT
DTSTART;TZID=UTC:20260221T210000
DTEND;TZID=UTC:20260221T210000
DTSTAMP:20260423T190002
CREATED:20250703T233325Z
LAST-MODIFIED:20260206T144355Z
UID:10020219-1771707600-1771707600@www.maddhatterpro.com
SUMMARY:Pullanos Pizza
DESCRIPTION:Glendale’s best karaoke spot! The Amazing KJ Zondo in the house\, 9pm-1am. Amazing staff\, amazing foods\, and amazing singers –  but only when YOU take the stage. \n13848 N 51st Ave\, Glendale\, AZ 85306 \n+16029781234
URL:https://www.maddhatterpro.com/event/pullanos-pizza/2026-02-21/
LOCATION:Pullanos Pizza\, 13848 N 51st Ave\, Glendale\, AZ\, 85306\, United States
CATEGORIES:Karaoke,KJ Zondo
ATTACH;FMTTYPE=image/jpeg:https://www.maddhatterpro.com/wp-content/uploads/2026/02/Pullanos-Glendale.jpg
END:VEVENT
BEGIN:VEVENT
DTSTART;TZID=UTC:20260219T210000
DTEND;TZID=UTC:20260219T210000
DTSTAMP:20260423T190002
CREATED:20250703T233325Z
LAST-MODIFIED:20260206T144355Z
UID:10020218-1771534800-1771534800@www.maddhatterpro.com
SUMMARY:Pullanos Pizza
DESCRIPTION:Glendale’s best karaoke spot! The Amazing KJ Zondo in the house\, 9pm-1am. Amazing staff\, amazing foods\, and amazing singers –  but only when YOU take the stage. \n13848 N 51st Ave\, Glendale\, AZ 85306 \n+16029781234
URL:https://www.maddhatterpro.com/event/pullanos-pizza/2026-02-19/
LOCATION:Pullanos Pizza\, 13848 N 51st Ave\, Glendale\, AZ\, 85306\, United States
CATEGORIES:Karaoke,KJ Zondo
ATTACH;FMTTYPE=image/jpeg:https://www.maddhatterpro.com/wp-content/uploads/2026/02/Pullanos-Glendale.jpg
END:VEVENT
BEGIN:VEVENT
DTSTART;TZID=UTC:20260214T210000
DTEND;TZID=UTC:20260214T210000
DTSTAMP:20260423T190002
CREATED:20250703T233325Z
LAST-MODIFIED:20260206T144355Z
UID:10020217-1771102800-1771102800@www.maddhatterpro.com
SUMMARY:Pullanos Pizza
DESCRIPTION:Glendale’s best karaoke spot! The Amazing KJ Zondo in the house\, 9pm-1am. Amazing staff\, amazing foods\, and amazing singers –  but only when YOU take the stage. \n13848 N 51st Ave\, Glendale\, AZ 85306 \n+16029781234
URL:https://www.maddhatterpro.com/event/pullanos-pizza/2026-02-14/
LOCATION:Pullanos Pizza\, 13848 N 51st Ave\, Glendale\, AZ\, 85306\, United States
CATEGORIES:Karaoke,KJ Zondo
ATTACH;FMTTYPE=image/jpeg:https://www.maddhatterpro.com/wp-content/uploads/2026/02/Pullanos-Glendale.jpg
END:VEVENT
BEGIN:VEVENT
DTSTART;TZID=UTC:20260212T210000
DTEND;TZID=UTC:20260212T210000
DTSTAMP:20260423T190002
CREATED:20250703T233325Z
LAST-MODIFIED:20260206T144355Z
UID:10020216-1770930000-1770930000@www.maddhatterpro.com
SUMMARY:Pullanos Pizza
DESCRIPTION:Glendale’s best karaoke spot! The Amazing KJ Zondo in the house\, 9pm-1am. Amazing staff\, amazing foods\, and amazing singers –  but only when YOU take the stage. \n13848 N 51st Ave\, Glendale\, AZ 85306 \n+16029781234
URL:https://www.maddhatterpro.com/event/pullanos-pizza/2026-02-12/
LOCATION:Pullanos Pizza\, 13848 N 51st Ave\, Glendale\, AZ\, 85306\, United States
CATEGORIES:Karaoke,KJ Zondo
ATTACH;FMTTYPE=image/jpeg:https://www.maddhatterpro.com/wp-content/uploads/2026/02/Pullanos-Glendale.jpg
END:VEVENT
BEGIN:VEVENT
DTSTART;TZID=UTC:20260207T210000
DTEND;TZID=UTC:20260207T210000
DTSTAMP:20260423T190002
CREATED:20250703T233325Z
LAST-MODIFIED:20260206T144355Z
UID:10020215-1770498000-1770498000@www.maddhatterpro.com
SUMMARY:Pullanos Pizza
DESCRIPTION:Glendale’s best karaoke spot! The Amazing KJ Zondo in the house\, 9pm-1am. Amazing staff\, amazing foods\, and amazing singers –  but only when YOU take the stage. \n13848 N 51st Ave\, Glendale\, AZ 85306 \n+16029781234
URL:https://www.maddhatterpro.com/event/pullanos-pizza/2026-02-07/
LOCATION:Pullanos Pizza\, 13848 N 51st Ave\, Glendale\, AZ\, 85306\, United States
CATEGORIES:Karaoke,KJ Zondo
ATTACH;FMTTYPE=image/jpeg:https://www.maddhatterpro.com/wp-content/uploads/2026/02/Pullanos-Glendale.jpg
END:VEVENT
BEGIN:VEVENT
DTSTART;TZID=UTC:20260205T210000
DTEND;TZID=UTC:20260205T210000
DTSTAMP:20260423T190002
CREATED:20250703T233325Z
LAST-MODIFIED:20260206T144355Z
UID:10020214-1770325200-1770325200@www.maddhatterpro.com
SUMMARY:Pullanos Pizza
DESCRIPTION:Glendale’s best karaoke spot! The Amazing KJ Zondo in the house\, 9pm-1am. Amazing staff\, amazing foods\, and amazing singers –  but only when YOU take the stage. \n13848 N 51st Ave\, Glendale\, AZ 85306 \n+16029781234
URL:https://www.maddhatterpro.com/event/pullanos-pizza/2026-02-05/
LOCATION:Pullanos Pizza\, 13848 N 51st Ave\, Glendale\, AZ\, 85306\, United States
CATEGORIES:Karaoke,KJ Zondo
ATTACH;FMTTYPE=image/jpeg:https://www.maddhatterpro.com/wp-content/uploads/2026/02/Pullanos-Glendale.jpg
END:VEVENT
BEGIN:VEVENT
DTSTART;TZID=UTC:20260131T210000
DTEND;TZID=UTC:20260131T210000
DTSTAMP:20260423T190002
CREATED:20250703T233325Z
LAST-MODIFIED:20260206T144355Z
UID:10020213-1769893200-1769893200@www.maddhatterpro.com
SUMMARY:Pullanos Pizza
DESCRIPTION:Glendale’s best karaoke spot! The Amazing KJ Zondo in the house\, 9pm-1am. Amazing staff\, amazing foods\, and amazing singers –  but only when YOU take the stage. \n13848 N 51st Ave\, Glendale\, AZ 85306 \n+16029781234
URL:https://www.maddhatterpro.com/event/pullanos-pizza/2026-01-31/
LOCATION:Pullanos Pizza\, 13848 N 51st Ave\, Glendale\, AZ\, 85306\, United States
CATEGORIES:Karaoke,KJ Zondo
ATTACH;FMTTYPE=image/jpeg:https://www.maddhatterpro.com/wp-content/uploads/2026/02/Pullanos-Glendale.jpg
END:VEVENT
BEGIN:VEVENT
DTSTART;TZID=UTC:20260129T210000
DTEND;TZID=UTC:20260129T210000
DTSTAMP:20260423T190002
CREATED:20250703T233325Z
LAST-MODIFIED:20260206T144355Z
UID:10020212-1769720400-1769720400@www.maddhatterpro.com
SUMMARY:Pullanos Pizza
DESCRIPTION:Glendale’s best karaoke spot! The Amazing KJ Zondo in the house\, 9pm-1am. Amazing staff\, amazing foods\, and amazing singers –  but only when YOU take the stage. \n13848 N 51st Ave\, Glendale\, AZ 85306 \n+16029781234
URL:https://www.maddhatterpro.com/event/pullanos-pizza/2026-01-29/
LOCATION:Pullanos Pizza\, 13848 N 51st Ave\, Glendale\, AZ\, 85306\, United States
CATEGORIES:Karaoke,KJ Zondo
ATTACH;FMTTYPE=image/jpeg:https://www.maddhatterpro.com/wp-content/uploads/2026/02/Pullanos-Glendale.jpg
END:VEVENT
BEGIN:VEVENT
DTSTART;TZID=UTC:20260124T210000
DTEND;TZID=UTC:20260124T210000
DTSTAMP:20260423T190002
CREATED:20250703T233325Z
LAST-MODIFIED:20260206T144355Z
UID:10020211-1769288400-1769288400@www.maddhatterpro.com
SUMMARY:Pullanos Pizza
DESCRIPTION:Glendale’s best karaoke spot! The Amazing KJ Zondo in the house\, 9pm-1am. Amazing staff\, amazing foods\, and amazing singers –  but only when YOU take the stage. \n13848 N 51st Ave\, Glendale\, AZ 85306 \n+16029781234
URL:https://www.maddhatterpro.com/event/pullanos-pizza/2026-01-24/
LOCATION:Pullanos Pizza\, 13848 N 51st Ave\, Glendale\, AZ\, 85306\, United States
CATEGORIES:Karaoke,KJ Zondo
ATTACH;FMTTYPE=image/jpeg:https://www.maddhatterpro.com/wp-content/uploads/2026/02/Pullanos-Glendale.jpg
END:VEVENT
BEGIN:VEVENT
DTSTART;TZID=UTC:20260122T210000
DTEND;TZID=UTC:20260122T210000
DTSTAMP:20260423T190002
CREATED:20250703T233325Z
LAST-MODIFIED:20260206T144355Z
UID:10020210-1769115600-1769115600@www.maddhatterpro.com
SUMMARY:Pullanos Pizza
DESCRIPTION:Glendale’s best karaoke spot! The Amazing KJ Zondo in the house\, 9pm-1am. Amazing staff\, amazing foods\, and amazing singers –  but only when YOU take the stage. \n13848 N 51st Ave\, Glendale\, AZ 85306 \n+16029781234
URL:https://www.maddhatterpro.com/event/pullanos-pizza/2026-01-22/
LOCATION:Pullanos Pizza\, 13848 N 51st Ave\, Glendale\, AZ\, 85306\, United States
CATEGORIES:Karaoke,KJ Zondo
ATTACH;FMTTYPE=image/jpeg:https://www.maddhatterpro.com/wp-content/uploads/2026/02/Pullanos-Glendale.jpg
END:VEVENT
BEGIN:VEVENT
DTSTART;TZID=UTC:20260117T210000
DTEND;TZID=UTC:20260117T210000
DTSTAMP:20260423T190002
CREATED:20250703T233325Z
LAST-MODIFIED:20260206T144355Z
UID:10020209-1768683600-1768683600@www.maddhatterpro.com
SUMMARY:Pullanos Pizza
DESCRIPTION:Glendale’s best karaoke spot! The Amazing KJ Zondo in the house\, 9pm-1am. Amazing staff\, amazing foods\, and amazing singers –  but only when YOU take the stage. \n13848 N 51st Ave\, Glendale\, AZ 85306 \n+16029781234
URL:https://www.maddhatterpro.com/event/pullanos-pizza/2026-01-17/
LOCATION:Pullanos Pizza\, 13848 N 51st Ave\, Glendale\, AZ\, 85306\, United States
CATEGORIES:Karaoke,KJ Zondo
ATTACH;FMTTYPE=image/jpeg:https://www.maddhatterpro.com/wp-content/uploads/2026/02/Pullanos-Glendale.jpg
END:VEVENT
BEGIN:VEVENT
DTSTART;TZID=UTC:20260115T210000
DTEND;TZID=UTC:20260115T210000
DTSTAMP:20260423T190002
CREATED:20250703T233325Z
LAST-MODIFIED:20260206T144355Z
UID:10020208-1768510800-1768510800@www.maddhatterpro.com
SUMMARY:Pullanos Pizza
DESCRIPTION:Glendale’s best karaoke spot! The Amazing KJ Zondo in the house\, 9pm-1am. Amazing staff\, amazing foods\, and amazing singers –  but only when YOU take the stage. \n13848 N 51st Ave\, Glendale\, AZ 85306 \n+16029781234
URL:https://www.maddhatterpro.com/event/pullanos-pizza/2026-01-15/
LOCATION:Pullanos Pizza\, 13848 N 51st Ave\, Glendale\, AZ\, 85306\, United States
CATEGORIES:Karaoke,KJ Zondo
ATTACH;FMTTYPE=image/jpeg:https://www.maddhatterpro.com/wp-content/uploads/2026/02/Pullanos-Glendale.jpg
END:VEVENT
BEGIN:VEVENT
DTSTART;TZID=UTC:20260110T210000
DTEND;TZID=UTC:20260110T210000
DTSTAMP:20260423T190002
CREATED:20250703T233325Z
LAST-MODIFIED:20260206T144355Z
UID:10020207-1768078800-1768078800@www.maddhatterpro.com
SUMMARY:Pullanos Pizza
DESCRIPTION:Glendale’s best karaoke spot! The Amazing KJ Zondo in the house\, 9pm-1am. Amazing staff\, amazing foods\, and amazing singers –  but only when YOU take the stage. \n13848 N 51st Ave\, Glendale\, AZ 85306 \n+16029781234
URL:https://www.maddhatterpro.com/event/pullanos-pizza/2026-01-10/
LOCATION:Pullanos Pizza\, 13848 N 51st Ave\, Glendale\, AZ\, 85306\, United States
CATEGORIES:Karaoke,KJ Zondo
ATTACH;FMTTYPE=image/jpeg:https://www.maddhatterpro.com/wp-content/uploads/2026/02/Pullanos-Glendale.jpg
END:VEVENT
BEGIN:VEVENT
DTSTART;TZID=UTC:20260108T210000
DTEND;TZID=UTC:20260108T210000
DTSTAMP:20260423T190002
CREATED:20250703T233325Z
LAST-MODIFIED:20260206T144355Z
UID:10020206-1767906000-1767906000@www.maddhatterpro.com
SUMMARY:Pullanos Pizza
DESCRIPTION:Glendale’s best karaoke spot! The Amazing KJ Zondo in the house\, 9pm-1am. Amazing staff\, amazing foods\, and amazing singers –  but only when YOU take the stage. \n13848 N 51st Ave\, Glendale\, AZ 85306 \n+16029781234
URL:https://www.maddhatterpro.com/event/pullanos-pizza/2026-01-08/
LOCATION:Pullanos Pizza\, 13848 N 51st Ave\, Glendale\, AZ\, 85306\, United States
CATEGORIES:Karaoke,KJ Zondo
ATTACH;FMTTYPE=image/jpeg:https://www.maddhatterpro.com/wp-content/uploads/2026/02/Pullanos-Glendale.jpg
END:VEVENT
BEGIN:VEVENT
DTSTART;TZID=UTC:20260103T210000
DTEND;TZID=UTC:20260103T210000
DTSTAMP:20260423T190002
CREATED:20250703T233325Z
LAST-MODIFIED:20260206T144355Z
UID:10020205-1767474000-1767474000@www.maddhatterpro.com
SUMMARY:Pullanos Pizza
DESCRIPTION:Glendale’s best karaoke spot! The Amazing KJ Zondo in the house\, 9pm-1am. Amazing staff\, amazing foods\, and amazing singers –  but only when YOU take the stage. \n13848 N 51st Ave\, Glendale\, AZ 85306 \n+16029781234
URL:https://www.maddhatterpro.com/event/pullanos-pizza/2026-01-03/
LOCATION:Pullanos Pizza\, 13848 N 51st Ave\, Glendale\, AZ\, 85306\, United States
CATEGORIES:Karaoke,KJ Zondo
ATTACH;FMTTYPE=image/jpeg:https://www.maddhatterpro.com/wp-content/uploads/2026/02/Pullanos-Glendale.jpg
END:VEVENT
BEGIN:VEVENT
DTSTART;TZID=UTC:20260101T210000
DTEND;TZID=UTC:20260101T210000
DTSTAMP:20260423T190002
CREATED:20250703T233325Z
LAST-MODIFIED:20260206T144355Z
UID:10020204-1767301200-1767301200@www.maddhatterpro.com
SUMMARY:Pullanos Pizza
DESCRIPTION:Glendale’s best karaoke spot! The Amazing KJ Zondo in the house\, 9pm-1am. Amazing staff\, amazing foods\, and amazing singers –  but only when YOU take the stage. \n13848 N 51st Ave\, Glendale\, AZ 85306 \n+16029781234
URL:https://www.maddhatterpro.com/event/pullanos-pizza/2026-01-01/
LOCATION:Pullanos Pizza\, 13848 N 51st Ave\, Glendale\, AZ\, 85306\, United States
CATEGORIES:Karaoke,KJ Zondo
ATTACH;FMTTYPE=image/jpeg:https://www.maddhatterpro.com/wp-content/uploads/2026/02/Pullanos-Glendale.jpg
END:VEVENT
BEGIN:VEVENT
DTSTART;TZID=UTC:20251227T210000
DTEND;TZID=UTC:20251227T210000
DTSTAMP:20260423T190002
CREATED:20250703T233325Z
LAST-MODIFIED:20260206T144355Z
UID:10020203-1766869200-1766869200@www.maddhatterpro.com
SUMMARY:Pullanos Pizza
DESCRIPTION:Glendale’s best karaoke spot! The Amazing KJ Zondo in the house\, 9pm-1am. Amazing staff\, amazing foods\, and amazing singers –  but only when YOU take the stage. \n13848 N 51st Ave\, Glendale\, AZ 85306 \n+16029781234
URL:https://www.maddhatterpro.com/event/pullanos-pizza/2025-12-27/
LOCATION:Pullanos Pizza\, 13848 N 51st Ave\, Glendale\, AZ\, 85306\, United States
CATEGORIES:Karaoke,KJ Zondo
ATTACH;FMTTYPE=image/jpeg:https://www.maddhatterpro.com/wp-content/uploads/2026/02/Pullanos-Glendale.jpg
END:VEVENT
BEGIN:VEVENT
DTSTART;TZID=UTC:20251225T210000
DTEND;TZID=UTC:20251225T210000
DTSTAMP:20260423T190002
CREATED:20250703T233325Z
LAST-MODIFIED:20260206T144355Z
UID:10020202-1766696400-1766696400@www.maddhatterpro.com
SUMMARY:Pullanos Pizza
DESCRIPTION:Glendale’s best karaoke spot! The Amazing KJ Zondo in the house\, 9pm-1am. Amazing staff\, amazing foods\, and amazing singers –  but only when YOU take the stage. \n13848 N 51st Ave\, Glendale\, AZ 85306 \n+16029781234
URL:https://www.maddhatterpro.com/event/pullanos-pizza/2025-12-25/
LOCATION:Pullanos Pizza\, 13848 N 51st Ave\, Glendale\, AZ\, 85306\, United States
CATEGORIES:Karaoke,KJ Zondo
ATTACH;FMTTYPE=image/jpeg:https://www.maddhatterpro.com/wp-content/uploads/2026/02/Pullanos-Glendale.jpg
END:VEVENT
BEGIN:VEVENT
DTSTART;TZID=UTC:20251220T210000
DTEND;TZID=UTC:20251220T210000
DTSTAMP:20260423T190002
CREATED:20250703T233325Z
LAST-MODIFIED:20260206T144355Z
UID:10020201-1766264400-1766264400@www.maddhatterpro.com
SUMMARY:Pullanos Pizza
DESCRIPTION:Glendale’s best karaoke spot! The Amazing KJ Zondo in the house\, 9pm-1am. Amazing staff\, amazing foods\, and amazing singers –  but only when YOU take the stage. \n13848 N 51st Ave\, Glendale\, AZ 85306 \n+16029781234
URL:https://www.maddhatterpro.com/event/pullanos-pizza/2025-12-20/
LOCATION:Pullanos Pizza\, 13848 N 51st Ave\, Glendale\, AZ\, 85306\, United States
CATEGORIES:Karaoke,KJ Zondo
ATTACH;FMTTYPE=image/jpeg:https://www.maddhatterpro.com/wp-content/uploads/2026/02/Pullanos-Glendale.jpg
END:VEVENT
BEGIN:VEVENT
DTSTART;TZID=UTC:20251218T210000
DTEND;TZID=UTC:20251218T210000
DTSTAMP:20260423T190002
CREATED:20250703T233325Z
LAST-MODIFIED:20260206T144355Z
UID:10020200-1766091600-1766091600@www.maddhatterpro.com
SUMMARY:Pullanos Pizza
DESCRIPTION:Glendale’s best karaoke spot! The Amazing KJ Zondo in the house\, 9pm-1am. Amazing staff\, amazing foods\, and amazing singers –  but only when YOU take the stage. \n13848 N 51st Ave\, Glendale\, AZ 85306 \n+16029781234
URL:https://www.maddhatterpro.com/event/pullanos-pizza/2025-12-18/
LOCATION:Pullanos Pizza\, 13848 N 51st Ave\, Glendale\, AZ\, 85306\, United States
CATEGORIES:Karaoke,KJ Zondo
ATTACH;FMTTYPE=image/jpeg:https://www.maddhatterpro.com/wp-content/uploads/2026/02/Pullanos-Glendale.jpg
END:VEVENT
BEGIN:VEVENT
DTSTART;TZID=UTC:20251213T210000
DTEND;TZID=UTC:20251213T210000
DTSTAMP:20260423T190002
CREATED:20250703T233325Z
LAST-MODIFIED:20260206T144355Z
UID:10020199-1765659600-1765659600@www.maddhatterpro.com
SUMMARY:Pullanos Pizza
DESCRIPTION:Glendale’s best karaoke spot! The Amazing KJ Zondo in the house\, 9pm-1am. Amazing staff\, amazing foods\, and amazing singers –  but only when YOU take the stage. \n13848 N 51st Ave\, Glendale\, AZ 85306 \n+16029781234
URL:https://www.maddhatterpro.com/event/pullanos-pizza/2025-12-13/
LOCATION:Pullanos Pizza\, 13848 N 51st Ave\, Glendale\, AZ\, 85306\, United States
CATEGORIES:Karaoke,KJ Zondo
ATTACH;FMTTYPE=image/jpeg:https://www.maddhatterpro.com/wp-content/uploads/2026/02/Pullanos-Glendale.jpg
END:VEVENT
BEGIN:VEVENT
DTSTART;TZID=UTC:20251211T210000
DTEND;TZID=UTC:20251211T210000
DTSTAMP:20260423T190002
CREATED:20250703T233325Z
LAST-MODIFIED:20260206T144355Z
UID:10020198-1765486800-1765486800@www.maddhatterpro.com
SUMMARY:Pullanos Pizza
DESCRIPTION:Glendale’s best karaoke spot! The Amazing KJ Zondo in the house\, 9pm-1am. Amazing staff\, amazing foods\, and amazing singers –  but only when YOU take the stage. \n13848 N 51st Ave\, Glendale\, AZ 85306 \n+16029781234
URL:https://www.maddhatterpro.com/event/pullanos-pizza/2025-12-11/
LOCATION:Pullanos Pizza\, 13848 N 51st Ave\, Glendale\, AZ\, 85306\, United States
CATEGORIES:Karaoke,KJ Zondo
ATTACH;FMTTYPE=image/jpeg:https://www.maddhatterpro.com/wp-content/uploads/2026/02/Pullanos-Glendale.jpg
END:VEVENT
BEGIN:VEVENT
DTSTART;TZID=UTC:20251206T210000
DTEND;TZID=UTC:20251206T210000
DTSTAMP:20260423T190002
CREATED:20250703T233325Z
LAST-MODIFIED:20260206T144355Z
UID:10020197-1765054800-1765054800@www.maddhatterpro.com
SUMMARY:Pullanos Pizza
DESCRIPTION:Glendale’s best karaoke spot! The Amazing KJ Zondo in the house\, 9pm-1am. Amazing staff\, amazing foods\, and amazing singers –  but only when YOU take the stage. \n13848 N 51st Ave\, Glendale\, AZ 85306 \n+16029781234
URL:https://www.maddhatterpro.com/event/pullanos-pizza/2025-12-06/
LOCATION:Pullanos Pizza\, 13848 N 51st Ave\, Glendale\, AZ\, 85306\, United States
CATEGORIES:Karaoke,KJ Zondo
ATTACH;FMTTYPE=image/jpeg:https://www.maddhatterpro.com/wp-content/uploads/2026/02/Pullanos-Glendale.jpg
END:VEVENT
BEGIN:VEVENT
DTSTART;TZID=UTC:20251204T210000
DTEND;TZID=UTC:20251204T210000
DTSTAMP:20260423T190002
CREATED:20250703T233325Z
LAST-MODIFIED:20260206T144355Z
UID:10020196-1764882000-1764882000@www.maddhatterpro.com
SUMMARY:Pullanos Pizza
DESCRIPTION:Glendale’s best karaoke spot! The Amazing KJ Zondo in the house\, 9pm-1am. Amazing staff\, amazing foods\, and amazing singers –  but only when YOU take the stage. \n13848 N 51st Ave\, Glendale\, AZ 85306 \n+16029781234
URL:https://www.maddhatterpro.com/event/pullanos-pizza/2025-12-04/
LOCATION:Pullanos Pizza\, 13848 N 51st Ave\, Glendale\, AZ\, 85306\, United States
CATEGORIES:Karaoke,KJ Zondo
ATTACH;FMTTYPE=image/jpeg:https://www.maddhatterpro.com/wp-content/uploads/2026/02/Pullanos-Glendale.jpg
END:VEVENT
BEGIN:VEVENT
DTSTART;TZID=UTC:20251129T210000
DTEND;TZID=UTC:20251129T210000
DTSTAMP:20260423T190002
CREATED:20250703T233325Z
LAST-MODIFIED:20260206T144355Z
UID:10020195-1764450000-1764450000@www.maddhatterpro.com
SUMMARY:Pullanos Pizza
DESCRIPTION:Glendale’s best karaoke spot! The Amazing KJ Zondo in the house\, 9pm-1am. Amazing staff\, amazing foods\, and amazing singers –  but only when YOU take the stage. \n13848 N 51st Ave\, Glendale\, AZ 85306 \n+16029781234
URL:https://www.maddhatterpro.com/event/pullanos-pizza/2025-11-29/
LOCATION:Pullanos Pizza\, 13848 N 51st Ave\, Glendale\, AZ\, 85306\, United States
CATEGORIES:Karaoke,KJ Zondo
ATTACH;FMTTYPE=image/jpeg:https://www.maddhatterpro.com/wp-content/uploads/2026/02/Pullanos-Glendale.jpg
END:VEVENT
BEGIN:VEVENT
DTSTART;TZID=UTC:20251127T210000
DTEND;TZID=UTC:20251127T210000
DTSTAMP:20260423T190002
CREATED:20250703T233325Z
LAST-MODIFIED:20260206T144355Z
UID:10020194-1764277200-1764277200@www.maddhatterpro.com
SUMMARY:Pullanos Pizza
DESCRIPTION:Glendale’s best karaoke spot! The Amazing KJ Zondo in the house\, 9pm-1am. Amazing staff\, amazing foods\, and amazing singers –  but only when YOU take the stage. \n13848 N 51st Ave\, Glendale\, AZ 85306 \n+16029781234
URL:https://www.maddhatterpro.com/event/pullanos-pizza/2025-11-27/
LOCATION:Pullanos Pizza\, 13848 N 51st Ave\, Glendale\, AZ\, 85306\, United States
CATEGORIES:Karaoke,KJ Zondo
ATTACH;FMTTYPE=image/jpeg:https://www.maddhatterpro.com/wp-content/uploads/2026/02/Pullanos-Glendale.jpg
END:VEVENT
END:VCALENDAR