BEGIN:VCALENDAR
VERSION:2.0
PRODID:-//MaddHatterPro.com - ECPv6.15.20//NONSGML v1.0//EN
CALSCALE:GREGORIAN
METHOD:PUBLISH
X-WR-CALNAME:MaddHatterPro.com
X-ORIGINAL-URL:https://www.maddhatterpro.com
X-WR-CALDESC:Events for MaddHatterPro.com
REFRESH-INTERVAL;VALUE=DURATION:PT1H
X-Robots-Tag:noindex
X-PUBLISHED-TTL:PT1H
BEGIN:VTIMEZONE
TZID:UTC
BEGIN:STANDARD
TZOFFSETFROM:+0000
TZOFFSETTO:+0000
TZNAME:UTC
DTSTART:20290101T000000
END:STANDARD
END:VTIMEZONE
BEGIN:VEVENT
DTSTART;TZID=UTC:20300910T210000
DTEND;TZID=UTC:20300910T210000
DTSTAMP:20260424T211012
CREATED:20250703T231700Z
LAST-MODIFIED:20260206T143948Z
UID:10024709-1915304400-1915304400@www.maddhatterpro.com
SUMMARY:Pub Rock Live Karaoke
DESCRIPTION:Karaoke in South Scottsdale’s prime spot! The amazing KJ Zondo in the house\, 9pm to 1am. Come keep me busy and I will stay till you’re done! \n8005 E Roosevelt St\, Scottsdale\, AZ 85257 \n+14809454985
URL:https://www.maddhatterpro.com/event/pub-rock-live-karaoke/2030-09-10/
LOCATION:Pub Rock Live\, 8005 E Roosevelt St\, Scottsdale\, AZ\, 85257\, United States
CATEGORIES:Karaoke,KJ Zondo
ATTACH;FMTTYPE=image/jpeg:https://www.maddhatterpro.com/wp-content/uploads/2026/02/PubRock-Scottsdale.jpg
END:VEVENT
BEGIN:VEVENT
DTSTART;TZID=UTC:20300917T210000
DTEND;TZID=UTC:20300917T210000
DTSTAMP:20260424T211012
CREATED:20250703T231700Z
LAST-MODIFIED:20260206T143948Z
UID:10024710-1915909200-1915909200@www.maddhatterpro.com
SUMMARY:Pub Rock Live Karaoke
DESCRIPTION:Karaoke in South Scottsdale’s prime spot! The amazing KJ Zondo in the house\, 9pm to 1am. Come keep me busy and I will stay till you’re done! \n8005 E Roosevelt St\, Scottsdale\, AZ 85257 \n+14809454985
URL:https://www.maddhatterpro.com/event/pub-rock-live-karaoke/2030-09-17/
LOCATION:Pub Rock Live\, 8005 E Roosevelt St\, Scottsdale\, AZ\, 85257\, United States
CATEGORIES:Karaoke,KJ Zondo
ATTACH;FMTTYPE=image/jpeg:https://www.maddhatterpro.com/wp-content/uploads/2026/02/PubRock-Scottsdale.jpg
END:VEVENT
BEGIN:VEVENT
DTSTART;TZID=UTC:20300924T210000
DTEND;TZID=UTC:20300924T210000
DTSTAMP:20260424T211012
CREATED:20250703T231700Z
LAST-MODIFIED:20260206T143948Z
UID:10024711-1916514000-1916514000@www.maddhatterpro.com
SUMMARY:Pub Rock Live Karaoke
DESCRIPTION:Karaoke in South Scottsdale’s prime spot! The amazing KJ Zondo in the house\, 9pm to 1am. Come keep me busy and I will stay till you’re done! \n8005 E Roosevelt St\, Scottsdale\, AZ 85257 \n+14809454985
URL:https://www.maddhatterpro.com/event/pub-rock-live-karaoke/2030-09-24/
LOCATION:Pub Rock Live\, 8005 E Roosevelt St\, Scottsdale\, AZ\, 85257\, United States
CATEGORIES:Karaoke,KJ Zondo
ATTACH;FMTTYPE=image/jpeg:https://www.maddhatterpro.com/wp-content/uploads/2026/02/PubRock-Scottsdale.jpg
END:VEVENT
BEGIN:VEVENT
DTSTART;TZID=UTC:20301001T210000
DTEND;TZID=UTC:20301001T210000
DTSTAMP:20260424T211012
CREATED:20250703T231700Z
LAST-MODIFIED:20260206T143948Z
UID:10024712-1917118800-1917118800@www.maddhatterpro.com
SUMMARY:Pub Rock Live Karaoke
DESCRIPTION:Karaoke in South Scottsdale’s prime spot! The amazing KJ Zondo in the house\, 9pm to 1am. Come keep me busy and I will stay till you’re done! \n8005 E Roosevelt St\, Scottsdale\, AZ 85257 \n+14809454985
URL:https://www.maddhatterpro.com/event/pub-rock-live-karaoke/2030-10-01/
LOCATION:Pub Rock Live\, 8005 E Roosevelt St\, Scottsdale\, AZ\, 85257\, United States
CATEGORIES:Karaoke,KJ Zondo
ATTACH;FMTTYPE=image/jpeg:https://www.maddhatterpro.com/wp-content/uploads/2026/02/PubRock-Scottsdale.jpg
END:VEVENT
BEGIN:VEVENT
DTSTART;TZID=UTC:20301008T210000
DTEND;TZID=UTC:20301008T210000
DTSTAMP:20260424T211012
CREATED:20250703T231700Z
LAST-MODIFIED:20260206T143948Z
UID:10024713-1917723600-1917723600@www.maddhatterpro.com
SUMMARY:Pub Rock Live Karaoke
DESCRIPTION:Karaoke in South Scottsdale’s prime spot! The amazing KJ Zondo in the house\, 9pm to 1am. Come keep me busy and I will stay till you’re done! \n8005 E Roosevelt St\, Scottsdale\, AZ 85257 \n+14809454985
URL:https://www.maddhatterpro.com/event/pub-rock-live-karaoke/2030-10-08/
LOCATION:Pub Rock Live\, 8005 E Roosevelt St\, Scottsdale\, AZ\, 85257\, United States
CATEGORIES:Karaoke,KJ Zondo
ATTACH;FMTTYPE=image/jpeg:https://www.maddhatterpro.com/wp-content/uploads/2026/02/PubRock-Scottsdale.jpg
END:VEVENT
BEGIN:VEVENT
DTSTART;TZID=UTC:20301015T210000
DTEND;TZID=UTC:20301015T210000
DTSTAMP:20260424T211012
CREATED:20250703T231700Z
LAST-MODIFIED:20260206T143948Z
UID:10024714-1918328400-1918328400@www.maddhatterpro.com
SUMMARY:Pub Rock Live Karaoke
DESCRIPTION:Karaoke in South Scottsdale’s prime spot! The amazing KJ Zondo in the house\, 9pm to 1am. Come keep me busy and I will stay till you’re done! \n8005 E Roosevelt St\, Scottsdale\, AZ 85257 \n+14809454985
URL:https://www.maddhatterpro.com/event/pub-rock-live-karaoke/2030-10-15/
LOCATION:Pub Rock Live\, 8005 E Roosevelt St\, Scottsdale\, AZ\, 85257\, United States
CATEGORIES:Karaoke,KJ Zondo
ATTACH;FMTTYPE=image/jpeg:https://www.maddhatterpro.com/wp-content/uploads/2026/02/PubRock-Scottsdale.jpg
END:VEVENT
BEGIN:VEVENT
DTSTART;TZID=UTC:20301022T210000
DTEND;TZID=UTC:20301022T210000
DTSTAMP:20260424T211012
CREATED:20250703T231700Z
LAST-MODIFIED:20260206T143948Z
UID:10024715-1918933200-1918933200@www.maddhatterpro.com
SUMMARY:Pub Rock Live Karaoke
DESCRIPTION:Karaoke in South Scottsdale’s prime spot! The amazing KJ Zondo in the house\, 9pm to 1am. Come keep me busy and I will stay till you’re done! \n8005 E Roosevelt St\, Scottsdale\, AZ 85257 \n+14809454985
URL:https://www.maddhatterpro.com/event/pub-rock-live-karaoke/2030-10-22/
LOCATION:Pub Rock Live\, 8005 E Roosevelt St\, Scottsdale\, AZ\, 85257\, United States
CATEGORIES:Karaoke,KJ Zondo
ATTACH;FMTTYPE=image/jpeg:https://www.maddhatterpro.com/wp-content/uploads/2026/02/PubRock-Scottsdale.jpg
END:VEVENT
BEGIN:VEVENT
DTSTART;TZID=UTC:20301029T210000
DTEND;TZID=UTC:20301029T210000
DTSTAMP:20260424T211012
CREATED:20250703T231700Z
LAST-MODIFIED:20260206T143948Z
UID:10024716-1919538000-1919538000@www.maddhatterpro.com
SUMMARY:Pub Rock Live Karaoke
DESCRIPTION:Karaoke in South Scottsdale’s prime spot! The amazing KJ Zondo in the house\, 9pm to 1am. Come keep me busy and I will stay till you’re done! \n8005 E Roosevelt St\, Scottsdale\, AZ 85257 \n+14809454985
URL:https://www.maddhatterpro.com/event/pub-rock-live-karaoke/2030-10-29/
LOCATION:Pub Rock Live\, 8005 E Roosevelt St\, Scottsdale\, AZ\, 85257\, United States
CATEGORIES:Karaoke,KJ Zondo
ATTACH;FMTTYPE=image/jpeg:https://www.maddhatterpro.com/wp-content/uploads/2026/02/PubRock-Scottsdale.jpg
END:VEVENT
BEGIN:VEVENT
DTSTART;TZID=UTC:20301105T210000
DTEND;TZID=UTC:20301105T210000
DTSTAMP:20260424T211012
CREATED:20250703T231700Z
LAST-MODIFIED:20260206T143948Z
UID:10024717-1920142800-1920142800@www.maddhatterpro.com
SUMMARY:Pub Rock Live Karaoke
DESCRIPTION:Karaoke in South Scottsdale’s prime spot! The amazing KJ Zondo in the house\, 9pm to 1am. Come keep me busy and I will stay till you’re done! \n8005 E Roosevelt St\, Scottsdale\, AZ 85257 \n+14809454985
URL:https://www.maddhatterpro.com/event/pub-rock-live-karaoke/2030-11-05/
LOCATION:Pub Rock Live\, 8005 E Roosevelt St\, Scottsdale\, AZ\, 85257\, United States
CATEGORIES:Karaoke,KJ Zondo
ATTACH;FMTTYPE=image/jpeg:https://www.maddhatterpro.com/wp-content/uploads/2026/02/PubRock-Scottsdale.jpg
END:VEVENT
BEGIN:VEVENT
DTSTART;TZID=UTC:20301112T210000
DTEND;TZID=UTC:20301112T210000
DTSTAMP:20260424T211012
CREATED:20250703T231700Z
LAST-MODIFIED:20260206T143948Z
UID:10024718-1920747600-1920747600@www.maddhatterpro.com
SUMMARY:Pub Rock Live Karaoke
DESCRIPTION:Karaoke in South Scottsdale’s prime spot! The amazing KJ Zondo in the house\, 9pm to 1am. Come keep me busy and I will stay till you’re done! \n8005 E Roosevelt St\, Scottsdale\, AZ 85257 \n+14809454985
URL:https://www.maddhatterpro.com/event/pub-rock-live-karaoke/2030-11-12/
LOCATION:Pub Rock Live\, 8005 E Roosevelt St\, Scottsdale\, AZ\, 85257\, United States
CATEGORIES:Karaoke,KJ Zondo
ATTACH;FMTTYPE=image/jpeg:https://www.maddhatterpro.com/wp-content/uploads/2026/02/PubRock-Scottsdale.jpg
END:VEVENT
BEGIN:VEVENT
DTSTART;TZID=UTC:20301119T210000
DTEND;TZID=UTC:20301119T210000
DTSTAMP:20260424T211012
CREATED:20250703T231700Z
LAST-MODIFIED:20260206T143948Z
UID:10024719-1921352400-1921352400@www.maddhatterpro.com
SUMMARY:Pub Rock Live Karaoke
DESCRIPTION:Karaoke in South Scottsdale’s prime spot! The amazing KJ Zondo in the house\, 9pm to 1am. Come keep me busy and I will stay till you’re done! \n8005 E Roosevelt St\, Scottsdale\, AZ 85257 \n+14809454985
URL:https://www.maddhatterpro.com/event/pub-rock-live-karaoke/2030-11-19/
LOCATION:Pub Rock Live\, 8005 E Roosevelt St\, Scottsdale\, AZ\, 85257\, United States
CATEGORIES:Karaoke,KJ Zondo
ATTACH;FMTTYPE=image/jpeg:https://www.maddhatterpro.com/wp-content/uploads/2026/02/PubRock-Scottsdale.jpg
END:VEVENT
BEGIN:VEVENT
DTSTART;TZID=UTC:20301126T210000
DTEND;TZID=UTC:20301126T210000
DTSTAMP:20260424T211012
CREATED:20250703T231700Z
LAST-MODIFIED:20260206T143948Z
UID:10024720-1921957200-1921957200@www.maddhatterpro.com
SUMMARY:Pub Rock Live Karaoke
DESCRIPTION:Karaoke in South Scottsdale’s prime spot! The amazing KJ Zondo in the house\, 9pm to 1am. Come keep me busy and I will stay till you’re done! \n8005 E Roosevelt St\, Scottsdale\, AZ 85257 \n+14809454985
URL:https://www.maddhatterpro.com/event/pub-rock-live-karaoke/2030-11-26/
LOCATION:Pub Rock Live\, 8005 E Roosevelt St\, Scottsdale\, AZ\, 85257\, United States
CATEGORIES:Karaoke,KJ Zondo
ATTACH;FMTTYPE=image/jpeg:https://www.maddhatterpro.com/wp-content/uploads/2026/02/PubRock-Scottsdale.jpg
END:VEVENT
BEGIN:VEVENT
DTSTART;TZID=UTC:20301203T210000
DTEND;TZID=UTC:20301203T210000
DTSTAMP:20260424T211012
CREATED:20250703T231700Z
LAST-MODIFIED:20260206T143948Z
UID:10024721-1922562000-1922562000@www.maddhatterpro.com
SUMMARY:Pub Rock Live Karaoke
DESCRIPTION:Karaoke in South Scottsdale’s prime spot! The amazing KJ Zondo in the house\, 9pm to 1am. Come keep me busy and I will stay till you’re done! \n8005 E Roosevelt St\, Scottsdale\, AZ 85257 \n+14809454985
URL:https://www.maddhatterpro.com/event/pub-rock-live-karaoke/2030-12-03/
LOCATION:Pub Rock Live\, 8005 E Roosevelt St\, Scottsdale\, AZ\, 85257\, United States
CATEGORIES:Karaoke,KJ Zondo
ATTACH;FMTTYPE=image/jpeg:https://www.maddhatterpro.com/wp-content/uploads/2026/02/PubRock-Scottsdale.jpg
END:VEVENT
BEGIN:VEVENT
DTSTART;TZID=UTC:20301210T210000
DTEND;TZID=UTC:20301210T210000
DTSTAMP:20260424T211012
CREATED:20250703T231700Z
LAST-MODIFIED:20260206T143948Z
UID:10024722-1923166800-1923166800@www.maddhatterpro.com
SUMMARY:Pub Rock Live Karaoke
DESCRIPTION:Karaoke in South Scottsdale’s prime spot! The amazing KJ Zondo in the house\, 9pm to 1am. Come keep me busy and I will stay till you’re done! \n8005 E Roosevelt St\, Scottsdale\, AZ 85257 \n+14809454985
URL:https://www.maddhatterpro.com/event/pub-rock-live-karaoke/2030-12-10/
LOCATION:Pub Rock Live\, 8005 E Roosevelt St\, Scottsdale\, AZ\, 85257\, United States
CATEGORIES:Karaoke,KJ Zondo
ATTACH;FMTTYPE=image/jpeg:https://www.maddhatterpro.com/wp-content/uploads/2026/02/PubRock-Scottsdale.jpg
END:VEVENT
BEGIN:VEVENT
DTSTART;TZID=UTC:20301217T210000
DTEND;TZID=UTC:20301217T210000
DTSTAMP:20260424T211012
CREATED:20250703T231700Z
LAST-MODIFIED:20260206T143948Z
UID:10024723-1923771600-1923771600@www.maddhatterpro.com
SUMMARY:Pub Rock Live Karaoke
DESCRIPTION:Karaoke in South Scottsdale’s prime spot! The amazing KJ Zondo in the house\, 9pm to 1am. Come keep me busy and I will stay till you’re done! \n8005 E Roosevelt St\, Scottsdale\, AZ 85257 \n+14809454985
URL:https://www.maddhatterpro.com/event/pub-rock-live-karaoke/2030-12-17/
LOCATION:Pub Rock Live\, 8005 E Roosevelt St\, Scottsdale\, AZ\, 85257\, United States
CATEGORIES:Karaoke,KJ Zondo
ATTACH;FMTTYPE=image/jpeg:https://www.maddhatterpro.com/wp-content/uploads/2026/02/PubRock-Scottsdale.jpg
END:VEVENT
BEGIN:VEVENT
DTSTART;TZID=UTC:20301224T210000
DTEND;TZID=UTC:20301224T210000
DTSTAMP:20260424T211012
CREATED:20250703T231700Z
LAST-MODIFIED:20260206T143948Z
UID:10024724-1924376400-1924376400@www.maddhatterpro.com
SUMMARY:Pub Rock Live Karaoke
DESCRIPTION:Karaoke in South Scottsdale’s prime spot! The amazing KJ Zondo in the house\, 9pm to 1am. Come keep me busy and I will stay till you’re done! \n8005 E Roosevelt St\, Scottsdale\, AZ 85257 \n+14809454985
URL:https://www.maddhatterpro.com/event/pub-rock-live-karaoke/2030-12-24/
LOCATION:Pub Rock Live\, 8005 E Roosevelt St\, Scottsdale\, AZ\, 85257\, United States
CATEGORIES:Karaoke,KJ Zondo
ATTACH;FMTTYPE=image/jpeg:https://www.maddhatterpro.com/wp-content/uploads/2026/02/PubRock-Scottsdale.jpg
END:VEVENT
BEGIN:VEVENT
DTSTART;TZID=UTC:20301231T210000
DTEND;TZID=UTC:20301231T210000
DTSTAMP:20260424T211012
CREATED:20250703T231700Z
LAST-MODIFIED:20260206T143948Z
UID:10024725-1924981200-1924981200@www.maddhatterpro.com
SUMMARY:Pub Rock Live Karaoke
DESCRIPTION:Karaoke in South Scottsdale’s prime spot! The amazing KJ Zondo in the house\, 9pm to 1am. Come keep me busy and I will stay till you’re done! \n8005 E Roosevelt St\, Scottsdale\, AZ 85257 \n+14809454985
URL:https://www.maddhatterpro.com/event/pub-rock-live-karaoke/2030-12-31/
LOCATION:Pub Rock Live\, 8005 E Roosevelt St\, Scottsdale\, AZ\, 85257\, United States
CATEGORIES:Karaoke,KJ Zondo
ATTACH;FMTTYPE=image/jpeg:https://www.maddhatterpro.com/wp-content/uploads/2026/02/PubRock-Scottsdale.jpg
END:VEVENT
BEGIN:VEVENT
DTSTART;TZID=UTC:20310107T210000
DTEND;TZID=UTC:20310107T210000
DTSTAMP:20260424T211012
CREATED:20250703T231700Z
LAST-MODIFIED:20260206T143948Z
UID:10024726-1925586000-1925586000@www.maddhatterpro.com
SUMMARY:Pub Rock Live Karaoke
DESCRIPTION:Karaoke in South Scottsdale’s prime spot! The amazing KJ Zondo in the house\, 9pm to 1am. Come keep me busy and I will stay till you’re done! \n8005 E Roosevelt St\, Scottsdale\, AZ 85257 \n+14809454985
URL:https://www.maddhatterpro.com/event/pub-rock-live-karaoke/2031-01-07/
LOCATION:Pub Rock Live\, 8005 E Roosevelt St\, Scottsdale\, AZ\, 85257\, United States
CATEGORIES:Karaoke,KJ Zondo
ATTACH;FMTTYPE=image/jpeg:https://www.maddhatterpro.com/wp-content/uploads/2026/02/PubRock-Scottsdale.jpg
END:VEVENT
BEGIN:VEVENT
DTSTART;TZID=UTC:20310114T210000
DTEND;TZID=UTC:20310114T210000
DTSTAMP:20260424T211012
CREATED:20250703T231700Z
LAST-MODIFIED:20260206T143948Z
UID:10024727-1926190800-1926190800@www.maddhatterpro.com
SUMMARY:Pub Rock Live Karaoke
DESCRIPTION:Karaoke in South Scottsdale’s prime spot! The amazing KJ Zondo in the house\, 9pm to 1am. Come keep me busy and I will stay till you’re done! \n8005 E Roosevelt St\, Scottsdale\, AZ 85257 \n+14809454985
URL:https://www.maddhatterpro.com/event/pub-rock-live-karaoke/2031-01-14/
LOCATION:Pub Rock Live\, 8005 E Roosevelt St\, Scottsdale\, AZ\, 85257\, United States
CATEGORIES:Karaoke,KJ Zondo
ATTACH;FMTTYPE=image/jpeg:https://www.maddhatterpro.com/wp-content/uploads/2026/02/PubRock-Scottsdale.jpg
END:VEVENT
BEGIN:VEVENT
DTSTART;TZID=UTC:20310121T210000
DTEND;TZID=UTC:20310121T210000
DTSTAMP:20260424T211012
CREATED:20250703T231700Z
LAST-MODIFIED:20260206T143948Z
UID:10024728-1926795600-1926795600@www.maddhatterpro.com
SUMMARY:Pub Rock Live Karaoke
DESCRIPTION:Karaoke in South Scottsdale’s prime spot! The amazing KJ Zondo in the house\, 9pm to 1am. Come keep me busy and I will stay till you’re done! \n8005 E Roosevelt St\, Scottsdale\, AZ 85257 \n+14809454985
URL:https://www.maddhatterpro.com/event/pub-rock-live-karaoke/2031-01-21/
LOCATION:Pub Rock Live\, 8005 E Roosevelt St\, Scottsdale\, AZ\, 85257\, United States
CATEGORIES:Karaoke,KJ Zondo
ATTACH;FMTTYPE=image/jpeg:https://www.maddhatterpro.com/wp-content/uploads/2026/02/PubRock-Scottsdale.jpg
END:VEVENT
BEGIN:VEVENT
DTSTART;TZID=UTC:20310128T210000
DTEND;TZID=UTC:20310128T210000
DTSTAMP:20260424T211012
CREATED:20250703T231700Z
LAST-MODIFIED:20260206T143948Z
UID:10024729-1927400400-1927400400@www.maddhatterpro.com
SUMMARY:Pub Rock Live Karaoke
DESCRIPTION:Karaoke in South Scottsdale’s prime spot! The amazing KJ Zondo in the house\, 9pm to 1am. Come keep me busy and I will stay till you’re done! \n8005 E Roosevelt St\, Scottsdale\, AZ 85257 \n+14809454985
URL:https://www.maddhatterpro.com/event/pub-rock-live-karaoke/2031-01-28/
LOCATION:Pub Rock Live\, 8005 E Roosevelt St\, Scottsdale\, AZ\, 85257\, United States
CATEGORIES:Karaoke,KJ Zondo
ATTACH;FMTTYPE=image/jpeg:https://www.maddhatterpro.com/wp-content/uploads/2026/02/PubRock-Scottsdale.jpg
END:VEVENT
BEGIN:VEVENT
DTSTART;TZID=UTC:20310204T210000
DTEND;TZID=UTC:20310204T210000
DTSTAMP:20260424T211012
CREATED:20250703T231700Z
LAST-MODIFIED:20260206T143948Z
UID:10024730-1928005200-1928005200@www.maddhatterpro.com
SUMMARY:Pub Rock Live Karaoke
DESCRIPTION:Karaoke in South Scottsdale’s prime spot! The amazing KJ Zondo in the house\, 9pm to 1am. Come keep me busy and I will stay till you’re done! \n8005 E Roosevelt St\, Scottsdale\, AZ 85257 \n+14809454985
URL:https://www.maddhatterpro.com/event/pub-rock-live-karaoke/2031-02-04/
LOCATION:Pub Rock Live\, 8005 E Roosevelt St\, Scottsdale\, AZ\, 85257\, United States
CATEGORIES:Karaoke,KJ Zondo
ATTACH;FMTTYPE=image/jpeg:https://www.maddhatterpro.com/wp-content/uploads/2026/02/PubRock-Scottsdale.jpg
END:VEVENT
END:VCALENDAR