BEGIN:VCALENDAR
VERSION:2.0
PRODID:-//MaddHatterPro.com - ECPv6.15.20//NONSGML v1.0//EN
CALSCALE:GREGORIAN
METHOD:PUBLISH
X-ORIGINAL-URL:https://www.maddhatterpro.com
X-WR-CALDESC:Events for MaddHatterPro.com
REFRESH-INTERVAL;VALUE=DURATION:PT1H
X-Robots-Tag:noindex
X-PUBLISHED-TTL:PT1H
BEGIN:VTIMEZONE
TZID:UTC
BEGIN:STANDARD
TZOFFSETFROM:+0000
TZOFFSETTO:+0000
TZNAME:UTC
DTSTART:20240101T000000
END:STANDARD
END:VTIMEZONE
BEGIN:VEVENT
DTSTART;TZID=UTC:20260127T210000
DTEND;TZID=UTC:20260127T210000
DTSTAMP:20260423T203504
CREATED:20250703T231700Z
LAST-MODIFIED:20260206T143948Z
UID:10019920-1769547600-1769547600@www.maddhatterpro.com
SUMMARY:Pub Rock Live Karaoke
DESCRIPTION:Karaoke in South Scottsdale’s prime spot! The amazing KJ Zondo in the house\, 9pm to 1am. Come keep me busy and I will stay till you’re done! \n8005 E Roosevelt St\, Scottsdale\, AZ 85257 \n+14809454985
URL:https://www.maddhatterpro.com/event/pub-rock-live-karaoke/2026-01-27/
LOCATION:Pub Rock Live\, 8005 E Roosevelt St\, Scottsdale\, AZ\, 85257\, United States
CATEGORIES:Karaoke,KJ Zondo
ATTACH;FMTTYPE=image/jpeg:https://www.maddhatterpro.com/wp-content/uploads/2026/02/PubRock-Scottsdale.jpg
END:VEVENT
BEGIN:VEVENT
DTSTART;TZID=UTC:20260120T210000
DTEND;TZID=UTC:20260120T210000
DTSTAMP:20260423T203504
CREATED:20250703T231700Z
LAST-MODIFIED:20260206T143948Z
UID:10019919-1768942800-1768942800@www.maddhatterpro.com
SUMMARY:Pub Rock Live Karaoke
DESCRIPTION:Karaoke in South Scottsdale’s prime spot! The amazing KJ Zondo in the house\, 9pm to 1am. Come keep me busy and I will stay till you’re done! \n8005 E Roosevelt St\, Scottsdale\, AZ 85257 \n+14809454985
URL:https://www.maddhatterpro.com/event/pub-rock-live-karaoke/2026-01-20/
LOCATION:Pub Rock Live\, 8005 E Roosevelt St\, Scottsdale\, AZ\, 85257\, United States
CATEGORIES:Karaoke,KJ Zondo
ATTACH;FMTTYPE=image/jpeg:https://www.maddhatterpro.com/wp-content/uploads/2026/02/PubRock-Scottsdale.jpg
END:VEVENT
BEGIN:VEVENT
DTSTART;TZID=UTC:20260113T210000
DTEND;TZID=UTC:20260113T210000
DTSTAMP:20260423T203504
CREATED:20250703T231700Z
LAST-MODIFIED:20260206T143948Z
UID:10019918-1768338000-1768338000@www.maddhatterpro.com
SUMMARY:Pub Rock Live Karaoke
DESCRIPTION:Karaoke in South Scottsdale’s prime spot! The amazing KJ Zondo in the house\, 9pm to 1am. Come keep me busy and I will stay till you’re done! \n8005 E Roosevelt St\, Scottsdale\, AZ 85257 \n+14809454985
URL:https://www.maddhatterpro.com/event/pub-rock-live-karaoke/2026-01-13/
LOCATION:Pub Rock Live\, 8005 E Roosevelt St\, Scottsdale\, AZ\, 85257\, United States
CATEGORIES:Karaoke,KJ Zondo
ATTACH;FMTTYPE=image/jpeg:https://www.maddhatterpro.com/wp-content/uploads/2026/02/PubRock-Scottsdale.jpg
END:VEVENT
BEGIN:VEVENT
DTSTART;TZID=UTC:20260106T210000
DTEND;TZID=UTC:20260106T210000
DTSTAMP:20260423T203504
CREATED:20250703T231700Z
LAST-MODIFIED:20260206T143948Z
UID:10019917-1767733200-1767733200@www.maddhatterpro.com
SUMMARY:Pub Rock Live Karaoke
DESCRIPTION:Karaoke in South Scottsdale’s prime spot! The amazing KJ Zondo in the house\, 9pm to 1am. Come keep me busy and I will stay till you’re done! \n8005 E Roosevelt St\, Scottsdale\, AZ 85257 \n+14809454985
URL:https://www.maddhatterpro.com/event/pub-rock-live-karaoke/2026-01-06/
LOCATION:Pub Rock Live\, 8005 E Roosevelt St\, Scottsdale\, AZ\, 85257\, United States
CATEGORIES:Karaoke,KJ Zondo
ATTACH;FMTTYPE=image/jpeg:https://www.maddhatterpro.com/wp-content/uploads/2026/02/PubRock-Scottsdale.jpg
END:VEVENT
BEGIN:VEVENT
DTSTART;TZID=UTC:20251230T210000
DTEND;TZID=UTC:20251230T210000
DTSTAMP:20260423T203504
CREATED:20250703T231700Z
LAST-MODIFIED:20260206T143948Z
UID:10019916-1767128400-1767128400@www.maddhatterpro.com
SUMMARY:Pub Rock Live Karaoke
DESCRIPTION:Karaoke in South Scottsdale’s prime spot! The amazing KJ Zondo in the house\, 9pm to 1am. Come keep me busy and I will stay till you’re done! \n8005 E Roosevelt St\, Scottsdale\, AZ 85257 \n+14809454985
URL:https://www.maddhatterpro.com/event/pub-rock-live-karaoke/2025-12-30/
LOCATION:Pub Rock Live\, 8005 E Roosevelt St\, Scottsdale\, AZ\, 85257\, United States
CATEGORIES:Karaoke,KJ Zondo
ATTACH;FMTTYPE=image/jpeg:https://www.maddhatterpro.com/wp-content/uploads/2026/02/PubRock-Scottsdale.jpg
END:VEVENT
BEGIN:VEVENT
DTSTART;TZID=UTC:20251223T210000
DTEND;TZID=UTC:20251223T210000
DTSTAMP:20260423T203504
CREATED:20250703T231700Z
LAST-MODIFIED:20260206T143948Z
UID:10019915-1766523600-1766523600@www.maddhatterpro.com
SUMMARY:Pub Rock Live Karaoke
DESCRIPTION:Karaoke in South Scottsdale’s prime spot! The amazing KJ Zondo in the house\, 9pm to 1am. Come keep me busy and I will stay till you’re done! \n8005 E Roosevelt St\, Scottsdale\, AZ 85257 \n+14809454985
URL:https://www.maddhatterpro.com/event/pub-rock-live-karaoke/2025-12-23/
LOCATION:Pub Rock Live\, 8005 E Roosevelt St\, Scottsdale\, AZ\, 85257\, United States
CATEGORIES:Karaoke,KJ Zondo
ATTACH;FMTTYPE=image/jpeg:https://www.maddhatterpro.com/wp-content/uploads/2026/02/PubRock-Scottsdale.jpg
END:VEVENT
BEGIN:VEVENT
DTSTART;TZID=UTC:20251216T210000
DTEND;TZID=UTC:20251216T210000
DTSTAMP:20260423T203504
CREATED:20250703T231700Z
LAST-MODIFIED:20260206T143948Z
UID:10019914-1765918800-1765918800@www.maddhatterpro.com
SUMMARY:Pub Rock Live Karaoke
DESCRIPTION:Karaoke in South Scottsdale’s prime spot! The amazing KJ Zondo in the house\, 9pm to 1am. Come keep me busy and I will stay till you’re done! \n8005 E Roosevelt St\, Scottsdale\, AZ 85257 \n+14809454985
URL:https://www.maddhatterpro.com/event/pub-rock-live-karaoke/2025-12-16/
LOCATION:Pub Rock Live\, 8005 E Roosevelt St\, Scottsdale\, AZ\, 85257\, United States
CATEGORIES:Karaoke,KJ Zondo
ATTACH;FMTTYPE=image/jpeg:https://www.maddhatterpro.com/wp-content/uploads/2026/02/PubRock-Scottsdale.jpg
END:VEVENT
BEGIN:VEVENT
DTSTART;TZID=UTC:20251209T210000
DTEND;TZID=UTC:20251209T210000
DTSTAMP:20260423T203504
CREATED:20250703T231700Z
LAST-MODIFIED:20260206T143948Z
UID:10019913-1765314000-1765314000@www.maddhatterpro.com
SUMMARY:Pub Rock Live Karaoke
DESCRIPTION:Karaoke in South Scottsdale’s prime spot! The amazing KJ Zondo in the house\, 9pm to 1am. Come keep me busy and I will stay till you’re done! \n8005 E Roosevelt St\, Scottsdale\, AZ 85257 \n+14809454985
URL:https://www.maddhatterpro.com/event/pub-rock-live-karaoke/2025-12-09/
LOCATION:Pub Rock Live\, 8005 E Roosevelt St\, Scottsdale\, AZ\, 85257\, United States
CATEGORIES:Karaoke,KJ Zondo
ATTACH;FMTTYPE=image/jpeg:https://www.maddhatterpro.com/wp-content/uploads/2026/02/PubRock-Scottsdale.jpg
END:VEVENT
BEGIN:VEVENT
DTSTART;TZID=UTC:20251202T210000
DTEND;TZID=UTC:20251202T210000
DTSTAMP:20260423T203504
CREATED:20250703T231700Z
LAST-MODIFIED:20260206T143948Z
UID:10019912-1764709200-1764709200@www.maddhatterpro.com
SUMMARY:Pub Rock Live Karaoke
DESCRIPTION:Karaoke in South Scottsdale’s prime spot! The amazing KJ Zondo in the house\, 9pm to 1am. Come keep me busy and I will stay till you’re done! \n8005 E Roosevelt St\, Scottsdale\, AZ 85257 \n+14809454985
URL:https://www.maddhatterpro.com/event/pub-rock-live-karaoke/2025-12-02/
LOCATION:Pub Rock Live\, 8005 E Roosevelt St\, Scottsdale\, AZ\, 85257\, United States
CATEGORIES:Karaoke,KJ Zondo
ATTACH;FMTTYPE=image/jpeg:https://www.maddhatterpro.com/wp-content/uploads/2026/02/PubRock-Scottsdale.jpg
END:VEVENT
BEGIN:VEVENT
DTSTART;TZID=UTC:20251125T210000
DTEND;TZID=UTC:20251125T210000
DTSTAMP:20260423T203504
CREATED:20250703T231700Z
LAST-MODIFIED:20260206T143948Z
UID:10019911-1764104400-1764104400@www.maddhatterpro.com
SUMMARY:Pub Rock Live Karaoke
DESCRIPTION:Karaoke in South Scottsdale’s prime spot! The amazing KJ Zondo in the house\, 9pm to 1am. Come keep me busy and I will stay till you’re done! \n8005 E Roosevelt St\, Scottsdale\, AZ 85257 \n+14809454985
URL:https://www.maddhatterpro.com/event/pub-rock-live-karaoke/2025-11-25/
LOCATION:Pub Rock Live\, 8005 E Roosevelt St\, Scottsdale\, AZ\, 85257\, United States
CATEGORIES:Karaoke,KJ Zondo
ATTACH;FMTTYPE=image/jpeg:https://www.maddhatterpro.com/wp-content/uploads/2026/02/PubRock-Scottsdale.jpg
END:VEVENT
BEGIN:VEVENT
DTSTART;TZID=UTC:20251118T210000
DTEND;TZID=UTC:20251118T210000
DTSTAMP:20260423T203504
CREATED:20250703T231700Z
LAST-MODIFIED:20260206T143948Z
UID:10019910-1763499600-1763499600@www.maddhatterpro.com
SUMMARY:Pub Rock Live Karaoke
DESCRIPTION:Karaoke in South Scottsdale’s prime spot! The amazing KJ Zondo in the house\, 9pm to 1am. Come keep me busy and I will stay till you’re done! \n8005 E Roosevelt St\, Scottsdale\, AZ 85257 \n+14809454985
URL:https://www.maddhatterpro.com/event/pub-rock-live-karaoke/2025-11-18/
LOCATION:Pub Rock Live\, 8005 E Roosevelt St\, Scottsdale\, AZ\, 85257\, United States
CATEGORIES:Karaoke,KJ Zondo
ATTACH;FMTTYPE=image/jpeg:https://www.maddhatterpro.com/wp-content/uploads/2026/02/PubRock-Scottsdale.jpg
END:VEVENT
BEGIN:VEVENT
DTSTART;TZID=UTC:20251111T210000
DTEND;TZID=UTC:20251111T210000
DTSTAMP:20260423T203504
CREATED:20250703T231700Z
LAST-MODIFIED:20260206T143948Z
UID:10019909-1762894800-1762894800@www.maddhatterpro.com
SUMMARY:Pub Rock Live Karaoke
DESCRIPTION:Karaoke in South Scottsdale’s prime spot! The amazing KJ Zondo in the house\, 9pm to 1am. Come keep me busy and I will stay till you’re done! \n8005 E Roosevelt St\, Scottsdale\, AZ 85257 \n+14809454985
URL:https://www.maddhatterpro.com/event/pub-rock-live-karaoke/2025-11-11/
LOCATION:Pub Rock Live\, 8005 E Roosevelt St\, Scottsdale\, AZ\, 85257\, United States
CATEGORIES:Karaoke,KJ Zondo
ATTACH;FMTTYPE=image/jpeg:https://www.maddhatterpro.com/wp-content/uploads/2026/02/PubRock-Scottsdale.jpg
END:VEVENT
BEGIN:VEVENT
DTSTART;TZID=UTC:20251104T210000
DTEND;TZID=UTC:20251104T210000
DTSTAMP:20260423T203504
CREATED:20250703T231700Z
LAST-MODIFIED:20260206T143948Z
UID:10019908-1762290000-1762290000@www.maddhatterpro.com
SUMMARY:Pub Rock Live Karaoke
DESCRIPTION:Karaoke in South Scottsdale’s prime spot! The amazing KJ Zondo in the house\, 9pm to 1am. Come keep me busy and I will stay till you’re done! \n8005 E Roosevelt St\, Scottsdale\, AZ 85257 \n+14809454985
URL:https://www.maddhatterpro.com/event/pub-rock-live-karaoke/2025-11-04/
LOCATION:Pub Rock Live\, 8005 E Roosevelt St\, Scottsdale\, AZ\, 85257\, United States
CATEGORIES:Karaoke,KJ Zondo
ATTACH;FMTTYPE=image/jpeg:https://www.maddhatterpro.com/wp-content/uploads/2026/02/PubRock-Scottsdale.jpg
END:VEVENT
BEGIN:VEVENT
DTSTART;TZID=UTC:20251028T210000
DTEND;TZID=UTC:20251028T210000
DTSTAMP:20260423T203504
CREATED:20250703T231700Z
LAST-MODIFIED:20260206T143948Z
UID:10019907-1761685200-1761685200@www.maddhatterpro.com
SUMMARY:Pub Rock Live Karaoke
DESCRIPTION:Karaoke in South Scottsdale’s prime spot! The amazing KJ Zondo in the house\, 9pm to 1am. Come keep me busy and I will stay till you’re done! \n8005 E Roosevelt St\, Scottsdale\, AZ 85257 \n+14809454985
URL:https://www.maddhatterpro.com/event/pub-rock-live-karaoke/2025-10-28/
LOCATION:Pub Rock Live\, 8005 E Roosevelt St\, Scottsdale\, AZ\, 85257\, United States
CATEGORIES:Karaoke,KJ Zondo
ATTACH;FMTTYPE=image/jpeg:https://www.maddhatterpro.com/wp-content/uploads/2026/02/PubRock-Scottsdale.jpg
END:VEVENT
BEGIN:VEVENT
DTSTART;TZID=UTC:20251021T210000
DTEND;TZID=UTC:20251021T210000
DTSTAMP:20260423T203504
CREATED:20250703T231700Z
LAST-MODIFIED:20260206T143948Z
UID:10019906-1761080400-1761080400@www.maddhatterpro.com
SUMMARY:Pub Rock Live Karaoke
DESCRIPTION:Karaoke in South Scottsdale’s prime spot! The amazing KJ Zondo in the house\, 9pm to 1am. Come keep me busy and I will stay till you’re done! \n8005 E Roosevelt St\, Scottsdale\, AZ 85257 \n+14809454985
URL:https://www.maddhatterpro.com/event/pub-rock-live-karaoke/2025-10-21/
LOCATION:Pub Rock Live\, 8005 E Roosevelt St\, Scottsdale\, AZ\, 85257\, United States
CATEGORIES:Karaoke,KJ Zondo
ATTACH;FMTTYPE=image/jpeg:https://www.maddhatterpro.com/wp-content/uploads/2026/02/PubRock-Scottsdale.jpg
END:VEVENT
BEGIN:VEVENT
DTSTART;TZID=UTC:20251014T210000
DTEND;TZID=UTC:20251014T210000
DTSTAMP:20260423T203504
CREATED:20250703T231700Z
LAST-MODIFIED:20260206T143948Z
UID:10019905-1760475600-1760475600@www.maddhatterpro.com
SUMMARY:Pub Rock Live Karaoke
DESCRIPTION:Karaoke in South Scottsdale’s prime spot! The amazing KJ Zondo in the house\, 9pm to 1am. Come keep me busy and I will stay till you’re done! \n8005 E Roosevelt St\, Scottsdale\, AZ 85257 \n+14809454985
URL:https://www.maddhatterpro.com/event/pub-rock-live-karaoke/2025-10-14/
LOCATION:Pub Rock Live\, 8005 E Roosevelt St\, Scottsdale\, AZ\, 85257\, United States
CATEGORIES:Karaoke,KJ Zondo
ATTACH;FMTTYPE=image/jpeg:https://www.maddhatterpro.com/wp-content/uploads/2026/02/PubRock-Scottsdale.jpg
END:VEVENT
BEGIN:VEVENT
DTSTART;TZID=UTC:20251007T210000
DTEND;TZID=UTC:20251007T210000
DTSTAMP:20260423T203504
CREATED:20250703T231700Z
LAST-MODIFIED:20260206T143948Z
UID:10019904-1759870800-1759870800@www.maddhatterpro.com
SUMMARY:Pub Rock Live Karaoke
DESCRIPTION:Karaoke in South Scottsdale’s prime spot! The amazing KJ Zondo in the house\, 9pm to 1am. Come keep me busy and I will stay till you’re done! \n8005 E Roosevelt St\, Scottsdale\, AZ 85257 \n+14809454985
URL:https://www.maddhatterpro.com/event/pub-rock-live-karaoke/2025-10-07/
LOCATION:Pub Rock Live\, 8005 E Roosevelt St\, Scottsdale\, AZ\, 85257\, United States
CATEGORIES:Karaoke,KJ Zondo
ATTACH;FMTTYPE=image/jpeg:https://www.maddhatterpro.com/wp-content/uploads/2026/02/PubRock-Scottsdale.jpg
END:VEVENT
BEGIN:VEVENT
DTSTART;TZID=UTC:20250930T210000
DTEND;TZID=UTC:20250930T210000
DTSTAMP:20260423T203504
CREATED:20250703T231700Z
LAST-MODIFIED:20260206T143948Z
UID:10019903-1759266000-1759266000@www.maddhatterpro.com
SUMMARY:Pub Rock Live Karaoke
DESCRIPTION:Karaoke in South Scottsdale’s prime spot! The amazing KJ Zondo in the house\, 9pm to 1am. Come keep me busy and I will stay till you’re done! \n8005 E Roosevelt St\, Scottsdale\, AZ 85257 \n+14809454985
URL:https://www.maddhatterpro.com/event/pub-rock-live-karaoke/2025-09-30/
LOCATION:Pub Rock Live\, 8005 E Roosevelt St\, Scottsdale\, AZ\, 85257\, United States
CATEGORIES:Karaoke,KJ Zondo
ATTACH;FMTTYPE=image/jpeg:https://www.maddhatterpro.com/wp-content/uploads/2026/02/PubRock-Scottsdale.jpg
END:VEVENT
BEGIN:VEVENT
DTSTART;TZID=UTC:20250923T210000
DTEND;TZID=UTC:20250923T210000
DTSTAMP:20260423T203504
CREATED:20250703T231700Z
LAST-MODIFIED:20260206T143948Z
UID:10019902-1758661200-1758661200@www.maddhatterpro.com
SUMMARY:Pub Rock Live Karaoke
DESCRIPTION:Karaoke in South Scottsdale’s prime spot! The amazing KJ Zondo in the house\, 9pm to 1am. Come keep me busy and I will stay till you’re done! \n8005 E Roosevelt St\, Scottsdale\, AZ 85257 \n+14809454985
URL:https://www.maddhatterpro.com/event/pub-rock-live-karaoke/2025-09-23/
LOCATION:Pub Rock Live\, 8005 E Roosevelt St\, Scottsdale\, AZ\, 85257\, United States
CATEGORIES:Karaoke,KJ Zondo
ATTACH;FMTTYPE=image/jpeg:https://www.maddhatterpro.com/wp-content/uploads/2026/02/PubRock-Scottsdale.jpg
END:VEVENT
BEGIN:VEVENT
DTSTART;TZID=UTC:20250916T210000
DTEND;TZID=UTC:20250916T210000
DTSTAMP:20260423T203504
CREATED:20250703T231700Z
LAST-MODIFIED:20260206T143948Z
UID:10019901-1758056400-1758056400@www.maddhatterpro.com
SUMMARY:Pub Rock Live Karaoke
DESCRIPTION:Karaoke in South Scottsdale’s prime spot! The amazing KJ Zondo in the house\, 9pm to 1am. Come keep me busy and I will stay till you’re done! \n8005 E Roosevelt St\, Scottsdale\, AZ 85257 \n+14809454985
URL:https://www.maddhatterpro.com/event/pub-rock-live-karaoke/2025-09-16/
LOCATION:Pub Rock Live\, 8005 E Roosevelt St\, Scottsdale\, AZ\, 85257\, United States
CATEGORIES:Karaoke,KJ Zondo
ATTACH;FMTTYPE=image/jpeg:https://www.maddhatterpro.com/wp-content/uploads/2026/02/PubRock-Scottsdale.jpg
END:VEVENT
BEGIN:VEVENT
DTSTART;TZID=UTC:20250909T210000
DTEND;TZID=UTC:20250909T210000
DTSTAMP:20260423T203504
CREATED:20250703T231700Z
LAST-MODIFIED:20260206T143948Z
UID:10019900-1757451600-1757451600@www.maddhatterpro.com
SUMMARY:Pub Rock Live Karaoke
DESCRIPTION:Karaoke in South Scottsdale’s prime spot! The amazing KJ Zondo in the house\, 9pm to 1am. Come keep me busy and I will stay till you’re done! \n8005 E Roosevelt St\, Scottsdale\, AZ 85257 \n+14809454985
URL:https://www.maddhatterpro.com/event/pub-rock-live-karaoke/2025-09-09/
LOCATION:Pub Rock Live\, 8005 E Roosevelt St\, Scottsdale\, AZ\, 85257\, United States
CATEGORIES:Karaoke,KJ Zondo
ATTACH;FMTTYPE=image/jpeg:https://www.maddhatterpro.com/wp-content/uploads/2026/02/PubRock-Scottsdale.jpg
END:VEVENT
BEGIN:VEVENT
DTSTART;TZID=UTC:20250902T210000
DTEND;TZID=UTC:20250902T210000
DTSTAMP:20260423T203504
CREATED:20250703T231700Z
LAST-MODIFIED:20260206T143948Z
UID:10019899-1756846800-1756846800@www.maddhatterpro.com
SUMMARY:Pub Rock Live Karaoke
DESCRIPTION:Karaoke in South Scottsdale’s prime spot! The amazing KJ Zondo in the house\, 9pm to 1am. Come keep me busy and I will stay till you’re done! \n8005 E Roosevelt St\, Scottsdale\, AZ 85257 \n+14809454985
URL:https://www.maddhatterpro.com/event/pub-rock-live-karaoke/2025-09-02/
LOCATION:Pub Rock Live\, 8005 E Roosevelt St\, Scottsdale\, AZ\, 85257\, United States
CATEGORIES:Karaoke,KJ Zondo
ATTACH;FMTTYPE=image/jpeg:https://www.maddhatterpro.com/wp-content/uploads/2026/02/PubRock-Scottsdale.jpg
END:VEVENT
BEGIN:VEVENT
DTSTART;TZID=UTC:20250826T210000
DTEND;TZID=UTC:20250826T210000
DTSTAMP:20260423T203504
CREATED:20250703T231700Z
LAST-MODIFIED:20260206T143948Z
UID:10019898-1756242000-1756242000@www.maddhatterpro.com
SUMMARY:Pub Rock Live Karaoke
DESCRIPTION:Karaoke in South Scottsdale’s prime spot! The amazing KJ Zondo in the house\, 9pm to 1am. Come keep me busy and I will stay till you’re done! \n8005 E Roosevelt St\, Scottsdale\, AZ 85257 \n+14809454985
URL:https://www.maddhatterpro.com/event/pub-rock-live-karaoke/2025-08-26/
LOCATION:Pub Rock Live\, 8005 E Roosevelt St\, Scottsdale\, AZ\, 85257\, United States
CATEGORIES:Karaoke,KJ Zondo
ATTACH;FMTTYPE=image/jpeg:https://www.maddhatterpro.com/wp-content/uploads/2026/02/PubRock-Scottsdale.jpg
END:VEVENT
BEGIN:VEVENT
DTSTART;TZID=UTC:20250819T210000
DTEND;TZID=UTC:20250819T210000
DTSTAMP:20260423T203504
CREATED:20250703T231700Z
LAST-MODIFIED:20260206T143948Z
UID:10019897-1755637200-1755637200@www.maddhatterpro.com
SUMMARY:Pub Rock Live Karaoke
DESCRIPTION:Karaoke in South Scottsdale’s prime spot! The amazing KJ Zondo in the house\, 9pm to 1am. Come keep me busy and I will stay till you’re done! \n8005 E Roosevelt St\, Scottsdale\, AZ 85257 \n+14809454985
URL:https://www.maddhatterpro.com/event/pub-rock-live-karaoke/2025-08-19/
LOCATION:Pub Rock Live\, 8005 E Roosevelt St\, Scottsdale\, AZ\, 85257\, United States
CATEGORIES:Karaoke,KJ Zondo
ATTACH;FMTTYPE=image/jpeg:https://www.maddhatterpro.com/wp-content/uploads/2026/02/PubRock-Scottsdale.jpg
END:VEVENT
BEGIN:VEVENT
DTSTART;TZID=UTC:20250812T210000
DTEND;TZID=UTC:20250812T210000
DTSTAMP:20260423T203504
CREATED:20250703T231700Z
LAST-MODIFIED:20260206T143948Z
UID:10019896-1755032400-1755032400@www.maddhatterpro.com
SUMMARY:Pub Rock Live Karaoke
DESCRIPTION:Karaoke in South Scottsdale’s prime spot! The amazing KJ Zondo in the house\, 9pm to 1am. Come keep me busy and I will stay till you’re done! \n8005 E Roosevelt St\, Scottsdale\, AZ 85257 \n+14809454985
URL:https://www.maddhatterpro.com/event/pub-rock-live-karaoke/2025-08-12/
LOCATION:Pub Rock Live\, 8005 E Roosevelt St\, Scottsdale\, AZ\, 85257\, United States
CATEGORIES:Karaoke,KJ Zondo
ATTACH;FMTTYPE=image/jpeg:https://www.maddhatterpro.com/wp-content/uploads/2026/02/PubRock-Scottsdale.jpg
END:VEVENT
BEGIN:VEVENT
DTSTART;TZID=UTC:20250805T210000
DTEND;TZID=UTC:20250805T210000
DTSTAMP:20260423T203504
CREATED:20250703T231700Z
LAST-MODIFIED:20260206T143948Z
UID:10019895-1754427600-1754427600@www.maddhatterpro.com
SUMMARY:Pub Rock Live Karaoke
DESCRIPTION:Karaoke in South Scottsdale’s prime spot! The amazing KJ Zondo in the house\, 9pm to 1am. Come keep me busy and I will stay till you’re done! \n8005 E Roosevelt St\, Scottsdale\, AZ 85257 \n+14809454985
URL:https://www.maddhatterpro.com/event/pub-rock-live-karaoke/2025-08-05/
LOCATION:Pub Rock Live\, 8005 E Roosevelt St\, Scottsdale\, AZ\, 85257\, United States
CATEGORIES:Karaoke,KJ Zondo
ATTACH;FMTTYPE=image/jpeg:https://www.maddhatterpro.com/wp-content/uploads/2026/02/PubRock-Scottsdale.jpg
END:VEVENT
BEGIN:VEVENT
DTSTART;TZID=UTC:20250729T210000
DTEND;TZID=UTC:20250729T210000
DTSTAMP:20260423T203504
CREATED:20250703T231700Z
LAST-MODIFIED:20260206T143948Z
UID:10019894-1753822800-1753822800@www.maddhatterpro.com
SUMMARY:Pub Rock Live Karaoke
DESCRIPTION:Karaoke in South Scottsdale’s prime spot! The amazing KJ Zondo in the house\, 9pm to 1am. Come keep me busy and I will stay till you’re done! \n8005 E Roosevelt St\, Scottsdale\, AZ 85257 \n+14809454985
URL:https://www.maddhatterpro.com/event/pub-rock-live-karaoke/2025-07-29/
LOCATION:Pub Rock Live\, 8005 E Roosevelt St\, Scottsdale\, AZ\, 85257\, United States
CATEGORIES:Karaoke,KJ Zondo
ATTACH;FMTTYPE=image/jpeg:https://www.maddhatterpro.com/wp-content/uploads/2026/02/PubRock-Scottsdale.jpg
END:VEVENT
BEGIN:VEVENT
DTSTART;TZID=UTC:20250722T210000
DTEND;TZID=UTC:20250722T210000
DTSTAMP:20260423T203504
CREATED:20250703T231700Z
LAST-MODIFIED:20260206T143948Z
UID:10019893-1753218000-1753218000@www.maddhatterpro.com
SUMMARY:Pub Rock Live Karaoke
DESCRIPTION:Karaoke in South Scottsdale’s prime spot! The amazing KJ Zondo in the house\, 9pm to 1am. Come keep me busy and I will stay till you’re done! \n8005 E Roosevelt St\, Scottsdale\, AZ 85257 \n+14809454985
URL:https://www.maddhatterpro.com/event/pub-rock-live-karaoke/2025-07-22/
LOCATION:Pub Rock Live\, 8005 E Roosevelt St\, Scottsdale\, AZ\, 85257\, United States
CATEGORIES:Karaoke,KJ Zondo
ATTACH;FMTTYPE=image/jpeg:https://www.maddhatterpro.com/wp-content/uploads/2026/02/PubRock-Scottsdale.jpg
END:VEVENT
BEGIN:VEVENT
DTSTART;TZID=UTC:20250715T210000
DTEND;TZID=UTC:20250715T210000
DTSTAMP:20260423T203504
CREATED:20250703T231700Z
LAST-MODIFIED:20260206T143948Z
UID:10019892-1752613200-1752613200@www.maddhatterpro.com
SUMMARY:Pub Rock Live Karaoke
DESCRIPTION:Karaoke in South Scottsdale’s prime spot! The amazing KJ Zondo in the house\, 9pm to 1am. Come keep me busy and I will stay till you’re done! \n8005 E Roosevelt St\, Scottsdale\, AZ 85257 \n+14809454985
URL:https://www.maddhatterpro.com/event/pub-rock-live-karaoke/2025-07-15/
LOCATION:Pub Rock Live\, 8005 E Roosevelt St\, Scottsdale\, AZ\, 85257\, United States
CATEGORIES:Karaoke,KJ Zondo
ATTACH;FMTTYPE=image/jpeg:https://www.maddhatterpro.com/wp-content/uploads/2026/02/PubRock-Scottsdale.jpg
END:VEVENT
BEGIN:VEVENT
DTSTART;TZID=UTC:20250708T210000
DTEND;TZID=UTC:20250708T210000
DTSTAMP:20260423T203504
CREATED:20250703T231700Z
LAST-MODIFIED:20260206T143948Z
UID:10019891-1752008400-1752008400@www.maddhatterpro.com
SUMMARY:Pub Rock Live Karaoke
DESCRIPTION:Karaoke in South Scottsdale’s prime spot! The amazing KJ Zondo in the house\, 9pm to 1am. Come keep me busy and I will stay till you’re done! \n8005 E Roosevelt St\, Scottsdale\, AZ 85257 \n+14809454985
URL:https://www.maddhatterpro.com/event/pub-rock-live-karaoke/2025-07-08/
LOCATION:Pub Rock Live\, 8005 E Roosevelt St\, Scottsdale\, AZ\, 85257\, United States
CATEGORIES:Karaoke,KJ Zondo
ATTACH;FMTTYPE=image/jpeg:https://www.maddhatterpro.com/wp-content/uploads/2026/02/PubRock-Scottsdale.jpg
END:VEVENT
END:VCALENDAR