BEGIN:VCALENDAR
VERSION:2.0
PRODID:-//MaddHatterPro.com - ECPv6.15.20//NONSGML v1.0//EN
CALSCALE:GREGORIAN
METHOD:PUBLISH
X-WR-CALNAME:MaddHatterPro.com
X-ORIGINAL-URL:https://www.maddhatterpro.com
X-WR-CALDESC:Events for MaddHatterPro.com
REFRESH-INTERVAL;VALUE=DURATION:PT1H
X-Robots-Tag:noindex
X-PUBLISHED-TTL:PT1H
BEGIN:VTIMEZONE
TZID:UTC
BEGIN:STANDARD
TZOFFSETFROM:+0000
TZOFFSETTO:+0000
TZNAME:UTC
DTSTART:20270101T000000
END:STANDARD
END:VTIMEZONE
BEGIN:VEVENT
DTSTART;TZID=UTC:20280817T183000
DTEND;TZID=UTC:20280817T183000
DTSTAMP:20260424T063829
CREATED:20250704T002812Z
LAST-MODIFIED:20260206T144210Z
UID:10022929-1850149800-1850149800@www.maddhatterpro.com
SUMMARY:Pho Cao Karaoke
DESCRIPTION:Homey atmosphere\, and the perfect Thursday evening dinner. Come out and see what Pho Cao has to offer with great Vietnamese cuisine. KJ Skribbz in the house\, 6:30pm-10:30pm yet another early show! \n7436 E McDowell Rd\, Scottsdale\, AZ 85257 \n+16234282173
URL:https://www.maddhatterpro.com/event/pho-cao-karaoke/2028-08-17/
LOCATION:Pho Cao\, 7436 E McDowell Rd\, Scottsdale\, AZ\, 85257\, United States
CATEGORIES:Karaoke,KJ Skribbz
ATTACH;FMTTYPE=image/jpeg:https://www.maddhatterpro.com/wp-content/uploads/2026/02/Pho-Scottsdale.jpg
END:VEVENT
BEGIN:VEVENT
DTSTART;TZID=UTC:20280824T183000
DTEND;TZID=UTC:20280824T183000
DTSTAMP:20260424T063829
CREATED:20250704T002812Z
LAST-MODIFIED:20260206T144210Z
UID:10022930-1850754600-1850754600@www.maddhatterpro.com
SUMMARY:Pho Cao Karaoke
DESCRIPTION:Homey atmosphere\, and the perfect Thursday evening dinner. Come out and see what Pho Cao has to offer with great Vietnamese cuisine. KJ Skribbz in the house\, 6:30pm-10:30pm yet another early show! \n7436 E McDowell Rd\, Scottsdale\, AZ 85257 \n+16234282173
URL:https://www.maddhatterpro.com/event/pho-cao-karaoke/2028-08-24/
LOCATION:Pho Cao\, 7436 E McDowell Rd\, Scottsdale\, AZ\, 85257\, United States
CATEGORIES:Karaoke,KJ Skribbz
ATTACH;FMTTYPE=image/jpeg:https://www.maddhatterpro.com/wp-content/uploads/2026/02/Pho-Scottsdale.jpg
END:VEVENT
BEGIN:VEVENT
DTSTART;TZID=UTC:20280831T183000
DTEND;TZID=UTC:20280831T183000
DTSTAMP:20260424T063829
CREATED:20250704T002812Z
LAST-MODIFIED:20260206T144210Z
UID:10022931-1851359400-1851359400@www.maddhatterpro.com
SUMMARY:Pho Cao Karaoke
DESCRIPTION:Homey atmosphere\, and the perfect Thursday evening dinner. Come out and see what Pho Cao has to offer with great Vietnamese cuisine. KJ Skribbz in the house\, 6:30pm-10:30pm yet another early show! \n7436 E McDowell Rd\, Scottsdale\, AZ 85257 \n+16234282173
URL:https://www.maddhatterpro.com/event/pho-cao-karaoke/2028-08-31/
LOCATION:Pho Cao\, 7436 E McDowell Rd\, Scottsdale\, AZ\, 85257\, United States
CATEGORIES:Karaoke,KJ Skribbz
ATTACH;FMTTYPE=image/jpeg:https://www.maddhatterpro.com/wp-content/uploads/2026/02/Pho-Scottsdale.jpg
END:VEVENT
BEGIN:VEVENT
DTSTART;TZID=UTC:20280907T183000
DTEND;TZID=UTC:20280907T183000
DTSTAMP:20260424T063829
CREATED:20250704T002812Z
LAST-MODIFIED:20260206T144210Z
UID:10022932-1851964200-1851964200@www.maddhatterpro.com
SUMMARY:Pho Cao Karaoke
DESCRIPTION:Homey atmosphere\, and the perfect Thursday evening dinner. Come out and see what Pho Cao has to offer with great Vietnamese cuisine. KJ Skribbz in the house\, 6:30pm-10:30pm yet another early show! \n7436 E McDowell Rd\, Scottsdale\, AZ 85257 \n+16234282173
URL:https://www.maddhatterpro.com/event/pho-cao-karaoke/2028-09-07/
LOCATION:Pho Cao\, 7436 E McDowell Rd\, Scottsdale\, AZ\, 85257\, United States
CATEGORIES:Karaoke,KJ Skribbz
ATTACH;FMTTYPE=image/jpeg:https://www.maddhatterpro.com/wp-content/uploads/2026/02/Pho-Scottsdale.jpg
END:VEVENT
BEGIN:VEVENT
DTSTART;TZID=UTC:20280914T183000
DTEND;TZID=UTC:20280914T183000
DTSTAMP:20260424T063829
CREATED:20250704T002812Z
LAST-MODIFIED:20260206T144210Z
UID:10022933-1852569000-1852569000@www.maddhatterpro.com
SUMMARY:Pho Cao Karaoke
DESCRIPTION:Homey atmosphere\, and the perfect Thursday evening dinner. Come out and see what Pho Cao has to offer with great Vietnamese cuisine. KJ Skribbz in the house\, 6:30pm-10:30pm yet another early show! \n7436 E McDowell Rd\, Scottsdale\, AZ 85257 \n+16234282173
URL:https://www.maddhatterpro.com/event/pho-cao-karaoke/2028-09-14/
LOCATION:Pho Cao\, 7436 E McDowell Rd\, Scottsdale\, AZ\, 85257\, United States
CATEGORIES:Karaoke,KJ Skribbz
ATTACH;FMTTYPE=image/jpeg:https://www.maddhatterpro.com/wp-content/uploads/2026/02/Pho-Scottsdale.jpg
END:VEVENT
BEGIN:VEVENT
DTSTART;TZID=UTC:20280921T183000
DTEND;TZID=UTC:20280921T183000
DTSTAMP:20260424T063829
CREATED:20250704T002812Z
LAST-MODIFIED:20260206T144210Z
UID:10022934-1853173800-1853173800@www.maddhatterpro.com
SUMMARY:Pho Cao Karaoke
DESCRIPTION:Homey atmosphere\, and the perfect Thursday evening dinner. Come out and see what Pho Cao has to offer with great Vietnamese cuisine. KJ Skribbz in the house\, 6:30pm-10:30pm yet another early show! \n7436 E McDowell Rd\, Scottsdale\, AZ 85257 \n+16234282173
URL:https://www.maddhatterpro.com/event/pho-cao-karaoke/2028-09-21/
LOCATION:Pho Cao\, 7436 E McDowell Rd\, Scottsdale\, AZ\, 85257\, United States
CATEGORIES:Karaoke,KJ Skribbz
ATTACH;FMTTYPE=image/jpeg:https://www.maddhatterpro.com/wp-content/uploads/2026/02/Pho-Scottsdale.jpg
END:VEVENT
BEGIN:VEVENT
DTSTART;TZID=UTC:20280928T183000
DTEND;TZID=UTC:20280928T183000
DTSTAMP:20260424T063829
CREATED:20250704T002812Z
LAST-MODIFIED:20260206T144210Z
UID:10022935-1853778600-1853778600@www.maddhatterpro.com
SUMMARY:Pho Cao Karaoke
DESCRIPTION:Homey atmosphere\, and the perfect Thursday evening dinner. Come out and see what Pho Cao has to offer with great Vietnamese cuisine. KJ Skribbz in the house\, 6:30pm-10:30pm yet another early show! \n7436 E McDowell Rd\, Scottsdale\, AZ 85257 \n+16234282173
URL:https://www.maddhatterpro.com/event/pho-cao-karaoke/2028-09-28/
LOCATION:Pho Cao\, 7436 E McDowell Rd\, Scottsdale\, AZ\, 85257\, United States
CATEGORIES:Karaoke,KJ Skribbz
ATTACH;FMTTYPE=image/jpeg:https://www.maddhatterpro.com/wp-content/uploads/2026/02/Pho-Scottsdale.jpg
END:VEVENT
BEGIN:VEVENT
DTSTART;TZID=UTC:20281005T183000
DTEND;TZID=UTC:20281005T183000
DTSTAMP:20260424T063829
CREATED:20250704T002812Z
LAST-MODIFIED:20260206T144210Z
UID:10022936-1854383400-1854383400@www.maddhatterpro.com
SUMMARY:Pho Cao Karaoke
DESCRIPTION:Homey atmosphere\, and the perfect Thursday evening dinner. Come out and see what Pho Cao has to offer with great Vietnamese cuisine. KJ Skribbz in the house\, 6:30pm-10:30pm yet another early show! \n7436 E McDowell Rd\, Scottsdale\, AZ 85257 \n+16234282173
URL:https://www.maddhatterpro.com/event/pho-cao-karaoke/2028-10-05/
LOCATION:Pho Cao\, 7436 E McDowell Rd\, Scottsdale\, AZ\, 85257\, United States
CATEGORIES:Karaoke,KJ Skribbz
ATTACH;FMTTYPE=image/jpeg:https://www.maddhatterpro.com/wp-content/uploads/2026/02/Pho-Scottsdale.jpg
END:VEVENT
BEGIN:VEVENT
DTSTART;TZID=UTC:20281012T183000
DTEND;TZID=UTC:20281012T183000
DTSTAMP:20260424T063829
CREATED:20250704T002812Z
LAST-MODIFIED:20260206T144210Z
UID:10022937-1854988200-1854988200@www.maddhatterpro.com
SUMMARY:Pho Cao Karaoke
DESCRIPTION:Homey atmosphere\, and the perfect Thursday evening dinner. Come out and see what Pho Cao has to offer with great Vietnamese cuisine. KJ Skribbz in the house\, 6:30pm-10:30pm yet another early show! \n7436 E McDowell Rd\, Scottsdale\, AZ 85257 \n+16234282173
URL:https://www.maddhatterpro.com/event/pho-cao-karaoke/2028-10-12/
LOCATION:Pho Cao\, 7436 E McDowell Rd\, Scottsdale\, AZ\, 85257\, United States
CATEGORIES:Karaoke,KJ Skribbz
ATTACH;FMTTYPE=image/jpeg:https://www.maddhatterpro.com/wp-content/uploads/2026/02/Pho-Scottsdale.jpg
END:VEVENT
BEGIN:VEVENT
DTSTART;TZID=UTC:20281019T183000
DTEND;TZID=UTC:20281019T183000
DTSTAMP:20260424T063829
CREATED:20250704T002812Z
LAST-MODIFIED:20260206T144210Z
UID:10022938-1855593000-1855593000@www.maddhatterpro.com
SUMMARY:Pho Cao Karaoke
DESCRIPTION:Homey atmosphere\, and the perfect Thursday evening dinner. Come out and see what Pho Cao has to offer with great Vietnamese cuisine. KJ Skribbz in the house\, 6:30pm-10:30pm yet another early show! \n7436 E McDowell Rd\, Scottsdale\, AZ 85257 \n+16234282173
URL:https://www.maddhatterpro.com/event/pho-cao-karaoke/2028-10-19/
LOCATION:Pho Cao\, 7436 E McDowell Rd\, Scottsdale\, AZ\, 85257\, United States
CATEGORIES:Karaoke,KJ Skribbz
ATTACH;FMTTYPE=image/jpeg:https://www.maddhatterpro.com/wp-content/uploads/2026/02/Pho-Scottsdale.jpg
END:VEVENT
BEGIN:VEVENT
DTSTART;TZID=UTC:20281026T183000
DTEND;TZID=UTC:20281026T183000
DTSTAMP:20260424T063829
CREATED:20250704T002812Z
LAST-MODIFIED:20260206T144210Z
UID:10022939-1856197800-1856197800@www.maddhatterpro.com
SUMMARY:Pho Cao Karaoke
DESCRIPTION:Homey atmosphere\, and the perfect Thursday evening dinner. Come out and see what Pho Cao has to offer with great Vietnamese cuisine. KJ Skribbz in the house\, 6:30pm-10:30pm yet another early show! \n7436 E McDowell Rd\, Scottsdale\, AZ 85257 \n+16234282173
URL:https://www.maddhatterpro.com/event/pho-cao-karaoke/2028-10-26/
LOCATION:Pho Cao\, 7436 E McDowell Rd\, Scottsdale\, AZ\, 85257\, United States
CATEGORIES:Karaoke,KJ Skribbz
ATTACH;FMTTYPE=image/jpeg:https://www.maddhatterpro.com/wp-content/uploads/2026/02/Pho-Scottsdale.jpg
END:VEVENT
BEGIN:VEVENT
DTSTART;TZID=UTC:20281102T183000
DTEND;TZID=UTC:20281102T183000
DTSTAMP:20260424T063829
CREATED:20250704T002812Z
LAST-MODIFIED:20260206T144210Z
UID:10022940-1856802600-1856802600@www.maddhatterpro.com
SUMMARY:Pho Cao Karaoke
DESCRIPTION:Homey atmosphere\, and the perfect Thursday evening dinner. Come out and see what Pho Cao has to offer with great Vietnamese cuisine. KJ Skribbz in the house\, 6:30pm-10:30pm yet another early show! \n7436 E McDowell Rd\, Scottsdale\, AZ 85257 \n+16234282173
URL:https://www.maddhatterpro.com/event/pho-cao-karaoke/2028-11-02/
LOCATION:Pho Cao\, 7436 E McDowell Rd\, Scottsdale\, AZ\, 85257\, United States
CATEGORIES:Karaoke,KJ Skribbz
ATTACH;FMTTYPE=image/jpeg:https://www.maddhatterpro.com/wp-content/uploads/2026/02/Pho-Scottsdale.jpg
END:VEVENT
BEGIN:VEVENT
DTSTART;TZID=UTC:20281109T183000
DTEND;TZID=UTC:20281109T183000
DTSTAMP:20260424T063829
CREATED:20250704T002812Z
LAST-MODIFIED:20260206T144210Z
UID:10022941-1857407400-1857407400@www.maddhatterpro.com
SUMMARY:Pho Cao Karaoke
DESCRIPTION:Homey atmosphere\, and the perfect Thursday evening dinner. Come out and see what Pho Cao has to offer with great Vietnamese cuisine. KJ Skribbz in the house\, 6:30pm-10:30pm yet another early show! \n7436 E McDowell Rd\, Scottsdale\, AZ 85257 \n+16234282173
URL:https://www.maddhatterpro.com/event/pho-cao-karaoke/2028-11-09/
LOCATION:Pho Cao\, 7436 E McDowell Rd\, Scottsdale\, AZ\, 85257\, United States
CATEGORIES:Karaoke,KJ Skribbz
ATTACH;FMTTYPE=image/jpeg:https://www.maddhatterpro.com/wp-content/uploads/2026/02/Pho-Scottsdale.jpg
END:VEVENT
BEGIN:VEVENT
DTSTART;TZID=UTC:20281116T183000
DTEND;TZID=UTC:20281116T183000
DTSTAMP:20260424T063829
CREATED:20250704T002812Z
LAST-MODIFIED:20260206T144210Z
UID:10022942-1858012200-1858012200@www.maddhatterpro.com
SUMMARY:Pho Cao Karaoke
DESCRIPTION:Homey atmosphere\, and the perfect Thursday evening dinner. Come out and see what Pho Cao has to offer with great Vietnamese cuisine. KJ Skribbz in the house\, 6:30pm-10:30pm yet another early show! \n7436 E McDowell Rd\, Scottsdale\, AZ 85257 \n+16234282173
URL:https://www.maddhatterpro.com/event/pho-cao-karaoke/2028-11-16/
LOCATION:Pho Cao\, 7436 E McDowell Rd\, Scottsdale\, AZ\, 85257\, United States
CATEGORIES:Karaoke,KJ Skribbz
ATTACH;FMTTYPE=image/jpeg:https://www.maddhatterpro.com/wp-content/uploads/2026/02/Pho-Scottsdale.jpg
END:VEVENT
BEGIN:VEVENT
DTSTART;TZID=UTC:20281123T183000
DTEND;TZID=UTC:20281123T183000
DTSTAMP:20260424T063829
CREATED:20250704T002812Z
LAST-MODIFIED:20260206T144210Z
UID:10022943-1858617000-1858617000@www.maddhatterpro.com
SUMMARY:Pho Cao Karaoke
DESCRIPTION:Homey atmosphere\, and the perfect Thursday evening dinner. Come out and see what Pho Cao has to offer with great Vietnamese cuisine. KJ Skribbz in the house\, 6:30pm-10:30pm yet another early show! \n7436 E McDowell Rd\, Scottsdale\, AZ 85257 \n+16234282173
URL:https://www.maddhatterpro.com/event/pho-cao-karaoke/2028-11-23/
LOCATION:Pho Cao\, 7436 E McDowell Rd\, Scottsdale\, AZ\, 85257\, United States
CATEGORIES:Karaoke,KJ Skribbz
ATTACH;FMTTYPE=image/jpeg:https://www.maddhatterpro.com/wp-content/uploads/2026/02/Pho-Scottsdale.jpg
END:VEVENT
BEGIN:VEVENT
DTSTART;TZID=UTC:20281130T183000
DTEND;TZID=UTC:20281130T183000
DTSTAMP:20260424T063829
CREATED:20250704T002812Z
LAST-MODIFIED:20260206T144210Z
UID:10022944-1859221800-1859221800@www.maddhatterpro.com
SUMMARY:Pho Cao Karaoke
DESCRIPTION:Homey atmosphere\, and the perfect Thursday evening dinner. Come out and see what Pho Cao has to offer with great Vietnamese cuisine. KJ Skribbz in the house\, 6:30pm-10:30pm yet another early show! \n7436 E McDowell Rd\, Scottsdale\, AZ 85257 \n+16234282173
URL:https://www.maddhatterpro.com/event/pho-cao-karaoke/2028-11-30/
LOCATION:Pho Cao\, 7436 E McDowell Rd\, Scottsdale\, AZ\, 85257\, United States
CATEGORIES:Karaoke,KJ Skribbz
ATTACH;FMTTYPE=image/jpeg:https://www.maddhatterpro.com/wp-content/uploads/2026/02/Pho-Scottsdale.jpg
END:VEVENT
BEGIN:VEVENT
DTSTART;TZID=UTC:20281207T183000
DTEND;TZID=UTC:20281207T183000
DTSTAMP:20260424T063829
CREATED:20250704T002812Z
LAST-MODIFIED:20260206T144210Z
UID:10022945-1859826600-1859826600@www.maddhatterpro.com
SUMMARY:Pho Cao Karaoke
DESCRIPTION:Homey atmosphere\, and the perfect Thursday evening dinner. Come out and see what Pho Cao has to offer with great Vietnamese cuisine. KJ Skribbz in the house\, 6:30pm-10:30pm yet another early show! \n7436 E McDowell Rd\, Scottsdale\, AZ 85257 \n+16234282173
URL:https://www.maddhatterpro.com/event/pho-cao-karaoke/2028-12-07/
LOCATION:Pho Cao\, 7436 E McDowell Rd\, Scottsdale\, AZ\, 85257\, United States
CATEGORIES:Karaoke,KJ Skribbz
ATTACH;FMTTYPE=image/jpeg:https://www.maddhatterpro.com/wp-content/uploads/2026/02/Pho-Scottsdale.jpg
END:VEVENT
BEGIN:VEVENT
DTSTART;TZID=UTC:20281214T183000
DTEND;TZID=UTC:20281214T183000
DTSTAMP:20260424T063829
CREATED:20250704T002812Z
LAST-MODIFIED:20260206T144210Z
UID:10022946-1860431400-1860431400@www.maddhatterpro.com
SUMMARY:Pho Cao Karaoke
DESCRIPTION:Homey atmosphere\, and the perfect Thursday evening dinner. Come out and see what Pho Cao has to offer with great Vietnamese cuisine. KJ Skribbz in the house\, 6:30pm-10:30pm yet another early show! \n7436 E McDowell Rd\, Scottsdale\, AZ 85257 \n+16234282173
URL:https://www.maddhatterpro.com/event/pho-cao-karaoke/2028-12-14/
LOCATION:Pho Cao\, 7436 E McDowell Rd\, Scottsdale\, AZ\, 85257\, United States
CATEGORIES:Karaoke,KJ Skribbz
ATTACH;FMTTYPE=image/jpeg:https://www.maddhatterpro.com/wp-content/uploads/2026/02/Pho-Scottsdale.jpg
END:VEVENT
BEGIN:VEVENT
DTSTART;TZID=UTC:20281221T183000
DTEND;TZID=UTC:20281221T183000
DTSTAMP:20260424T063829
CREATED:20250704T002812Z
LAST-MODIFIED:20260206T144210Z
UID:10022947-1861036200-1861036200@www.maddhatterpro.com
SUMMARY:Pho Cao Karaoke
DESCRIPTION:Homey atmosphere\, and the perfect Thursday evening dinner. Come out and see what Pho Cao has to offer with great Vietnamese cuisine. KJ Skribbz in the house\, 6:30pm-10:30pm yet another early show! \n7436 E McDowell Rd\, Scottsdale\, AZ 85257 \n+16234282173
URL:https://www.maddhatterpro.com/event/pho-cao-karaoke/2028-12-21/
LOCATION:Pho Cao\, 7436 E McDowell Rd\, Scottsdale\, AZ\, 85257\, United States
CATEGORIES:Karaoke,KJ Skribbz
ATTACH;FMTTYPE=image/jpeg:https://www.maddhatterpro.com/wp-content/uploads/2026/02/Pho-Scottsdale.jpg
END:VEVENT
BEGIN:VEVENT
DTSTART;TZID=UTC:20281228T183000
DTEND;TZID=UTC:20281228T183000
DTSTAMP:20260424T063829
CREATED:20250704T002812Z
LAST-MODIFIED:20260206T144210Z
UID:10022948-1861641000-1861641000@www.maddhatterpro.com
SUMMARY:Pho Cao Karaoke
DESCRIPTION:Homey atmosphere\, and the perfect Thursday evening dinner. Come out and see what Pho Cao has to offer with great Vietnamese cuisine. KJ Skribbz in the house\, 6:30pm-10:30pm yet another early show! \n7436 E McDowell Rd\, Scottsdale\, AZ 85257 \n+16234282173
URL:https://www.maddhatterpro.com/event/pho-cao-karaoke/2028-12-28/
LOCATION:Pho Cao\, 7436 E McDowell Rd\, Scottsdale\, AZ\, 85257\, United States
CATEGORIES:Karaoke,KJ Skribbz
ATTACH;FMTTYPE=image/jpeg:https://www.maddhatterpro.com/wp-content/uploads/2026/02/Pho-Scottsdale.jpg
END:VEVENT
BEGIN:VEVENT
DTSTART;TZID=UTC:20290104T183000
DTEND;TZID=UTC:20290104T183000
DTSTAMP:20260424T063829
CREATED:20250704T002812Z
LAST-MODIFIED:20260206T144210Z
UID:10022949-1862245800-1862245800@www.maddhatterpro.com
SUMMARY:Pho Cao Karaoke
DESCRIPTION:Homey atmosphere\, and the perfect Thursday evening dinner. Come out and see what Pho Cao has to offer with great Vietnamese cuisine. KJ Skribbz in the house\, 6:30pm-10:30pm yet another early show! \n7436 E McDowell Rd\, Scottsdale\, AZ 85257 \n+16234282173
URL:https://www.maddhatterpro.com/event/pho-cao-karaoke/2029-01-04/
LOCATION:Pho Cao\, 7436 E McDowell Rd\, Scottsdale\, AZ\, 85257\, United States
CATEGORIES:Karaoke,KJ Skribbz
ATTACH;FMTTYPE=image/jpeg:https://www.maddhatterpro.com/wp-content/uploads/2026/02/Pho-Scottsdale.jpg
END:VEVENT
BEGIN:VEVENT
DTSTART;TZID=UTC:20290111T183000
DTEND;TZID=UTC:20290111T183000
DTSTAMP:20260424T063829
CREATED:20250704T002812Z
LAST-MODIFIED:20260206T144210Z
UID:10022950-1862850600-1862850600@www.maddhatterpro.com
SUMMARY:Pho Cao Karaoke
DESCRIPTION:Homey atmosphere\, and the perfect Thursday evening dinner. Come out and see what Pho Cao has to offer with great Vietnamese cuisine. KJ Skribbz in the house\, 6:30pm-10:30pm yet another early show! \n7436 E McDowell Rd\, Scottsdale\, AZ 85257 \n+16234282173
URL:https://www.maddhatterpro.com/event/pho-cao-karaoke/2029-01-11/
LOCATION:Pho Cao\, 7436 E McDowell Rd\, Scottsdale\, AZ\, 85257\, United States
CATEGORIES:Karaoke,KJ Skribbz
ATTACH;FMTTYPE=image/jpeg:https://www.maddhatterpro.com/wp-content/uploads/2026/02/Pho-Scottsdale.jpg
END:VEVENT
BEGIN:VEVENT
DTSTART;TZID=UTC:20290118T183000
DTEND;TZID=UTC:20290118T183000
DTSTAMP:20260424T063829
CREATED:20250704T002812Z
LAST-MODIFIED:20260206T144210Z
UID:10022951-1863455400-1863455400@www.maddhatterpro.com
SUMMARY:Pho Cao Karaoke
DESCRIPTION:Homey atmosphere\, and the perfect Thursday evening dinner. Come out and see what Pho Cao has to offer with great Vietnamese cuisine. KJ Skribbz in the house\, 6:30pm-10:30pm yet another early show! \n7436 E McDowell Rd\, Scottsdale\, AZ 85257 \n+16234282173
URL:https://www.maddhatterpro.com/event/pho-cao-karaoke/2029-01-18/
LOCATION:Pho Cao\, 7436 E McDowell Rd\, Scottsdale\, AZ\, 85257\, United States
CATEGORIES:Karaoke,KJ Skribbz
ATTACH;FMTTYPE=image/jpeg:https://www.maddhatterpro.com/wp-content/uploads/2026/02/Pho-Scottsdale.jpg
END:VEVENT
BEGIN:VEVENT
DTSTART;TZID=UTC:20290125T183000
DTEND;TZID=UTC:20290125T183000
DTSTAMP:20260424T063829
CREATED:20250704T002812Z
LAST-MODIFIED:20260206T144210Z
UID:10022952-1864060200-1864060200@www.maddhatterpro.com
SUMMARY:Pho Cao Karaoke
DESCRIPTION:Homey atmosphere\, and the perfect Thursday evening dinner. Come out and see what Pho Cao has to offer with great Vietnamese cuisine. KJ Skribbz in the house\, 6:30pm-10:30pm yet another early show! \n7436 E McDowell Rd\, Scottsdale\, AZ 85257 \n+16234282173
URL:https://www.maddhatterpro.com/event/pho-cao-karaoke/2029-01-25/
LOCATION:Pho Cao\, 7436 E McDowell Rd\, Scottsdale\, AZ\, 85257\, United States
CATEGORIES:Karaoke,KJ Skribbz
ATTACH;FMTTYPE=image/jpeg:https://www.maddhatterpro.com/wp-content/uploads/2026/02/Pho-Scottsdale.jpg
END:VEVENT
BEGIN:VEVENT
DTSTART;TZID=UTC:20290201T183000
DTEND;TZID=UTC:20290201T183000
DTSTAMP:20260424T063829
CREATED:20250704T002812Z
LAST-MODIFIED:20260206T144210Z
UID:10022953-1864665000-1864665000@www.maddhatterpro.com
SUMMARY:Pho Cao Karaoke
DESCRIPTION:Homey atmosphere\, and the perfect Thursday evening dinner. Come out and see what Pho Cao has to offer with great Vietnamese cuisine. KJ Skribbz in the house\, 6:30pm-10:30pm yet another early show! \n7436 E McDowell Rd\, Scottsdale\, AZ 85257 \n+16234282173
URL:https://www.maddhatterpro.com/event/pho-cao-karaoke/2029-02-01/
LOCATION:Pho Cao\, 7436 E McDowell Rd\, Scottsdale\, AZ\, 85257\, United States
CATEGORIES:Karaoke,KJ Skribbz
ATTACH;FMTTYPE=image/jpeg:https://www.maddhatterpro.com/wp-content/uploads/2026/02/Pho-Scottsdale.jpg
END:VEVENT
BEGIN:VEVENT
DTSTART;TZID=UTC:20290208T183000
DTEND;TZID=UTC:20290208T183000
DTSTAMP:20260424T063829
CREATED:20250704T002812Z
LAST-MODIFIED:20260206T144210Z
UID:10022954-1865269800-1865269800@www.maddhatterpro.com
SUMMARY:Pho Cao Karaoke
DESCRIPTION:Homey atmosphere\, and the perfect Thursday evening dinner. Come out and see what Pho Cao has to offer with great Vietnamese cuisine. KJ Skribbz in the house\, 6:30pm-10:30pm yet another early show! \n7436 E McDowell Rd\, Scottsdale\, AZ 85257 \n+16234282173
URL:https://www.maddhatterpro.com/event/pho-cao-karaoke/2029-02-08/
LOCATION:Pho Cao\, 7436 E McDowell Rd\, Scottsdale\, AZ\, 85257\, United States
CATEGORIES:Karaoke,KJ Skribbz
ATTACH;FMTTYPE=image/jpeg:https://www.maddhatterpro.com/wp-content/uploads/2026/02/Pho-Scottsdale.jpg
END:VEVENT
BEGIN:VEVENT
DTSTART;TZID=UTC:20290215T183000
DTEND;TZID=UTC:20290215T183000
DTSTAMP:20260424T063829
CREATED:20250704T002812Z
LAST-MODIFIED:20260206T144210Z
UID:10022955-1865874600-1865874600@www.maddhatterpro.com
SUMMARY:Pho Cao Karaoke
DESCRIPTION:Homey atmosphere\, and the perfect Thursday evening dinner. Come out and see what Pho Cao has to offer with great Vietnamese cuisine. KJ Skribbz in the house\, 6:30pm-10:30pm yet another early show! \n7436 E McDowell Rd\, Scottsdale\, AZ 85257 \n+16234282173
URL:https://www.maddhatterpro.com/event/pho-cao-karaoke/2029-02-15/
LOCATION:Pho Cao\, 7436 E McDowell Rd\, Scottsdale\, AZ\, 85257\, United States
CATEGORIES:Karaoke,KJ Skribbz
ATTACH;FMTTYPE=image/jpeg:https://www.maddhatterpro.com/wp-content/uploads/2026/02/Pho-Scottsdale.jpg
END:VEVENT
BEGIN:VEVENT
DTSTART;TZID=UTC:20290222T183000
DTEND;TZID=UTC:20290222T183000
DTSTAMP:20260424T063829
CREATED:20250704T002812Z
LAST-MODIFIED:20260206T144210Z
UID:10022956-1866479400-1866479400@www.maddhatterpro.com
SUMMARY:Pho Cao Karaoke
DESCRIPTION:Homey atmosphere\, and the perfect Thursday evening dinner. Come out and see what Pho Cao has to offer with great Vietnamese cuisine. KJ Skribbz in the house\, 6:30pm-10:30pm yet another early show! \n7436 E McDowell Rd\, Scottsdale\, AZ 85257 \n+16234282173
URL:https://www.maddhatterpro.com/event/pho-cao-karaoke/2029-02-22/
LOCATION:Pho Cao\, 7436 E McDowell Rd\, Scottsdale\, AZ\, 85257\, United States
CATEGORIES:Karaoke,KJ Skribbz
ATTACH;FMTTYPE=image/jpeg:https://www.maddhatterpro.com/wp-content/uploads/2026/02/Pho-Scottsdale.jpg
END:VEVENT
BEGIN:VEVENT
DTSTART;TZID=UTC:20290301T183000
DTEND;TZID=UTC:20290301T183000
DTSTAMP:20260424T063829
CREATED:20250704T002812Z
LAST-MODIFIED:20260206T144210Z
UID:10022957-1867084200-1867084200@www.maddhatterpro.com
SUMMARY:Pho Cao Karaoke
DESCRIPTION:Homey atmosphere\, and the perfect Thursday evening dinner. Come out and see what Pho Cao has to offer with great Vietnamese cuisine. KJ Skribbz in the house\, 6:30pm-10:30pm yet another early show! \n7436 E McDowell Rd\, Scottsdale\, AZ 85257 \n+16234282173
URL:https://www.maddhatterpro.com/event/pho-cao-karaoke/2029-03-01/
LOCATION:Pho Cao\, 7436 E McDowell Rd\, Scottsdale\, AZ\, 85257\, United States
CATEGORIES:Karaoke,KJ Skribbz
ATTACH;FMTTYPE=image/jpeg:https://www.maddhatterpro.com/wp-content/uploads/2026/02/Pho-Scottsdale.jpg
END:VEVENT
BEGIN:VEVENT
DTSTART;TZID=UTC:20290308T183000
DTEND;TZID=UTC:20290308T183000
DTSTAMP:20260424T063829
CREATED:20250704T002812Z
LAST-MODIFIED:20260206T144210Z
UID:10022958-1867689000-1867689000@www.maddhatterpro.com
SUMMARY:Pho Cao Karaoke
DESCRIPTION:Homey atmosphere\, and the perfect Thursday evening dinner. Come out and see what Pho Cao has to offer with great Vietnamese cuisine. KJ Skribbz in the house\, 6:30pm-10:30pm yet another early show! \n7436 E McDowell Rd\, Scottsdale\, AZ 85257 \n+16234282173
URL:https://www.maddhatterpro.com/event/pho-cao-karaoke/2029-03-08/
LOCATION:Pho Cao\, 7436 E McDowell Rd\, Scottsdale\, AZ\, 85257\, United States
CATEGORIES:Karaoke,KJ Skribbz
ATTACH;FMTTYPE=image/jpeg:https://www.maddhatterpro.com/wp-content/uploads/2026/02/Pho-Scottsdale.jpg
END:VEVENT
END:VCALENDAR