BEGIN:VCALENDAR
VERSION:2.0
PRODID:-//MaddHatterPro.com - ECPv6.15.20//NONSGML v1.0//EN
CALSCALE:GREGORIAN
METHOD:PUBLISH
X-WR-CALNAME:MaddHatterPro.com
X-ORIGINAL-URL:https://www.maddhatterpro.com
X-WR-CALDESC:Events for MaddHatterPro.com
REFRESH-INTERVAL;VALUE=DURATION:PT1H
X-Robots-Tag:noindex
X-PUBLISHED-TTL:PT1H
BEGIN:VTIMEZONE
TZID:UTC
BEGIN:STANDARD
TZOFFSETFROM:+0000
TZOFFSETTO:+0000
TZNAME:UTC
DTSTART:20240101T000000
END:STANDARD
END:VTIMEZONE
BEGIN:VEVENT
DTSTART;TZID=UTC:20250928T190000
DTEND;TZID=UTC:20250928T190000
DTSTAMP:20260423T202653
CREATED:20250704T012733Z
LAST-MODIFIED:20250704T012733Z
UID:10024606-1759086000-1759086000@www.maddhatterpro.com
SUMMARY:Jimbo's Karaoke
DESCRIPTION:Looking for something early to do in Glendale? Hottest karaoke spot with your host\, DJ Wonder! Great time and chill atmosphere\, all the songs you could possibly want! Lets rock Glendale. \n12224 N 51st Ave\, Glendale\, AZ 85304 \n+16022981500
URL:https://www.maddhatterpro.com/event/jimbos-karaoke/2025-09-28/
LOCATION:Jimbos\, 12224 N 51st Ave\, Glendale\, AZ\, 85304\, United States
CATEGORIES:DJ Wonder,Karaoke
END:VEVENT
BEGIN:VEVENT
DTSTART;TZID=UTC:20250921T190000
DTEND;TZID=UTC:20250921T190000
DTSTAMP:20260423T202653
CREATED:20250704T012733Z
LAST-MODIFIED:20250704T012733Z
UID:10024605-1758481200-1758481200@www.maddhatterpro.com
SUMMARY:Jimbo's Karaoke
DESCRIPTION:Looking for something early to do in Glendale? Hottest karaoke spot with your host\, DJ Wonder! Great time and chill atmosphere\, all the songs you could possibly want! Lets rock Glendale. \n12224 N 51st Ave\, Glendale\, AZ 85304 \n+16022981500
URL:https://www.maddhatterpro.com/event/jimbos-karaoke/2025-09-21/
LOCATION:Jimbos\, 12224 N 51st Ave\, Glendale\, AZ\, 85304\, United States
CATEGORIES:DJ Wonder,Karaoke
END:VEVENT
BEGIN:VEVENT
DTSTART;TZID=UTC:20250914T190000
DTEND;TZID=UTC:20250914T190000
DTSTAMP:20260423T202653
CREATED:20250704T012733Z
LAST-MODIFIED:20250704T012733Z
UID:10024604-1757876400-1757876400@www.maddhatterpro.com
SUMMARY:Jimbo's Karaoke
DESCRIPTION:Looking for something early to do in Glendale? Hottest karaoke spot with your host\, DJ Wonder! Great time and chill atmosphere\, all the songs you could possibly want! Lets rock Glendale. \n12224 N 51st Ave\, Glendale\, AZ 85304 \n+16022981500
URL:https://www.maddhatterpro.com/event/jimbos-karaoke/2025-09-14/
LOCATION:Jimbos\, 12224 N 51st Ave\, Glendale\, AZ\, 85304\, United States
CATEGORIES:DJ Wonder,Karaoke
END:VEVENT
BEGIN:VEVENT
DTSTART;TZID=UTC:20250907T190000
DTEND;TZID=UTC:20250907T190000
DTSTAMP:20260423T202653
CREATED:20250704T012733Z
LAST-MODIFIED:20250704T012733Z
UID:10024603-1757271600-1757271600@www.maddhatterpro.com
SUMMARY:Jimbo's Karaoke
DESCRIPTION:Looking for something early to do in Glendale? Hottest karaoke spot with your host\, DJ Wonder! Great time and chill atmosphere\, all the songs you could possibly want! Lets rock Glendale. \n12224 N 51st Ave\, Glendale\, AZ 85304 \n+16022981500
URL:https://www.maddhatterpro.com/event/jimbos-karaoke/2025-09-07/
LOCATION:Jimbos\, 12224 N 51st Ave\, Glendale\, AZ\, 85304\, United States
CATEGORIES:DJ Wonder,Karaoke
END:VEVENT
BEGIN:VEVENT
DTSTART;TZID=UTC:20250831T190000
DTEND;TZID=UTC:20250831T190000
DTSTAMP:20260423T202653
CREATED:20250704T012733Z
LAST-MODIFIED:20250704T012733Z
UID:10024602-1756666800-1756666800@www.maddhatterpro.com
SUMMARY:Jimbo's Karaoke
DESCRIPTION:Looking for something early to do in Glendale? Hottest karaoke spot with your host\, DJ Wonder! Great time and chill atmosphere\, all the songs you could possibly want! Lets rock Glendale. \n12224 N 51st Ave\, Glendale\, AZ 85304 \n+16022981500
URL:https://www.maddhatterpro.com/event/jimbos-karaoke/2025-08-31/
LOCATION:Jimbos\, 12224 N 51st Ave\, Glendale\, AZ\, 85304\, United States
CATEGORIES:DJ Wonder,Karaoke
END:VEVENT
BEGIN:VEVENT
DTSTART;TZID=UTC:20250824T190000
DTEND;TZID=UTC:20250824T190000
DTSTAMP:20260423T202653
CREATED:20250704T012733Z
LAST-MODIFIED:20250704T012733Z
UID:10024601-1756062000-1756062000@www.maddhatterpro.com
SUMMARY:Jimbo's Karaoke
DESCRIPTION:Looking for something early to do in Glendale? Hottest karaoke spot with your host\, DJ Wonder! Great time and chill atmosphere\, all the songs you could possibly want! Lets rock Glendale. \n12224 N 51st Ave\, Glendale\, AZ 85304 \n+16022981500
URL:https://www.maddhatterpro.com/event/jimbos-karaoke/2025-08-24/
LOCATION:Jimbos\, 12224 N 51st Ave\, Glendale\, AZ\, 85304\, United States
CATEGORIES:DJ Wonder,Karaoke
END:VEVENT
BEGIN:VEVENT
DTSTART;TZID=UTC:20250817T190000
DTEND;TZID=UTC:20250817T190000
DTSTAMP:20260423T202653
CREATED:20250704T012733Z
LAST-MODIFIED:20250704T012733Z
UID:10024600-1755457200-1755457200@www.maddhatterpro.com
SUMMARY:Jimbo's Karaoke
DESCRIPTION:Looking for something early to do in Glendale? Hottest karaoke spot with your host\, DJ Wonder! Great time and chill atmosphere\, all the songs you could possibly want! Lets rock Glendale. \n12224 N 51st Ave\, Glendale\, AZ 85304 \n+16022981500
URL:https://www.maddhatterpro.com/event/jimbos-karaoke/2025-08-17/
LOCATION:Jimbos\, 12224 N 51st Ave\, Glendale\, AZ\, 85304\, United States
CATEGORIES:DJ Wonder,Karaoke
END:VEVENT
BEGIN:VEVENT
DTSTART;TZID=UTC:20250810T190000
DTEND;TZID=UTC:20250810T190000
DTSTAMP:20260423T202653
CREATED:20250704T012733Z
LAST-MODIFIED:20250704T012733Z
UID:10024599-1754852400-1754852400@www.maddhatterpro.com
SUMMARY:Jimbo's Karaoke
DESCRIPTION:Looking for something early to do in Glendale? Hottest karaoke spot with your host\, DJ Wonder! Great time and chill atmosphere\, all the songs you could possibly want! Lets rock Glendale. \n12224 N 51st Ave\, Glendale\, AZ 85304 \n+16022981500
URL:https://www.maddhatterpro.com/event/jimbos-karaoke/2025-08-10/
LOCATION:Jimbos\, 12224 N 51st Ave\, Glendale\, AZ\, 85304\, United States
CATEGORIES:DJ Wonder,Karaoke
END:VEVENT
BEGIN:VEVENT
DTSTART;TZID=UTC:20250803T190000
DTEND;TZID=UTC:20250803T190000
DTSTAMP:20260423T202653
CREATED:20250704T012733Z
LAST-MODIFIED:20250704T012733Z
UID:10024598-1754247600-1754247600@www.maddhatterpro.com
SUMMARY:Jimbo's Karaoke
DESCRIPTION:Looking for something early to do in Glendale? Hottest karaoke spot with your host\, DJ Wonder! Great time and chill atmosphere\, all the songs you could possibly want! Lets rock Glendale. \n12224 N 51st Ave\, Glendale\, AZ 85304 \n+16022981500
URL:https://www.maddhatterpro.com/event/jimbos-karaoke/2025-08-03/
LOCATION:Jimbos\, 12224 N 51st Ave\, Glendale\, AZ\, 85304\, United States
CATEGORIES:DJ Wonder,Karaoke
END:VEVENT
BEGIN:VEVENT
DTSTART;TZID=UTC:20250727T190000
DTEND;TZID=UTC:20250727T190000
DTSTAMP:20260423T202653
CREATED:20250704T012733Z
LAST-MODIFIED:20250704T012733Z
UID:10024597-1753642800-1753642800@www.maddhatterpro.com
SUMMARY:Jimbo's Karaoke
DESCRIPTION:Looking for something early to do in Glendale? Hottest karaoke spot with your host\, DJ Wonder! Great time and chill atmosphere\, all the songs you could possibly want! Lets rock Glendale. \n12224 N 51st Ave\, Glendale\, AZ 85304 \n+16022981500
URL:https://www.maddhatterpro.com/event/jimbos-karaoke/2025-07-27/
LOCATION:Jimbos\, 12224 N 51st Ave\, Glendale\, AZ\, 85304\, United States
CATEGORIES:DJ Wonder,Karaoke
END:VEVENT
BEGIN:VEVENT
DTSTART;TZID=UTC:20250720T190000
DTEND;TZID=UTC:20250720T190000
DTSTAMP:20260423T202653
CREATED:20250704T012733Z
LAST-MODIFIED:20250704T012733Z
UID:10024596-1753038000-1753038000@www.maddhatterpro.com
SUMMARY:Jimbo's Karaoke
DESCRIPTION:Looking for something early to do in Glendale? Hottest karaoke spot with your host\, DJ Wonder! Great time and chill atmosphere\, all the songs you could possibly want! Lets rock Glendale. \n12224 N 51st Ave\, Glendale\, AZ 85304 \n+16022981500
URL:https://www.maddhatterpro.com/event/jimbos-karaoke/2025-07-20/
LOCATION:Jimbos\, 12224 N 51st Ave\, Glendale\, AZ\, 85304\, United States
CATEGORIES:DJ Wonder,Karaoke
END:VEVENT
BEGIN:VEVENT
DTSTART;TZID=UTC:20250713T190000
DTEND;TZID=UTC:20250713T190000
DTSTAMP:20260423T202653
CREATED:20250704T012733Z
LAST-MODIFIED:20250704T012733Z
UID:10024595-1752433200-1752433200@www.maddhatterpro.com
SUMMARY:Jimbo's Karaoke
DESCRIPTION:Looking for something early to do in Glendale? Hottest karaoke spot with your host\, DJ Wonder! Great time and chill atmosphere\, all the songs you could possibly want! Lets rock Glendale. \n12224 N 51st Ave\, Glendale\, AZ 85304 \n+16022981500
URL:https://www.maddhatterpro.com/event/jimbos-karaoke/2025-07-13/
LOCATION:Jimbos\, 12224 N 51st Ave\, Glendale\, AZ\, 85304\, United States
CATEGORIES:DJ Wonder,Karaoke
END:VEVENT
BEGIN:VEVENT
DTSTART;TZID=UTC:20250706T190000
DTEND;TZID=UTC:20250706T190000
DTSTAMP:20260423T202653
CREATED:20250704T012733Z
LAST-MODIFIED:20250704T012733Z
UID:10024594-1751828400-1751828400@www.maddhatterpro.com
SUMMARY:Jimbo's Karaoke
DESCRIPTION:Looking for something early to do in Glendale? Hottest karaoke spot with your host\, DJ Wonder! Great time and chill atmosphere\, all the songs you could possibly want! Lets rock Glendale. \n12224 N 51st Ave\, Glendale\, AZ 85304 \n+16022981500
URL:https://www.maddhatterpro.com/event/jimbos-karaoke/2025-07-06/
LOCATION:Jimbos\, 12224 N 51st Ave\, Glendale\, AZ\, 85304\, United States
CATEGORIES:DJ Wonder,Karaoke
END:VEVENT
END:VCALENDAR