BEGIN:VCALENDAR
VERSION:2.0
PRODID:-//MaddHatterPro.com - ECPv6.15.20//NONSGML v1.0//EN
CALSCALE:GREGORIAN
METHOD:PUBLISH
X-WR-CALNAME:MaddHatterPro.com
X-ORIGINAL-URL:https://www.maddhatterpro.com
X-WR-CALDESC:Events for MaddHatterPro.com
REFRESH-INTERVAL;VALUE=DURATION:PT1H
X-Robots-Tag:noindex
X-PUBLISHED-TTL:PT1H
BEGIN:VTIMEZONE
TZID:UTC
BEGIN:STANDARD
TZOFFSETFROM:+0000
TZOFFSETTO:+0000
TZNAME:UTC
DTSTART:20250101T000000
END:STANDARD
END:VTIMEZONE
BEGIN:VEVENT
DTSTART;TZID=UTC:20260126T173000
DTEND;TZID=UTC:20260126T190000
DTSTAMP:20260423T214512
CREATED:20260206T145607Z
LAST-MODIFIED:20260206T145607Z
UID:10025365-1769448600-1769454000@www.maddhatterpro.com
SUMMARY:Headliners Sports Bar Trivia
DESCRIPTION:Arizona’s toughest comes to Ahwatukee! DJ Wonder in the house serving up those questions to make you think\, while Headliners serves up the wings! Starting at 5pm\, come out to play FAMILY FRIENDLY.
URL:https://www.maddhatterpro.com/event/headliners-sports-bar-trivia/2026-01-26/
LOCATION:Headliners\, 4142 E Chandler Blvd\, Phoenix\, AZ\, 85048\, United States
ATTACH;FMTTYPE=image/jpeg:https://www.maddhatterpro.com/wp-content/uploads/2026/02/Headliners-Ahwatukee.jpg
END:VEVENT
END:VCALENDAR