BEGIN:VCALENDAR
VERSION:2.0
PRODID:-//MaddHatterPro.com - ECPv6.15.20//NONSGML v1.0//EN
CALSCALE:GREGORIAN
METHOD:PUBLISH
X-WR-CALNAME:MaddHatterPro.com
X-ORIGINAL-URL:https://www.maddhatterpro.com
X-WR-CALDESC:Events for MaddHatterPro.com
REFRESH-INTERVAL;VALUE=DURATION:PT1H
X-Robots-Tag:noindex
X-PUBLISHED-TTL:PT1H
BEGIN:VTIMEZONE
TZID:UTC
BEGIN:STANDARD
TZOFFSETFROM:+0000
TZOFFSETTO:+0000
TZNAME:UTC
DTSTART:20280101T000000
END:STANDARD
END:VTIMEZONE
BEGIN:VEVENT
DTSTART;TZID=UTC:20290129T173000
DTEND;TZID=UTC:20290129T190000
DTSTAMP:20260424T121517
CREATED:20260206T145607Z
LAST-MODIFIED:20260206T145607Z
UID:10025522-1864402200-1864407600@www.maddhatterpro.com
SUMMARY:Headliners Sports Bar Trivia
DESCRIPTION:Arizona’s toughest comes to Ahwatukee! DJ Wonder in the house serving up those questions to make you think\, while Headliners serves up the wings! Starting at 5pm\, come out to play FAMILY FRIENDLY.
URL:https://www.maddhatterpro.com/event/headliners-sports-bar-trivia/2029-01-29/
LOCATION:Headliners\, 4142 E Chandler Blvd\, Phoenix\, AZ\, 85048\, United States
ATTACH;FMTTYPE=image/jpeg:https://www.maddhatterpro.com/wp-content/uploads/2026/02/Headliners-Ahwatukee.jpg
END:VEVENT
BEGIN:VEVENT
DTSTART;TZID=UTC:20290205T173000
DTEND;TZID=UTC:20290205T190000
DTSTAMP:20260424T121517
CREATED:20260206T145607Z
LAST-MODIFIED:20260206T145607Z
UID:10025523-1865007000-1865012400@www.maddhatterpro.com
SUMMARY:Headliners Sports Bar Trivia
DESCRIPTION:Arizona’s toughest comes to Ahwatukee! DJ Wonder in the house serving up those questions to make you think\, while Headliners serves up the wings! Starting at 5pm\, come out to play FAMILY FRIENDLY.
URL:https://www.maddhatterpro.com/event/headliners-sports-bar-trivia/2029-02-05/
LOCATION:Headliners\, 4142 E Chandler Blvd\, Phoenix\, AZ\, 85048\, United States
ATTACH;FMTTYPE=image/jpeg:https://www.maddhatterpro.com/wp-content/uploads/2026/02/Headliners-Ahwatukee.jpg
END:VEVENT
BEGIN:VEVENT
DTSTART;TZID=UTC:20290212T173000
DTEND;TZID=UTC:20290212T190000
DTSTAMP:20260424T121517
CREATED:20260206T145607Z
LAST-MODIFIED:20260206T145607Z
UID:10025524-1865611800-1865617200@www.maddhatterpro.com
SUMMARY:Headliners Sports Bar Trivia
DESCRIPTION:Arizona’s toughest comes to Ahwatukee! DJ Wonder in the house serving up those questions to make you think\, while Headliners serves up the wings! Starting at 5pm\, come out to play FAMILY FRIENDLY.
URL:https://www.maddhatterpro.com/event/headliners-sports-bar-trivia/2029-02-12/
LOCATION:Headliners\, 4142 E Chandler Blvd\, Phoenix\, AZ\, 85048\, United States
ATTACH;FMTTYPE=image/jpeg:https://www.maddhatterpro.com/wp-content/uploads/2026/02/Headliners-Ahwatukee.jpg
END:VEVENT
BEGIN:VEVENT
DTSTART;TZID=UTC:20290219T173000
DTEND;TZID=UTC:20290219T190000
DTSTAMP:20260424T121517
CREATED:20260206T145607Z
LAST-MODIFIED:20260206T145607Z
UID:10025525-1866216600-1866222000@www.maddhatterpro.com
SUMMARY:Headliners Sports Bar Trivia
DESCRIPTION:Arizona’s toughest comes to Ahwatukee! DJ Wonder in the house serving up those questions to make you think\, while Headliners serves up the wings! Starting at 5pm\, come out to play FAMILY FRIENDLY.
URL:https://www.maddhatterpro.com/event/headliners-sports-bar-trivia/2029-02-19/
LOCATION:Headliners\, 4142 E Chandler Blvd\, Phoenix\, AZ\, 85048\, United States
ATTACH;FMTTYPE=image/jpeg:https://www.maddhatterpro.com/wp-content/uploads/2026/02/Headliners-Ahwatukee.jpg
END:VEVENT
BEGIN:VEVENT
DTSTART;TZID=UTC:20290226T173000
DTEND;TZID=UTC:20290226T190000
DTSTAMP:20260424T121517
CREATED:20260206T145607Z
LAST-MODIFIED:20260206T145607Z
UID:10025526-1866821400-1866826800@www.maddhatterpro.com
SUMMARY:Headliners Sports Bar Trivia
DESCRIPTION:Arizona’s toughest comes to Ahwatukee! DJ Wonder in the house serving up those questions to make you think\, while Headliners serves up the wings! Starting at 5pm\, come out to play FAMILY FRIENDLY.
URL:https://www.maddhatterpro.com/event/headliners-sports-bar-trivia/2029-02-26/
LOCATION:Headliners\, 4142 E Chandler Blvd\, Phoenix\, AZ\, 85048\, United States
ATTACH;FMTTYPE=image/jpeg:https://www.maddhatterpro.com/wp-content/uploads/2026/02/Headliners-Ahwatukee.jpg
END:VEVENT
BEGIN:VEVENT
DTSTART;TZID=UTC:20290305T173000
DTEND;TZID=UTC:20290305T190000
DTSTAMP:20260424T121517
CREATED:20260206T145607Z
LAST-MODIFIED:20260206T145607Z
UID:10025527-1867426200-1867431600@www.maddhatterpro.com
SUMMARY:Headliners Sports Bar Trivia
DESCRIPTION:Arizona’s toughest comes to Ahwatukee! DJ Wonder in the house serving up those questions to make you think\, while Headliners serves up the wings! Starting at 5pm\, come out to play FAMILY FRIENDLY.
URL:https://www.maddhatterpro.com/event/headliners-sports-bar-trivia/2029-03-05/
LOCATION:Headliners\, 4142 E Chandler Blvd\, Phoenix\, AZ\, 85048\, United States
ATTACH;FMTTYPE=image/jpeg:https://www.maddhatterpro.com/wp-content/uploads/2026/02/Headliners-Ahwatukee.jpg
END:VEVENT
BEGIN:VEVENT
DTSTART;TZID=UTC:20290312T173000
DTEND;TZID=UTC:20290312T190000
DTSTAMP:20260424T121517
CREATED:20260206T145607Z
LAST-MODIFIED:20260206T145607Z
UID:10025528-1868031000-1868036400@www.maddhatterpro.com
SUMMARY:Headliners Sports Bar Trivia
DESCRIPTION:Arizona’s toughest comes to Ahwatukee! DJ Wonder in the house serving up those questions to make you think\, while Headliners serves up the wings! Starting at 5pm\, come out to play FAMILY FRIENDLY.
URL:https://www.maddhatterpro.com/event/headliners-sports-bar-trivia/2029-03-12/
LOCATION:Headliners\, 4142 E Chandler Blvd\, Phoenix\, AZ\, 85048\, United States
ATTACH;FMTTYPE=image/jpeg:https://www.maddhatterpro.com/wp-content/uploads/2026/02/Headliners-Ahwatukee.jpg
END:VEVENT
BEGIN:VEVENT
DTSTART;TZID=UTC:20290319T173000
DTEND;TZID=UTC:20290319T190000
DTSTAMP:20260424T121517
CREATED:20260206T145607Z
LAST-MODIFIED:20260206T145607Z
UID:10025529-1868635800-1868641200@www.maddhatterpro.com
SUMMARY:Headliners Sports Bar Trivia
DESCRIPTION:Arizona’s toughest comes to Ahwatukee! DJ Wonder in the house serving up those questions to make you think\, while Headliners serves up the wings! Starting at 5pm\, come out to play FAMILY FRIENDLY.
URL:https://www.maddhatterpro.com/event/headliners-sports-bar-trivia/2029-03-19/
LOCATION:Headliners\, 4142 E Chandler Blvd\, Phoenix\, AZ\, 85048\, United States
ATTACH;FMTTYPE=image/jpeg:https://www.maddhatterpro.com/wp-content/uploads/2026/02/Headliners-Ahwatukee.jpg
END:VEVENT
BEGIN:VEVENT
DTSTART;TZID=UTC:20290326T173000
DTEND;TZID=UTC:20290326T190000
DTSTAMP:20260424T121517
CREATED:20260206T145607Z
LAST-MODIFIED:20260206T145607Z
UID:10025530-1869240600-1869246000@www.maddhatterpro.com
SUMMARY:Headliners Sports Bar Trivia
DESCRIPTION:Arizona’s toughest comes to Ahwatukee! DJ Wonder in the house serving up those questions to make you think\, while Headliners serves up the wings! Starting at 5pm\, come out to play FAMILY FRIENDLY.
URL:https://www.maddhatterpro.com/event/headliners-sports-bar-trivia/2029-03-26/
LOCATION:Headliners\, 4142 E Chandler Blvd\, Phoenix\, AZ\, 85048\, United States
ATTACH;FMTTYPE=image/jpeg:https://www.maddhatterpro.com/wp-content/uploads/2026/02/Headliners-Ahwatukee.jpg
END:VEVENT
BEGIN:VEVENT
DTSTART;TZID=UTC:20290402T173000
DTEND;TZID=UTC:20290402T190000
DTSTAMP:20260424T121517
CREATED:20260206T145607Z
LAST-MODIFIED:20260206T145607Z
UID:10025531-1869845400-1869850800@www.maddhatterpro.com
SUMMARY:Headliners Sports Bar Trivia
DESCRIPTION:Arizona’s toughest comes to Ahwatukee! DJ Wonder in the house serving up those questions to make you think\, while Headliners serves up the wings! Starting at 5pm\, come out to play FAMILY FRIENDLY.
URL:https://www.maddhatterpro.com/event/headliners-sports-bar-trivia/2029-04-02/
LOCATION:Headliners\, 4142 E Chandler Blvd\, Phoenix\, AZ\, 85048\, United States
ATTACH;FMTTYPE=image/jpeg:https://www.maddhatterpro.com/wp-content/uploads/2026/02/Headliners-Ahwatukee.jpg
END:VEVENT
BEGIN:VEVENT
DTSTART;TZID=UTC:20290409T173000
DTEND;TZID=UTC:20290409T190000
DTSTAMP:20260424T121517
CREATED:20260206T145607Z
LAST-MODIFIED:20260206T145607Z
UID:10025532-1870450200-1870455600@www.maddhatterpro.com
SUMMARY:Headliners Sports Bar Trivia
DESCRIPTION:Arizona’s toughest comes to Ahwatukee! DJ Wonder in the house serving up those questions to make you think\, while Headliners serves up the wings! Starting at 5pm\, come out to play FAMILY FRIENDLY.
URL:https://www.maddhatterpro.com/event/headliners-sports-bar-trivia/2029-04-09/
LOCATION:Headliners\, 4142 E Chandler Blvd\, Phoenix\, AZ\, 85048\, United States
ATTACH;FMTTYPE=image/jpeg:https://www.maddhatterpro.com/wp-content/uploads/2026/02/Headliners-Ahwatukee.jpg
END:VEVENT
BEGIN:VEVENT
DTSTART;TZID=UTC:20290416T173000
DTEND;TZID=UTC:20290416T190000
DTSTAMP:20260424T121517
CREATED:20260206T145607Z
LAST-MODIFIED:20260206T145607Z
UID:10025533-1871055000-1871060400@www.maddhatterpro.com
SUMMARY:Headliners Sports Bar Trivia
DESCRIPTION:Arizona’s toughest comes to Ahwatukee! DJ Wonder in the house serving up those questions to make you think\, while Headliners serves up the wings! Starting at 5pm\, come out to play FAMILY FRIENDLY.
URL:https://www.maddhatterpro.com/event/headliners-sports-bar-trivia/2029-04-16/
LOCATION:Headliners\, 4142 E Chandler Blvd\, Phoenix\, AZ\, 85048\, United States
ATTACH;FMTTYPE=image/jpeg:https://www.maddhatterpro.com/wp-content/uploads/2026/02/Headliners-Ahwatukee.jpg
END:VEVENT
BEGIN:VEVENT
DTSTART;TZID=UTC:20290423T173000
DTEND;TZID=UTC:20290423T190000
DTSTAMP:20260424T121517
CREATED:20260206T145607Z
LAST-MODIFIED:20260206T145607Z
UID:10025534-1871659800-1871665200@www.maddhatterpro.com
SUMMARY:Headliners Sports Bar Trivia
DESCRIPTION:Arizona’s toughest comes to Ahwatukee! DJ Wonder in the house serving up those questions to make you think\, while Headliners serves up the wings! Starting at 5pm\, come out to play FAMILY FRIENDLY.
URL:https://www.maddhatterpro.com/event/headliners-sports-bar-trivia/2029-04-23/
LOCATION:Headliners\, 4142 E Chandler Blvd\, Phoenix\, AZ\, 85048\, United States
ATTACH;FMTTYPE=image/jpeg:https://www.maddhatterpro.com/wp-content/uploads/2026/02/Headliners-Ahwatukee.jpg
END:VEVENT
BEGIN:VEVENT
DTSTART;TZID=UTC:20290430T173000
DTEND;TZID=UTC:20290430T190000
DTSTAMP:20260424T121517
CREATED:20260206T145607Z
LAST-MODIFIED:20260206T145607Z
UID:10025535-1872264600-1872270000@www.maddhatterpro.com
SUMMARY:Headliners Sports Bar Trivia
DESCRIPTION:Arizona’s toughest comes to Ahwatukee! DJ Wonder in the house serving up those questions to make you think\, while Headliners serves up the wings! Starting at 5pm\, come out to play FAMILY FRIENDLY.
URL:https://www.maddhatterpro.com/event/headliners-sports-bar-trivia/2029-04-30/
LOCATION:Headliners\, 4142 E Chandler Blvd\, Phoenix\, AZ\, 85048\, United States
ATTACH;FMTTYPE=image/jpeg:https://www.maddhatterpro.com/wp-content/uploads/2026/02/Headliners-Ahwatukee.jpg
END:VEVENT
BEGIN:VEVENT
DTSTART;TZID=UTC:20290507T173000
DTEND;TZID=UTC:20290507T190000
DTSTAMP:20260424T121517
CREATED:20260206T145607Z
LAST-MODIFIED:20260206T145607Z
UID:10025536-1872869400-1872874800@www.maddhatterpro.com
SUMMARY:Headliners Sports Bar Trivia
DESCRIPTION:Arizona’s toughest comes to Ahwatukee! DJ Wonder in the house serving up those questions to make you think\, while Headliners serves up the wings! Starting at 5pm\, come out to play FAMILY FRIENDLY.
URL:https://www.maddhatterpro.com/event/headliners-sports-bar-trivia/2029-05-07/
LOCATION:Headliners\, 4142 E Chandler Blvd\, Phoenix\, AZ\, 85048\, United States
ATTACH;FMTTYPE=image/jpeg:https://www.maddhatterpro.com/wp-content/uploads/2026/02/Headliners-Ahwatukee.jpg
END:VEVENT
BEGIN:VEVENT
DTSTART;TZID=UTC:20290514T173000
DTEND;TZID=UTC:20290514T190000
DTSTAMP:20260424T121517
CREATED:20260206T145607Z
LAST-MODIFIED:20260206T145607Z
UID:10025537-1873474200-1873479600@www.maddhatterpro.com
SUMMARY:Headliners Sports Bar Trivia
DESCRIPTION:Arizona’s toughest comes to Ahwatukee! DJ Wonder in the house serving up those questions to make you think\, while Headliners serves up the wings! Starting at 5pm\, come out to play FAMILY FRIENDLY.
URL:https://www.maddhatterpro.com/event/headliners-sports-bar-trivia/2029-05-14/
LOCATION:Headliners\, 4142 E Chandler Blvd\, Phoenix\, AZ\, 85048\, United States
ATTACH;FMTTYPE=image/jpeg:https://www.maddhatterpro.com/wp-content/uploads/2026/02/Headliners-Ahwatukee.jpg
END:VEVENT
BEGIN:VEVENT
DTSTART;TZID=UTC:20290521T173000
DTEND;TZID=UTC:20290521T190000
DTSTAMP:20260424T121517
CREATED:20260206T145607Z
LAST-MODIFIED:20260206T145607Z
UID:10025538-1874079000-1874084400@www.maddhatterpro.com
SUMMARY:Headliners Sports Bar Trivia
DESCRIPTION:Arizona’s toughest comes to Ahwatukee! DJ Wonder in the house serving up those questions to make you think\, while Headliners serves up the wings! Starting at 5pm\, come out to play FAMILY FRIENDLY.
URL:https://www.maddhatterpro.com/event/headliners-sports-bar-trivia/2029-05-21/
LOCATION:Headliners\, 4142 E Chandler Blvd\, Phoenix\, AZ\, 85048\, United States
ATTACH;FMTTYPE=image/jpeg:https://www.maddhatterpro.com/wp-content/uploads/2026/02/Headliners-Ahwatukee.jpg
END:VEVENT
BEGIN:VEVENT
DTSTART;TZID=UTC:20290528T173000
DTEND;TZID=UTC:20290528T190000
DTSTAMP:20260424T121517
CREATED:20260206T145607Z
LAST-MODIFIED:20260206T145607Z
UID:10025539-1874683800-1874689200@www.maddhatterpro.com
SUMMARY:Headliners Sports Bar Trivia
DESCRIPTION:Arizona’s toughest comes to Ahwatukee! DJ Wonder in the house serving up those questions to make you think\, while Headliners serves up the wings! Starting at 5pm\, come out to play FAMILY FRIENDLY.
URL:https://www.maddhatterpro.com/event/headliners-sports-bar-trivia/2029-05-28/
LOCATION:Headliners\, 4142 E Chandler Blvd\, Phoenix\, AZ\, 85048\, United States
ATTACH;FMTTYPE=image/jpeg:https://www.maddhatterpro.com/wp-content/uploads/2026/02/Headliners-Ahwatukee.jpg
END:VEVENT
BEGIN:VEVENT
DTSTART;TZID=UTC:20290604T173000
DTEND;TZID=UTC:20290604T190000
DTSTAMP:20260424T121517
CREATED:20260206T145607Z
LAST-MODIFIED:20260206T145607Z
UID:10025540-1875288600-1875294000@www.maddhatterpro.com
SUMMARY:Headliners Sports Bar Trivia
DESCRIPTION:Arizona’s toughest comes to Ahwatukee! DJ Wonder in the house serving up those questions to make you think\, while Headliners serves up the wings! Starting at 5pm\, come out to play FAMILY FRIENDLY.
URL:https://www.maddhatterpro.com/event/headliners-sports-bar-trivia/2029-06-04/
LOCATION:Headliners\, 4142 E Chandler Blvd\, Phoenix\, AZ\, 85048\, United States
ATTACH;FMTTYPE=image/jpeg:https://www.maddhatterpro.com/wp-content/uploads/2026/02/Headliners-Ahwatukee.jpg
END:VEVENT
BEGIN:VEVENT
DTSTART;TZID=UTC:20290611T173000
DTEND;TZID=UTC:20290611T190000
DTSTAMP:20260424T121517
CREATED:20260206T145607Z
LAST-MODIFIED:20260206T145607Z
UID:10025541-1875893400-1875898800@www.maddhatterpro.com
SUMMARY:Headliners Sports Bar Trivia
DESCRIPTION:Arizona’s toughest comes to Ahwatukee! DJ Wonder in the house serving up those questions to make you think\, while Headliners serves up the wings! Starting at 5pm\, come out to play FAMILY FRIENDLY.
URL:https://www.maddhatterpro.com/event/headliners-sports-bar-trivia/2029-06-11/
LOCATION:Headliners\, 4142 E Chandler Blvd\, Phoenix\, AZ\, 85048\, United States
ATTACH;FMTTYPE=image/jpeg:https://www.maddhatterpro.com/wp-content/uploads/2026/02/Headliners-Ahwatukee.jpg
END:VEVENT
BEGIN:VEVENT
DTSTART;TZID=UTC:20290618T173000
DTEND;TZID=UTC:20290618T190000
DTSTAMP:20260424T121517
CREATED:20260206T145607Z
LAST-MODIFIED:20260206T145607Z
UID:10025542-1876498200-1876503600@www.maddhatterpro.com
SUMMARY:Headliners Sports Bar Trivia
DESCRIPTION:Arizona’s toughest comes to Ahwatukee! DJ Wonder in the house serving up those questions to make you think\, while Headliners serves up the wings! Starting at 5pm\, come out to play FAMILY FRIENDLY.
URL:https://www.maddhatterpro.com/event/headliners-sports-bar-trivia/2029-06-18/
LOCATION:Headliners\, 4142 E Chandler Blvd\, Phoenix\, AZ\, 85048\, United States
ATTACH;FMTTYPE=image/jpeg:https://www.maddhatterpro.com/wp-content/uploads/2026/02/Headliners-Ahwatukee.jpg
END:VEVENT
BEGIN:VEVENT
DTSTART;TZID=UTC:20290625T173000
DTEND;TZID=UTC:20290625T190000
DTSTAMP:20260424T121517
CREATED:20260206T145607Z
LAST-MODIFIED:20260206T145607Z
UID:10025543-1877103000-1877108400@www.maddhatterpro.com
SUMMARY:Headliners Sports Bar Trivia
DESCRIPTION:Arizona’s toughest comes to Ahwatukee! DJ Wonder in the house serving up those questions to make you think\, while Headliners serves up the wings! Starting at 5pm\, come out to play FAMILY FRIENDLY.
URL:https://www.maddhatterpro.com/event/headliners-sports-bar-trivia/2029-06-25/
LOCATION:Headliners\, 4142 E Chandler Blvd\, Phoenix\, AZ\, 85048\, United States
ATTACH;FMTTYPE=image/jpeg:https://www.maddhatterpro.com/wp-content/uploads/2026/02/Headliners-Ahwatukee.jpg
END:VEVENT
BEGIN:VEVENT
DTSTART;TZID=UTC:20290702T173000
DTEND;TZID=UTC:20290702T190000
DTSTAMP:20260424T121517
CREATED:20260206T145607Z
LAST-MODIFIED:20260206T145607Z
UID:10025544-1877707800-1877713200@www.maddhatterpro.com
SUMMARY:Headliners Sports Bar Trivia
DESCRIPTION:Arizona’s toughest comes to Ahwatukee! DJ Wonder in the house serving up those questions to make you think\, while Headliners serves up the wings! Starting at 5pm\, come out to play FAMILY FRIENDLY.
URL:https://www.maddhatterpro.com/event/headliners-sports-bar-trivia/2029-07-02/
LOCATION:Headliners\, 4142 E Chandler Blvd\, Phoenix\, AZ\, 85048\, United States
ATTACH;FMTTYPE=image/jpeg:https://www.maddhatterpro.com/wp-content/uploads/2026/02/Headliners-Ahwatukee.jpg
END:VEVENT
BEGIN:VEVENT
DTSTART;TZID=UTC:20290709T173000
DTEND;TZID=UTC:20290709T190000
DTSTAMP:20260424T121517
CREATED:20260206T145607Z
LAST-MODIFIED:20260206T145607Z
UID:10025545-1878312600-1878318000@www.maddhatterpro.com
SUMMARY:Headliners Sports Bar Trivia
DESCRIPTION:Arizona’s toughest comes to Ahwatukee! DJ Wonder in the house serving up those questions to make you think\, while Headliners serves up the wings! Starting at 5pm\, come out to play FAMILY FRIENDLY.
URL:https://www.maddhatterpro.com/event/headliners-sports-bar-trivia/2029-07-09/
LOCATION:Headliners\, 4142 E Chandler Blvd\, Phoenix\, AZ\, 85048\, United States
ATTACH;FMTTYPE=image/jpeg:https://www.maddhatterpro.com/wp-content/uploads/2026/02/Headliners-Ahwatukee.jpg
END:VEVENT
BEGIN:VEVENT
DTSTART;TZID=UTC:20290716T173000
DTEND;TZID=UTC:20290716T190000
DTSTAMP:20260424T121517
CREATED:20260206T145607Z
LAST-MODIFIED:20260206T145607Z
UID:10025546-1878917400-1878922800@www.maddhatterpro.com
SUMMARY:Headliners Sports Bar Trivia
DESCRIPTION:Arizona’s toughest comes to Ahwatukee! DJ Wonder in the house serving up those questions to make you think\, while Headliners serves up the wings! Starting at 5pm\, come out to play FAMILY FRIENDLY.
URL:https://www.maddhatterpro.com/event/headliners-sports-bar-trivia/2029-07-16/
LOCATION:Headliners\, 4142 E Chandler Blvd\, Phoenix\, AZ\, 85048\, United States
ATTACH;FMTTYPE=image/jpeg:https://www.maddhatterpro.com/wp-content/uploads/2026/02/Headliners-Ahwatukee.jpg
END:VEVENT
BEGIN:VEVENT
DTSTART;TZID=UTC:20290723T173000
DTEND;TZID=UTC:20290723T190000
DTSTAMP:20260424T121517
CREATED:20260206T145607Z
LAST-MODIFIED:20260206T145607Z
UID:10025547-1879522200-1879527600@www.maddhatterpro.com
SUMMARY:Headliners Sports Bar Trivia
DESCRIPTION:Arizona’s toughest comes to Ahwatukee! DJ Wonder in the house serving up those questions to make you think\, while Headliners serves up the wings! Starting at 5pm\, come out to play FAMILY FRIENDLY.
URL:https://www.maddhatterpro.com/event/headliners-sports-bar-trivia/2029-07-23/
LOCATION:Headliners\, 4142 E Chandler Blvd\, Phoenix\, AZ\, 85048\, United States
ATTACH;FMTTYPE=image/jpeg:https://www.maddhatterpro.com/wp-content/uploads/2026/02/Headliners-Ahwatukee.jpg
END:VEVENT
BEGIN:VEVENT
DTSTART;TZID=UTC:20290730T173000
DTEND;TZID=UTC:20290730T190000
DTSTAMP:20260424T121517
CREATED:20260206T145607Z
LAST-MODIFIED:20260206T145607Z
UID:10025548-1880127000-1880132400@www.maddhatterpro.com
SUMMARY:Headliners Sports Bar Trivia
DESCRIPTION:Arizona’s toughest comes to Ahwatukee! DJ Wonder in the house serving up those questions to make you think\, while Headliners serves up the wings! Starting at 5pm\, come out to play FAMILY FRIENDLY.
URL:https://www.maddhatterpro.com/event/headliners-sports-bar-trivia/2029-07-30/
LOCATION:Headliners\, 4142 E Chandler Blvd\, Phoenix\, AZ\, 85048\, United States
ATTACH;FMTTYPE=image/jpeg:https://www.maddhatterpro.com/wp-content/uploads/2026/02/Headliners-Ahwatukee.jpg
END:VEVENT
BEGIN:VEVENT
DTSTART;TZID=UTC:20290806T173000
DTEND;TZID=UTC:20290806T190000
DTSTAMP:20260424T121517
CREATED:20260206T145607Z
LAST-MODIFIED:20260206T145607Z
UID:10025549-1880731800-1880737200@www.maddhatterpro.com
SUMMARY:Headliners Sports Bar Trivia
DESCRIPTION:Arizona’s toughest comes to Ahwatukee! DJ Wonder in the house serving up those questions to make you think\, while Headliners serves up the wings! Starting at 5pm\, come out to play FAMILY FRIENDLY.
URL:https://www.maddhatterpro.com/event/headliners-sports-bar-trivia/2029-08-06/
LOCATION:Headliners\, 4142 E Chandler Blvd\, Phoenix\, AZ\, 85048\, United States
ATTACH;FMTTYPE=image/jpeg:https://www.maddhatterpro.com/wp-content/uploads/2026/02/Headliners-Ahwatukee.jpg
END:VEVENT
BEGIN:VEVENT
DTSTART;TZID=UTC:20290813T173000
DTEND;TZID=UTC:20290813T190000
DTSTAMP:20260424T121517
CREATED:20260206T145607Z
LAST-MODIFIED:20260206T145607Z
UID:10025550-1881336600-1881342000@www.maddhatterpro.com
SUMMARY:Headliners Sports Bar Trivia
DESCRIPTION:Arizona’s toughest comes to Ahwatukee! DJ Wonder in the house serving up those questions to make you think\, while Headliners serves up the wings! Starting at 5pm\, come out to play FAMILY FRIENDLY.
URL:https://www.maddhatterpro.com/event/headliners-sports-bar-trivia/2029-08-13/
LOCATION:Headliners\, 4142 E Chandler Blvd\, Phoenix\, AZ\, 85048\, United States
ATTACH;FMTTYPE=image/jpeg:https://www.maddhatterpro.com/wp-content/uploads/2026/02/Headliners-Ahwatukee.jpg
END:VEVENT
BEGIN:VEVENT
DTSTART;TZID=UTC:20290820T173000
DTEND;TZID=UTC:20290820T190000
DTSTAMP:20260424T121517
CREATED:20260206T145607Z
LAST-MODIFIED:20260206T145607Z
UID:10025551-1881941400-1881946800@www.maddhatterpro.com
SUMMARY:Headliners Sports Bar Trivia
DESCRIPTION:Arizona’s toughest comes to Ahwatukee! DJ Wonder in the house serving up those questions to make you think\, while Headliners serves up the wings! Starting at 5pm\, come out to play FAMILY FRIENDLY.
URL:https://www.maddhatterpro.com/event/headliners-sports-bar-trivia/2029-08-20/
LOCATION:Headliners\, 4142 E Chandler Blvd\, Phoenix\, AZ\, 85048\, United States
ATTACH;FMTTYPE=image/jpeg:https://www.maddhatterpro.com/wp-content/uploads/2026/02/Headliners-Ahwatukee.jpg
END:VEVENT
END:VCALENDAR