BEGIN:VCALENDAR
VERSION:2.0
PRODID:-//MaddHatterPro.com - ECPv6.15.20//NONSGML v1.0//EN
CALSCALE:GREGORIAN
METHOD:PUBLISH
X-ORIGINAL-URL:https://www.maddhatterpro.com
X-WR-CALDESC:Events for MaddHatterPro.com
REFRESH-INTERVAL;VALUE=DURATION:PT1H
X-Robots-Tag:noindex
X-PUBLISHED-TTL:PT1H
BEGIN:VTIMEZONE
TZID:UTC
BEGIN:STANDARD
TZOFFSETFROM:+0000
TZOFFSETTO:+0000
TZNAME:UTC
DTSTART:20270101T000000
END:STANDARD
END:VTIMEZONE
BEGIN:VEVENT
DTSTART;TZID=UTC:20280301T183000
DTEND;TZID=UTC:20280301T183000
DTSTAMP:20260424T051646
CREATED:20250704T002059Z
LAST-MODIFIED:20260206T144041Z
UID:10022643-1835548200-1835548200@www.maddhatterpro.com
SUMMARY:El Dorado Bar and Grill Karaoke
DESCRIPTION:South Scottsdale strikes again\, lets have some fun! El Dorado bar and grill hosting some of the best karaoke with KJ Skribbz! Early show so you can make mid-week work. 6:30pm-10:30pm You bring the tunes\,  we’ll bring the fun. \n8708 E McDowell Rd\, Scottsdale\, AZ 85257 \n+14809452606
URL:https://www.maddhatterpro.com/event/el-dorado-bar-and-grill-karaoke/2028-03-01/
LOCATION:El Dorado\, 8708 E McDowell Rd\, Scottsdale\, AZ 85257\, Scottsdale\, AZ\, 85257\, United States
CATEGORIES:Karaoke,KJ Skribbz
ATTACH;FMTTYPE=image/jpeg:https://www.maddhatterpro.com/wp-content/uploads/2026/02/eldo-Scottsdale.jpg
END:VEVENT
BEGIN:VEVENT
DTSTART;TZID=UTC:20280308T183000
DTEND;TZID=UTC:20280308T183000
DTSTAMP:20260424T051646
CREATED:20250704T002059Z
LAST-MODIFIED:20260206T144041Z
UID:10022644-1836153000-1836153000@www.maddhatterpro.com
SUMMARY:El Dorado Bar and Grill Karaoke
DESCRIPTION:South Scottsdale strikes again\, lets have some fun! El Dorado bar and grill hosting some of the best karaoke with KJ Skribbz! Early show so you can make mid-week work. 6:30pm-10:30pm You bring the tunes\,  we’ll bring the fun. \n8708 E McDowell Rd\, Scottsdale\, AZ 85257 \n+14809452606
URL:https://www.maddhatterpro.com/event/el-dorado-bar-and-grill-karaoke/2028-03-08/
LOCATION:El Dorado\, 8708 E McDowell Rd\, Scottsdale\, AZ 85257\, Scottsdale\, AZ\, 85257\, United States
CATEGORIES:Karaoke,KJ Skribbz
ATTACH;FMTTYPE=image/jpeg:https://www.maddhatterpro.com/wp-content/uploads/2026/02/eldo-Scottsdale.jpg
END:VEVENT
BEGIN:VEVENT
DTSTART;TZID=UTC:20280315T183000
DTEND;TZID=UTC:20280315T183000
DTSTAMP:20260424T051646
CREATED:20250704T002059Z
LAST-MODIFIED:20260206T144041Z
UID:10022645-1836757800-1836757800@www.maddhatterpro.com
SUMMARY:El Dorado Bar and Grill Karaoke
DESCRIPTION:South Scottsdale strikes again\, lets have some fun! El Dorado bar and grill hosting some of the best karaoke with KJ Skribbz! Early show so you can make mid-week work. 6:30pm-10:30pm You bring the tunes\,  we’ll bring the fun. \n8708 E McDowell Rd\, Scottsdale\, AZ 85257 \n+14809452606
URL:https://www.maddhatterpro.com/event/el-dorado-bar-and-grill-karaoke/2028-03-15/
LOCATION:El Dorado\, 8708 E McDowell Rd\, Scottsdale\, AZ 85257\, Scottsdale\, AZ\, 85257\, United States
CATEGORIES:Karaoke,KJ Skribbz
ATTACH;FMTTYPE=image/jpeg:https://www.maddhatterpro.com/wp-content/uploads/2026/02/eldo-Scottsdale.jpg
END:VEVENT
BEGIN:VEVENT
DTSTART;TZID=UTC:20280322T183000
DTEND;TZID=UTC:20280322T183000
DTSTAMP:20260424T051646
CREATED:20250704T002059Z
LAST-MODIFIED:20260206T144041Z
UID:10022646-1837362600-1837362600@www.maddhatterpro.com
SUMMARY:El Dorado Bar and Grill Karaoke
DESCRIPTION:South Scottsdale strikes again\, lets have some fun! El Dorado bar and grill hosting some of the best karaoke with KJ Skribbz! Early show so you can make mid-week work. 6:30pm-10:30pm You bring the tunes\,  we’ll bring the fun. \n8708 E McDowell Rd\, Scottsdale\, AZ 85257 \n+14809452606
URL:https://www.maddhatterpro.com/event/el-dorado-bar-and-grill-karaoke/2028-03-22/
LOCATION:El Dorado\, 8708 E McDowell Rd\, Scottsdale\, AZ 85257\, Scottsdale\, AZ\, 85257\, United States
CATEGORIES:Karaoke,KJ Skribbz
ATTACH;FMTTYPE=image/jpeg:https://www.maddhatterpro.com/wp-content/uploads/2026/02/eldo-Scottsdale.jpg
END:VEVENT
BEGIN:VEVENT
DTSTART;TZID=UTC:20280329T183000
DTEND;TZID=UTC:20280329T183000
DTSTAMP:20260424T051646
CREATED:20250704T002059Z
LAST-MODIFIED:20260206T144041Z
UID:10022647-1837967400-1837967400@www.maddhatterpro.com
SUMMARY:El Dorado Bar and Grill Karaoke
DESCRIPTION:South Scottsdale strikes again\, lets have some fun! El Dorado bar and grill hosting some of the best karaoke with KJ Skribbz! Early show so you can make mid-week work. 6:30pm-10:30pm You bring the tunes\,  we’ll bring the fun. \n8708 E McDowell Rd\, Scottsdale\, AZ 85257 \n+14809452606
URL:https://www.maddhatterpro.com/event/el-dorado-bar-and-grill-karaoke/2028-03-29/
LOCATION:El Dorado\, 8708 E McDowell Rd\, Scottsdale\, AZ 85257\, Scottsdale\, AZ\, 85257\, United States
CATEGORIES:Karaoke,KJ Skribbz
ATTACH;FMTTYPE=image/jpeg:https://www.maddhatterpro.com/wp-content/uploads/2026/02/eldo-Scottsdale.jpg
END:VEVENT
BEGIN:VEVENT
DTSTART;TZID=UTC:20280405T183000
DTEND;TZID=UTC:20280405T183000
DTSTAMP:20260424T051646
CREATED:20250704T002059Z
LAST-MODIFIED:20260206T144041Z
UID:10022648-1838572200-1838572200@www.maddhatterpro.com
SUMMARY:El Dorado Bar and Grill Karaoke
DESCRIPTION:South Scottsdale strikes again\, lets have some fun! El Dorado bar and grill hosting some of the best karaoke with KJ Skribbz! Early show so you can make mid-week work. 6:30pm-10:30pm You bring the tunes\,  we’ll bring the fun. \n8708 E McDowell Rd\, Scottsdale\, AZ 85257 \n+14809452606
URL:https://www.maddhatterpro.com/event/el-dorado-bar-and-grill-karaoke/2028-04-05/
LOCATION:El Dorado\, 8708 E McDowell Rd\, Scottsdale\, AZ 85257\, Scottsdale\, AZ\, 85257\, United States
CATEGORIES:Karaoke,KJ Skribbz
ATTACH;FMTTYPE=image/jpeg:https://www.maddhatterpro.com/wp-content/uploads/2026/02/eldo-Scottsdale.jpg
END:VEVENT
BEGIN:VEVENT
DTSTART;TZID=UTC:20280412T183000
DTEND;TZID=UTC:20280412T183000
DTSTAMP:20260424T051646
CREATED:20250704T002059Z
LAST-MODIFIED:20260206T144041Z
UID:10022649-1839177000-1839177000@www.maddhatterpro.com
SUMMARY:El Dorado Bar and Grill Karaoke
DESCRIPTION:South Scottsdale strikes again\, lets have some fun! El Dorado bar and grill hosting some of the best karaoke with KJ Skribbz! Early show so you can make mid-week work. 6:30pm-10:30pm You bring the tunes\,  we’ll bring the fun. \n8708 E McDowell Rd\, Scottsdale\, AZ 85257 \n+14809452606
URL:https://www.maddhatterpro.com/event/el-dorado-bar-and-grill-karaoke/2028-04-12/
LOCATION:El Dorado\, 8708 E McDowell Rd\, Scottsdale\, AZ 85257\, Scottsdale\, AZ\, 85257\, United States
CATEGORIES:Karaoke,KJ Skribbz
ATTACH;FMTTYPE=image/jpeg:https://www.maddhatterpro.com/wp-content/uploads/2026/02/eldo-Scottsdale.jpg
END:VEVENT
BEGIN:VEVENT
DTSTART;TZID=UTC:20280419T183000
DTEND;TZID=UTC:20280419T183000
DTSTAMP:20260424T051646
CREATED:20250704T002059Z
LAST-MODIFIED:20260206T144041Z
UID:10022650-1839781800-1839781800@www.maddhatterpro.com
SUMMARY:El Dorado Bar and Grill Karaoke
DESCRIPTION:South Scottsdale strikes again\, lets have some fun! El Dorado bar and grill hosting some of the best karaoke with KJ Skribbz! Early show so you can make mid-week work. 6:30pm-10:30pm You bring the tunes\,  we’ll bring the fun. \n8708 E McDowell Rd\, Scottsdale\, AZ 85257 \n+14809452606
URL:https://www.maddhatterpro.com/event/el-dorado-bar-and-grill-karaoke/2028-04-19/
LOCATION:El Dorado\, 8708 E McDowell Rd\, Scottsdale\, AZ 85257\, Scottsdale\, AZ\, 85257\, United States
CATEGORIES:Karaoke,KJ Skribbz
ATTACH;FMTTYPE=image/jpeg:https://www.maddhatterpro.com/wp-content/uploads/2026/02/eldo-Scottsdale.jpg
END:VEVENT
BEGIN:VEVENT
DTSTART;TZID=UTC:20280426T183000
DTEND;TZID=UTC:20280426T183000
DTSTAMP:20260424T051646
CREATED:20250704T002059Z
LAST-MODIFIED:20260206T144041Z
UID:10022651-1840386600-1840386600@www.maddhatterpro.com
SUMMARY:El Dorado Bar and Grill Karaoke
DESCRIPTION:South Scottsdale strikes again\, lets have some fun! El Dorado bar and grill hosting some of the best karaoke with KJ Skribbz! Early show so you can make mid-week work. 6:30pm-10:30pm You bring the tunes\,  we’ll bring the fun. \n8708 E McDowell Rd\, Scottsdale\, AZ 85257 \n+14809452606
URL:https://www.maddhatterpro.com/event/el-dorado-bar-and-grill-karaoke/2028-04-26/
LOCATION:El Dorado\, 8708 E McDowell Rd\, Scottsdale\, AZ 85257\, Scottsdale\, AZ\, 85257\, United States
CATEGORIES:Karaoke,KJ Skribbz
ATTACH;FMTTYPE=image/jpeg:https://www.maddhatterpro.com/wp-content/uploads/2026/02/eldo-Scottsdale.jpg
END:VEVENT
BEGIN:VEVENT
DTSTART;TZID=UTC:20280503T183000
DTEND;TZID=UTC:20280503T183000
DTSTAMP:20260424T051646
CREATED:20250704T002059Z
LAST-MODIFIED:20260206T144041Z
UID:10022652-1840991400-1840991400@www.maddhatterpro.com
SUMMARY:El Dorado Bar and Grill Karaoke
DESCRIPTION:South Scottsdale strikes again\, lets have some fun! El Dorado bar and grill hosting some of the best karaoke with KJ Skribbz! Early show so you can make mid-week work. 6:30pm-10:30pm You bring the tunes\,  we’ll bring the fun. \n8708 E McDowell Rd\, Scottsdale\, AZ 85257 \n+14809452606
URL:https://www.maddhatterpro.com/event/el-dorado-bar-and-grill-karaoke/2028-05-03/
LOCATION:El Dorado\, 8708 E McDowell Rd\, Scottsdale\, AZ 85257\, Scottsdale\, AZ\, 85257\, United States
CATEGORIES:Karaoke,KJ Skribbz
ATTACH;FMTTYPE=image/jpeg:https://www.maddhatterpro.com/wp-content/uploads/2026/02/eldo-Scottsdale.jpg
END:VEVENT
BEGIN:VEVENT
DTSTART;TZID=UTC:20280510T183000
DTEND;TZID=UTC:20280510T183000
DTSTAMP:20260424T051646
CREATED:20250704T002059Z
LAST-MODIFIED:20260206T144041Z
UID:10022653-1841596200-1841596200@www.maddhatterpro.com
SUMMARY:El Dorado Bar and Grill Karaoke
DESCRIPTION:South Scottsdale strikes again\, lets have some fun! El Dorado bar and grill hosting some of the best karaoke with KJ Skribbz! Early show so you can make mid-week work. 6:30pm-10:30pm You bring the tunes\,  we’ll bring the fun. \n8708 E McDowell Rd\, Scottsdale\, AZ 85257 \n+14809452606
URL:https://www.maddhatterpro.com/event/el-dorado-bar-and-grill-karaoke/2028-05-10/
LOCATION:El Dorado\, 8708 E McDowell Rd\, Scottsdale\, AZ 85257\, Scottsdale\, AZ\, 85257\, United States
CATEGORIES:Karaoke,KJ Skribbz
ATTACH;FMTTYPE=image/jpeg:https://www.maddhatterpro.com/wp-content/uploads/2026/02/eldo-Scottsdale.jpg
END:VEVENT
BEGIN:VEVENT
DTSTART;TZID=UTC:20280517T183000
DTEND;TZID=UTC:20280517T183000
DTSTAMP:20260424T051646
CREATED:20250704T002059Z
LAST-MODIFIED:20260206T144041Z
UID:10022654-1842201000-1842201000@www.maddhatterpro.com
SUMMARY:El Dorado Bar and Grill Karaoke
DESCRIPTION:South Scottsdale strikes again\, lets have some fun! El Dorado bar and grill hosting some of the best karaoke with KJ Skribbz! Early show so you can make mid-week work. 6:30pm-10:30pm You bring the tunes\,  we’ll bring the fun. \n8708 E McDowell Rd\, Scottsdale\, AZ 85257 \n+14809452606
URL:https://www.maddhatterpro.com/event/el-dorado-bar-and-grill-karaoke/2028-05-17/
LOCATION:El Dorado\, 8708 E McDowell Rd\, Scottsdale\, AZ 85257\, Scottsdale\, AZ\, 85257\, United States
CATEGORIES:Karaoke,KJ Skribbz
ATTACH;FMTTYPE=image/jpeg:https://www.maddhatterpro.com/wp-content/uploads/2026/02/eldo-Scottsdale.jpg
END:VEVENT
BEGIN:VEVENT
DTSTART;TZID=UTC:20280524T183000
DTEND;TZID=UTC:20280524T183000
DTSTAMP:20260424T051646
CREATED:20250704T002059Z
LAST-MODIFIED:20260206T144041Z
UID:10022655-1842805800-1842805800@www.maddhatterpro.com
SUMMARY:El Dorado Bar and Grill Karaoke
DESCRIPTION:South Scottsdale strikes again\, lets have some fun! El Dorado bar and grill hosting some of the best karaoke with KJ Skribbz! Early show so you can make mid-week work. 6:30pm-10:30pm You bring the tunes\,  we’ll bring the fun. \n8708 E McDowell Rd\, Scottsdale\, AZ 85257 \n+14809452606
URL:https://www.maddhatterpro.com/event/el-dorado-bar-and-grill-karaoke/2028-05-24/
LOCATION:El Dorado\, 8708 E McDowell Rd\, Scottsdale\, AZ 85257\, Scottsdale\, AZ\, 85257\, United States
CATEGORIES:Karaoke,KJ Skribbz
ATTACH;FMTTYPE=image/jpeg:https://www.maddhatterpro.com/wp-content/uploads/2026/02/eldo-Scottsdale.jpg
END:VEVENT
BEGIN:VEVENT
DTSTART;TZID=UTC:20280531T183000
DTEND;TZID=UTC:20280531T183000
DTSTAMP:20260424T051646
CREATED:20250704T002059Z
LAST-MODIFIED:20260206T144041Z
UID:10022656-1843410600-1843410600@www.maddhatterpro.com
SUMMARY:El Dorado Bar and Grill Karaoke
DESCRIPTION:South Scottsdale strikes again\, lets have some fun! El Dorado bar and grill hosting some of the best karaoke with KJ Skribbz! Early show so you can make mid-week work. 6:30pm-10:30pm You bring the tunes\,  we’ll bring the fun. \n8708 E McDowell Rd\, Scottsdale\, AZ 85257 \n+14809452606
URL:https://www.maddhatterpro.com/event/el-dorado-bar-and-grill-karaoke/2028-05-31/
LOCATION:El Dorado\, 8708 E McDowell Rd\, Scottsdale\, AZ 85257\, Scottsdale\, AZ\, 85257\, United States
CATEGORIES:Karaoke,KJ Skribbz
ATTACH;FMTTYPE=image/jpeg:https://www.maddhatterpro.com/wp-content/uploads/2026/02/eldo-Scottsdale.jpg
END:VEVENT
BEGIN:VEVENT
DTSTART;TZID=UTC:20280607T183000
DTEND;TZID=UTC:20280607T183000
DTSTAMP:20260424T051646
CREATED:20250704T002059Z
LAST-MODIFIED:20260206T144041Z
UID:10022657-1844015400-1844015400@www.maddhatterpro.com
SUMMARY:El Dorado Bar and Grill Karaoke
DESCRIPTION:South Scottsdale strikes again\, lets have some fun! El Dorado bar and grill hosting some of the best karaoke with KJ Skribbz! Early show so you can make mid-week work. 6:30pm-10:30pm You bring the tunes\,  we’ll bring the fun. \n8708 E McDowell Rd\, Scottsdale\, AZ 85257 \n+14809452606
URL:https://www.maddhatterpro.com/event/el-dorado-bar-and-grill-karaoke/2028-06-07/
LOCATION:El Dorado\, 8708 E McDowell Rd\, Scottsdale\, AZ 85257\, Scottsdale\, AZ\, 85257\, United States
CATEGORIES:Karaoke,KJ Skribbz
ATTACH;FMTTYPE=image/jpeg:https://www.maddhatterpro.com/wp-content/uploads/2026/02/eldo-Scottsdale.jpg
END:VEVENT
BEGIN:VEVENT
DTSTART;TZID=UTC:20280614T183000
DTEND;TZID=UTC:20280614T183000
DTSTAMP:20260424T051646
CREATED:20250704T002059Z
LAST-MODIFIED:20260206T144041Z
UID:10022658-1844620200-1844620200@www.maddhatterpro.com
SUMMARY:El Dorado Bar and Grill Karaoke
DESCRIPTION:South Scottsdale strikes again\, lets have some fun! El Dorado bar and grill hosting some of the best karaoke with KJ Skribbz! Early show so you can make mid-week work. 6:30pm-10:30pm You bring the tunes\,  we’ll bring the fun. \n8708 E McDowell Rd\, Scottsdale\, AZ 85257 \n+14809452606
URL:https://www.maddhatterpro.com/event/el-dorado-bar-and-grill-karaoke/2028-06-14/
LOCATION:El Dorado\, 8708 E McDowell Rd\, Scottsdale\, AZ 85257\, Scottsdale\, AZ\, 85257\, United States
CATEGORIES:Karaoke,KJ Skribbz
ATTACH;FMTTYPE=image/jpeg:https://www.maddhatterpro.com/wp-content/uploads/2026/02/eldo-Scottsdale.jpg
END:VEVENT
BEGIN:VEVENT
DTSTART;TZID=UTC:20280621T183000
DTEND;TZID=UTC:20280621T183000
DTSTAMP:20260424T051646
CREATED:20250704T002059Z
LAST-MODIFIED:20260206T144041Z
UID:10022659-1845225000-1845225000@www.maddhatterpro.com
SUMMARY:El Dorado Bar and Grill Karaoke
DESCRIPTION:South Scottsdale strikes again\, lets have some fun! El Dorado bar and grill hosting some of the best karaoke with KJ Skribbz! Early show so you can make mid-week work. 6:30pm-10:30pm You bring the tunes\,  we’ll bring the fun. \n8708 E McDowell Rd\, Scottsdale\, AZ 85257 \n+14809452606
URL:https://www.maddhatterpro.com/event/el-dorado-bar-and-grill-karaoke/2028-06-21/
LOCATION:El Dorado\, 8708 E McDowell Rd\, Scottsdale\, AZ 85257\, Scottsdale\, AZ\, 85257\, United States
CATEGORIES:Karaoke,KJ Skribbz
ATTACH;FMTTYPE=image/jpeg:https://www.maddhatterpro.com/wp-content/uploads/2026/02/eldo-Scottsdale.jpg
END:VEVENT
BEGIN:VEVENT
DTSTART;TZID=UTC:20280628T183000
DTEND;TZID=UTC:20280628T183000
DTSTAMP:20260424T051646
CREATED:20250704T002059Z
LAST-MODIFIED:20260206T144041Z
UID:10022660-1845829800-1845829800@www.maddhatterpro.com
SUMMARY:El Dorado Bar and Grill Karaoke
DESCRIPTION:South Scottsdale strikes again\, lets have some fun! El Dorado bar and grill hosting some of the best karaoke with KJ Skribbz! Early show so you can make mid-week work. 6:30pm-10:30pm You bring the tunes\,  we’ll bring the fun. \n8708 E McDowell Rd\, Scottsdale\, AZ 85257 \n+14809452606
URL:https://www.maddhatterpro.com/event/el-dorado-bar-and-grill-karaoke/2028-06-28/
LOCATION:El Dorado\, 8708 E McDowell Rd\, Scottsdale\, AZ 85257\, Scottsdale\, AZ\, 85257\, United States
CATEGORIES:Karaoke,KJ Skribbz
ATTACH;FMTTYPE=image/jpeg:https://www.maddhatterpro.com/wp-content/uploads/2026/02/eldo-Scottsdale.jpg
END:VEVENT
BEGIN:VEVENT
DTSTART;TZID=UTC:20280705T183000
DTEND;TZID=UTC:20280705T183000
DTSTAMP:20260424T051646
CREATED:20250704T002059Z
LAST-MODIFIED:20260206T144041Z
UID:10022661-1846434600-1846434600@www.maddhatterpro.com
SUMMARY:El Dorado Bar and Grill Karaoke
DESCRIPTION:South Scottsdale strikes again\, lets have some fun! El Dorado bar and grill hosting some of the best karaoke with KJ Skribbz! Early show so you can make mid-week work. 6:30pm-10:30pm You bring the tunes\,  we’ll bring the fun. \n8708 E McDowell Rd\, Scottsdale\, AZ 85257 \n+14809452606
URL:https://www.maddhatterpro.com/event/el-dorado-bar-and-grill-karaoke/2028-07-05/
LOCATION:El Dorado\, 8708 E McDowell Rd\, Scottsdale\, AZ 85257\, Scottsdale\, AZ\, 85257\, United States
CATEGORIES:Karaoke,KJ Skribbz
ATTACH;FMTTYPE=image/jpeg:https://www.maddhatterpro.com/wp-content/uploads/2026/02/eldo-Scottsdale.jpg
END:VEVENT
BEGIN:VEVENT
DTSTART;TZID=UTC:20280712T183000
DTEND;TZID=UTC:20280712T183000
DTSTAMP:20260424T051646
CREATED:20250704T002059Z
LAST-MODIFIED:20260206T144041Z
UID:10022662-1847039400-1847039400@www.maddhatterpro.com
SUMMARY:El Dorado Bar and Grill Karaoke
DESCRIPTION:South Scottsdale strikes again\, lets have some fun! El Dorado bar and grill hosting some of the best karaoke with KJ Skribbz! Early show so you can make mid-week work. 6:30pm-10:30pm You bring the tunes\,  we’ll bring the fun. \n8708 E McDowell Rd\, Scottsdale\, AZ 85257 \n+14809452606
URL:https://www.maddhatterpro.com/event/el-dorado-bar-and-grill-karaoke/2028-07-12/
LOCATION:El Dorado\, 8708 E McDowell Rd\, Scottsdale\, AZ 85257\, Scottsdale\, AZ\, 85257\, United States
CATEGORIES:Karaoke,KJ Skribbz
ATTACH;FMTTYPE=image/jpeg:https://www.maddhatterpro.com/wp-content/uploads/2026/02/eldo-Scottsdale.jpg
END:VEVENT
BEGIN:VEVENT
DTSTART;TZID=UTC:20280719T183000
DTEND;TZID=UTC:20280719T183000
DTSTAMP:20260424T051646
CREATED:20250704T002059Z
LAST-MODIFIED:20260206T144041Z
UID:10022663-1847644200-1847644200@www.maddhatterpro.com
SUMMARY:El Dorado Bar and Grill Karaoke
DESCRIPTION:South Scottsdale strikes again\, lets have some fun! El Dorado bar and grill hosting some of the best karaoke with KJ Skribbz! Early show so you can make mid-week work. 6:30pm-10:30pm You bring the tunes\,  we’ll bring the fun. \n8708 E McDowell Rd\, Scottsdale\, AZ 85257 \n+14809452606
URL:https://www.maddhatterpro.com/event/el-dorado-bar-and-grill-karaoke/2028-07-19/
LOCATION:El Dorado\, 8708 E McDowell Rd\, Scottsdale\, AZ 85257\, Scottsdale\, AZ\, 85257\, United States
CATEGORIES:Karaoke,KJ Skribbz
ATTACH;FMTTYPE=image/jpeg:https://www.maddhatterpro.com/wp-content/uploads/2026/02/eldo-Scottsdale.jpg
END:VEVENT
BEGIN:VEVENT
DTSTART;TZID=UTC:20280726T183000
DTEND;TZID=UTC:20280726T183000
DTSTAMP:20260424T051646
CREATED:20250704T002059Z
LAST-MODIFIED:20260206T144041Z
UID:10022664-1848249000-1848249000@www.maddhatterpro.com
SUMMARY:El Dorado Bar and Grill Karaoke
DESCRIPTION:South Scottsdale strikes again\, lets have some fun! El Dorado bar and grill hosting some of the best karaoke with KJ Skribbz! Early show so you can make mid-week work. 6:30pm-10:30pm You bring the tunes\,  we’ll bring the fun. \n8708 E McDowell Rd\, Scottsdale\, AZ 85257 \n+14809452606
URL:https://www.maddhatterpro.com/event/el-dorado-bar-and-grill-karaoke/2028-07-26/
LOCATION:El Dorado\, 8708 E McDowell Rd\, Scottsdale\, AZ 85257\, Scottsdale\, AZ\, 85257\, United States
CATEGORIES:Karaoke,KJ Skribbz
ATTACH;FMTTYPE=image/jpeg:https://www.maddhatterpro.com/wp-content/uploads/2026/02/eldo-Scottsdale.jpg
END:VEVENT
BEGIN:VEVENT
DTSTART;TZID=UTC:20280802T183000
DTEND;TZID=UTC:20280802T183000
DTSTAMP:20260424T051646
CREATED:20250704T002059Z
LAST-MODIFIED:20260206T144041Z
UID:10022665-1848853800-1848853800@www.maddhatterpro.com
SUMMARY:El Dorado Bar and Grill Karaoke
DESCRIPTION:South Scottsdale strikes again\, lets have some fun! El Dorado bar and grill hosting some of the best karaoke with KJ Skribbz! Early show so you can make mid-week work. 6:30pm-10:30pm You bring the tunes\,  we’ll bring the fun. \n8708 E McDowell Rd\, Scottsdale\, AZ 85257 \n+14809452606
URL:https://www.maddhatterpro.com/event/el-dorado-bar-and-grill-karaoke/2028-08-02/
LOCATION:El Dorado\, 8708 E McDowell Rd\, Scottsdale\, AZ 85257\, Scottsdale\, AZ\, 85257\, United States
CATEGORIES:Karaoke,KJ Skribbz
ATTACH;FMTTYPE=image/jpeg:https://www.maddhatterpro.com/wp-content/uploads/2026/02/eldo-Scottsdale.jpg
END:VEVENT
BEGIN:VEVENT
DTSTART;TZID=UTC:20280809T183000
DTEND;TZID=UTC:20280809T183000
DTSTAMP:20260424T051646
CREATED:20250704T002059Z
LAST-MODIFIED:20260206T144041Z
UID:10022666-1849458600-1849458600@www.maddhatterpro.com
SUMMARY:El Dorado Bar and Grill Karaoke
DESCRIPTION:South Scottsdale strikes again\, lets have some fun! El Dorado bar and grill hosting some of the best karaoke with KJ Skribbz! Early show so you can make mid-week work. 6:30pm-10:30pm You bring the tunes\,  we’ll bring the fun. \n8708 E McDowell Rd\, Scottsdale\, AZ 85257 \n+14809452606
URL:https://www.maddhatterpro.com/event/el-dorado-bar-and-grill-karaoke/2028-08-09/
LOCATION:El Dorado\, 8708 E McDowell Rd\, Scottsdale\, AZ 85257\, Scottsdale\, AZ\, 85257\, United States
CATEGORIES:Karaoke,KJ Skribbz
ATTACH;FMTTYPE=image/jpeg:https://www.maddhatterpro.com/wp-content/uploads/2026/02/eldo-Scottsdale.jpg
END:VEVENT
BEGIN:VEVENT
DTSTART;TZID=UTC:20280816T183000
DTEND;TZID=UTC:20280816T183000
DTSTAMP:20260424T051646
CREATED:20250704T002059Z
LAST-MODIFIED:20260206T144041Z
UID:10022667-1850063400-1850063400@www.maddhatterpro.com
SUMMARY:El Dorado Bar and Grill Karaoke
DESCRIPTION:South Scottsdale strikes again\, lets have some fun! El Dorado bar and grill hosting some of the best karaoke with KJ Skribbz! Early show so you can make mid-week work. 6:30pm-10:30pm You bring the tunes\,  we’ll bring the fun. \n8708 E McDowell Rd\, Scottsdale\, AZ 85257 \n+14809452606
URL:https://www.maddhatterpro.com/event/el-dorado-bar-and-grill-karaoke/2028-08-16/
LOCATION:El Dorado\, 8708 E McDowell Rd\, Scottsdale\, AZ 85257\, Scottsdale\, AZ\, 85257\, United States
CATEGORIES:Karaoke,KJ Skribbz
ATTACH;FMTTYPE=image/jpeg:https://www.maddhatterpro.com/wp-content/uploads/2026/02/eldo-Scottsdale.jpg
END:VEVENT
BEGIN:VEVENT
DTSTART;TZID=UTC:20280823T183000
DTEND;TZID=UTC:20280823T183000
DTSTAMP:20260424T051646
CREATED:20250704T002059Z
LAST-MODIFIED:20260206T144041Z
UID:10022668-1850668200-1850668200@www.maddhatterpro.com
SUMMARY:El Dorado Bar and Grill Karaoke
DESCRIPTION:South Scottsdale strikes again\, lets have some fun! El Dorado bar and grill hosting some of the best karaoke with KJ Skribbz! Early show so you can make mid-week work. 6:30pm-10:30pm You bring the tunes\,  we’ll bring the fun. \n8708 E McDowell Rd\, Scottsdale\, AZ 85257 \n+14809452606
URL:https://www.maddhatterpro.com/event/el-dorado-bar-and-grill-karaoke/2028-08-23/
LOCATION:El Dorado\, 8708 E McDowell Rd\, Scottsdale\, AZ 85257\, Scottsdale\, AZ\, 85257\, United States
CATEGORIES:Karaoke,KJ Skribbz
ATTACH;FMTTYPE=image/jpeg:https://www.maddhatterpro.com/wp-content/uploads/2026/02/eldo-Scottsdale.jpg
END:VEVENT
BEGIN:VEVENT
DTSTART;TZID=UTC:20280830T183000
DTEND;TZID=UTC:20280830T183000
DTSTAMP:20260424T051646
CREATED:20250704T002059Z
LAST-MODIFIED:20260206T144041Z
UID:10022669-1851273000-1851273000@www.maddhatterpro.com
SUMMARY:El Dorado Bar and Grill Karaoke
DESCRIPTION:South Scottsdale strikes again\, lets have some fun! El Dorado bar and grill hosting some of the best karaoke with KJ Skribbz! Early show so you can make mid-week work. 6:30pm-10:30pm You bring the tunes\,  we’ll bring the fun. \n8708 E McDowell Rd\, Scottsdale\, AZ 85257 \n+14809452606
URL:https://www.maddhatterpro.com/event/el-dorado-bar-and-grill-karaoke/2028-08-30/
LOCATION:El Dorado\, 8708 E McDowell Rd\, Scottsdale\, AZ 85257\, Scottsdale\, AZ\, 85257\, United States
CATEGORIES:Karaoke,KJ Skribbz
ATTACH;FMTTYPE=image/jpeg:https://www.maddhatterpro.com/wp-content/uploads/2026/02/eldo-Scottsdale.jpg
END:VEVENT
BEGIN:VEVENT
DTSTART;TZID=UTC:20280906T183000
DTEND;TZID=UTC:20280906T183000
DTSTAMP:20260424T051646
CREATED:20250704T002059Z
LAST-MODIFIED:20260206T144041Z
UID:10022670-1851877800-1851877800@www.maddhatterpro.com
SUMMARY:El Dorado Bar and Grill Karaoke
DESCRIPTION:South Scottsdale strikes again\, lets have some fun! El Dorado bar and grill hosting some of the best karaoke with KJ Skribbz! Early show so you can make mid-week work. 6:30pm-10:30pm You bring the tunes\,  we’ll bring the fun. \n8708 E McDowell Rd\, Scottsdale\, AZ 85257 \n+14809452606
URL:https://www.maddhatterpro.com/event/el-dorado-bar-and-grill-karaoke/2028-09-06/
LOCATION:El Dorado\, 8708 E McDowell Rd\, Scottsdale\, AZ 85257\, Scottsdale\, AZ\, 85257\, United States
CATEGORIES:Karaoke,KJ Skribbz
ATTACH;FMTTYPE=image/jpeg:https://www.maddhatterpro.com/wp-content/uploads/2026/02/eldo-Scottsdale.jpg
END:VEVENT
BEGIN:VEVENT
DTSTART;TZID=UTC:20280913T183000
DTEND;TZID=UTC:20280913T183000
DTSTAMP:20260424T051646
CREATED:20250704T002059Z
LAST-MODIFIED:20260206T144041Z
UID:10022671-1852482600-1852482600@www.maddhatterpro.com
SUMMARY:El Dorado Bar and Grill Karaoke
DESCRIPTION:South Scottsdale strikes again\, lets have some fun! El Dorado bar and grill hosting some of the best karaoke with KJ Skribbz! Early show so you can make mid-week work. 6:30pm-10:30pm You bring the tunes\,  we’ll bring the fun. \n8708 E McDowell Rd\, Scottsdale\, AZ 85257 \n+14809452606
URL:https://www.maddhatterpro.com/event/el-dorado-bar-and-grill-karaoke/2028-09-13/
LOCATION:El Dorado\, 8708 E McDowell Rd\, Scottsdale\, AZ 85257\, Scottsdale\, AZ\, 85257\, United States
CATEGORIES:Karaoke,KJ Skribbz
ATTACH;FMTTYPE=image/jpeg:https://www.maddhatterpro.com/wp-content/uploads/2026/02/eldo-Scottsdale.jpg
END:VEVENT
BEGIN:VEVENT
DTSTART;TZID=UTC:20280920T183000
DTEND;TZID=UTC:20280920T183000
DTSTAMP:20260424T051646
CREATED:20250704T002059Z
LAST-MODIFIED:20260206T144041Z
UID:10022672-1853087400-1853087400@www.maddhatterpro.com
SUMMARY:El Dorado Bar and Grill Karaoke
DESCRIPTION:South Scottsdale strikes again\, lets have some fun! El Dorado bar and grill hosting some of the best karaoke with KJ Skribbz! Early show so you can make mid-week work. 6:30pm-10:30pm You bring the tunes\,  we’ll bring the fun. \n8708 E McDowell Rd\, Scottsdale\, AZ 85257 \n+14809452606
URL:https://www.maddhatterpro.com/event/el-dorado-bar-and-grill-karaoke/2028-09-20/
LOCATION:El Dorado\, 8708 E McDowell Rd\, Scottsdale\, AZ 85257\, Scottsdale\, AZ\, 85257\, United States
CATEGORIES:Karaoke,KJ Skribbz
ATTACH;FMTTYPE=image/jpeg:https://www.maddhatterpro.com/wp-content/uploads/2026/02/eldo-Scottsdale.jpg
END:VEVENT
END:VCALENDAR