BEGIN:VCALENDAR
VERSION:2.0
PRODID:-//MaddHatterPro.com - ECPv6.15.20//NONSGML v1.0//EN
CALSCALE:GREGORIAN
METHOD:PUBLISH
X-ORIGINAL-URL:https://www.maddhatterpro.com
X-WR-CALDESC:Events for MaddHatterPro.com
REFRESH-INTERVAL;VALUE=DURATION:PT1H
X-Robots-Tag:noindex
X-PUBLISHED-TTL:PT1H
BEGIN:VTIMEZONE
TZID:UTC
BEGIN:STANDARD
TZOFFSETFROM:+0000
TZOFFSETTO:+0000
TZNAME:UTC
DTSTART:20260101T000000
END:STANDARD
END:VTIMEZONE
BEGIN:VEVENT
DTSTART;TZID=UTC:20270915T183000
DTEND;TZID=UTC:20270915T183000
DTSTAMP:20260424T021746
CREATED:20250704T002059Z
LAST-MODIFIED:20260206T144041Z
UID:10022619-1821033000-1821033000@www.maddhatterpro.com
SUMMARY:El Dorado Bar and Grill Karaoke
DESCRIPTION:South Scottsdale strikes again\, lets have some fun! El Dorado bar and grill hosting some of the best karaoke with KJ Skribbz! Early show so you can make mid-week work. 6:30pm-10:30pm You bring the tunes\,  we’ll bring the fun. \n8708 E McDowell Rd\, Scottsdale\, AZ 85257 \n+14809452606
URL:https://www.maddhatterpro.com/event/el-dorado-bar-and-grill-karaoke/2027-09-15/
LOCATION:El Dorado\, 8708 E McDowell Rd\, Scottsdale\, AZ 85257\, Scottsdale\, AZ\, 85257\, United States
CATEGORIES:Karaoke,KJ Skribbz
ATTACH;FMTTYPE=image/jpeg:https://www.maddhatterpro.com/wp-content/uploads/2026/02/eldo-Scottsdale.jpg
END:VEVENT
BEGIN:VEVENT
DTSTART;TZID=UTC:20270922T183000
DTEND;TZID=UTC:20270922T183000
DTSTAMP:20260424T021746
CREATED:20250704T002059Z
LAST-MODIFIED:20260206T144041Z
UID:10022620-1821637800-1821637800@www.maddhatterpro.com
SUMMARY:El Dorado Bar and Grill Karaoke
DESCRIPTION:South Scottsdale strikes again\, lets have some fun! El Dorado bar and grill hosting some of the best karaoke with KJ Skribbz! Early show so you can make mid-week work. 6:30pm-10:30pm You bring the tunes\,  we’ll bring the fun. \n8708 E McDowell Rd\, Scottsdale\, AZ 85257 \n+14809452606
URL:https://www.maddhatterpro.com/event/el-dorado-bar-and-grill-karaoke/2027-09-22/
LOCATION:El Dorado\, 8708 E McDowell Rd\, Scottsdale\, AZ 85257\, Scottsdale\, AZ\, 85257\, United States
CATEGORIES:Karaoke,KJ Skribbz
ATTACH;FMTTYPE=image/jpeg:https://www.maddhatterpro.com/wp-content/uploads/2026/02/eldo-Scottsdale.jpg
END:VEVENT
BEGIN:VEVENT
DTSTART;TZID=UTC:20270929T183000
DTEND;TZID=UTC:20270929T183000
DTSTAMP:20260424T021746
CREATED:20250704T002059Z
LAST-MODIFIED:20260206T144041Z
UID:10022621-1822242600-1822242600@www.maddhatterpro.com
SUMMARY:El Dorado Bar and Grill Karaoke
DESCRIPTION:South Scottsdale strikes again\, lets have some fun! El Dorado bar and grill hosting some of the best karaoke with KJ Skribbz! Early show so you can make mid-week work. 6:30pm-10:30pm You bring the tunes\,  we’ll bring the fun. \n8708 E McDowell Rd\, Scottsdale\, AZ 85257 \n+14809452606
URL:https://www.maddhatterpro.com/event/el-dorado-bar-and-grill-karaoke/2027-09-29/
LOCATION:El Dorado\, 8708 E McDowell Rd\, Scottsdale\, AZ 85257\, Scottsdale\, AZ\, 85257\, United States
CATEGORIES:Karaoke,KJ Skribbz
ATTACH;FMTTYPE=image/jpeg:https://www.maddhatterpro.com/wp-content/uploads/2026/02/eldo-Scottsdale.jpg
END:VEVENT
BEGIN:VEVENT
DTSTART;TZID=UTC:20271006T183000
DTEND;TZID=UTC:20271006T183000
DTSTAMP:20260424T021746
CREATED:20250704T002059Z
LAST-MODIFIED:20260206T144041Z
UID:10022622-1822847400-1822847400@www.maddhatterpro.com
SUMMARY:El Dorado Bar and Grill Karaoke
DESCRIPTION:South Scottsdale strikes again\, lets have some fun! El Dorado bar and grill hosting some of the best karaoke with KJ Skribbz! Early show so you can make mid-week work. 6:30pm-10:30pm You bring the tunes\,  we’ll bring the fun. \n8708 E McDowell Rd\, Scottsdale\, AZ 85257 \n+14809452606
URL:https://www.maddhatterpro.com/event/el-dorado-bar-and-grill-karaoke/2027-10-06/
LOCATION:El Dorado\, 8708 E McDowell Rd\, Scottsdale\, AZ 85257\, Scottsdale\, AZ\, 85257\, United States
CATEGORIES:Karaoke,KJ Skribbz
ATTACH;FMTTYPE=image/jpeg:https://www.maddhatterpro.com/wp-content/uploads/2026/02/eldo-Scottsdale.jpg
END:VEVENT
BEGIN:VEVENT
DTSTART;TZID=UTC:20271013T183000
DTEND;TZID=UTC:20271013T183000
DTSTAMP:20260424T021746
CREATED:20250704T002059Z
LAST-MODIFIED:20260206T144041Z
UID:10022623-1823452200-1823452200@www.maddhatterpro.com
SUMMARY:El Dorado Bar and Grill Karaoke
DESCRIPTION:South Scottsdale strikes again\, lets have some fun! El Dorado bar and grill hosting some of the best karaoke with KJ Skribbz! Early show so you can make mid-week work. 6:30pm-10:30pm You bring the tunes\,  we’ll bring the fun. \n8708 E McDowell Rd\, Scottsdale\, AZ 85257 \n+14809452606
URL:https://www.maddhatterpro.com/event/el-dorado-bar-and-grill-karaoke/2027-10-13/
LOCATION:El Dorado\, 8708 E McDowell Rd\, Scottsdale\, AZ 85257\, Scottsdale\, AZ\, 85257\, United States
CATEGORIES:Karaoke,KJ Skribbz
ATTACH;FMTTYPE=image/jpeg:https://www.maddhatterpro.com/wp-content/uploads/2026/02/eldo-Scottsdale.jpg
END:VEVENT
BEGIN:VEVENT
DTSTART;TZID=UTC:20271020T183000
DTEND;TZID=UTC:20271020T183000
DTSTAMP:20260424T021746
CREATED:20250704T002059Z
LAST-MODIFIED:20260206T144041Z
UID:10022624-1824057000-1824057000@www.maddhatterpro.com
SUMMARY:El Dorado Bar and Grill Karaoke
DESCRIPTION:South Scottsdale strikes again\, lets have some fun! El Dorado bar and grill hosting some of the best karaoke with KJ Skribbz! Early show so you can make mid-week work. 6:30pm-10:30pm You bring the tunes\,  we’ll bring the fun. \n8708 E McDowell Rd\, Scottsdale\, AZ 85257 \n+14809452606
URL:https://www.maddhatterpro.com/event/el-dorado-bar-and-grill-karaoke/2027-10-20/
LOCATION:El Dorado\, 8708 E McDowell Rd\, Scottsdale\, AZ 85257\, Scottsdale\, AZ\, 85257\, United States
CATEGORIES:Karaoke,KJ Skribbz
ATTACH;FMTTYPE=image/jpeg:https://www.maddhatterpro.com/wp-content/uploads/2026/02/eldo-Scottsdale.jpg
END:VEVENT
BEGIN:VEVENT
DTSTART;TZID=UTC:20271027T183000
DTEND;TZID=UTC:20271027T183000
DTSTAMP:20260424T021746
CREATED:20250704T002059Z
LAST-MODIFIED:20260206T144041Z
UID:10022625-1824661800-1824661800@www.maddhatterpro.com
SUMMARY:El Dorado Bar and Grill Karaoke
DESCRIPTION:South Scottsdale strikes again\, lets have some fun! El Dorado bar and grill hosting some of the best karaoke with KJ Skribbz! Early show so you can make mid-week work. 6:30pm-10:30pm You bring the tunes\,  we’ll bring the fun. \n8708 E McDowell Rd\, Scottsdale\, AZ 85257 \n+14809452606
URL:https://www.maddhatterpro.com/event/el-dorado-bar-and-grill-karaoke/2027-10-27/
LOCATION:El Dorado\, 8708 E McDowell Rd\, Scottsdale\, AZ 85257\, Scottsdale\, AZ\, 85257\, United States
CATEGORIES:Karaoke,KJ Skribbz
ATTACH;FMTTYPE=image/jpeg:https://www.maddhatterpro.com/wp-content/uploads/2026/02/eldo-Scottsdale.jpg
END:VEVENT
BEGIN:VEVENT
DTSTART;TZID=UTC:20271103T183000
DTEND;TZID=UTC:20271103T183000
DTSTAMP:20260424T021746
CREATED:20250704T002059Z
LAST-MODIFIED:20260206T144041Z
UID:10022626-1825266600-1825266600@www.maddhatterpro.com
SUMMARY:El Dorado Bar and Grill Karaoke
DESCRIPTION:South Scottsdale strikes again\, lets have some fun! El Dorado bar and grill hosting some of the best karaoke with KJ Skribbz! Early show so you can make mid-week work. 6:30pm-10:30pm You bring the tunes\,  we’ll bring the fun. \n8708 E McDowell Rd\, Scottsdale\, AZ 85257 \n+14809452606
URL:https://www.maddhatterpro.com/event/el-dorado-bar-and-grill-karaoke/2027-11-03/
LOCATION:El Dorado\, 8708 E McDowell Rd\, Scottsdale\, AZ 85257\, Scottsdale\, AZ\, 85257\, United States
CATEGORIES:Karaoke,KJ Skribbz
ATTACH;FMTTYPE=image/jpeg:https://www.maddhatterpro.com/wp-content/uploads/2026/02/eldo-Scottsdale.jpg
END:VEVENT
BEGIN:VEVENT
DTSTART;TZID=UTC:20271110T183000
DTEND;TZID=UTC:20271110T183000
DTSTAMP:20260424T021746
CREATED:20250704T002059Z
LAST-MODIFIED:20260206T144041Z
UID:10022627-1825871400-1825871400@www.maddhatterpro.com
SUMMARY:El Dorado Bar and Grill Karaoke
DESCRIPTION:South Scottsdale strikes again\, lets have some fun! El Dorado bar and grill hosting some of the best karaoke with KJ Skribbz! Early show so you can make mid-week work. 6:30pm-10:30pm You bring the tunes\,  we’ll bring the fun. \n8708 E McDowell Rd\, Scottsdale\, AZ 85257 \n+14809452606
URL:https://www.maddhatterpro.com/event/el-dorado-bar-and-grill-karaoke/2027-11-10/
LOCATION:El Dorado\, 8708 E McDowell Rd\, Scottsdale\, AZ 85257\, Scottsdale\, AZ\, 85257\, United States
CATEGORIES:Karaoke,KJ Skribbz
ATTACH;FMTTYPE=image/jpeg:https://www.maddhatterpro.com/wp-content/uploads/2026/02/eldo-Scottsdale.jpg
END:VEVENT
BEGIN:VEVENT
DTSTART;TZID=UTC:20271117T183000
DTEND;TZID=UTC:20271117T183000
DTSTAMP:20260424T021746
CREATED:20250704T002059Z
LAST-MODIFIED:20260206T144041Z
UID:10022628-1826476200-1826476200@www.maddhatterpro.com
SUMMARY:El Dorado Bar and Grill Karaoke
DESCRIPTION:South Scottsdale strikes again\, lets have some fun! El Dorado bar and grill hosting some of the best karaoke with KJ Skribbz! Early show so you can make mid-week work. 6:30pm-10:30pm You bring the tunes\,  we’ll bring the fun. \n8708 E McDowell Rd\, Scottsdale\, AZ 85257 \n+14809452606
URL:https://www.maddhatterpro.com/event/el-dorado-bar-and-grill-karaoke/2027-11-17/
LOCATION:El Dorado\, 8708 E McDowell Rd\, Scottsdale\, AZ 85257\, Scottsdale\, AZ\, 85257\, United States
CATEGORIES:Karaoke,KJ Skribbz
ATTACH;FMTTYPE=image/jpeg:https://www.maddhatterpro.com/wp-content/uploads/2026/02/eldo-Scottsdale.jpg
END:VEVENT
BEGIN:VEVENT
DTSTART;TZID=UTC:20271124T183000
DTEND;TZID=UTC:20271124T183000
DTSTAMP:20260424T021746
CREATED:20250704T002059Z
LAST-MODIFIED:20260206T144041Z
UID:10022629-1827081000-1827081000@www.maddhatterpro.com
SUMMARY:El Dorado Bar and Grill Karaoke
DESCRIPTION:South Scottsdale strikes again\, lets have some fun! El Dorado bar and grill hosting some of the best karaoke with KJ Skribbz! Early show so you can make mid-week work. 6:30pm-10:30pm You bring the tunes\,  we’ll bring the fun. \n8708 E McDowell Rd\, Scottsdale\, AZ 85257 \n+14809452606
URL:https://www.maddhatterpro.com/event/el-dorado-bar-and-grill-karaoke/2027-11-24/
LOCATION:El Dorado\, 8708 E McDowell Rd\, Scottsdale\, AZ 85257\, Scottsdale\, AZ\, 85257\, United States
CATEGORIES:Karaoke,KJ Skribbz
ATTACH;FMTTYPE=image/jpeg:https://www.maddhatterpro.com/wp-content/uploads/2026/02/eldo-Scottsdale.jpg
END:VEVENT
BEGIN:VEVENT
DTSTART;TZID=UTC:20271201T183000
DTEND;TZID=UTC:20271201T183000
DTSTAMP:20260424T021746
CREATED:20250704T002059Z
LAST-MODIFIED:20260206T144041Z
UID:10022630-1827685800-1827685800@www.maddhatterpro.com
SUMMARY:El Dorado Bar and Grill Karaoke
DESCRIPTION:South Scottsdale strikes again\, lets have some fun! El Dorado bar and grill hosting some of the best karaoke with KJ Skribbz! Early show so you can make mid-week work. 6:30pm-10:30pm You bring the tunes\,  we’ll bring the fun. \n8708 E McDowell Rd\, Scottsdale\, AZ 85257 \n+14809452606
URL:https://www.maddhatterpro.com/event/el-dorado-bar-and-grill-karaoke/2027-12-01/
LOCATION:El Dorado\, 8708 E McDowell Rd\, Scottsdale\, AZ 85257\, Scottsdale\, AZ\, 85257\, United States
CATEGORIES:Karaoke,KJ Skribbz
ATTACH;FMTTYPE=image/jpeg:https://www.maddhatterpro.com/wp-content/uploads/2026/02/eldo-Scottsdale.jpg
END:VEVENT
BEGIN:VEVENT
DTSTART;TZID=UTC:20271208T183000
DTEND;TZID=UTC:20271208T183000
DTSTAMP:20260424T021746
CREATED:20250704T002059Z
LAST-MODIFIED:20260206T144041Z
UID:10022631-1828290600-1828290600@www.maddhatterpro.com
SUMMARY:El Dorado Bar and Grill Karaoke
DESCRIPTION:South Scottsdale strikes again\, lets have some fun! El Dorado bar and grill hosting some of the best karaoke with KJ Skribbz! Early show so you can make mid-week work. 6:30pm-10:30pm You bring the tunes\,  we’ll bring the fun. \n8708 E McDowell Rd\, Scottsdale\, AZ 85257 \n+14809452606
URL:https://www.maddhatterpro.com/event/el-dorado-bar-and-grill-karaoke/2027-12-08/
LOCATION:El Dorado\, 8708 E McDowell Rd\, Scottsdale\, AZ 85257\, Scottsdale\, AZ\, 85257\, United States
CATEGORIES:Karaoke,KJ Skribbz
ATTACH;FMTTYPE=image/jpeg:https://www.maddhatterpro.com/wp-content/uploads/2026/02/eldo-Scottsdale.jpg
END:VEVENT
BEGIN:VEVENT
DTSTART;TZID=UTC:20271215T183000
DTEND;TZID=UTC:20271215T183000
DTSTAMP:20260424T021746
CREATED:20250704T002059Z
LAST-MODIFIED:20260206T144041Z
UID:10022632-1828895400-1828895400@www.maddhatterpro.com
SUMMARY:El Dorado Bar and Grill Karaoke
DESCRIPTION:South Scottsdale strikes again\, lets have some fun! El Dorado bar and grill hosting some of the best karaoke with KJ Skribbz! Early show so you can make mid-week work. 6:30pm-10:30pm You bring the tunes\,  we’ll bring the fun. \n8708 E McDowell Rd\, Scottsdale\, AZ 85257 \n+14809452606
URL:https://www.maddhatterpro.com/event/el-dorado-bar-and-grill-karaoke/2027-12-15/
LOCATION:El Dorado\, 8708 E McDowell Rd\, Scottsdale\, AZ 85257\, Scottsdale\, AZ\, 85257\, United States
CATEGORIES:Karaoke,KJ Skribbz
ATTACH;FMTTYPE=image/jpeg:https://www.maddhatterpro.com/wp-content/uploads/2026/02/eldo-Scottsdale.jpg
END:VEVENT
BEGIN:VEVENT
DTSTART;TZID=UTC:20271222T183000
DTEND;TZID=UTC:20271222T183000
DTSTAMP:20260424T021747
CREATED:20250704T002059Z
LAST-MODIFIED:20260206T144041Z
UID:10022633-1829500200-1829500200@www.maddhatterpro.com
SUMMARY:El Dorado Bar and Grill Karaoke
DESCRIPTION:South Scottsdale strikes again\, lets have some fun! El Dorado bar and grill hosting some of the best karaoke with KJ Skribbz! Early show so you can make mid-week work. 6:30pm-10:30pm You bring the tunes\,  we’ll bring the fun. \n8708 E McDowell Rd\, Scottsdale\, AZ 85257 \n+14809452606
URL:https://www.maddhatterpro.com/event/el-dorado-bar-and-grill-karaoke/2027-12-22/
LOCATION:El Dorado\, 8708 E McDowell Rd\, Scottsdale\, AZ 85257\, Scottsdale\, AZ\, 85257\, United States
CATEGORIES:Karaoke,KJ Skribbz
ATTACH;FMTTYPE=image/jpeg:https://www.maddhatterpro.com/wp-content/uploads/2026/02/eldo-Scottsdale.jpg
END:VEVENT
BEGIN:VEVENT
DTSTART;TZID=UTC:20271229T183000
DTEND;TZID=UTC:20271229T183000
DTSTAMP:20260424T021747
CREATED:20250704T002059Z
LAST-MODIFIED:20260206T144041Z
UID:10022634-1830105000-1830105000@www.maddhatterpro.com
SUMMARY:El Dorado Bar and Grill Karaoke
DESCRIPTION:South Scottsdale strikes again\, lets have some fun! El Dorado bar and grill hosting some of the best karaoke with KJ Skribbz! Early show so you can make mid-week work. 6:30pm-10:30pm You bring the tunes\,  we’ll bring the fun. \n8708 E McDowell Rd\, Scottsdale\, AZ 85257 \n+14809452606
URL:https://www.maddhatterpro.com/event/el-dorado-bar-and-grill-karaoke/2027-12-29/
LOCATION:El Dorado\, 8708 E McDowell Rd\, Scottsdale\, AZ 85257\, Scottsdale\, AZ\, 85257\, United States
CATEGORIES:Karaoke,KJ Skribbz
ATTACH;FMTTYPE=image/jpeg:https://www.maddhatterpro.com/wp-content/uploads/2026/02/eldo-Scottsdale.jpg
END:VEVENT
BEGIN:VEVENT
DTSTART;TZID=UTC:20280105T183000
DTEND;TZID=UTC:20280105T183000
DTSTAMP:20260424T021747
CREATED:20250704T002059Z
LAST-MODIFIED:20260206T144041Z
UID:10022635-1830709800-1830709800@www.maddhatterpro.com
SUMMARY:El Dorado Bar and Grill Karaoke
DESCRIPTION:South Scottsdale strikes again\, lets have some fun! El Dorado bar and grill hosting some of the best karaoke with KJ Skribbz! Early show so you can make mid-week work. 6:30pm-10:30pm You bring the tunes\,  we’ll bring the fun. \n8708 E McDowell Rd\, Scottsdale\, AZ 85257 \n+14809452606
URL:https://www.maddhatterpro.com/event/el-dorado-bar-and-grill-karaoke/2028-01-05/
LOCATION:El Dorado\, 8708 E McDowell Rd\, Scottsdale\, AZ 85257\, Scottsdale\, AZ\, 85257\, United States
CATEGORIES:Karaoke,KJ Skribbz
ATTACH;FMTTYPE=image/jpeg:https://www.maddhatterpro.com/wp-content/uploads/2026/02/eldo-Scottsdale.jpg
END:VEVENT
BEGIN:VEVENT
DTSTART;TZID=UTC:20280112T183000
DTEND;TZID=UTC:20280112T183000
DTSTAMP:20260424T021747
CREATED:20250704T002059Z
LAST-MODIFIED:20260206T144041Z
UID:10022636-1831314600-1831314600@www.maddhatterpro.com
SUMMARY:El Dorado Bar and Grill Karaoke
DESCRIPTION:South Scottsdale strikes again\, lets have some fun! El Dorado bar and grill hosting some of the best karaoke with KJ Skribbz! Early show so you can make mid-week work. 6:30pm-10:30pm You bring the tunes\,  we’ll bring the fun. \n8708 E McDowell Rd\, Scottsdale\, AZ 85257 \n+14809452606
URL:https://www.maddhatterpro.com/event/el-dorado-bar-and-grill-karaoke/2028-01-12/
LOCATION:El Dorado\, 8708 E McDowell Rd\, Scottsdale\, AZ 85257\, Scottsdale\, AZ\, 85257\, United States
CATEGORIES:Karaoke,KJ Skribbz
ATTACH;FMTTYPE=image/jpeg:https://www.maddhatterpro.com/wp-content/uploads/2026/02/eldo-Scottsdale.jpg
END:VEVENT
BEGIN:VEVENT
DTSTART;TZID=UTC:20280119T183000
DTEND;TZID=UTC:20280119T183000
DTSTAMP:20260424T021747
CREATED:20250704T002059Z
LAST-MODIFIED:20260206T144041Z
UID:10022637-1831919400-1831919400@www.maddhatterpro.com
SUMMARY:El Dorado Bar and Grill Karaoke
DESCRIPTION:South Scottsdale strikes again\, lets have some fun! El Dorado bar and grill hosting some of the best karaoke with KJ Skribbz! Early show so you can make mid-week work. 6:30pm-10:30pm You bring the tunes\,  we’ll bring the fun. \n8708 E McDowell Rd\, Scottsdale\, AZ 85257 \n+14809452606
URL:https://www.maddhatterpro.com/event/el-dorado-bar-and-grill-karaoke/2028-01-19/
LOCATION:El Dorado\, 8708 E McDowell Rd\, Scottsdale\, AZ 85257\, Scottsdale\, AZ\, 85257\, United States
CATEGORIES:Karaoke,KJ Skribbz
ATTACH;FMTTYPE=image/jpeg:https://www.maddhatterpro.com/wp-content/uploads/2026/02/eldo-Scottsdale.jpg
END:VEVENT
BEGIN:VEVENT
DTSTART;TZID=UTC:20280126T183000
DTEND;TZID=UTC:20280126T183000
DTSTAMP:20260424T021747
CREATED:20250704T002059Z
LAST-MODIFIED:20260206T144041Z
UID:10022638-1832524200-1832524200@www.maddhatterpro.com
SUMMARY:El Dorado Bar and Grill Karaoke
DESCRIPTION:South Scottsdale strikes again\, lets have some fun! El Dorado bar and grill hosting some of the best karaoke with KJ Skribbz! Early show so you can make mid-week work. 6:30pm-10:30pm You bring the tunes\,  we’ll bring the fun. \n8708 E McDowell Rd\, Scottsdale\, AZ 85257 \n+14809452606
URL:https://www.maddhatterpro.com/event/el-dorado-bar-and-grill-karaoke/2028-01-26/
LOCATION:El Dorado\, 8708 E McDowell Rd\, Scottsdale\, AZ 85257\, Scottsdale\, AZ\, 85257\, United States
CATEGORIES:Karaoke,KJ Skribbz
ATTACH;FMTTYPE=image/jpeg:https://www.maddhatterpro.com/wp-content/uploads/2026/02/eldo-Scottsdale.jpg
END:VEVENT
BEGIN:VEVENT
DTSTART;TZID=UTC:20280202T183000
DTEND;TZID=UTC:20280202T183000
DTSTAMP:20260424T021747
CREATED:20250704T002059Z
LAST-MODIFIED:20260206T144041Z
UID:10022639-1833129000-1833129000@www.maddhatterpro.com
SUMMARY:El Dorado Bar and Grill Karaoke
DESCRIPTION:South Scottsdale strikes again\, lets have some fun! El Dorado bar and grill hosting some of the best karaoke with KJ Skribbz! Early show so you can make mid-week work. 6:30pm-10:30pm You bring the tunes\,  we’ll bring the fun. \n8708 E McDowell Rd\, Scottsdale\, AZ 85257 \n+14809452606
URL:https://www.maddhatterpro.com/event/el-dorado-bar-and-grill-karaoke/2028-02-02/
LOCATION:El Dorado\, 8708 E McDowell Rd\, Scottsdale\, AZ 85257\, Scottsdale\, AZ\, 85257\, United States
CATEGORIES:Karaoke,KJ Skribbz
ATTACH;FMTTYPE=image/jpeg:https://www.maddhatterpro.com/wp-content/uploads/2026/02/eldo-Scottsdale.jpg
END:VEVENT
BEGIN:VEVENT
DTSTART;TZID=UTC:20280209T183000
DTEND;TZID=UTC:20280209T183000
DTSTAMP:20260424T021747
CREATED:20250704T002059Z
LAST-MODIFIED:20260206T144041Z
UID:10022640-1833733800-1833733800@www.maddhatterpro.com
SUMMARY:El Dorado Bar and Grill Karaoke
DESCRIPTION:South Scottsdale strikes again\, lets have some fun! El Dorado bar and grill hosting some of the best karaoke with KJ Skribbz! Early show so you can make mid-week work. 6:30pm-10:30pm You bring the tunes\,  we’ll bring the fun. \n8708 E McDowell Rd\, Scottsdale\, AZ 85257 \n+14809452606
URL:https://www.maddhatterpro.com/event/el-dorado-bar-and-grill-karaoke/2028-02-09/
LOCATION:El Dorado\, 8708 E McDowell Rd\, Scottsdale\, AZ 85257\, Scottsdale\, AZ\, 85257\, United States
CATEGORIES:Karaoke,KJ Skribbz
ATTACH;FMTTYPE=image/jpeg:https://www.maddhatterpro.com/wp-content/uploads/2026/02/eldo-Scottsdale.jpg
END:VEVENT
BEGIN:VEVENT
DTSTART;TZID=UTC:20280216T183000
DTEND;TZID=UTC:20280216T183000
DTSTAMP:20260424T021747
CREATED:20250704T002059Z
LAST-MODIFIED:20260206T144041Z
UID:10022641-1834338600-1834338600@www.maddhatterpro.com
SUMMARY:El Dorado Bar and Grill Karaoke
DESCRIPTION:South Scottsdale strikes again\, lets have some fun! El Dorado bar and grill hosting some of the best karaoke with KJ Skribbz! Early show so you can make mid-week work. 6:30pm-10:30pm You bring the tunes\,  we’ll bring the fun. \n8708 E McDowell Rd\, Scottsdale\, AZ 85257 \n+14809452606
URL:https://www.maddhatterpro.com/event/el-dorado-bar-and-grill-karaoke/2028-02-16/
LOCATION:El Dorado\, 8708 E McDowell Rd\, Scottsdale\, AZ 85257\, Scottsdale\, AZ\, 85257\, United States
CATEGORIES:Karaoke,KJ Skribbz
ATTACH;FMTTYPE=image/jpeg:https://www.maddhatterpro.com/wp-content/uploads/2026/02/eldo-Scottsdale.jpg
END:VEVENT
BEGIN:VEVENT
DTSTART;TZID=UTC:20280223T183000
DTEND;TZID=UTC:20280223T183000
DTSTAMP:20260424T021747
CREATED:20250704T002059Z
LAST-MODIFIED:20260206T144041Z
UID:10022642-1834943400-1834943400@www.maddhatterpro.com
SUMMARY:El Dorado Bar and Grill Karaoke
DESCRIPTION:South Scottsdale strikes again\, lets have some fun! El Dorado bar and grill hosting some of the best karaoke with KJ Skribbz! Early show so you can make mid-week work. 6:30pm-10:30pm You bring the tunes\,  we’ll bring the fun. \n8708 E McDowell Rd\, Scottsdale\, AZ 85257 \n+14809452606
URL:https://www.maddhatterpro.com/event/el-dorado-bar-and-grill-karaoke/2028-02-23/
LOCATION:El Dorado\, 8708 E McDowell Rd\, Scottsdale\, AZ 85257\, Scottsdale\, AZ\, 85257\, United States
CATEGORIES:Karaoke,KJ Skribbz
ATTACH;FMTTYPE=image/jpeg:https://www.maddhatterpro.com/wp-content/uploads/2026/02/eldo-Scottsdale.jpg
END:VEVENT
BEGIN:VEVENT
DTSTART;TZID=UTC:20280301T183000
DTEND;TZID=UTC:20280301T183000
DTSTAMP:20260424T021747
CREATED:20250704T002059Z
LAST-MODIFIED:20260206T144041Z
UID:10022643-1835548200-1835548200@www.maddhatterpro.com
SUMMARY:El Dorado Bar and Grill Karaoke
DESCRIPTION:South Scottsdale strikes again\, lets have some fun! El Dorado bar and grill hosting some of the best karaoke with KJ Skribbz! Early show so you can make mid-week work. 6:30pm-10:30pm You bring the tunes\,  we’ll bring the fun. \n8708 E McDowell Rd\, Scottsdale\, AZ 85257 \n+14809452606
URL:https://www.maddhatterpro.com/event/el-dorado-bar-and-grill-karaoke/2028-03-01/
LOCATION:El Dorado\, 8708 E McDowell Rd\, Scottsdale\, AZ 85257\, Scottsdale\, AZ\, 85257\, United States
CATEGORIES:Karaoke,KJ Skribbz
ATTACH;FMTTYPE=image/jpeg:https://www.maddhatterpro.com/wp-content/uploads/2026/02/eldo-Scottsdale.jpg
END:VEVENT
BEGIN:VEVENT
DTSTART;TZID=UTC:20280308T183000
DTEND;TZID=UTC:20280308T183000
DTSTAMP:20260424T021747
CREATED:20250704T002059Z
LAST-MODIFIED:20260206T144041Z
UID:10022644-1836153000-1836153000@www.maddhatterpro.com
SUMMARY:El Dorado Bar and Grill Karaoke
DESCRIPTION:South Scottsdale strikes again\, lets have some fun! El Dorado bar and grill hosting some of the best karaoke with KJ Skribbz! Early show so you can make mid-week work. 6:30pm-10:30pm You bring the tunes\,  we’ll bring the fun. \n8708 E McDowell Rd\, Scottsdale\, AZ 85257 \n+14809452606
URL:https://www.maddhatterpro.com/event/el-dorado-bar-and-grill-karaoke/2028-03-08/
LOCATION:El Dorado\, 8708 E McDowell Rd\, Scottsdale\, AZ 85257\, Scottsdale\, AZ\, 85257\, United States
CATEGORIES:Karaoke,KJ Skribbz
ATTACH;FMTTYPE=image/jpeg:https://www.maddhatterpro.com/wp-content/uploads/2026/02/eldo-Scottsdale.jpg
END:VEVENT
BEGIN:VEVENT
DTSTART;TZID=UTC:20280315T183000
DTEND;TZID=UTC:20280315T183000
DTSTAMP:20260424T021747
CREATED:20250704T002059Z
LAST-MODIFIED:20260206T144041Z
UID:10022645-1836757800-1836757800@www.maddhatterpro.com
SUMMARY:El Dorado Bar and Grill Karaoke
DESCRIPTION:South Scottsdale strikes again\, lets have some fun! El Dorado bar and grill hosting some of the best karaoke with KJ Skribbz! Early show so you can make mid-week work. 6:30pm-10:30pm You bring the tunes\,  we’ll bring the fun. \n8708 E McDowell Rd\, Scottsdale\, AZ 85257 \n+14809452606
URL:https://www.maddhatterpro.com/event/el-dorado-bar-and-grill-karaoke/2028-03-15/
LOCATION:El Dorado\, 8708 E McDowell Rd\, Scottsdale\, AZ 85257\, Scottsdale\, AZ\, 85257\, United States
CATEGORIES:Karaoke,KJ Skribbz
ATTACH;FMTTYPE=image/jpeg:https://www.maddhatterpro.com/wp-content/uploads/2026/02/eldo-Scottsdale.jpg
END:VEVENT
BEGIN:VEVENT
DTSTART;TZID=UTC:20280322T183000
DTEND;TZID=UTC:20280322T183000
DTSTAMP:20260424T021747
CREATED:20250704T002059Z
LAST-MODIFIED:20260206T144041Z
UID:10022646-1837362600-1837362600@www.maddhatterpro.com
SUMMARY:El Dorado Bar and Grill Karaoke
DESCRIPTION:South Scottsdale strikes again\, lets have some fun! El Dorado bar and grill hosting some of the best karaoke with KJ Skribbz! Early show so you can make mid-week work. 6:30pm-10:30pm You bring the tunes\,  we’ll bring the fun. \n8708 E McDowell Rd\, Scottsdale\, AZ 85257 \n+14809452606
URL:https://www.maddhatterpro.com/event/el-dorado-bar-and-grill-karaoke/2028-03-22/
LOCATION:El Dorado\, 8708 E McDowell Rd\, Scottsdale\, AZ 85257\, Scottsdale\, AZ\, 85257\, United States
CATEGORIES:Karaoke,KJ Skribbz
ATTACH;FMTTYPE=image/jpeg:https://www.maddhatterpro.com/wp-content/uploads/2026/02/eldo-Scottsdale.jpg
END:VEVENT
BEGIN:VEVENT
DTSTART;TZID=UTC:20280329T183000
DTEND;TZID=UTC:20280329T183000
DTSTAMP:20260424T021747
CREATED:20250704T002059Z
LAST-MODIFIED:20260206T144041Z
UID:10022647-1837967400-1837967400@www.maddhatterpro.com
SUMMARY:El Dorado Bar and Grill Karaoke
DESCRIPTION:South Scottsdale strikes again\, lets have some fun! El Dorado bar and grill hosting some of the best karaoke with KJ Skribbz! Early show so you can make mid-week work. 6:30pm-10:30pm You bring the tunes\,  we’ll bring the fun. \n8708 E McDowell Rd\, Scottsdale\, AZ 85257 \n+14809452606
URL:https://www.maddhatterpro.com/event/el-dorado-bar-and-grill-karaoke/2028-03-29/
LOCATION:El Dorado\, 8708 E McDowell Rd\, Scottsdale\, AZ 85257\, Scottsdale\, AZ\, 85257\, United States
CATEGORIES:Karaoke,KJ Skribbz
ATTACH;FMTTYPE=image/jpeg:https://www.maddhatterpro.com/wp-content/uploads/2026/02/eldo-Scottsdale.jpg
END:VEVENT
BEGIN:VEVENT
DTSTART;TZID=UTC:20280405T183000
DTEND;TZID=UTC:20280405T183000
DTSTAMP:20260424T021747
CREATED:20250704T002059Z
LAST-MODIFIED:20260206T144041Z
UID:10022648-1838572200-1838572200@www.maddhatterpro.com
SUMMARY:El Dorado Bar and Grill Karaoke
DESCRIPTION:South Scottsdale strikes again\, lets have some fun! El Dorado bar and grill hosting some of the best karaoke with KJ Skribbz! Early show so you can make mid-week work. 6:30pm-10:30pm You bring the tunes\,  we’ll bring the fun. \n8708 E McDowell Rd\, Scottsdale\, AZ 85257 \n+14809452606
URL:https://www.maddhatterpro.com/event/el-dorado-bar-and-grill-karaoke/2028-04-05/
LOCATION:El Dorado\, 8708 E McDowell Rd\, Scottsdale\, AZ 85257\, Scottsdale\, AZ\, 85257\, United States
CATEGORIES:Karaoke,KJ Skribbz
ATTACH;FMTTYPE=image/jpeg:https://www.maddhatterpro.com/wp-content/uploads/2026/02/eldo-Scottsdale.jpg
END:VEVENT
END:VCALENDAR