BEGIN:VCALENDAR
VERSION:2.0
PRODID:-//MaddHatterPro.com - ECPv6.15.20//NONSGML v1.0//EN
CALSCALE:GREGORIAN
METHOD:PUBLISH
X-WR-CALNAME:MaddHatterPro.com
X-ORIGINAL-URL:https://www.maddhatterpro.com
X-WR-CALDESC:Events for MaddHatterPro.com
REFRESH-INTERVAL;VALUE=DURATION:PT1H
X-Robots-Tag:noindex
X-PUBLISHED-TTL:PT1H
BEGIN:VTIMEZONE
TZID:UTC
BEGIN:STANDARD
TZOFFSETFROM:+0000
TZOFFSETTO:+0000
TZNAME:UTC
DTSTART:20250101T000000
END:STANDARD
END:VTIMEZONE
BEGIN:VEVENT
DTSTART;TZID=UTC:20260722T183000
DTEND;TZID=UTC:20260722T183000
DTSTAMP:20260423T202709
CREATED:20250704T002059Z
LAST-MODIFIED:20260206T144041Z
UID:10022559-1784745000-1784745000@www.maddhatterpro.com
SUMMARY:El Dorado Bar and Grill Karaoke
DESCRIPTION:South Scottsdale strikes again\, lets have some fun! El Dorado bar and grill hosting some of the best karaoke with KJ Skribbz! Early show so you can make mid-week work. 6:30pm-10:30pm You bring the tunes\,  we’ll bring the fun. \n8708 E McDowell Rd\, Scottsdale\, AZ 85257 \n+14809452606
URL:https://www.maddhatterpro.com/event/el-dorado-bar-and-grill-karaoke/2026-07-22/
LOCATION:El Dorado\, 8708 E McDowell Rd\, Scottsdale\, AZ 85257\, Scottsdale\, AZ\, 85257\, United States
CATEGORIES:Karaoke,KJ Skribbz
ATTACH;FMTTYPE=image/jpeg:https://www.maddhatterpro.com/wp-content/uploads/2026/02/eldo-Scottsdale.jpg
END:VEVENT
BEGIN:VEVENT
DTSTART;TZID=UTC:20260729T183000
DTEND;TZID=UTC:20260729T183000
DTSTAMP:20260423T202709
CREATED:20250704T002059Z
LAST-MODIFIED:20260206T144041Z
UID:10022560-1785349800-1785349800@www.maddhatterpro.com
SUMMARY:El Dorado Bar and Grill Karaoke
DESCRIPTION:South Scottsdale strikes again\, lets have some fun! El Dorado bar and grill hosting some of the best karaoke with KJ Skribbz! Early show so you can make mid-week work. 6:30pm-10:30pm You bring the tunes\,  we’ll bring the fun. \n8708 E McDowell Rd\, Scottsdale\, AZ 85257 \n+14809452606
URL:https://www.maddhatterpro.com/event/el-dorado-bar-and-grill-karaoke/2026-07-29/
LOCATION:El Dorado\, 8708 E McDowell Rd\, Scottsdale\, AZ 85257\, Scottsdale\, AZ\, 85257\, United States
CATEGORIES:Karaoke,KJ Skribbz
ATTACH;FMTTYPE=image/jpeg:https://www.maddhatterpro.com/wp-content/uploads/2026/02/eldo-Scottsdale.jpg
END:VEVENT
BEGIN:VEVENT
DTSTART;TZID=UTC:20260805T183000
DTEND;TZID=UTC:20260805T183000
DTSTAMP:20260423T202709
CREATED:20250704T002059Z
LAST-MODIFIED:20260206T144041Z
UID:10022561-1785954600-1785954600@www.maddhatterpro.com
SUMMARY:El Dorado Bar and Grill Karaoke
DESCRIPTION:South Scottsdale strikes again\, lets have some fun! El Dorado bar and grill hosting some of the best karaoke with KJ Skribbz! Early show so you can make mid-week work. 6:30pm-10:30pm You bring the tunes\,  we’ll bring the fun. \n8708 E McDowell Rd\, Scottsdale\, AZ 85257 \n+14809452606
URL:https://www.maddhatterpro.com/event/el-dorado-bar-and-grill-karaoke/2026-08-05/
LOCATION:El Dorado\, 8708 E McDowell Rd\, Scottsdale\, AZ 85257\, Scottsdale\, AZ\, 85257\, United States
CATEGORIES:Karaoke,KJ Skribbz
ATTACH;FMTTYPE=image/jpeg:https://www.maddhatterpro.com/wp-content/uploads/2026/02/eldo-Scottsdale.jpg
END:VEVENT
BEGIN:VEVENT
DTSTART;TZID=UTC:20260812T183000
DTEND;TZID=UTC:20260812T183000
DTSTAMP:20260423T202709
CREATED:20250704T002059Z
LAST-MODIFIED:20260206T144041Z
UID:10022562-1786559400-1786559400@www.maddhatterpro.com
SUMMARY:El Dorado Bar and Grill Karaoke
DESCRIPTION:South Scottsdale strikes again\, lets have some fun! El Dorado bar and grill hosting some of the best karaoke with KJ Skribbz! Early show so you can make mid-week work. 6:30pm-10:30pm You bring the tunes\,  we’ll bring the fun. \n8708 E McDowell Rd\, Scottsdale\, AZ 85257 \n+14809452606
URL:https://www.maddhatterpro.com/event/el-dorado-bar-and-grill-karaoke/2026-08-12/
LOCATION:El Dorado\, 8708 E McDowell Rd\, Scottsdale\, AZ 85257\, Scottsdale\, AZ\, 85257\, United States
CATEGORIES:Karaoke,KJ Skribbz
ATTACH;FMTTYPE=image/jpeg:https://www.maddhatterpro.com/wp-content/uploads/2026/02/eldo-Scottsdale.jpg
END:VEVENT
BEGIN:VEVENT
DTSTART;TZID=UTC:20260819T183000
DTEND;TZID=UTC:20260819T183000
DTSTAMP:20260423T202709
CREATED:20250704T002059Z
LAST-MODIFIED:20260206T144041Z
UID:10022563-1787164200-1787164200@www.maddhatterpro.com
SUMMARY:El Dorado Bar and Grill Karaoke
DESCRIPTION:South Scottsdale strikes again\, lets have some fun! El Dorado bar and grill hosting some of the best karaoke with KJ Skribbz! Early show so you can make mid-week work. 6:30pm-10:30pm You bring the tunes\,  we’ll bring the fun. \n8708 E McDowell Rd\, Scottsdale\, AZ 85257 \n+14809452606
URL:https://www.maddhatterpro.com/event/el-dorado-bar-and-grill-karaoke/2026-08-19/
LOCATION:El Dorado\, 8708 E McDowell Rd\, Scottsdale\, AZ 85257\, Scottsdale\, AZ\, 85257\, United States
CATEGORIES:Karaoke,KJ Skribbz
ATTACH;FMTTYPE=image/jpeg:https://www.maddhatterpro.com/wp-content/uploads/2026/02/eldo-Scottsdale.jpg
END:VEVENT
BEGIN:VEVENT
DTSTART;TZID=UTC:20260826T183000
DTEND;TZID=UTC:20260826T183000
DTSTAMP:20260423T202709
CREATED:20250704T002059Z
LAST-MODIFIED:20260206T144041Z
UID:10022564-1787769000-1787769000@www.maddhatterpro.com
SUMMARY:El Dorado Bar and Grill Karaoke
DESCRIPTION:South Scottsdale strikes again\, lets have some fun! El Dorado bar and grill hosting some of the best karaoke with KJ Skribbz! Early show so you can make mid-week work. 6:30pm-10:30pm You bring the tunes\,  we’ll bring the fun. \n8708 E McDowell Rd\, Scottsdale\, AZ 85257 \n+14809452606
URL:https://www.maddhatterpro.com/event/el-dorado-bar-and-grill-karaoke/2026-08-26/
LOCATION:El Dorado\, 8708 E McDowell Rd\, Scottsdale\, AZ 85257\, Scottsdale\, AZ\, 85257\, United States
CATEGORIES:Karaoke,KJ Skribbz
ATTACH;FMTTYPE=image/jpeg:https://www.maddhatterpro.com/wp-content/uploads/2026/02/eldo-Scottsdale.jpg
END:VEVENT
BEGIN:VEVENT
DTSTART;TZID=UTC:20260902T183000
DTEND;TZID=UTC:20260902T183000
DTSTAMP:20260423T202709
CREATED:20250704T002059Z
LAST-MODIFIED:20260206T144041Z
UID:10022565-1788373800-1788373800@www.maddhatterpro.com
SUMMARY:El Dorado Bar and Grill Karaoke
DESCRIPTION:South Scottsdale strikes again\, lets have some fun! El Dorado bar and grill hosting some of the best karaoke with KJ Skribbz! Early show so you can make mid-week work. 6:30pm-10:30pm You bring the tunes\,  we’ll bring the fun. \n8708 E McDowell Rd\, Scottsdale\, AZ 85257 \n+14809452606
URL:https://www.maddhatterpro.com/event/el-dorado-bar-and-grill-karaoke/2026-09-02/
LOCATION:El Dorado\, 8708 E McDowell Rd\, Scottsdale\, AZ 85257\, Scottsdale\, AZ\, 85257\, United States
CATEGORIES:Karaoke,KJ Skribbz
ATTACH;FMTTYPE=image/jpeg:https://www.maddhatterpro.com/wp-content/uploads/2026/02/eldo-Scottsdale.jpg
END:VEVENT
BEGIN:VEVENT
DTSTART;TZID=UTC:20260909T183000
DTEND;TZID=UTC:20260909T183000
DTSTAMP:20260423T202709
CREATED:20250704T002059Z
LAST-MODIFIED:20260206T144041Z
UID:10022566-1788978600-1788978600@www.maddhatterpro.com
SUMMARY:El Dorado Bar and Grill Karaoke
DESCRIPTION:South Scottsdale strikes again\, lets have some fun! El Dorado bar and grill hosting some of the best karaoke with KJ Skribbz! Early show so you can make mid-week work. 6:30pm-10:30pm You bring the tunes\,  we’ll bring the fun. \n8708 E McDowell Rd\, Scottsdale\, AZ 85257 \n+14809452606
URL:https://www.maddhatterpro.com/event/el-dorado-bar-and-grill-karaoke/2026-09-09/
LOCATION:El Dorado\, 8708 E McDowell Rd\, Scottsdale\, AZ 85257\, Scottsdale\, AZ\, 85257\, United States
CATEGORIES:Karaoke,KJ Skribbz
ATTACH;FMTTYPE=image/jpeg:https://www.maddhatterpro.com/wp-content/uploads/2026/02/eldo-Scottsdale.jpg
END:VEVENT
BEGIN:VEVENT
DTSTART;TZID=UTC:20260916T183000
DTEND;TZID=UTC:20260916T183000
DTSTAMP:20260423T202709
CREATED:20250704T002059Z
LAST-MODIFIED:20260206T144041Z
UID:10022567-1789583400-1789583400@www.maddhatterpro.com
SUMMARY:El Dorado Bar and Grill Karaoke
DESCRIPTION:South Scottsdale strikes again\, lets have some fun! El Dorado bar and grill hosting some of the best karaoke with KJ Skribbz! Early show so you can make mid-week work. 6:30pm-10:30pm You bring the tunes\,  we’ll bring the fun. \n8708 E McDowell Rd\, Scottsdale\, AZ 85257 \n+14809452606
URL:https://www.maddhatterpro.com/event/el-dorado-bar-and-grill-karaoke/2026-09-16/
LOCATION:El Dorado\, 8708 E McDowell Rd\, Scottsdale\, AZ 85257\, Scottsdale\, AZ\, 85257\, United States
CATEGORIES:Karaoke,KJ Skribbz
ATTACH;FMTTYPE=image/jpeg:https://www.maddhatterpro.com/wp-content/uploads/2026/02/eldo-Scottsdale.jpg
END:VEVENT
BEGIN:VEVENT
DTSTART;TZID=UTC:20260923T183000
DTEND;TZID=UTC:20260923T183000
DTSTAMP:20260423T202709
CREATED:20250704T002059Z
LAST-MODIFIED:20260206T144041Z
UID:10022568-1790188200-1790188200@www.maddhatterpro.com
SUMMARY:El Dorado Bar and Grill Karaoke
DESCRIPTION:South Scottsdale strikes again\, lets have some fun! El Dorado bar and grill hosting some of the best karaoke with KJ Skribbz! Early show so you can make mid-week work. 6:30pm-10:30pm You bring the tunes\,  we’ll bring the fun. \n8708 E McDowell Rd\, Scottsdale\, AZ 85257 \n+14809452606
URL:https://www.maddhatterpro.com/event/el-dorado-bar-and-grill-karaoke/2026-09-23/
LOCATION:El Dorado\, 8708 E McDowell Rd\, Scottsdale\, AZ 85257\, Scottsdale\, AZ\, 85257\, United States
CATEGORIES:Karaoke,KJ Skribbz
ATTACH;FMTTYPE=image/jpeg:https://www.maddhatterpro.com/wp-content/uploads/2026/02/eldo-Scottsdale.jpg
END:VEVENT
BEGIN:VEVENT
DTSTART;TZID=UTC:20260930T183000
DTEND;TZID=UTC:20260930T183000
DTSTAMP:20260423T202709
CREATED:20250704T002059Z
LAST-MODIFIED:20260206T144041Z
UID:10022569-1790793000-1790793000@www.maddhatterpro.com
SUMMARY:El Dorado Bar and Grill Karaoke
DESCRIPTION:South Scottsdale strikes again\, lets have some fun! El Dorado bar and grill hosting some of the best karaoke with KJ Skribbz! Early show so you can make mid-week work. 6:30pm-10:30pm You bring the tunes\,  we’ll bring the fun. \n8708 E McDowell Rd\, Scottsdale\, AZ 85257 \n+14809452606
URL:https://www.maddhatterpro.com/event/el-dorado-bar-and-grill-karaoke/2026-09-30/
LOCATION:El Dorado\, 8708 E McDowell Rd\, Scottsdale\, AZ 85257\, Scottsdale\, AZ\, 85257\, United States
CATEGORIES:Karaoke,KJ Skribbz
ATTACH;FMTTYPE=image/jpeg:https://www.maddhatterpro.com/wp-content/uploads/2026/02/eldo-Scottsdale.jpg
END:VEVENT
BEGIN:VEVENT
DTSTART;TZID=UTC:20261007T183000
DTEND;TZID=UTC:20261007T183000
DTSTAMP:20260423T202709
CREATED:20250704T002059Z
LAST-MODIFIED:20260206T144041Z
UID:10022570-1791397800-1791397800@www.maddhatterpro.com
SUMMARY:El Dorado Bar and Grill Karaoke
DESCRIPTION:South Scottsdale strikes again\, lets have some fun! El Dorado bar and grill hosting some of the best karaoke with KJ Skribbz! Early show so you can make mid-week work. 6:30pm-10:30pm You bring the tunes\,  we’ll bring the fun. \n8708 E McDowell Rd\, Scottsdale\, AZ 85257 \n+14809452606
URL:https://www.maddhatterpro.com/event/el-dorado-bar-and-grill-karaoke/2026-10-07/
LOCATION:El Dorado\, 8708 E McDowell Rd\, Scottsdale\, AZ 85257\, Scottsdale\, AZ\, 85257\, United States
CATEGORIES:Karaoke,KJ Skribbz
ATTACH;FMTTYPE=image/jpeg:https://www.maddhatterpro.com/wp-content/uploads/2026/02/eldo-Scottsdale.jpg
END:VEVENT
BEGIN:VEVENT
DTSTART;TZID=UTC:20261014T183000
DTEND;TZID=UTC:20261014T183000
DTSTAMP:20260423T202709
CREATED:20250704T002059Z
LAST-MODIFIED:20260206T144041Z
UID:10022571-1792002600-1792002600@www.maddhatterpro.com
SUMMARY:El Dorado Bar and Grill Karaoke
DESCRIPTION:South Scottsdale strikes again\, lets have some fun! El Dorado bar and grill hosting some of the best karaoke with KJ Skribbz! Early show so you can make mid-week work. 6:30pm-10:30pm You bring the tunes\,  we’ll bring the fun. \n8708 E McDowell Rd\, Scottsdale\, AZ 85257 \n+14809452606
URL:https://www.maddhatterpro.com/event/el-dorado-bar-and-grill-karaoke/2026-10-14/
LOCATION:El Dorado\, 8708 E McDowell Rd\, Scottsdale\, AZ 85257\, Scottsdale\, AZ\, 85257\, United States
CATEGORIES:Karaoke,KJ Skribbz
ATTACH;FMTTYPE=image/jpeg:https://www.maddhatterpro.com/wp-content/uploads/2026/02/eldo-Scottsdale.jpg
END:VEVENT
BEGIN:VEVENT
DTSTART;TZID=UTC:20261021T183000
DTEND;TZID=UTC:20261021T183000
DTSTAMP:20260423T202709
CREATED:20250704T002059Z
LAST-MODIFIED:20260206T144041Z
UID:10022572-1792607400-1792607400@www.maddhatterpro.com
SUMMARY:El Dorado Bar and Grill Karaoke
DESCRIPTION:South Scottsdale strikes again\, lets have some fun! El Dorado bar and grill hosting some of the best karaoke with KJ Skribbz! Early show so you can make mid-week work. 6:30pm-10:30pm You bring the tunes\,  we’ll bring the fun. \n8708 E McDowell Rd\, Scottsdale\, AZ 85257 \n+14809452606
URL:https://www.maddhatterpro.com/event/el-dorado-bar-and-grill-karaoke/2026-10-21/
LOCATION:El Dorado\, 8708 E McDowell Rd\, Scottsdale\, AZ 85257\, Scottsdale\, AZ\, 85257\, United States
CATEGORIES:Karaoke,KJ Skribbz
ATTACH;FMTTYPE=image/jpeg:https://www.maddhatterpro.com/wp-content/uploads/2026/02/eldo-Scottsdale.jpg
END:VEVENT
BEGIN:VEVENT
DTSTART;TZID=UTC:20261028T183000
DTEND;TZID=UTC:20261028T183000
DTSTAMP:20260423T202709
CREATED:20250704T002059Z
LAST-MODIFIED:20260206T144041Z
UID:10022573-1793212200-1793212200@www.maddhatterpro.com
SUMMARY:El Dorado Bar and Grill Karaoke
DESCRIPTION:South Scottsdale strikes again\, lets have some fun! El Dorado bar and grill hosting some of the best karaoke with KJ Skribbz! Early show so you can make mid-week work. 6:30pm-10:30pm You bring the tunes\,  we’ll bring the fun. \n8708 E McDowell Rd\, Scottsdale\, AZ 85257 \n+14809452606
URL:https://www.maddhatterpro.com/event/el-dorado-bar-and-grill-karaoke/2026-10-28/
LOCATION:El Dorado\, 8708 E McDowell Rd\, Scottsdale\, AZ 85257\, Scottsdale\, AZ\, 85257\, United States
CATEGORIES:Karaoke,KJ Skribbz
ATTACH;FMTTYPE=image/jpeg:https://www.maddhatterpro.com/wp-content/uploads/2026/02/eldo-Scottsdale.jpg
END:VEVENT
BEGIN:VEVENT
DTSTART;TZID=UTC:20261104T183000
DTEND;TZID=UTC:20261104T183000
DTSTAMP:20260423T202709
CREATED:20250704T002059Z
LAST-MODIFIED:20260206T144041Z
UID:10022574-1793817000-1793817000@www.maddhatterpro.com
SUMMARY:El Dorado Bar and Grill Karaoke
DESCRIPTION:South Scottsdale strikes again\, lets have some fun! El Dorado bar and grill hosting some of the best karaoke with KJ Skribbz! Early show so you can make mid-week work. 6:30pm-10:30pm You bring the tunes\,  we’ll bring the fun. \n8708 E McDowell Rd\, Scottsdale\, AZ 85257 \n+14809452606
URL:https://www.maddhatterpro.com/event/el-dorado-bar-and-grill-karaoke/2026-11-04/
LOCATION:El Dorado\, 8708 E McDowell Rd\, Scottsdale\, AZ 85257\, Scottsdale\, AZ\, 85257\, United States
CATEGORIES:Karaoke,KJ Skribbz
ATTACH;FMTTYPE=image/jpeg:https://www.maddhatterpro.com/wp-content/uploads/2026/02/eldo-Scottsdale.jpg
END:VEVENT
BEGIN:VEVENT
DTSTART;TZID=UTC:20261111T183000
DTEND;TZID=UTC:20261111T183000
DTSTAMP:20260423T202709
CREATED:20250704T002059Z
LAST-MODIFIED:20260206T144041Z
UID:10022575-1794421800-1794421800@www.maddhatterpro.com
SUMMARY:El Dorado Bar and Grill Karaoke
DESCRIPTION:South Scottsdale strikes again\, lets have some fun! El Dorado bar and grill hosting some of the best karaoke with KJ Skribbz! Early show so you can make mid-week work. 6:30pm-10:30pm You bring the tunes\,  we’ll bring the fun. \n8708 E McDowell Rd\, Scottsdale\, AZ 85257 \n+14809452606
URL:https://www.maddhatterpro.com/event/el-dorado-bar-and-grill-karaoke/2026-11-11/
LOCATION:El Dorado\, 8708 E McDowell Rd\, Scottsdale\, AZ 85257\, Scottsdale\, AZ\, 85257\, United States
CATEGORIES:Karaoke,KJ Skribbz
ATTACH;FMTTYPE=image/jpeg:https://www.maddhatterpro.com/wp-content/uploads/2026/02/eldo-Scottsdale.jpg
END:VEVENT
BEGIN:VEVENT
DTSTART;TZID=UTC:20261118T183000
DTEND;TZID=UTC:20261118T183000
DTSTAMP:20260423T202709
CREATED:20250704T002059Z
LAST-MODIFIED:20260206T144041Z
UID:10022576-1795026600-1795026600@www.maddhatterpro.com
SUMMARY:El Dorado Bar and Grill Karaoke
DESCRIPTION:South Scottsdale strikes again\, lets have some fun! El Dorado bar and grill hosting some of the best karaoke with KJ Skribbz! Early show so you can make mid-week work. 6:30pm-10:30pm You bring the tunes\,  we’ll bring the fun. \n8708 E McDowell Rd\, Scottsdale\, AZ 85257 \n+14809452606
URL:https://www.maddhatterpro.com/event/el-dorado-bar-and-grill-karaoke/2026-11-18/
LOCATION:El Dorado\, 8708 E McDowell Rd\, Scottsdale\, AZ 85257\, Scottsdale\, AZ\, 85257\, United States
CATEGORIES:Karaoke,KJ Skribbz
ATTACH;FMTTYPE=image/jpeg:https://www.maddhatterpro.com/wp-content/uploads/2026/02/eldo-Scottsdale.jpg
END:VEVENT
BEGIN:VEVENT
DTSTART;TZID=UTC:20261125T183000
DTEND;TZID=UTC:20261125T183000
DTSTAMP:20260423T202709
CREATED:20250704T002059Z
LAST-MODIFIED:20260206T144041Z
UID:10022577-1795631400-1795631400@www.maddhatterpro.com
SUMMARY:El Dorado Bar and Grill Karaoke
DESCRIPTION:South Scottsdale strikes again\, lets have some fun! El Dorado bar and grill hosting some of the best karaoke with KJ Skribbz! Early show so you can make mid-week work. 6:30pm-10:30pm You bring the tunes\,  we’ll bring the fun. \n8708 E McDowell Rd\, Scottsdale\, AZ 85257 \n+14809452606
URL:https://www.maddhatterpro.com/event/el-dorado-bar-and-grill-karaoke/2026-11-25/
LOCATION:El Dorado\, 8708 E McDowell Rd\, Scottsdale\, AZ 85257\, Scottsdale\, AZ\, 85257\, United States
CATEGORIES:Karaoke,KJ Skribbz
ATTACH;FMTTYPE=image/jpeg:https://www.maddhatterpro.com/wp-content/uploads/2026/02/eldo-Scottsdale.jpg
END:VEVENT
BEGIN:VEVENT
DTSTART;TZID=UTC:20261202T183000
DTEND;TZID=UTC:20261202T183000
DTSTAMP:20260423T202709
CREATED:20250704T002059Z
LAST-MODIFIED:20260206T144041Z
UID:10022578-1796236200-1796236200@www.maddhatterpro.com
SUMMARY:El Dorado Bar and Grill Karaoke
DESCRIPTION:South Scottsdale strikes again\, lets have some fun! El Dorado bar and grill hosting some of the best karaoke with KJ Skribbz! Early show so you can make mid-week work. 6:30pm-10:30pm You bring the tunes\,  we’ll bring the fun. \n8708 E McDowell Rd\, Scottsdale\, AZ 85257 \n+14809452606
URL:https://www.maddhatterpro.com/event/el-dorado-bar-and-grill-karaoke/2026-12-02/
LOCATION:El Dorado\, 8708 E McDowell Rd\, Scottsdale\, AZ 85257\, Scottsdale\, AZ\, 85257\, United States
CATEGORIES:Karaoke,KJ Skribbz
ATTACH;FMTTYPE=image/jpeg:https://www.maddhatterpro.com/wp-content/uploads/2026/02/eldo-Scottsdale.jpg
END:VEVENT
BEGIN:VEVENT
DTSTART;TZID=UTC:20261209T183000
DTEND;TZID=UTC:20261209T183000
DTSTAMP:20260423T202709
CREATED:20250704T002059Z
LAST-MODIFIED:20260206T144041Z
UID:10022579-1796841000-1796841000@www.maddhatterpro.com
SUMMARY:El Dorado Bar and Grill Karaoke
DESCRIPTION:South Scottsdale strikes again\, lets have some fun! El Dorado bar and grill hosting some of the best karaoke with KJ Skribbz! Early show so you can make mid-week work. 6:30pm-10:30pm You bring the tunes\,  we’ll bring the fun. \n8708 E McDowell Rd\, Scottsdale\, AZ 85257 \n+14809452606
URL:https://www.maddhatterpro.com/event/el-dorado-bar-and-grill-karaoke/2026-12-09/
LOCATION:El Dorado\, 8708 E McDowell Rd\, Scottsdale\, AZ 85257\, Scottsdale\, AZ\, 85257\, United States
CATEGORIES:Karaoke,KJ Skribbz
ATTACH;FMTTYPE=image/jpeg:https://www.maddhatterpro.com/wp-content/uploads/2026/02/eldo-Scottsdale.jpg
END:VEVENT
BEGIN:VEVENT
DTSTART;TZID=UTC:20261216T183000
DTEND;TZID=UTC:20261216T183000
DTSTAMP:20260423T202709
CREATED:20250704T002059Z
LAST-MODIFIED:20260206T144041Z
UID:10022580-1797445800-1797445800@www.maddhatterpro.com
SUMMARY:El Dorado Bar and Grill Karaoke
DESCRIPTION:South Scottsdale strikes again\, lets have some fun! El Dorado bar and grill hosting some of the best karaoke with KJ Skribbz! Early show so you can make mid-week work. 6:30pm-10:30pm You bring the tunes\,  we’ll bring the fun. \n8708 E McDowell Rd\, Scottsdale\, AZ 85257 \n+14809452606
URL:https://www.maddhatterpro.com/event/el-dorado-bar-and-grill-karaoke/2026-12-16/
LOCATION:El Dorado\, 8708 E McDowell Rd\, Scottsdale\, AZ 85257\, Scottsdale\, AZ\, 85257\, United States
CATEGORIES:Karaoke,KJ Skribbz
ATTACH;FMTTYPE=image/jpeg:https://www.maddhatterpro.com/wp-content/uploads/2026/02/eldo-Scottsdale.jpg
END:VEVENT
BEGIN:VEVENT
DTSTART;TZID=UTC:20261223T183000
DTEND;TZID=UTC:20261223T183000
DTSTAMP:20260423T202709
CREATED:20250704T002059Z
LAST-MODIFIED:20260206T144041Z
UID:10022581-1798050600-1798050600@www.maddhatterpro.com
SUMMARY:El Dorado Bar and Grill Karaoke
DESCRIPTION:South Scottsdale strikes again\, lets have some fun! El Dorado bar and grill hosting some of the best karaoke with KJ Skribbz! Early show so you can make mid-week work. 6:30pm-10:30pm You bring the tunes\,  we’ll bring the fun. \n8708 E McDowell Rd\, Scottsdale\, AZ 85257 \n+14809452606
URL:https://www.maddhatterpro.com/event/el-dorado-bar-and-grill-karaoke/2026-12-23/
LOCATION:El Dorado\, 8708 E McDowell Rd\, Scottsdale\, AZ 85257\, Scottsdale\, AZ\, 85257\, United States
CATEGORIES:Karaoke,KJ Skribbz
ATTACH;FMTTYPE=image/jpeg:https://www.maddhatterpro.com/wp-content/uploads/2026/02/eldo-Scottsdale.jpg
END:VEVENT
BEGIN:VEVENT
DTSTART;TZID=UTC:20261230T183000
DTEND;TZID=UTC:20261230T183000
DTSTAMP:20260423T202709
CREATED:20250704T002059Z
LAST-MODIFIED:20260206T144041Z
UID:10022582-1798655400-1798655400@www.maddhatterpro.com
SUMMARY:El Dorado Bar and Grill Karaoke
DESCRIPTION:South Scottsdale strikes again\, lets have some fun! El Dorado bar and grill hosting some of the best karaoke with KJ Skribbz! Early show so you can make mid-week work. 6:30pm-10:30pm You bring the tunes\,  we’ll bring the fun. \n8708 E McDowell Rd\, Scottsdale\, AZ 85257 \n+14809452606
URL:https://www.maddhatterpro.com/event/el-dorado-bar-and-grill-karaoke/2026-12-30/
LOCATION:El Dorado\, 8708 E McDowell Rd\, Scottsdale\, AZ 85257\, Scottsdale\, AZ\, 85257\, United States
CATEGORIES:Karaoke,KJ Skribbz
ATTACH;FMTTYPE=image/jpeg:https://www.maddhatterpro.com/wp-content/uploads/2026/02/eldo-Scottsdale.jpg
END:VEVENT
BEGIN:VEVENT
DTSTART;TZID=UTC:20270106T183000
DTEND;TZID=UTC:20270106T183000
DTSTAMP:20260423T202709
CREATED:20250704T002059Z
LAST-MODIFIED:20260206T144041Z
UID:10022583-1799260200-1799260200@www.maddhatterpro.com
SUMMARY:El Dorado Bar and Grill Karaoke
DESCRIPTION:South Scottsdale strikes again\, lets have some fun! El Dorado bar and grill hosting some of the best karaoke with KJ Skribbz! Early show so you can make mid-week work. 6:30pm-10:30pm You bring the tunes\,  we’ll bring the fun. \n8708 E McDowell Rd\, Scottsdale\, AZ 85257 \n+14809452606
URL:https://www.maddhatterpro.com/event/el-dorado-bar-and-grill-karaoke/2027-01-06/
LOCATION:El Dorado\, 8708 E McDowell Rd\, Scottsdale\, AZ 85257\, Scottsdale\, AZ\, 85257\, United States
CATEGORIES:Karaoke,KJ Skribbz
ATTACH;FMTTYPE=image/jpeg:https://www.maddhatterpro.com/wp-content/uploads/2026/02/eldo-Scottsdale.jpg
END:VEVENT
BEGIN:VEVENT
DTSTART;TZID=UTC:20270113T183000
DTEND;TZID=UTC:20270113T183000
DTSTAMP:20260423T202709
CREATED:20250704T002059Z
LAST-MODIFIED:20260206T144041Z
UID:10022584-1799865000-1799865000@www.maddhatterpro.com
SUMMARY:El Dorado Bar and Grill Karaoke
DESCRIPTION:South Scottsdale strikes again\, lets have some fun! El Dorado bar and grill hosting some of the best karaoke with KJ Skribbz! Early show so you can make mid-week work. 6:30pm-10:30pm You bring the tunes\,  we’ll bring the fun. \n8708 E McDowell Rd\, Scottsdale\, AZ 85257 \n+14809452606
URL:https://www.maddhatterpro.com/event/el-dorado-bar-and-grill-karaoke/2027-01-13/
LOCATION:El Dorado\, 8708 E McDowell Rd\, Scottsdale\, AZ 85257\, Scottsdale\, AZ\, 85257\, United States
CATEGORIES:Karaoke,KJ Skribbz
ATTACH;FMTTYPE=image/jpeg:https://www.maddhatterpro.com/wp-content/uploads/2026/02/eldo-Scottsdale.jpg
END:VEVENT
BEGIN:VEVENT
DTSTART;TZID=UTC:20270120T183000
DTEND;TZID=UTC:20270120T183000
DTSTAMP:20260423T202709
CREATED:20250704T002059Z
LAST-MODIFIED:20260206T144041Z
UID:10022585-1800469800-1800469800@www.maddhatterpro.com
SUMMARY:El Dorado Bar and Grill Karaoke
DESCRIPTION:South Scottsdale strikes again\, lets have some fun! El Dorado bar and grill hosting some of the best karaoke with KJ Skribbz! Early show so you can make mid-week work. 6:30pm-10:30pm You bring the tunes\,  we’ll bring the fun. \n8708 E McDowell Rd\, Scottsdale\, AZ 85257 \n+14809452606
URL:https://www.maddhatterpro.com/event/el-dorado-bar-and-grill-karaoke/2027-01-20/
LOCATION:El Dorado\, 8708 E McDowell Rd\, Scottsdale\, AZ 85257\, Scottsdale\, AZ\, 85257\, United States
CATEGORIES:Karaoke,KJ Skribbz
ATTACH;FMTTYPE=image/jpeg:https://www.maddhatterpro.com/wp-content/uploads/2026/02/eldo-Scottsdale.jpg
END:VEVENT
BEGIN:VEVENT
DTSTART;TZID=UTC:20270127T183000
DTEND;TZID=UTC:20270127T183000
DTSTAMP:20260423T202709
CREATED:20250704T002059Z
LAST-MODIFIED:20260206T144041Z
UID:10022586-1801074600-1801074600@www.maddhatterpro.com
SUMMARY:El Dorado Bar and Grill Karaoke
DESCRIPTION:South Scottsdale strikes again\, lets have some fun! El Dorado bar and grill hosting some of the best karaoke with KJ Skribbz! Early show so you can make mid-week work. 6:30pm-10:30pm You bring the tunes\,  we’ll bring the fun. \n8708 E McDowell Rd\, Scottsdale\, AZ 85257 \n+14809452606
URL:https://www.maddhatterpro.com/event/el-dorado-bar-and-grill-karaoke/2027-01-27/
LOCATION:El Dorado\, 8708 E McDowell Rd\, Scottsdale\, AZ 85257\, Scottsdale\, AZ\, 85257\, United States
CATEGORIES:Karaoke,KJ Skribbz
ATTACH;FMTTYPE=image/jpeg:https://www.maddhatterpro.com/wp-content/uploads/2026/02/eldo-Scottsdale.jpg
END:VEVENT
BEGIN:VEVENT
DTSTART;TZID=UTC:20270203T183000
DTEND;TZID=UTC:20270203T183000
DTSTAMP:20260423T202709
CREATED:20250704T002059Z
LAST-MODIFIED:20260206T144041Z
UID:10022587-1801679400-1801679400@www.maddhatterpro.com
SUMMARY:El Dorado Bar and Grill Karaoke
DESCRIPTION:South Scottsdale strikes again\, lets have some fun! El Dorado bar and grill hosting some of the best karaoke with KJ Skribbz! Early show so you can make mid-week work. 6:30pm-10:30pm You bring the tunes\,  we’ll bring the fun. \n8708 E McDowell Rd\, Scottsdale\, AZ 85257 \n+14809452606
URL:https://www.maddhatterpro.com/event/el-dorado-bar-and-grill-karaoke/2027-02-03/
LOCATION:El Dorado\, 8708 E McDowell Rd\, Scottsdale\, AZ 85257\, Scottsdale\, AZ\, 85257\, United States
CATEGORIES:Karaoke,KJ Skribbz
ATTACH;FMTTYPE=image/jpeg:https://www.maddhatterpro.com/wp-content/uploads/2026/02/eldo-Scottsdale.jpg
END:VEVENT
BEGIN:VEVENT
DTSTART;TZID=UTC:20270210T183000
DTEND;TZID=UTC:20270210T183000
DTSTAMP:20260423T202709
CREATED:20250704T002059Z
LAST-MODIFIED:20260206T144041Z
UID:10022588-1802284200-1802284200@www.maddhatterpro.com
SUMMARY:El Dorado Bar and Grill Karaoke
DESCRIPTION:South Scottsdale strikes again\, lets have some fun! El Dorado bar and grill hosting some of the best karaoke with KJ Skribbz! Early show so you can make mid-week work. 6:30pm-10:30pm You bring the tunes\,  we’ll bring the fun. \n8708 E McDowell Rd\, Scottsdale\, AZ 85257 \n+14809452606
URL:https://www.maddhatterpro.com/event/el-dorado-bar-and-grill-karaoke/2027-02-10/
LOCATION:El Dorado\, 8708 E McDowell Rd\, Scottsdale\, AZ 85257\, Scottsdale\, AZ\, 85257\, United States
CATEGORIES:Karaoke,KJ Skribbz
ATTACH;FMTTYPE=image/jpeg:https://www.maddhatterpro.com/wp-content/uploads/2026/02/eldo-Scottsdale.jpg
END:VEVENT
END:VCALENDAR