BEGIN:VCALENDAR
VERSION:2.0
PRODID:-//MaddHatterPro.com - ECPv6.15.20//NONSGML v1.0//EN
CALSCALE:GREGORIAN
METHOD:PUBLISH
X-WR-CALNAME:MaddHatterPro.com
X-ORIGINAL-URL:https://www.maddhatterpro.com
X-WR-CALDESC:Events for MaddHatterPro.com
REFRESH-INTERVAL;VALUE=DURATION:PT1H
X-Robots-Tag:noindex
X-PUBLISHED-TTL:PT1H
BEGIN:VTIMEZONE
TZID:UTC
BEGIN:STANDARD
TZOFFSETFROM:+0000
TZOFFSETTO:+0000
TZNAME:UTC
DTSTART:20240101T000000
END:STANDARD
END:VTIMEZONE
BEGIN:VEVENT
DTSTART;TZID=UTC:20260128T183000
DTEND;TZID=UTC:20260128T183000
DTSTAMP:20260423T202837
CREATED:20250704T002059Z
LAST-MODIFIED:20260206T144041Z
UID:10022534-1769625000-1769625000@www.maddhatterpro.com
SUMMARY:El Dorado Bar and Grill Karaoke
DESCRIPTION:South Scottsdale strikes again\, lets have some fun! El Dorado bar and grill hosting some of the best karaoke with KJ Skribbz! Early show so you can make mid-week work. 6:30pm-10:30pm You bring the tunes\,  we’ll bring the fun. \n8708 E McDowell Rd\, Scottsdale\, AZ 85257 \n+14809452606
URL:https://www.maddhatterpro.com/event/el-dorado-bar-and-grill-karaoke/2026-01-28/
LOCATION:El Dorado\, 8708 E McDowell Rd\, Scottsdale\, AZ 85257\, Scottsdale\, AZ\, 85257\, United States
CATEGORIES:Karaoke,KJ Skribbz
ATTACH;FMTTYPE=image/jpeg:https://www.maddhatterpro.com/wp-content/uploads/2026/02/eldo-Scottsdale.jpg
END:VEVENT
BEGIN:VEVENT
DTSTART;TZID=UTC:20260121T183000
DTEND;TZID=UTC:20260121T183000
DTSTAMP:20260423T202837
CREATED:20250704T002059Z
LAST-MODIFIED:20260206T144041Z
UID:10022533-1769020200-1769020200@www.maddhatterpro.com
SUMMARY:El Dorado Bar and Grill Karaoke
DESCRIPTION:South Scottsdale strikes again\, lets have some fun! El Dorado bar and grill hosting some of the best karaoke with KJ Skribbz! Early show so you can make mid-week work. 6:30pm-10:30pm You bring the tunes\,  we’ll bring the fun. \n8708 E McDowell Rd\, Scottsdale\, AZ 85257 \n+14809452606
URL:https://www.maddhatterpro.com/event/el-dorado-bar-and-grill-karaoke/2026-01-21/
LOCATION:El Dorado\, 8708 E McDowell Rd\, Scottsdale\, AZ 85257\, Scottsdale\, AZ\, 85257\, United States
CATEGORIES:Karaoke,KJ Skribbz
ATTACH;FMTTYPE=image/jpeg:https://www.maddhatterpro.com/wp-content/uploads/2026/02/eldo-Scottsdale.jpg
END:VEVENT
BEGIN:VEVENT
DTSTART;TZID=UTC:20260114T183000
DTEND;TZID=UTC:20260114T183000
DTSTAMP:20260423T202837
CREATED:20250704T002059Z
LAST-MODIFIED:20260206T144041Z
UID:10022532-1768415400-1768415400@www.maddhatterpro.com
SUMMARY:El Dorado Bar and Grill Karaoke
DESCRIPTION:South Scottsdale strikes again\, lets have some fun! El Dorado bar and grill hosting some of the best karaoke with KJ Skribbz! Early show so you can make mid-week work. 6:30pm-10:30pm You bring the tunes\,  we’ll bring the fun. \n8708 E McDowell Rd\, Scottsdale\, AZ 85257 \n+14809452606
URL:https://www.maddhatterpro.com/event/el-dorado-bar-and-grill-karaoke/2026-01-14/
LOCATION:El Dorado\, 8708 E McDowell Rd\, Scottsdale\, AZ 85257\, Scottsdale\, AZ\, 85257\, United States
CATEGORIES:Karaoke,KJ Skribbz
ATTACH;FMTTYPE=image/jpeg:https://www.maddhatterpro.com/wp-content/uploads/2026/02/eldo-Scottsdale.jpg
END:VEVENT
BEGIN:VEVENT
DTSTART;TZID=UTC:20260107T183000
DTEND;TZID=UTC:20260107T183000
DTSTAMP:20260423T202837
CREATED:20250704T002059Z
LAST-MODIFIED:20260206T144041Z
UID:10022531-1767810600-1767810600@www.maddhatterpro.com
SUMMARY:El Dorado Bar and Grill Karaoke
DESCRIPTION:South Scottsdale strikes again\, lets have some fun! El Dorado bar and grill hosting some of the best karaoke with KJ Skribbz! Early show so you can make mid-week work. 6:30pm-10:30pm You bring the tunes\,  we’ll bring the fun. \n8708 E McDowell Rd\, Scottsdale\, AZ 85257 \n+14809452606
URL:https://www.maddhatterpro.com/event/el-dorado-bar-and-grill-karaoke/2026-01-07/
LOCATION:El Dorado\, 8708 E McDowell Rd\, Scottsdale\, AZ 85257\, Scottsdale\, AZ\, 85257\, United States
CATEGORIES:Karaoke,KJ Skribbz
ATTACH;FMTTYPE=image/jpeg:https://www.maddhatterpro.com/wp-content/uploads/2026/02/eldo-Scottsdale.jpg
END:VEVENT
BEGIN:VEVENT
DTSTART;TZID=UTC:20251231T183000
DTEND;TZID=UTC:20251231T183000
DTSTAMP:20260423T202837
CREATED:20250704T002059Z
LAST-MODIFIED:20260206T144041Z
UID:10022530-1767205800-1767205800@www.maddhatterpro.com
SUMMARY:El Dorado Bar and Grill Karaoke
DESCRIPTION:South Scottsdale strikes again\, lets have some fun! El Dorado bar and grill hosting some of the best karaoke with KJ Skribbz! Early show so you can make mid-week work. 6:30pm-10:30pm You bring the tunes\,  we’ll bring the fun. \n8708 E McDowell Rd\, Scottsdale\, AZ 85257 \n+14809452606
URL:https://www.maddhatterpro.com/event/el-dorado-bar-and-grill-karaoke/2025-12-31/
LOCATION:El Dorado\, 8708 E McDowell Rd\, Scottsdale\, AZ 85257\, Scottsdale\, AZ\, 85257\, United States
CATEGORIES:Karaoke,KJ Skribbz
ATTACH;FMTTYPE=image/jpeg:https://www.maddhatterpro.com/wp-content/uploads/2026/02/eldo-Scottsdale.jpg
END:VEVENT
BEGIN:VEVENT
DTSTART;TZID=UTC:20251224T183000
DTEND;TZID=UTC:20251224T183000
DTSTAMP:20260423T202837
CREATED:20250704T002059Z
LAST-MODIFIED:20260206T144041Z
UID:10022529-1766601000-1766601000@www.maddhatterpro.com
SUMMARY:El Dorado Bar and Grill Karaoke
DESCRIPTION:South Scottsdale strikes again\, lets have some fun! El Dorado bar and grill hosting some of the best karaoke with KJ Skribbz! Early show so you can make mid-week work. 6:30pm-10:30pm You bring the tunes\,  we’ll bring the fun. \n8708 E McDowell Rd\, Scottsdale\, AZ 85257 \n+14809452606
URL:https://www.maddhatterpro.com/event/el-dorado-bar-and-grill-karaoke/2025-12-24/
LOCATION:El Dorado\, 8708 E McDowell Rd\, Scottsdale\, AZ 85257\, Scottsdale\, AZ\, 85257\, United States
CATEGORIES:Karaoke,KJ Skribbz
ATTACH;FMTTYPE=image/jpeg:https://www.maddhatterpro.com/wp-content/uploads/2026/02/eldo-Scottsdale.jpg
END:VEVENT
BEGIN:VEVENT
DTSTART;TZID=UTC:20251217T183000
DTEND;TZID=UTC:20251217T183000
DTSTAMP:20260423T202837
CREATED:20250704T002059Z
LAST-MODIFIED:20260206T144041Z
UID:10022528-1765996200-1765996200@www.maddhatterpro.com
SUMMARY:El Dorado Bar and Grill Karaoke
DESCRIPTION:South Scottsdale strikes again\, lets have some fun! El Dorado bar and grill hosting some of the best karaoke with KJ Skribbz! Early show so you can make mid-week work. 6:30pm-10:30pm You bring the tunes\,  we’ll bring the fun. \n8708 E McDowell Rd\, Scottsdale\, AZ 85257 \n+14809452606
URL:https://www.maddhatterpro.com/event/el-dorado-bar-and-grill-karaoke/2025-12-17/
LOCATION:El Dorado\, 8708 E McDowell Rd\, Scottsdale\, AZ 85257\, Scottsdale\, AZ\, 85257\, United States
CATEGORIES:Karaoke,KJ Skribbz
ATTACH;FMTTYPE=image/jpeg:https://www.maddhatterpro.com/wp-content/uploads/2026/02/eldo-Scottsdale.jpg
END:VEVENT
BEGIN:VEVENT
DTSTART;TZID=UTC:20251210T183000
DTEND;TZID=UTC:20251210T183000
DTSTAMP:20260423T202837
CREATED:20250704T002059Z
LAST-MODIFIED:20260206T144041Z
UID:10022527-1765391400-1765391400@www.maddhatterpro.com
SUMMARY:El Dorado Bar and Grill Karaoke
DESCRIPTION:South Scottsdale strikes again\, lets have some fun! El Dorado bar and grill hosting some of the best karaoke with KJ Skribbz! Early show so you can make mid-week work. 6:30pm-10:30pm You bring the tunes\,  we’ll bring the fun. \n8708 E McDowell Rd\, Scottsdale\, AZ 85257 \n+14809452606
URL:https://www.maddhatterpro.com/event/el-dorado-bar-and-grill-karaoke/2025-12-10/
LOCATION:El Dorado\, 8708 E McDowell Rd\, Scottsdale\, AZ 85257\, Scottsdale\, AZ\, 85257\, United States
CATEGORIES:Karaoke,KJ Skribbz
ATTACH;FMTTYPE=image/jpeg:https://www.maddhatterpro.com/wp-content/uploads/2026/02/eldo-Scottsdale.jpg
END:VEVENT
BEGIN:VEVENT
DTSTART;TZID=UTC:20251203T183000
DTEND;TZID=UTC:20251203T183000
DTSTAMP:20260423T202837
CREATED:20250704T002059Z
LAST-MODIFIED:20260206T144041Z
UID:10022526-1764786600-1764786600@www.maddhatterpro.com
SUMMARY:El Dorado Bar and Grill Karaoke
DESCRIPTION:South Scottsdale strikes again\, lets have some fun! El Dorado bar and grill hosting some of the best karaoke with KJ Skribbz! Early show so you can make mid-week work. 6:30pm-10:30pm You bring the tunes\,  we’ll bring the fun. \n8708 E McDowell Rd\, Scottsdale\, AZ 85257 \n+14809452606
URL:https://www.maddhatterpro.com/event/el-dorado-bar-and-grill-karaoke/2025-12-03/
LOCATION:El Dorado\, 8708 E McDowell Rd\, Scottsdale\, AZ 85257\, Scottsdale\, AZ\, 85257\, United States
CATEGORIES:Karaoke,KJ Skribbz
ATTACH;FMTTYPE=image/jpeg:https://www.maddhatterpro.com/wp-content/uploads/2026/02/eldo-Scottsdale.jpg
END:VEVENT
BEGIN:VEVENT
DTSTART;TZID=UTC:20251126T183000
DTEND;TZID=UTC:20251126T183000
DTSTAMP:20260423T202837
CREATED:20250704T002059Z
LAST-MODIFIED:20260206T144041Z
UID:10022525-1764181800-1764181800@www.maddhatterpro.com
SUMMARY:El Dorado Bar and Grill Karaoke
DESCRIPTION:South Scottsdale strikes again\, lets have some fun! El Dorado bar and grill hosting some of the best karaoke with KJ Skribbz! Early show so you can make mid-week work. 6:30pm-10:30pm You bring the tunes\,  we’ll bring the fun. \n8708 E McDowell Rd\, Scottsdale\, AZ 85257 \n+14809452606
URL:https://www.maddhatterpro.com/event/el-dorado-bar-and-grill-karaoke/2025-11-26/
LOCATION:El Dorado\, 8708 E McDowell Rd\, Scottsdale\, AZ 85257\, Scottsdale\, AZ\, 85257\, United States
CATEGORIES:Karaoke,KJ Skribbz
ATTACH;FMTTYPE=image/jpeg:https://www.maddhatterpro.com/wp-content/uploads/2026/02/eldo-Scottsdale.jpg
END:VEVENT
BEGIN:VEVENT
DTSTART;TZID=UTC:20251119T183000
DTEND;TZID=UTC:20251119T183000
DTSTAMP:20260423T202837
CREATED:20250704T002059Z
LAST-MODIFIED:20260206T144041Z
UID:10022524-1763577000-1763577000@www.maddhatterpro.com
SUMMARY:El Dorado Bar and Grill Karaoke
DESCRIPTION:South Scottsdale strikes again\, lets have some fun! El Dorado bar and grill hosting some of the best karaoke with KJ Skribbz! Early show so you can make mid-week work. 6:30pm-10:30pm You bring the tunes\,  we’ll bring the fun. \n8708 E McDowell Rd\, Scottsdale\, AZ 85257 \n+14809452606
URL:https://www.maddhatterpro.com/event/el-dorado-bar-and-grill-karaoke/2025-11-19/
LOCATION:El Dorado\, 8708 E McDowell Rd\, Scottsdale\, AZ 85257\, Scottsdale\, AZ\, 85257\, United States
CATEGORIES:Karaoke,KJ Skribbz
ATTACH;FMTTYPE=image/jpeg:https://www.maddhatterpro.com/wp-content/uploads/2026/02/eldo-Scottsdale.jpg
END:VEVENT
BEGIN:VEVENT
DTSTART;TZID=UTC:20251112T183000
DTEND;TZID=UTC:20251112T183000
DTSTAMP:20260423T202837
CREATED:20250704T002059Z
LAST-MODIFIED:20260206T144041Z
UID:10022523-1762972200-1762972200@www.maddhatterpro.com
SUMMARY:El Dorado Bar and Grill Karaoke
DESCRIPTION:South Scottsdale strikes again\, lets have some fun! El Dorado bar and grill hosting some of the best karaoke with KJ Skribbz! Early show so you can make mid-week work. 6:30pm-10:30pm You bring the tunes\,  we’ll bring the fun. \n8708 E McDowell Rd\, Scottsdale\, AZ 85257 \n+14809452606
URL:https://www.maddhatterpro.com/event/el-dorado-bar-and-grill-karaoke/2025-11-12/
LOCATION:El Dorado\, 8708 E McDowell Rd\, Scottsdale\, AZ 85257\, Scottsdale\, AZ\, 85257\, United States
CATEGORIES:Karaoke,KJ Skribbz
ATTACH;FMTTYPE=image/jpeg:https://www.maddhatterpro.com/wp-content/uploads/2026/02/eldo-Scottsdale.jpg
END:VEVENT
BEGIN:VEVENT
DTSTART;TZID=UTC:20251105T183000
DTEND;TZID=UTC:20251105T183000
DTSTAMP:20260423T202837
CREATED:20250704T002059Z
LAST-MODIFIED:20260206T144041Z
UID:10022522-1762367400-1762367400@www.maddhatterpro.com
SUMMARY:El Dorado Bar and Grill Karaoke
DESCRIPTION:South Scottsdale strikes again\, lets have some fun! El Dorado bar and grill hosting some of the best karaoke with KJ Skribbz! Early show so you can make mid-week work. 6:30pm-10:30pm You bring the tunes\,  we’ll bring the fun. \n8708 E McDowell Rd\, Scottsdale\, AZ 85257 \n+14809452606
URL:https://www.maddhatterpro.com/event/el-dorado-bar-and-grill-karaoke/2025-11-05/
LOCATION:El Dorado\, 8708 E McDowell Rd\, Scottsdale\, AZ 85257\, Scottsdale\, AZ\, 85257\, United States
CATEGORIES:Karaoke,KJ Skribbz
ATTACH;FMTTYPE=image/jpeg:https://www.maddhatterpro.com/wp-content/uploads/2026/02/eldo-Scottsdale.jpg
END:VEVENT
BEGIN:VEVENT
DTSTART;TZID=UTC:20251029T183000
DTEND;TZID=UTC:20251029T183000
DTSTAMP:20260423T202837
CREATED:20250704T002059Z
LAST-MODIFIED:20260206T144041Z
UID:10022521-1761762600-1761762600@www.maddhatterpro.com
SUMMARY:El Dorado Bar and Grill Karaoke
DESCRIPTION:South Scottsdale strikes again\, lets have some fun! El Dorado bar and grill hosting some of the best karaoke with KJ Skribbz! Early show so you can make mid-week work. 6:30pm-10:30pm You bring the tunes\,  we’ll bring the fun. \n8708 E McDowell Rd\, Scottsdale\, AZ 85257 \n+14809452606
URL:https://www.maddhatterpro.com/event/el-dorado-bar-and-grill-karaoke/2025-10-29/
LOCATION:El Dorado\, 8708 E McDowell Rd\, Scottsdale\, AZ 85257\, Scottsdale\, AZ\, 85257\, United States
CATEGORIES:Karaoke,KJ Skribbz
ATTACH;FMTTYPE=image/jpeg:https://www.maddhatterpro.com/wp-content/uploads/2026/02/eldo-Scottsdale.jpg
END:VEVENT
BEGIN:VEVENT
DTSTART;TZID=UTC:20251022T183000
DTEND;TZID=UTC:20251022T183000
DTSTAMP:20260423T202837
CREATED:20250704T002059Z
LAST-MODIFIED:20260206T144041Z
UID:10022520-1761157800-1761157800@www.maddhatterpro.com
SUMMARY:El Dorado Bar and Grill Karaoke
DESCRIPTION:South Scottsdale strikes again\, lets have some fun! El Dorado bar and grill hosting some of the best karaoke with KJ Skribbz! Early show so you can make mid-week work. 6:30pm-10:30pm You bring the tunes\,  we’ll bring the fun. \n8708 E McDowell Rd\, Scottsdale\, AZ 85257 \n+14809452606
URL:https://www.maddhatterpro.com/event/el-dorado-bar-and-grill-karaoke/2025-10-22/
LOCATION:El Dorado\, 8708 E McDowell Rd\, Scottsdale\, AZ 85257\, Scottsdale\, AZ\, 85257\, United States
CATEGORIES:Karaoke,KJ Skribbz
ATTACH;FMTTYPE=image/jpeg:https://www.maddhatterpro.com/wp-content/uploads/2026/02/eldo-Scottsdale.jpg
END:VEVENT
BEGIN:VEVENT
DTSTART;TZID=UTC:20251015T183000
DTEND;TZID=UTC:20251015T183000
DTSTAMP:20260423T202837
CREATED:20250704T002059Z
LAST-MODIFIED:20260206T144041Z
UID:10022519-1760553000-1760553000@www.maddhatterpro.com
SUMMARY:El Dorado Bar and Grill Karaoke
DESCRIPTION:South Scottsdale strikes again\, lets have some fun! El Dorado bar and grill hosting some of the best karaoke with KJ Skribbz! Early show so you can make mid-week work. 6:30pm-10:30pm You bring the tunes\,  we’ll bring the fun. \n8708 E McDowell Rd\, Scottsdale\, AZ 85257 \n+14809452606
URL:https://www.maddhatterpro.com/event/el-dorado-bar-and-grill-karaoke/2025-10-15/
LOCATION:El Dorado\, 8708 E McDowell Rd\, Scottsdale\, AZ 85257\, Scottsdale\, AZ\, 85257\, United States
CATEGORIES:Karaoke,KJ Skribbz
ATTACH;FMTTYPE=image/jpeg:https://www.maddhatterpro.com/wp-content/uploads/2026/02/eldo-Scottsdale.jpg
END:VEVENT
BEGIN:VEVENT
DTSTART;TZID=UTC:20251008T183000
DTEND;TZID=UTC:20251008T183000
DTSTAMP:20260423T202837
CREATED:20250704T002059Z
LAST-MODIFIED:20260206T144041Z
UID:10022518-1759948200-1759948200@www.maddhatterpro.com
SUMMARY:El Dorado Bar and Grill Karaoke
DESCRIPTION:South Scottsdale strikes again\, lets have some fun! El Dorado bar and grill hosting some of the best karaoke with KJ Skribbz! Early show so you can make mid-week work. 6:30pm-10:30pm You bring the tunes\,  we’ll bring the fun. \n8708 E McDowell Rd\, Scottsdale\, AZ 85257 \n+14809452606
URL:https://www.maddhatterpro.com/event/el-dorado-bar-and-grill-karaoke/2025-10-08/
LOCATION:El Dorado\, 8708 E McDowell Rd\, Scottsdale\, AZ 85257\, Scottsdale\, AZ\, 85257\, United States
CATEGORIES:Karaoke,KJ Skribbz
ATTACH;FMTTYPE=image/jpeg:https://www.maddhatterpro.com/wp-content/uploads/2026/02/eldo-Scottsdale.jpg
END:VEVENT
BEGIN:VEVENT
DTSTART;TZID=UTC:20251001T183000
DTEND;TZID=UTC:20251001T183000
DTSTAMP:20260423T202837
CREATED:20250704T002059Z
LAST-MODIFIED:20260206T144041Z
UID:10022517-1759343400-1759343400@www.maddhatterpro.com
SUMMARY:El Dorado Bar and Grill Karaoke
DESCRIPTION:South Scottsdale strikes again\, lets have some fun! El Dorado bar and grill hosting some of the best karaoke with KJ Skribbz! Early show so you can make mid-week work. 6:30pm-10:30pm You bring the tunes\,  we’ll bring the fun. \n8708 E McDowell Rd\, Scottsdale\, AZ 85257 \n+14809452606
URL:https://www.maddhatterpro.com/event/el-dorado-bar-and-grill-karaoke/2025-10-01/
LOCATION:El Dorado\, 8708 E McDowell Rd\, Scottsdale\, AZ 85257\, Scottsdale\, AZ\, 85257\, United States
CATEGORIES:Karaoke,KJ Skribbz
ATTACH;FMTTYPE=image/jpeg:https://www.maddhatterpro.com/wp-content/uploads/2026/02/eldo-Scottsdale.jpg
END:VEVENT
BEGIN:VEVENT
DTSTART;TZID=UTC:20250924T183000
DTEND;TZID=UTC:20250924T183000
DTSTAMP:20260423T202837
CREATED:20250704T002059Z
LAST-MODIFIED:20260206T144041Z
UID:10022516-1758738600-1758738600@www.maddhatterpro.com
SUMMARY:El Dorado Bar and Grill Karaoke
DESCRIPTION:South Scottsdale strikes again\, lets have some fun! El Dorado bar and grill hosting some of the best karaoke with KJ Skribbz! Early show so you can make mid-week work. 6:30pm-10:30pm You bring the tunes\,  we’ll bring the fun. \n8708 E McDowell Rd\, Scottsdale\, AZ 85257 \n+14809452606
URL:https://www.maddhatterpro.com/event/el-dorado-bar-and-grill-karaoke/2025-09-24/
LOCATION:El Dorado\, 8708 E McDowell Rd\, Scottsdale\, AZ 85257\, Scottsdale\, AZ\, 85257\, United States
CATEGORIES:Karaoke,KJ Skribbz
ATTACH;FMTTYPE=image/jpeg:https://www.maddhatterpro.com/wp-content/uploads/2026/02/eldo-Scottsdale.jpg
END:VEVENT
BEGIN:VEVENT
DTSTART;TZID=UTC:20250917T183000
DTEND;TZID=UTC:20250917T183000
DTSTAMP:20260423T202837
CREATED:20250704T002059Z
LAST-MODIFIED:20260206T144041Z
UID:10022515-1758133800-1758133800@www.maddhatterpro.com
SUMMARY:El Dorado Bar and Grill Karaoke
DESCRIPTION:South Scottsdale strikes again\, lets have some fun! El Dorado bar and grill hosting some of the best karaoke with KJ Skribbz! Early show so you can make mid-week work. 6:30pm-10:30pm You bring the tunes\,  we’ll bring the fun. \n8708 E McDowell Rd\, Scottsdale\, AZ 85257 \n+14809452606
URL:https://www.maddhatterpro.com/event/el-dorado-bar-and-grill-karaoke/2025-09-17/
LOCATION:El Dorado\, 8708 E McDowell Rd\, Scottsdale\, AZ 85257\, Scottsdale\, AZ\, 85257\, United States
CATEGORIES:Karaoke,KJ Skribbz
ATTACH;FMTTYPE=image/jpeg:https://www.maddhatterpro.com/wp-content/uploads/2026/02/eldo-Scottsdale.jpg
END:VEVENT
BEGIN:VEVENT
DTSTART;TZID=UTC:20250910T183000
DTEND;TZID=UTC:20250910T183000
DTSTAMP:20260423T202837
CREATED:20250704T002059Z
LAST-MODIFIED:20260206T144041Z
UID:10022514-1757529000-1757529000@www.maddhatterpro.com
SUMMARY:El Dorado Bar and Grill Karaoke
DESCRIPTION:South Scottsdale strikes again\, lets have some fun! El Dorado bar and grill hosting some of the best karaoke with KJ Skribbz! Early show so you can make mid-week work. 6:30pm-10:30pm You bring the tunes\,  we’ll bring the fun. \n8708 E McDowell Rd\, Scottsdale\, AZ 85257 \n+14809452606
URL:https://www.maddhatterpro.com/event/el-dorado-bar-and-grill-karaoke/2025-09-10/
LOCATION:El Dorado\, 8708 E McDowell Rd\, Scottsdale\, AZ 85257\, Scottsdale\, AZ\, 85257\, United States
CATEGORIES:Karaoke,KJ Skribbz
ATTACH;FMTTYPE=image/jpeg:https://www.maddhatterpro.com/wp-content/uploads/2026/02/eldo-Scottsdale.jpg
END:VEVENT
BEGIN:VEVENT
DTSTART;TZID=UTC:20250903T183000
DTEND;TZID=UTC:20250903T183000
DTSTAMP:20260423T202837
CREATED:20250704T002059Z
LAST-MODIFIED:20260206T144041Z
UID:10022513-1756924200-1756924200@www.maddhatterpro.com
SUMMARY:El Dorado Bar and Grill Karaoke
DESCRIPTION:South Scottsdale strikes again\, lets have some fun! El Dorado bar and grill hosting some of the best karaoke with KJ Skribbz! Early show so you can make mid-week work. 6:30pm-10:30pm You bring the tunes\,  we’ll bring the fun. \n8708 E McDowell Rd\, Scottsdale\, AZ 85257 \n+14809452606
URL:https://www.maddhatterpro.com/event/el-dorado-bar-and-grill-karaoke/2025-09-03/
LOCATION:El Dorado\, 8708 E McDowell Rd\, Scottsdale\, AZ 85257\, Scottsdale\, AZ\, 85257\, United States
CATEGORIES:Karaoke,KJ Skribbz
ATTACH;FMTTYPE=image/jpeg:https://www.maddhatterpro.com/wp-content/uploads/2026/02/eldo-Scottsdale.jpg
END:VEVENT
BEGIN:VEVENT
DTSTART;TZID=UTC:20250827T183000
DTEND;TZID=UTC:20250827T183000
DTSTAMP:20260423T202837
CREATED:20250704T002059Z
LAST-MODIFIED:20260206T144041Z
UID:10022512-1756319400-1756319400@www.maddhatterpro.com
SUMMARY:El Dorado Bar and Grill Karaoke
DESCRIPTION:South Scottsdale strikes again\, lets have some fun! El Dorado bar and grill hosting some of the best karaoke with KJ Skribbz! Early show so you can make mid-week work. 6:30pm-10:30pm You bring the tunes\,  we’ll bring the fun. \n8708 E McDowell Rd\, Scottsdale\, AZ 85257 \n+14809452606
URL:https://www.maddhatterpro.com/event/el-dorado-bar-and-grill-karaoke/2025-08-27/
LOCATION:El Dorado\, 8708 E McDowell Rd\, Scottsdale\, AZ 85257\, Scottsdale\, AZ\, 85257\, United States
CATEGORIES:Karaoke,KJ Skribbz
ATTACH;FMTTYPE=image/jpeg:https://www.maddhatterpro.com/wp-content/uploads/2026/02/eldo-Scottsdale.jpg
END:VEVENT
BEGIN:VEVENT
DTSTART;TZID=UTC:20250820T183000
DTEND;TZID=UTC:20250820T183000
DTSTAMP:20260423T202837
CREATED:20250704T002059Z
LAST-MODIFIED:20260206T144041Z
UID:10022511-1755714600-1755714600@www.maddhatterpro.com
SUMMARY:El Dorado Bar and Grill Karaoke
DESCRIPTION:South Scottsdale strikes again\, lets have some fun! El Dorado bar and grill hosting some of the best karaoke with KJ Skribbz! Early show so you can make mid-week work. 6:30pm-10:30pm You bring the tunes\,  we’ll bring the fun. \n8708 E McDowell Rd\, Scottsdale\, AZ 85257 \n+14809452606
URL:https://www.maddhatterpro.com/event/el-dorado-bar-and-grill-karaoke/2025-08-20/
LOCATION:El Dorado\, 8708 E McDowell Rd\, Scottsdale\, AZ 85257\, Scottsdale\, AZ\, 85257\, United States
CATEGORIES:Karaoke,KJ Skribbz
ATTACH;FMTTYPE=image/jpeg:https://www.maddhatterpro.com/wp-content/uploads/2026/02/eldo-Scottsdale.jpg
END:VEVENT
BEGIN:VEVENT
DTSTART;TZID=UTC:20250813T183000
DTEND;TZID=UTC:20250813T183000
DTSTAMP:20260423T202837
CREATED:20250704T002059Z
LAST-MODIFIED:20260206T144041Z
UID:10022510-1755109800-1755109800@www.maddhatterpro.com
SUMMARY:El Dorado Bar and Grill Karaoke
DESCRIPTION:South Scottsdale strikes again\, lets have some fun! El Dorado bar and grill hosting some of the best karaoke with KJ Skribbz! Early show so you can make mid-week work. 6:30pm-10:30pm You bring the tunes\,  we’ll bring the fun. \n8708 E McDowell Rd\, Scottsdale\, AZ 85257 \n+14809452606
URL:https://www.maddhatterpro.com/event/el-dorado-bar-and-grill-karaoke/2025-08-13/
LOCATION:El Dorado\, 8708 E McDowell Rd\, Scottsdale\, AZ 85257\, Scottsdale\, AZ\, 85257\, United States
CATEGORIES:Karaoke,KJ Skribbz
ATTACH;FMTTYPE=image/jpeg:https://www.maddhatterpro.com/wp-content/uploads/2026/02/eldo-Scottsdale.jpg
END:VEVENT
BEGIN:VEVENT
DTSTART;TZID=UTC:20250806T183000
DTEND;TZID=UTC:20250806T183000
DTSTAMP:20260423T202837
CREATED:20250704T002059Z
LAST-MODIFIED:20260206T144041Z
UID:10022509-1754505000-1754505000@www.maddhatterpro.com
SUMMARY:El Dorado Bar and Grill Karaoke
DESCRIPTION:South Scottsdale strikes again\, lets have some fun! El Dorado bar and grill hosting some of the best karaoke with KJ Skribbz! Early show so you can make mid-week work. 6:30pm-10:30pm You bring the tunes\,  we’ll bring the fun. \n8708 E McDowell Rd\, Scottsdale\, AZ 85257 \n+14809452606
URL:https://www.maddhatterpro.com/event/el-dorado-bar-and-grill-karaoke/2025-08-06/
LOCATION:El Dorado\, 8708 E McDowell Rd\, Scottsdale\, AZ 85257\, Scottsdale\, AZ\, 85257\, United States
CATEGORIES:Karaoke,KJ Skribbz
ATTACH;FMTTYPE=image/jpeg:https://www.maddhatterpro.com/wp-content/uploads/2026/02/eldo-Scottsdale.jpg
END:VEVENT
BEGIN:VEVENT
DTSTART;TZID=UTC:20250730T183000
DTEND;TZID=UTC:20250730T183000
DTSTAMP:20260423T202837
CREATED:20250704T002059Z
LAST-MODIFIED:20260206T144041Z
UID:10022508-1753900200-1753900200@www.maddhatterpro.com
SUMMARY:El Dorado Bar and Grill Karaoke
DESCRIPTION:South Scottsdale strikes again\, lets have some fun! El Dorado bar and grill hosting some of the best karaoke with KJ Skribbz! Early show so you can make mid-week work. 6:30pm-10:30pm You bring the tunes\,  we’ll bring the fun. \n8708 E McDowell Rd\, Scottsdale\, AZ 85257 \n+14809452606
URL:https://www.maddhatterpro.com/event/el-dorado-bar-and-grill-karaoke/2025-07-30/
LOCATION:El Dorado\, 8708 E McDowell Rd\, Scottsdale\, AZ 85257\, Scottsdale\, AZ\, 85257\, United States
CATEGORIES:Karaoke,KJ Skribbz
ATTACH;FMTTYPE=image/jpeg:https://www.maddhatterpro.com/wp-content/uploads/2026/02/eldo-Scottsdale.jpg
END:VEVENT
BEGIN:VEVENT
DTSTART;TZID=UTC:20250723T183000
DTEND;TZID=UTC:20250723T183000
DTSTAMP:20260423T202837
CREATED:20250704T002059Z
LAST-MODIFIED:20260206T144041Z
UID:10022507-1753295400-1753295400@www.maddhatterpro.com
SUMMARY:El Dorado Bar and Grill Karaoke
DESCRIPTION:South Scottsdale strikes again\, lets have some fun! El Dorado bar and grill hosting some of the best karaoke with KJ Skribbz! Early show so you can make mid-week work. 6:30pm-10:30pm You bring the tunes\,  we’ll bring the fun. \n8708 E McDowell Rd\, Scottsdale\, AZ 85257 \n+14809452606
URL:https://www.maddhatterpro.com/event/el-dorado-bar-and-grill-karaoke/2025-07-23/
LOCATION:El Dorado\, 8708 E McDowell Rd\, Scottsdale\, AZ 85257\, Scottsdale\, AZ\, 85257\, United States
CATEGORIES:Karaoke,KJ Skribbz
ATTACH;FMTTYPE=image/jpeg:https://www.maddhatterpro.com/wp-content/uploads/2026/02/eldo-Scottsdale.jpg
END:VEVENT
BEGIN:VEVENT
DTSTART;TZID=UTC:20250716T183000
DTEND;TZID=UTC:20250716T183000
DTSTAMP:20260423T202837
CREATED:20250704T002059Z
LAST-MODIFIED:20260206T144041Z
UID:10022506-1752690600-1752690600@www.maddhatterpro.com
SUMMARY:El Dorado Bar and Grill Karaoke
DESCRIPTION:South Scottsdale strikes again\, lets have some fun! El Dorado bar and grill hosting some of the best karaoke with KJ Skribbz! Early show so you can make mid-week work. 6:30pm-10:30pm You bring the tunes\,  we’ll bring the fun. \n8708 E McDowell Rd\, Scottsdale\, AZ 85257 \n+14809452606
URL:https://www.maddhatterpro.com/event/el-dorado-bar-and-grill-karaoke/2025-07-16/
LOCATION:El Dorado\, 8708 E McDowell Rd\, Scottsdale\, AZ 85257\, Scottsdale\, AZ\, 85257\, United States
CATEGORIES:Karaoke,KJ Skribbz
ATTACH;FMTTYPE=image/jpeg:https://www.maddhatterpro.com/wp-content/uploads/2026/02/eldo-Scottsdale.jpg
END:VEVENT
BEGIN:VEVENT
DTSTART;TZID=UTC:20250709T183000
DTEND;TZID=UTC:20250709T183000
DTSTAMP:20260423T202837
CREATED:20250704T002059Z
LAST-MODIFIED:20260206T144041Z
UID:10022505-1752085800-1752085800@www.maddhatterpro.com
SUMMARY:El Dorado Bar and Grill Karaoke
DESCRIPTION:South Scottsdale strikes again\, lets have some fun! El Dorado bar and grill hosting some of the best karaoke with KJ Skribbz! Early show so you can make mid-week work. 6:30pm-10:30pm You bring the tunes\,  we’ll bring the fun. \n8708 E McDowell Rd\, Scottsdale\, AZ 85257 \n+14809452606
URL:https://www.maddhatterpro.com/event/el-dorado-bar-and-grill-karaoke/2025-07-09/
LOCATION:El Dorado\, 8708 E McDowell Rd\, Scottsdale\, AZ 85257\, Scottsdale\, AZ\, 85257\, United States
CATEGORIES:Karaoke,KJ Skribbz
ATTACH;FMTTYPE=image/jpeg:https://www.maddhatterpro.com/wp-content/uploads/2026/02/eldo-Scottsdale.jpg
END:VEVENT
END:VCALENDAR