BEGIN:VCALENDAR
VERSION:2.0
PRODID:-//MaddHatterPro.com - ECPv6.15.20//NONSGML v1.0//EN
CALSCALE:GREGORIAN
METHOD:PUBLISH
X-ORIGINAL-URL:https://www.maddhatterpro.com
X-WR-CALDESC:Events for MaddHatterPro.com
REFRESH-INTERVAL;VALUE=DURATION:PT1H
X-Robots-Tag:noindex
X-PUBLISHED-TTL:PT1H
BEGIN:VTIMEZONE
TZID:UTC
BEGIN:STANDARD
TZOFFSETFROM:+0000
TZOFFSETTO:+0000
TZNAME:UTC
DTSTART:20290101T000000
END:STANDARD
END:VTIMEZONE
BEGIN:VEVENT
DTSTART;TZID=UTC:20300619T183000
DTEND;TZID=UTC:20300619T183000
DTSTAMP:20260424T194935
CREATED:20250704T002059Z
LAST-MODIFIED:20260206T144041Z
UID:10022763-1908124200-1908124200@www.maddhatterpro.com
SUMMARY:El Dorado Bar and Grill Karaoke
DESCRIPTION:South Scottsdale strikes again\, lets have some fun! El Dorado bar and grill hosting some of the best karaoke with KJ Skribbz! Early show so you can make mid-week work. 6:30pm-10:30pm You bring the tunes\,  we’ll bring the fun. \n8708 E McDowell Rd\, Scottsdale\, AZ 85257 \n+14809452606
URL:https://www.maddhatterpro.com/event/el-dorado-bar-and-grill-karaoke/2030-06-19/
LOCATION:El Dorado\, 8708 E McDowell Rd\, Scottsdale\, AZ 85257\, Scottsdale\, AZ\, 85257\, United States
CATEGORIES:Karaoke,KJ Skribbz
ATTACH;FMTTYPE=image/jpeg:https://www.maddhatterpro.com/wp-content/uploads/2026/02/eldo-Scottsdale.jpg
END:VEVENT
BEGIN:VEVENT
DTSTART;TZID=UTC:20300626T183000
DTEND;TZID=UTC:20300626T183000
DTSTAMP:20260424T194935
CREATED:20250704T002059Z
LAST-MODIFIED:20260206T144041Z
UID:10022764-1908729000-1908729000@www.maddhatterpro.com
SUMMARY:El Dorado Bar and Grill Karaoke
DESCRIPTION:South Scottsdale strikes again\, lets have some fun! El Dorado bar and grill hosting some of the best karaoke with KJ Skribbz! Early show so you can make mid-week work. 6:30pm-10:30pm You bring the tunes\,  we’ll bring the fun. \n8708 E McDowell Rd\, Scottsdale\, AZ 85257 \n+14809452606
URL:https://www.maddhatterpro.com/event/el-dorado-bar-and-grill-karaoke/2030-06-26/
LOCATION:El Dorado\, 8708 E McDowell Rd\, Scottsdale\, AZ 85257\, Scottsdale\, AZ\, 85257\, United States
CATEGORIES:Karaoke,KJ Skribbz
ATTACH;FMTTYPE=image/jpeg:https://www.maddhatterpro.com/wp-content/uploads/2026/02/eldo-Scottsdale.jpg
END:VEVENT
BEGIN:VEVENT
DTSTART;TZID=UTC:20300703T183000
DTEND;TZID=UTC:20300703T183000
DTSTAMP:20260424T194935
CREATED:20250704T002059Z
LAST-MODIFIED:20260206T144041Z
UID:10022765-1909333800-1909333800@www.maddhatterpro.com
SUMMARY:El Dorado Bar and Grill Karaoke
DESCRIPTION:South Scottsdale strikes again\, lets have some fun! El Dorado bar and grill hosting some of the best karaoke with KJ Skribbz! Early show so you can make mid-week work. 6:30pm-10:30pm You bring the tunes\,  we’ll bring the fun. \n8708 E McDowell Rd\, Scottsdale\, AZ 85257 \n+14809452606
URL:https://www.maddhatterpro.com/event/el-dorado-bar-and-grill-karaoke/2030-07-03/
LOCATION:El Dorado\, 8708 E McDowell Rd\, Scottsdale\, AZ 85257\, Scottsdale\, AZ\, 85257\, United States
CATEGORIES:Karaoke,KJ Skribbz
ATTACH;FMTTYPE=image/jpeg:https://www.maddhatterpro.com/wp-content/uploads/2026/02/eldo-Scottsdale.jpg
END:VEVENT
BEGIN:VEVENT
DTSTART;TZID=UTC:20300710T183000
DTEND;TZID=UTC:20300710T183000
DTSTAMP:20260424T194935
CREATED:20250704T002059Z
LAST-MODIFIED:20260206T144041Z
UID:10024731-1909938600-1909938600@www.maddhatterpro.com
SUMMARY:El Dorado Bar and Grill Karaoke
DESCRIPTION:South Scottsdale strikes again\, lets have some fun! El Dorado bar and grill hosting some of the best karaoke with KJ Skribbz! Early show so you can make mid-week work. 6:30pm-10:30pm You bring the tunes\,  we’ll bring the fun. \n8708 E McDowell Rd\, Scottsdale\, AZ 85257 \n+14809452606
URL:https://www.maddhatterpro.com/event/el-dorado-bar-and-grill-karaoke/2030-07-10/
LOCATION:El Dorado\, 8708 E McDowell Rd\, Scottsdale\, AZ 85257\, Scottsdale\, AZ\, 85257\, United States
CATEGORIES:Karaoke,KJ Skribbz
ATTACH;FMTTYPE=image/jpeg:https://www.maddhatterpro.com/wp-content/uploads/2026/02/eldo-Scottsdale.jpg
END:VEVENT
BEGIN:VEVENT
DTSTART;TZID=UTC:20300717T183000
DTEND;TZID=UTC:20300717T183000
DTSTAMP:20260424T194935
CREATED:20250704T002059Z
LAST-MODIFIED:20260206T144041Z
UID:10024732-1910543400-1910543400@www.maddhatterpro.com
SUMMARY:El Dorado Bar and Grill Karaoke
DESCRIPTION:South Scottsdale strikes again\, lets have some fun! El Dorado bar and grill hosting some of the best karaoke with KJ Skribbz! Early show so you can make mid-week work. 6:30pm-10:30pm You bring the tunes\,  we’ll bring the fun. \n8708 E McDowell Rd\, Scottsdale\, AZ 85257 \n+14809452606
URL:https://www.maddhatterpro.com/event/el-dorado-bar-and-grill-karaoke/2030-07-17/
LOCATION:El Dorado\, 8708 E McDowell Rd\, Scottsdale\, AZ 85257\, Scottsdale\, AZ\, 85257\, United States
CATEGORIES:Karaoke,KJ Skribbz
ATTACH;FMTTYPE=image/jpeg:https://www.maddhatterpro.com/wp-content/uploads/2026/02/eldo-Scottsdale.jpg
END:VEVENT
BEGIN:VEVENT
DTSTART;TZID=UTC:20300724T183000
DTEND;TZID=UTC:20300724T183000
DTSTAMP:20260424T194935
CREATED:20250704T002059Z
LAST-MODIFIED:20260206T144041Z
UID:10024733-1911148200-1911148200@www.maddhatterpro.com
SUMMARY:El Dorado Bar and Grill Karaoke
DESCRIPTION:South Scottsdale strikes again\, lets have some fun! El Dorado bar and grill hosting some of the best karaoke with KJ Skribbz! Early show so you can make mid-week work. 6:30pm-10:30pm You bring the tunes\,  we’ll bring the fun. \n8708 E McDowell Rd\, Scottsdale\, AZ 85257 \n+14809452606
URL:https://www.maddhatterpro.com/event/el-dorado-bar-and-grill-karaoke/2030-07-24/
LOCATION:El Dorado\, 8708 E McDowell Rd\, Scottsdale\, AZ 85257\, Scottsdale\, AZ\, 85257\, United States
CATEGORIES:Karaoke,KJ Skribbz
ATTACH;FMTTYPE=image/jpeg:https://www.maddhatterpro.com/wp-content/uploads/2026/02/eldo-Scottsdale.jpg
END:VEVENT
BEGIN:VEVENT
DTSTART;TZID=UTC:20300731T183000
DTEND;TZID=UTC:20300731T183000
DTSTAMP:20260424T194935
CREATED:20250704T002059Z
LAST-MODIFIED:20260206T144041Z
UID:10024734-1911753000-1911753000@www.maddhatterpro.com
SUMMARY:El Dorado Bar and Grill Karaoke
DESCRIPTION:South Scottsdale strikes again\, lets have some fun! El Dorado bar and grill hosting some of the best karaoke with KJ Skribbz! Early show so you can make mid-week work. 6:30pm-10:30pm You bring the tunes\,  we’ll bring the fun. \n8708 E McDowell Rd\, Scottsdale\, AZ 85257 \n+14809452606
URL:https://www.maddhatterpro.com/event/el-dorado-bar-and-grill-karaoke/2030-07-31/
LOCATION:El Dorado\, 8708 E McDowell Rd\, Scottsdale\, AZ 85257\, Scottsdale\, AZ\, 85257\, United States
CATEGORIES:Karaoke,KJ Skribbz
ATTACH;FMTTYPE=image/jpeg:https://www.maddhatterpro.com/wp-content/uploads/2026/02/eldo-Scottsdale.jpg
END:VEVENT
BEGIN:VEVENT
DTSTART;TZID=UTC:20300807T183000
DTEND;TZID=UTC:20300807T183000
DTSTAMP:20260424T194935
CREATED:20250704T002059Z
LAST-MODIFIED:20260206T144041Z
UID:10024735-1912357800-1912357800@www.maddhatterpro.com
SUMMARY:El Dorado Bar and Grill Karaoke
DESCRIPTION:South Scottsdale strikes again\, lets have some fun! El Dorado bar and grill hosting some of the best karaoke with KJ Skribbz! Early show so you can make mid-week work. 6:30pm-10:30pm You bring the tunes\,  we’ll bring the fun. \n8708 E McDowell Rd\, Scottsdale\, AZ 85257 \n+14809452606
URL:https://www.maddhatterpro.com/event/el-dorado-bar-and-grill-karaoke/2030-08-07/
LOCATION:El Dorado\, 8708 E McDowell Rd\, Scottsdale\, AZ 85257\, Scottsdale\, AZ\, 85257\, United States
CATEGORIES:Karaoke,KJ Skribbz
ATTACH;FMTTYPE=image/jpeg:https://www.maddhatterpro.com/wp-content/uploads/2026/02/eldo-Scottsdale.jpg
END:VEVENT
BEGIN:VEVENT
DTSTART;TZID=UTC:20300814T183000
DTEND;TZID=UTC:20300814T183000
DTSTAMP:20260424T194935
CREATED:20250704T002059Z
LAST-MODIFIED:20260206T144041Z
UID:10024736-1912962600-1912962600@www.maddhatterpro.com
SUMMARY:El Dorado Bar and Grill Karaoke
DESCRIPTION:South Scottsdale strikes again\, lets have some fun! El Dorado bar and grill hosting some of the best karaoke with KJ Skribbz! Early show so you can make mid-week work. 6:30pm-10:30pm You bring the tunes\,  we’ll bring the fun. \n8708 E McDowell Rd\, Scottsdale\, AZ 85257 \n+14809452606
URL:https://www.maddhatterpro.com/event/el-dorado-bar-and-grill-karaoke/2030-08-14/
LOCATION:El Dorado\, 8708 E McDowell Rd\, Scottsdale\, AZ 85257\, Scottsdale\, AZ\, 85257\, United States
CATEGORIES:Karaoke,KJ Skribbz
ATTACH;FMTTYPE=image/jpeg:https://www.maddhatterpro.com/wp-content/uploads/2026/02/eldo-Scottsdale.jpg
END:VEVENT
BEGIN:VEVENT
DTSTART;TZID=UTC:20300821T183000
DTEND;TZID=UTC:20300821T183000
DTSTAMP:20260424T194935
CREATED:20250704T002059Z
LAST-MODIFIED:20260206T144041Z
UID:10024737-1913567400-1913567400@www.maddhatterpro.com
SUMMARY:El Dorado Bar and Grill Karaoke
DESCRIPTION:South Scottsdale strikes again\, lets have some fun! El Dorado bar and grill hosting some of the best karaoke with KJ Skribbz! Early show so you can make mid-week work. 6:30pm-10:30pm You bring the tunes\,  we’ll bring the fun. \n8708 E McDowell Rd\, Scottsdale\, AZ 85257 \n+14809452606
URL:https://www.maddhatterpro.com/event/el-dorado-bar-and-grill-karaoke/2030-08-21/
LOCATION:El Dorado\, 8708 E McDowell Rd\, Scottsdale\, AZ 85257\, Scottsdale\, AZ\, 85257\, United States
CATEGORIES:Karaoke,KJ Skribbz
ATTACH;FMTTYPE=image/jpeg:https://www.maddhatterpro.com/wp-content/uploads/2026/02/eldo-Scottsdale.jpg
END:VEVENT
BEGIN:VEVENT
DTSTART;TZID=UTC:20300828T183000
DTEND;TZID=UTC:20300828T183000
DTSTAMP:20260424T194935
CREATED:20250704T002059Z
LAST-MODIFIED:20260206T144041Z
UID:10024738-1914172200-1914172200@www.maddhatterpro.com
SUMMARY:El Dorado Bar and Grill Karaoke
DESCRIPTION:South Scottsdale strikes again\, lets have some fun! El Dorado bar and grill hosting some of the best karaoke with KJ Skribbz! Early show so you can make mid-week work. 6:30pm-10:30pm You bring the tunes\,  we’ll bring the fun. \n8708 E McDowell Rd\, Scottsdale\, AZ 85257 \n+14809452606
URL:https://www.maddhatterpro.com/event/el-dorado-bar-and-grill-karaoke/2030-08-28/
LOCATION:El Dorado\, 8708 E McDowell Rd\, Scottsdale\, AZ 85257\, Scottsdale\, AZ\, 85257\, United States
CATEGORIES:Karaoke,KJ Skribbz
ATTACH;FMTTYPE=image/jpeg:https://www.maddhatterpro.com/wp-content/uploads/2026/02/eldo-Scottsdale.jpg
END:VEVENT
BEGIN:VEVENT
DTSTART;TZID=UTC:20300904T183000
DTEND;TZID=UTC:20300904T183000
DTSTAMP:20260424T194935
CREATED:20250704T002059Z
LAST-MODIFIED:20260206T144041Z
UID:10024739-1914777000-1914777000@www.maddhatterpro.com
SUMMARY:El Dorado Bar and Grill Karaoke
DESCRIPTION:South Scottsdale strikes again\, lets have some fun! El Dorado bar and grill hosting some of the best karaoke with KJ Skribbz! Early show so you can make mid-week work. 6:30pm-10:30pm You bring the tunes\,  we’ll bring the fun. \n8708 E McDowell Rd\, Scottsdale\, AZ 85257 \n+14809452606
URL:https://www.maddhatterpro.com/event/el-dorado-bar-and-grill-karaoke/2030-09-04/
LOCATION:El Dorado\, 8708 E McDowell Rd\, Scottsdale\, AZ 85257\, Scottsdale\, AZ\, 85257\, United States
CATEGORIES:Karaoke,KJ Skribbz
ATTACH;FMTTYPE=image/jpeg:https://www.maddhatterpro.com/wp-content/uploads/2026/02/eldo-Scottsdale.jpg
END:VEVENT
BEGIN:VEVENT
DTSTART;TZID=UTC:20300911T183000
DTEND;TZID=UTC:20300911T183000
DTSTAMP:20260424T194935
CREATED:20250704T002059Z
LAST-MODIFIED:20260206T144041Z
UID:10024740-1915381800-1915381800@www.maddhatterpro.com
SUMMARY:El Dorado Bar and Grill Karaoke
DESCRIPTION:South Scottsdale strikes again\, lets have some fun! El Dorado bar and grill hosting some of the best karaoke with KJ Skribbz! Early show so you can make mid-week work. 6:30pm-10:30pm You bring the tunes\,  we’ll bring the fun. \n8708 E McDowell Rd\, Scottsdale\, AZ 85257 \n+14809452606
URL:https://www.maddhatterpro.com/event/el-dorado-bar-and-grill-karaoke/2030-09-11/
LOCATION:El Dorado\, 8708 E McDowell Rd\, Scottsdale\, AZ 85257\, Scottsdale\, AZ\, 85257\, United States
CATEGORIES:Karaoke,KJ Skribbz
ATTACH;FMTTYPE=image/jpeg:https://www.maddhatterpro.com/wp-content/uploads/2026/02/eldo-Scottsdale.jpg
END:VEVENT
BEGIN:VEVENT
DTSTART;TZID=UTC:20300918T183000
DTEND;TZID=UTC:20300918T183000
DTSTAMP:20260424T194935
CREATED:20250704T002059Z
LAST-MODIFIED:20260206T144041Z
UID:10024741-1915986600-1915986600@www.maddhatterpro.com
SUMMARY:El Dorado Bar and Grill Karaoke
DESCRIPTION:South Scottsdale strikes again\, lets have some fun! El Dorado bar and grill hosting some of the best karaoke with KJ Skribbz! Early show so you can make mid-week work. 6:30pm-10:30pm You bring the tunes\,  we’ll bring the fun. \n8708 E McDowell Rd\, Scottsdale\, AZ 85257 \n+14809452606
URL:https://www.maddhatterpro.com/event/el-dorado-bar-and-grill-karaoke/2030-09-18/
LOCATION:El Dorado\, 8708 E McDowell Rd\, Scottsdale\, AZ 85257\, Scottsdale\, AZ\, 85257\, United States
CATEGORIES:Karaoke,KJ Skribbz
ATTACH;FMTTYPE=image/jpeg:https://www.maddhatterpro.com/wp-content/uploads/2026/02/eldo-Scottsdale.jpg
END:VEVENT
BEGIN:VEVENT
DTSTART;TZID=UTC:20300925T183000
DTEND;TZID=UTC:20300925T183000
DTSTAMP:20260424T194935
CREATED:20250704T002059Z
LAST-MODIFIED:20260206T144041Z
UID:10024742-1916591400-1916591400@www.maddhatterpro.com
SUMMARY:El Dorado Bar and Grill Karaoke
DESCRIPTION:South Scottsdale strikes again\, lets have some fun! El Dorado bar and grill hosting some of the best karaoke with KJ Skribbz! Early show so you can make mid-week work. 6:30pm-10:30pm You bring the tunes\,  we’ll bring the fun. \n8708 E McDowell Rd\, Scottsdale\, AZ 85257 \n+14809452606
URL:https://www.maddhatterpro.com/event/el-dorado-bar-and-grill-karaoke/2030-09-25/
LOCATION:El Dorado\, 8708 E McDowell Rd\, Scottsdale\, AZ 85257\, Scottsdale\, AZ\, 85257\, United States
CATEGORIES:Karaoke,KJ Skribbz
ATTACH;FMTTYPE=image/jpeg:https://www.maddhatterpro.com/wp-content/uploads/2026/02/eldo-Scottsdale.jpg
END:VEVENT
BEGIN:VEVENT
DTSTART;TZID=UTC:20301002T183000
DTEND;TZID=UTC:20301002T183000
DTSTAMP:20260424T194935
CREATED:20250704T002059Z
LAST-MODIFIED:20260206T144041Z
UID:10024743-1917196200-1917196200@www.maddhatterpro.com
SUMMARY:El Dorado Bar and Grill Karaoke
DESCRIPTION:South Scottsdale strikes again\, lets have some fun! El Dorado bar and grill hosting some of the best karaoke with KJ Skribbz! Early show so you can make mid-week work. 6:30pm-10:30pm You bring the tunes\,  we’ll bring the fun. \n8708 E McDowell Rd\, Scottsdale\, AZ 85257 \n+14809452606
URL:https://www.maddhatterpro.com/event/el-dorado-bar-and-grill-karaoke/2030-10-02/
LOCATION:El Dorado\, 8708 E McDowell Rd\, Scottsdale\, AZ 85257\, Scottsdale\, AZ\, 85257\, United States
CATEGORIES:Karaoke,KJ Skribbz
ATTACH;FMTTYPE=image/jpeg:https://www.maddhatterpro.com/wp-content/uploads/2026/02/eldo-Scottsdale.jpg
END:VEVENT
BEGIN:VEVENT
DTSTART;TZID=UTC:20301009T183000
DTEND;TZID=UTC:20301009T183000
DTSTAMP:20260424T194935
CREATED:20250704T002059Z
LAST-MODIFIED:20260206T144041Z
UID:10024744-1917801000-1917801000@www.maddhatterpro.com
SUMMARY:El Dorado Bar and Grill Karaoke
DESCRIPTION:South Scottsdale strikes again\, lets have some fun! El Dorado bar and grill hosting some of the best karaoke with KJ Skribbz! Early show so you can make mid-week work. 6:30pm-10:30pm You bring the tunes\,  we’ll bring the fun. \n8708 E McDowell Rd\, Scottsdale\, AZ 85257 \n+14809452606
URL:https://www.maddhatterpro.com/event/el-dorado-bar-and-grill-karaoke/2030-10-09/
LOCATION:El Dorado\, 8708 E McDowell Rd\, Scottsdale\, AZ 85257\, Scottsdale\, AZ\, 85257\, United States
CATEGORIES:Karaoke,KJ Skribbz
ATTACH;FMTTYPE=image/jpeg:https://www.maddhatterpro.com/wp-content/uploads/2026/02/eldo-Scottsdale.jpg
END:VEVENT
BEGIN:VEVENT
DTSTART;TZID=UTC:20301016T183000
DTEND;TZID=UTC:20301016T183000
DTSTAMP:20260424T194935
CREATED:20250704T002059Z
LAST-MODIFIED:20260206T144041Z
UID:10024745-1918405800-1918405800@www.maddhatterpro.com
SUMMARY:El Dorado Bar and Grill Karaoke
DESCRIPTION:South Scottsdale strikes again\, lets have some fun! El Dorado bar and grill hosting some of the best karaoke with KJ Skribbz! Early show so you can make mid-week work. 6:30pm-10:30pm You bring the tunes\,  we’ll bring the fun. \n8708 E McDowell Rd\, Scottsdale\, AZ 85257 \n+14809452606
URL:https://www.maddhatterpro.com/event/el-dorado-bar-and-grill-karaoke/2030-10-16/
LOCATION:El Dorado\, 8708 E McDowell Rd\, Scottsdale\, AZ 85257\, Scottsdale\, AZ\, 85257\, United States
CATEGORIES:Karaoke,KJ Skribbz
ATTACH;FMTTYPE=image/jpeg:https://www.maddhatterpro.com/wp-content/uploads/2026/02/eldo-Scottsdale.jpg
END:VEVENT
BEGIN:VEVENT
DTSTART;TZID=UTC:20301023T183000
DTEND;TZID=UTC:20301023T183000
DTSTAMP:20260424T194935
CREATED:20250704T002059Z
LAST-MODIFIED:20260206T144041Z
UID:10024746-1919010600-1919010600@www.maddhatterpro.com
SUMMARY:El Dorado Bar and Grill Karaoke
DESCRIPTION:South Scottsdale strikes again\, lets have some fun! El Dorado bar and grill hosting some of the best karaoke with KJ Skribbz! Early show so you can make mid-week work. 6:30pm-10:30pm You bring the tunes\,  we’ll bring the fun. \n8708 E McDowell Rd\, Scottsdale\, AZ 85257 \n+14809452606
URL:https://www.maddhatterpro.com/event/el-dorado-bar-and-grill-karaoke/2030-10-23/
LOCATION:El Dorado\, 8708 E McDowell Rd\, Scottsdale\, AZ 85257\, Scottsdale\, AZ\, 85257\, United States
CATEGORIES:Karaoke,KJ Skribbz
ATTACH;FMTTYPE=image/jpeg:https://www.maddhatterpro.com/wp-content/uploads/2026/02/eldo-Scottsdale.jpg
END:VEVENT
BEGIN:VEVENT
DTSTART;TZID=UTC:20301030T183000
DTEND;TZID=UTC:20301030T183000
DTSTAMP:20260424T194935
CREATED:20250704T002059Z
LAST-MODIFIED:20260206T144041Z
UID:10024747-1919615400-1919615400@www.maddhatterpro.com
SUMMARY:El Dorado Bar and Grill Karaoke
DESCRIPTION:South Scottsdale strikes again\, lets have some fun! El Dorado bar and grill hosting some of the best karaoke with KJ Skribbz! Early show so you can make mid-week work. 6:30pm-10:30pm You bring the tunes\,  we’ll bring the fun. \n8708 E McDowell Rd\, Scottsdale\, AZ 85257 \n+14809452606
URL:https://www.maddhatterpro.com/event/el-dorado-bar-and-grill-karaoke/2030-10-30/
LOCATION:El Dorado\, 8708 E McDowell Rd\, Scottsdale\, AZ 85257\, Scottsdale\, AZ\, 85257\, United States
CATEGORIES:Karaoke,KJ Skribbz
ATTACH;FMTTYPE=image/jpeg:https://www.maddhatterpro.com/wp-content/uploads/2026/02/eldo-Scottsdale.jpg
END:VEVENT
BEGIN:VEVENT
DTSTART;TZID=UTC:20301106T183000
DTEND;TZID=UTC:20301106T183000
DTSTAMP:20260424T194935
CREATED:20250704T002059Z
LAST-MODIFIED:20260206T144041Z
UID:10024748-1920220200-1920220200@www.maddhatterpro.com
SUMMARY:El Dorado Bar and Grill Karaoke
DESCRIPTION:South Scottsdale strikes again\, lets have some fun! El Dorado bar and grill hosting some of the best karaoke with KJ Skribbz! Early show so you can make mid-week work. 6:30pm-10:30pm You bring the tunes\,  we’ll bring the fun. \n8708 E McDowell Rd\, Scottsdale\, AZ 85257 \n+14809452606
URL:https://www.maddhatterpro.com/event/el-dorado-bar-and-grill-karaoke/2030-11-06/
LOCATION:El Dorado\, 8708 E McDowell Rd\, Scottsdale\, AZ 85257\, Scottsdale\, AZ\, 85257\, United States
CATEGORIES:Karaoke,KJ Skribbz
ATTACH;FMTTYPE=image/jpeg:https://www.maddhatterpro.com/wp-content/uploads/2026/02/eldo-Scottsdale.jpg
END:VEVENT
BEGIN:VEVENT
DTSTART;TZID=UTC:20301113T183000
DTEND;TZID=UTC:20301113T183000
DTSTAMP:20260424T194935
CREATED:20250704T002059Z
LAST-MODIFIED:20260206T144041Z
UID:10024749-1920825000-1920825000@www.maddhatterpro.com
SUMMARY:El Dorado Bar and Grill Karaoke
DESCRIPTION:South Scottsdale strikes again\, lets have some fun! El Dorado bar and grill hosting some of the best karaoke with KJ Skribbz! Early show so you can make mid-week work. 6:30pm-10:30pm You bring the tunes\,  we’ll bring the fun. \n8708 E McDowell Rd\, Scottsdale\, AZ 85257 \n+14809452606
URL:https://www.maddhatterpro.com/event/el-dorado-bar-and-grill-karaoke/2030-11-13/
LOCATION:El Dorado\, 8708 E McDowell Rd\, Scottsdale\, AZ 85257\, Scottsdale\, AZ\, 85257\, United States
CATEGORIES:Karaoke,KJ Skribbz
ATTACH;FMTTYPE=image/jpeg:https://www.maddhatterpro.com/wp-content/uploads/2026/02/eldo-Scottsdale.jpg
END:VEVENT
BEGIN:VEVENT
DTSTART;TZID=UTC:20301120T183000
DTEND;TZID=UTC:20301120T183000
DTSTAMP:20260424T194935
CREATED:20250704T002059Z
LAST-MODIFIED:20260206T144041Z
UID:10024750-1921429800-1921429800@www.maddhatterpro.com
SUMMARY:El Dorado Bar and Grill Karaoke
DESCRIPTION:South Scottsdale strikes again\, lets have some fun! El Dorado bar and grill hosting some of the best karaoke with KJ Skribbz! Early show so you can make mid-week work. 6:30pm-10:30pm You bring the tunes\,  we’ll bring the fun. \n8708 E McDowell Rd\, Scottsdale\, AZ 85257 \n+14809452606
URL:https://www.maddhatterpro.com/event/el-dorado-bar-and-grill-karaoke/2030-11-20/
LOCATION:El Dorado\, 8708 E McDowell Rd\, Scottsdale\, AZ 85257\, Scottsdale\, AZ\, 85257\, United States
CATEGORIES:Karaoke,KJ Skribbz
ATTACH;FMTTYPE=image/jpeg:https://www.maddhatterpro.com/wp-content/uploads/2026/02/eldo-Scottsdale.jpg
END:VEVENT
BEGIN:VEVENT
DTSTART;TZID=UTC:20301127T183000
DTEND;TZID=UTC:20301127T183000
DTSTAMP:20260424T194935
CREATED:20250704T002059Z
LAST-MODIFIED:20260206T144041Z
UID:10024751-1922034600-1922034600@www.maddhatterpro.com
SUMMARY:El Dorado Bar and Grill Karaoke
DESCRIPTION:South Scottsdale strikes again\, lets have some fun! El Dorado bar and grill hosting some of the best karaoke with KJ Skribbz! Early show so you can make mid-week work. 6:30pm-10:30pm You bring the tunes\,  we’ll bring the fun. \n8708 E McDowell Rd\, Scottsdale\, AZ 85257 \n+14809452606
URL:https://www.maddhatterpro.com/event/el-dorado-bar-and-grill-karaoke/2030-11-27/
LOCATION:El Dorado\, 8708 E McDowell Rd\, Scottsdale\, AZ 85257\, Scottsdale\, AZ\, 85257\, United States
CATEGORIES:Karaoke,KJ Skribbz
ATTACH;FMTTYPE=image/jpeg:https://www.maddhatterpro.com/wp-content/uploads/2026/02/eldo-Scottsdale.jpg
END:VEVENT
BEGIN:VEVENT
DTSTART;TZID=UTC:20301204T183000
DTEND;TZID=UTC:20301204T183000
DTSTAMP:20260424T194935
CREATED:20250704T002059Z
LAST-MODIFIED:20260206T144041Z
UID:10024752-1922639400-1922639400@www.maddhatterpro.com
SUMMARY:El Dorado Bar and Grill Karaoke
DESCRIPTION:South Scottsdale strikes again\, lets have some fun! El Dorado bar and grill hosting some of the best karaoke with KJ Skribbz! Early show so you can make mid-week work. 6:30pm-10:30pm You bring the tunes\,  we’ll bring the fun. \n8708 E McDowell Rd\, Scottsdale\, AZ 85257 \n+14809452606
URL:https://www.maddhatterpro.com/event/el-dorado-bar-and-grill-karaoke/2030-12-04/
LOCATION:El Dorado\, 8708 E McDowell Rd\, Scottsdale\, AZ 85257\, Scottsdale\, AZ\, 85257\, United States
CATEGORIES:Karaoke,KJ Skribbz
ATTACH;FMTTYPE=image/jpeg:https://www.maddhatterpro.com/wp-content/uploads/2026/02/eldo-Scottsdale.jpg
END:VEVENT
BEGIN:VEVENT
DTSTART;TZID=UTC:20301211T183000
DTEND;TZID=UTC:20301211T183000
DTSTAMP:20260424T194935
CREATED:20250704T002059Z
LAST-MODIFIED:20260206T144041Z
UID:10024753-1923244200-1923244200@www.maddhatterpro.com
SUMMARY:El Dorado Bar and Grill Karaoke
DESCRIPTION:South Scottsdale strikes again\, lets have some fun! El Dorado bar and grill hosting some of the best karaoke with KJ Skribbz! Early show so you can make mid-week work. 6:30pm-10:30pm You bring the tunes\,  we’ll bring the fun. \n8708 E McDowell Rd\, Scottsdale\, AZ 85257 \n+14809452606
URL:https://www.maddhatterpro.com/event/el-dorado-bar-and-grill-karaoke/2030-12-11/
LOCATION:El Dorado\, 8708 E McDowell Rd\, Scottsdale\, AZ 85257\, Scottsdale\, AZ\, 85257\, United States
CATEGORIES:Karaoke,KJ Skribbz
ATTACH;FMTTYPE=image/jpeg:https://www.maddhatterpro.com/wp-content/uploads/2026/02/eldo-Scottsdale.jpg
END:VEVENT
BEGIN:VEVENT
DTSTART;TZID=UTC:20301218T183000
DTEND;TZID=UTC:20301218T183000
DTSTAMP:20260424T194935
CREATED:20250704T002059Z
LAST-MODIFIED:20260206T144041Z
UID:10024754-1923849000-1923849000@www.maddhatterpro.com
SUMMARY:El Dorado Bar and Grill Karaoke
DESCRIPTION:South Scottsdale strikes again\, lets have some fun! El Dorado bar and grill hosting some of the best karaoke with KJ Skribbz! Early show so you can make mid-week work. 6:30pm-10:30pm You bring the tunes\,  we’ll bring the fun. \n8708 E McDowell Rd\, Scottsdale\, AZ 85257 \n+14809452606
URL:https://www.maddhatterpro.com/event/el-dorado-bar-and-grill-karaoke/2030-12-18/
LOCATION:El Dorado\, 8708 E McDowell Rd\, Scottsdale\, AZ 85257\, Scottsdale\, AZ\, 85257\, United States
CATEGORIES:Karaoke,KJ Skribbz
ATTACH;FMTTYPE=image/jpeg:https://www.maddhatterpro.com/wp-content/uploads/2026/02/eldo-Scottsdale.jpg
END:VEVENT
BEGIN:VEVENT
DTSTART;TZID=UTC:20301225T183000
DTEND;TZID=UTC:20301225T183000
DTSTAMP:20260424T194935
CREATED:20250704T002059Z
LAST-MODIFIED:20260206T144041Z
UID:10024755-1924453800-1924453800@www.maddhatterpro.com
SUMMARY:El Dorado Bar and Grill Karaoke
DESCRIPTION:South Scottsdale strikes again\, lets have some fun! El Dorado bar and grill hosting some of the best karaoke with KJ Skribbz! Early show so you can make mid-week work. 6:30pm-10:30pm You bring the tunes\,  we’ll bring the fun. \n8708 E McDowell Rd\, Scottsdale\, AZ 85257 \n+14809452606
URL:https://www.maddhatterpro.com/event/el-dorado-bar-and-grill-karaoke/2030-12-25/
LOCATION:El Dorado\, 8708 E McDowell Rd\, Scottsdale\, AZ 85257\, Scottsdale\, AZ\, 85257\, United States
CATEGORIES:Karaoke,KJ Skribbz
ATTACH;FMTTYPE=image/jpeg:https://www.maddhatterpro.com/wp-content/uploads/2026/02/eldo-Scottsdale.jpg
END:VEVENT
BEGIN:VEVENT
DTSTART;TZID=UTC:20310101T183000
DTEND;TZID=UTC:20310101T183000
DTSTAMP:20260424T194935
CREATED:20250704T002059Z
LAST-MODIFIED:20260206T144041Z
UID:10024756-1925058600-1925058600@www.maddhatterpro.com
SUMMARY:El Dorado Bar and Grill Karaoke
DESCRIPTION:South Scottsdale strikes again\, lets have some fun! El Dorado bar and grill hosting some of the best karaoke with KJ Skribbz! Early show so you can make mid-week work. 6:30pm-10:30pm You bring the tunes\,  we’ll bring the fun. \n8708 E McDowell Rd\, Scottsdale\, AZ 85257 \n+14809452606
URL:https://www.maddhatterpro.com/event/el-dorado-bar-and-grill-karaoke/2031-01-01/
LOCATION:El Dorado\, 8708 E McDowell Rd\, Scottsdale\, AZ 85257\, Scottsdale\, AZ\, 85257\, United States
CATEGORIES:Karaoke,KJ Skribbz
ATTACH;FMTTYPE=image/jpeg:https://www.maddhatterpro.com/wp-content/uploads/2026/02/eldo-Scottsdale.jpg
END:VEVENT
BEGIN:VEVENT
DTSTART;TZID=UTC:20310108T183000
DTEND;TZID=UTC:20310108T183000
DTSTAMP:20260424T194935
CREATED:20250704T002059Z
LAST-MODIFIED:20260206T144041Z
UID:10024757-1925663400-1925663400@www.maddhatterpro.com
SUMMARY:El Dorado Bar and Grill Karaoke
DESCRIPTION:South Scottsdale strikes again\, lets have some fun! El Dorado bar and grill hosting some of the best karaoke with KJ Skribbz! Early show so you can make mid-week work. 6:30pm-10:30pm You bring the tunes\,  we’ll bring the fun. \n8708 E McDowell Rd\, Scottsdale\, AZ 85257 \n+14809452606
URL:https://www.maddhatterpro.com/event/el-dorado-bar-and-grill-karaoke/2031-01-08/
LOCATION:El Dorado\, 8708 E McDowell Rd\, Scottsdale\, AZ 85257\, Scottsdale\, AZ\, 85257\, United States
CATEGORIES:Karaoke,KJ Skribbz
ATTACH;FMTTYPE=image/jpeg:https://www.maddhatterpro.com/wp-content/uploads/2026/02/eldo-Scottsdale.jpg
END:VEVENT
END:VCALENDAR