BEGIN:VCALENDAR
VERSION:2.0
PRODID:-//MaddHatterPro.com - ECPv6.15.20//NONSGML v1.0//EN
CALSCALE:GREGORIAN
METHOD:PUBLISH
X-WR-CALNAME:MaddHatterPro.com
X-ORIGINAL-URL:https://www.maddhatterpro.com
X-WR-CALDESC:Events for MaddHatterPro.com
REFRESH-INTERVAL;VALUE=DURATION:PT1H
X-Robots-Tag:noindex
X-PUBLISHED-TTL:PT1H
BEGIN:VTIMEZONE
TZID:UTC
BEGIN:STANDARD
TZOFFSETFROM:+0000
TZOFFSETTO:+0000
TZNAME:UTC
DTSTART:20250101T000000
END:STANDARD
END:VTIMEZONE
BEGIN:VEVENT
DTSTART;TZID=UTC:20260719T210000
DTEND;TZID=UTC:20260719T210000
DTSTAMP:20260423T185644
CREATED:20250703T234035Z
LAST-MODIFIED:20260206T144755Z
UID:10020728-1784494800-1784494800@www.maddhatterpro.com
SUMMARY:Boycott Bar Karaoke
DESCRIPTION:The award winning Boycott bar\, and MaddHatter. The most incredible\, supportive crowds. This bar is a treat. Come out with KJ Zondo and not only see\, but FEEL the hype. Good vibes only! \n4301 N 7th Ave\, Phoenix\, AZ 85013 \n+16028256240
URL:https://www.maddhatterpro.com/event/boycott-bar-karaoke/2026-07-19/
LOCATION:Boycott Bar\, 4301 N 7th Ave\, Phoenix\, AZ\, 85013\, United States
CATEGORIES:Karaoke,KJ Zondo
ATTACH;FMTTYPE=image/jpeg:https://www.maddhatterpro.com/wp-content/uploads/2026/02/boycott-PHX.jpg
END:VEVENT
BEGIN:VEVENT
DTSTART;TZID=UTC:20260726T210000
DTEND;TZID=UTC:20260726T210000
DTSTAMP:20260423T185644
CREATED:20250703T234035Z
LAST-MODIFIED:20260206T144755Z
UID:10020729-1785099600-1785099600@www.maddhatterpro.com
SUMMARY:Boycott Bar Karaoke
DESCRIPTION:The award winning Boycott bar\, and MaddHatter. The most incredible\, supportive crowds. This bar is a treat. Come out with KJ Zondo and not only see\, but FEEL the hype. Good vibes only! \n4301 N 7th Ave\, Phoenix\, AZ 85013 \n+16028256240
URL:https://www.maddhatterpro.com/event/boycott-bar-karaoke/2026-07-26/
LOCATION:Boycott Bar\, 4301 N 7th Ave\, Phoenix\, AZ\, 85013\, United States
CATEGORIES:Karaoke,KJ Zondo
ATTACH;FMTTYPE=image/jpeg:https://www.maddhatterpro.com/wp-content/uploads/2026/02/boycott-PHX.jpg
END:VEVENT
BEGIN:VEVENT
DTSTART;TZID=UTC:20260802T210000
DTEND;TZID=UTC:20260802T210000
DTSTAMP:20260423T185644
CREATED:20250703T234035Z
LAST-MODIFIED:20260206T144755Z
UID:10020730-1785704400-1785704400@www.maddhatterpro.com
SUMMARY:Boycott Bar Karaoke
DESCRIPTION:The award winning Boycott bar\, and MaddHatter. The most incredible\, supportive crowds. This bar is a treat. Come out with KJ Zondo and not only see\, but FEEL the hype. Good vibes only! \n4301 N 7th Ave\, Phoenix\, AZ 85013 \n+16028256240
URL:https://www.maddhatterpro.com/event/boycott-bar-karaoke/2026-08-02/
LOCATION:Boycott Bar\, 4301 N 7th Ave\, Phoenix\, AZ\, 85013\, United States
CATEGORIES:Karaoke,KJ Zondo
ATTACH;FMTTYPE=image/jpeg:https://www.maddhatterpro.com/wp-content/uploads/2026/02/boycott-PHX.jpg
END:VEVENT
BEGIN:VEVENT
DTSTART;TZID=UTC:20260809T210000
DTEND;TZID=UTC:20260809T210000
DTSTAMP:20260423T185644
CREATED:20250703T234035Z
LAST-MODIFIED:20260206T144755Z
UID:10020731-1786309200-1786309200@www.maddhatterpro.com
SUMMARY:Boycott Bar Karaoke
DESCRIPTION:The award winning Boycott bar\, and MaddHatter. The most incredible\, supportive crowds. This bar is a treat. Come out with KJ Zondo and not only see\, but FEEL the hype. Good vibes only! \n4301 N 7th Ave\, Phoenix\, AZ 85013 \n+16028256240
URL:https://www.maddhatterpro.com/event/boycott-bar-karaoke/2026-08-09/
LOCATION:Boycott Bar\, 4301 N 7th Ave\, Phoenix\, AZ\, 85013\, United States
CATEGORIES:Karaoke,KJ Zondo
ATTACH;FMTTYPE=image/jpeg:https://www.maddhatterpro.com/wp-content/uploads/2026/02/boycott-PHX.jpg
END:VEVENT
BEGIN:VEVENT
DTSTART;TZID=UTC:20260816T210000
DTEND;TZID=UTC:20260816T210000
DTSTAMP:20260423T185644
CREATED:20250703T234035Z
LAST-MODIFIED:20260206T144755Z
UID:10020732-1786914000-1786914000@www.maddhatterpro.com
SUMMARY:Boycott Bar Karaoke
DESCRIPTION:The award winning Boycott bar\, and MaddHatter. The most incredible\, supportive crowds. This bar is a treat. Come out with KJ Zondo and not only see\, but FEEL the hype. Good vibes only! \n4301 N 7th Ave\, Phoenix\, AZ 85013 \n+16028256240
URL:https://www.maddhatterpro.com/event/boycott-bar-karaoke/2026-08-16/
LOCATION:Boycott Bar\, 4301 N 7th Ave\, Phoenix\, AZ\, 85013\, United States
CATEGORIES:Karaoke,KJ Zondo
ATTACH;FMTTYPE=image/jpeg:https://www.maddhatterpro.com/wp-content/uploads/2026/02/boycott-PHX.jpg
END:VEVENT
BEGIN:VEVENT
DTSTART;TZID=UTC:20260823T210000
DTEND;TZID=UTC:20260823T210000
DTSTAMP:20260423T185644
CREATED:20250703T234035Z
LAST-MODIFIED:20260206T144755Z
UID:10020733-1787518800-1787518800@www.maddhatterpro.com
SUMMARY:Boycott Bar Karaoke
DESCRIPTION:The award winning Boycott bar\, and MaddHatter. The most incredible\, supportive crowds. This bar is a treat. Come out with KJ Zondo and not only see\, but FEEL the hype. Good vibes only! \n4301 N 7th Ave\, Phoenix\, AZ 85013 \n+16028256240
URL:https://www.maddhatterpro.com/event/boycott-bar-karaoke/2026-08-23/
LOCATION:Boycott Bar\, 4301 N 7th Ave\, Phoenix\, AZ\, 85013\, United States
CATEGORIES:Karaoke,KJ Zondo
ATTACH;FMTTYPE=image/jpeg:https://www.maddhatterpro.com/wp-content/uploads/2026/02/boycott-PHX.jpg
END:VEVENT
BEGIN:VEVENT
DTSTART;TZID=UTC:20260830T210000
DTEND;TZID=UTC:20260830T210000
DTSTAMP:20260423T185644
CREATED:20250703T234035Z
LAST-MODIFIED:20260206T144755Z
UID:10020734-1788123600-1788123600@www.maddhatterpro.com
SUMMARY:Boycott Bar Karaoke
DESCRIPTION:The award winning Boycott bar\, and MaddHatter. The most incredible\, supportive crowds. This bar is a treat. Come out with KJ Zondo and not only see\, but FEEL the hype. Good vibes only! \n4301 N 7th Ave\, Phoenix\, AZ 85013 \n+16028256240
URL:https://www.maddhatterpro.com/event/boycott-bar-karaoke/2026-08-30/
LOCATION:Boycott Bar\, 4301 N 7th Ave\, Phoenix\, AZ\, 85013\, United States
CATEGORIES:Karaoke,KJ Zondo
ATTACH;FMTTYPE=image/jpeg:https://www.maddhatterpro.com/wp-content/uploads/2026/02/boycott-PHX.jpg
END:VEVENT
BEGIN:VEVENT
DTSTART;TZID=UTC:20260906T210000
DTEND;TZID=UTC:20260906T210000
DTSTAMP:20260423T185644
CREATED:20250703T234035Z
LAST-MODIFIED:20260206T144755Z
UID:10020735-1788728400-1788728400@www.maddhatterpro.com
SUMMARY:Boycott Bar Karaoke
DESCRIPTION:The award winning Boycott bar\, and MaddHatter. The most incredible\, supportive crowds. This bar is a treat. Come out with KJ Zondo and not only see\, but FEEL the hype. Good vibes only! \n4301 N 7th Ave\, Phoenix\, AZ 85013 \n+16028256240
URL:https://www.maddhatterpro.com/event/boycott-bar-karaoke/2026-09-06/
LOCATION:Boycott Bar\, 4301 N 7th Ave\, Phoenix\, AZ\, 85013\, United States
CATEGORIES:Karaoke,KJ Zondo
ATTACH;FMTTYPE=image/jpeg:https://www.maddhatterpro.com/wp-content/uploads/2026/02/boycott-PHX.jpg
END:VEVENT
BEGIN:VEVENT
DTSTART;TZID=UTC:20260913T210000
DTEND;TZID=UTC:20260913T210000
DTSTAMP:20260423T185644
CREATED:20250703T234035Z
LAST-MODIFIED:20260206T144755Z
UID:10020736-1789333200-1789333200@www.maddhatterpro.com
SUMMARY:Boycott Bar Karaoke
DESCRIPTION:The award winning Boycott bar\, and MaddHatter. The most incredible\, supportive crowds. This bar is a treat. Come out with KJ Zondo and not only see\, but FEEL the hype. Good vibes only! \n4301 N 7th Ave\, Phoenix\, AZ 85013 \n+16028256240
URL:https://www.maddhatterpro.com/event/boycott-bar-karaoke/2026-09-13/
LOCATION:Boycott Bar\, 4301 N 7th Ave\, Phoenix\, AZ\, 85013\, United States
CATEGORIES:Karaoke,KJ Zondo
ATTACH;FMTTYPE=image/jpeg:https://www.maddhatterpro.com/wp-content/uploads/2026/02/boycott-PHX.jpg
END:VEVENT
BEGIN:VEVENT
DTSTART;TZID=UTC:20260920T210000
DTEND;TZID=UTC:20260920T210000
DTSTAMP:20260423T185644
CREATED:20250703T234035Z
LAST-MODIFIED:20260206T144755Z
UID:10020737-1789938000-1789938000@www.maddhatterpro.com
SUMMARY:Boycott Bar Karaoke
DESCRIPTION:The award winning Boycott bar\, and MaddHatter. The most incredible\, supportive crowds. This bar is a treat. Come out with KJ Zondo and not only see\, but FEEL the hype. Good vibes only! \n4301 N 7th Ave\, Phoenix\, AZ 85013 \n+16028256240
URL:https://www.maddhatterpro.com/event/boycott-bar-karaoke/2026-09-20/
LOCATION:Boycott Bar\, 4301 N 7th Ave\, Phoenix\, AZ\, 85013\, United States
CATEGORIES:Karaoke,KJ Zondo
ATTACH;FMTTYPE=image/jpeg:https://www.maddhatterpro.com/wp-content/uploads/2026/02/boycott-PHX.jpg
END:VEVENT
BEGIN:VEVENT
DTSTART;TZID=UTC:20260927T210000
DTEND;TZID=UTC:20260927T210000
DTSTAMP:20260423T185644
CREATED:20250703T234035Z
LAST-MODIFIED:20260206T144755Z
UID:10020738-1790542800-1790542800@www.maddhatterpro.com
SUMMARY:Boycott Bar Karaoke
DESCRIPTION:The award winning Boycott bar\, and MaddHatter. The most incredible\, supportive crowds. This bar is a treat. Come out with KJ Zondo and not only see\, but FEEL the hype. Good vibes only! \n4301 N 7th Ave\, Phoenix\, AZ 85013 \n+16028256240
URL:https://www.maddhatterpro.com/event/boycott-bar-karaoke/2026-09-27/
LOCATION:Boycott Bar\, 4301 N 7th Ave\, Phoenix\, AZ\, 85013\, United States
CATEGORIES:Karaoke,KJ Zondo
ATTACH;FMTTYPE=image/jpeg:https://www.maddhatterpro.com/wp-content/uploads/2026/02/boycott-PHX.jpg
END:VEVENT
BEGIN:VEVENT
DTSTART;TZID=UTC:20261004T210000
DTEND;TZID=UTC:20261004T210000
DTSTAMP:20260423T185644
CREATED:20250703T234035Z
LAST-MODIFIED:20260206T144755Z
UID:10020739-1791147600-1791147600@www.maddhatterpro.com
SUMMARY:Boycott Bar Karaoke
DESCRIPTION:The award winning Boycott bar\, and MaddHatter. The most incredible\, supportive crowds. This bar is a treat. Come out with KJ Zondo and not only see\, but FEEL the hype. Good vibes only! \n4301 N 7th Ave\, Phoenix\, AZ 85013 \n+16028256240
URL:https://www.maddhatterpro.com/event/boycott-bar-karaoke/2026-10-04/
LOCATION:Boycott Bar\, 4301 N 7th Ave\, Phoenix\, AZ\, 85013\, United States
CATEGORIES:Karaoke,KJ Zondo
ATTACH;FMTTYPE=image/jpeg:https://www.maddhatterpro.com/wp-content/uploads/2026/02/boycott-PHX.jpg
END:VEVENT
BEGIN:VEVENT
DTSTART;TZID=UTC:20261011T210000
DTEND;TZID=UTC:20261011T210000
DTSTAMP:20260423T185644
CREATED:20250703T234035Z
LAST-MODIFIED:20260206T144755Z
UID:10020740-1791752400-1791752400@www.maddhatterpro.com
SUMMARY:Boycott Bar Karaoke
DESCRIPTION:The award winning Boycott bar\, and MaddHatter. The most incredible\, supportive crowds. This bar is a treat. Come out with KJ Zondo and not only see\, but FEEL the hype. Good vibes only! \n4301 N 7th Ave\, Phoenix\, AZ 85013 \n+16028256240
URL:https://www.maddhatterpro.com/event/boycott-bar-karaoke/2026-10-11/
LOCATION:Boycott Bar\, 4301 N 7th Ave\, Phoenix\, AZ\, 85013\, United States
CATEGORIES:Karaoke,KJ Zondo
ATTACH;FMTTYPE=image/jpeg:https://www.maddhatterpro.com/wp-content/uploads/2026/02/boycott-PHX.jpg
END:VEVENT
BEGIN:VEVENT
DTSTART;TZID=UTC:20261018T210000
DTEND;TZID=UTC:20261018T210000
DTSTAMP:20260423T185644
CREATED:20250703T234035Z
LAST-MODIFIED:20260206T144755Z
UID:10020741-1792357200-1792357200@www.maddhatterpro.com
SUMMARY:Boycott Bar Karaoke
DESCRIPTION:The award winning Boycott bar\, and MaddHatter. The most incredible\, supportive crowds. This bar is a treat. Come out with KJ Zondo and not only see\, but FEEL the hype. Good vibes only! \n4301 N 7th Ave\, Phoenix\, AZ 85013 \n+16028256240
URL:https://www.maddhatterpro.com/event/boycott-bar-karaoke/2026-10-18/
LOCATION:Boycott Bar\, 4301 N 7th Ave\, Phoenix\, AZ\, 85013\, United States
CATEGORIES:Karaoke,KJ Zondo
ATTACH;FMTTYPE=image/jpeg:https://www.maddhatterpro.com/wp-content/uploads/2026/02/boycott-PHX.jpg
END:VEVENT
BEGIN:VEVENT
DTSTART;TZID=UTC:20261025T210000
DTEND;TZID=UTC:20261025T210000
DTSTAMP:20260423T185644
CREATED:20250703T234035Z
LAST-MODIFIED:20260206T144755Z
UID:10020742-1792962000-1792962000@www.maddhatterpro.com
SUMMARY:Boycott Bar Karaoke
DESCRIPTION:The award winning Boycott bar\, and MaddHatter. The most incredible\, supportive crowds. This bar is a treat. Come out with KJ Zondo and not only see\, but FEEL the hype. Good vibes only! \n4301 N 7th Ave\, Phoenix\, AZ 85013 \n+16028256240
URL:https://www.maddhatterpro.com/event/boycott-bar-karaoke/2026-10-25/
LOCATION:Boycott Bar\, 4301 N 7th Ave\, Phoenix\, AZ\, 85013\, United States
CATEGORIES:Karaoke,KJ Zondo
ATTACH;FMTTYPE=image/jpeg:https://www.maddhatterpro.com/wp-content/uploads/2026/02/boycott-PHX.jpg
END:VEVENT
BEGIN:VEVENT
DTSTART;TZID=UTC:20261101T210000
DTEND;TZID=UTC:20261101T210000
DTSTAMP:20260423T185644
CREATED:20250703T234035Z
LAST-MODIFIED:20260206T144755Z
UID:10020743-1793566800-1793566800@www.maddhatterpro.com
SUMMARY:Boycott Bar Karaoke
DESCRIPTION:The award winning Boycott bar\, and MaddHatter. The most incredible\, supportive crowds. This bar is a treat. Come out with KJ Zondo and not only see\, but FEEL the hype. Good vibes only! \n4301 N 7th Ave\, Phoenix\, AZ 85013 \n+16028256240
URL:https://www.maddhatterpro.com/event/boycott-bar-karaoke/2026-11-01/
LOCATION:Boycott Bar\, 4301 N 7th Ave\, Phoenix\, AZ\, 85013\, United States
CATEGORIES:Karaoke,KJ Zondo
ATTACH;FMTTYPE=image/jpeg:https://www.maddhatterpro.com/wp-content/uploads/2026/02/boycott-PHX.jpg
END:VEVENT
BEGIN:VEVENT
DTSTART;TZID=UTC:20261108T210000
DTEND;TZID=UTC:20261108T210000
DTSTAMP:20260423T185644
CREATED:20250703T234035Z
LAST-MODIFIED:20260206T144755Z
UID:10020744-1794171600-1794171600@www.maddhatterpro.com
SUMMARY:Boycott Bar Karaoke
DESCRIPTION:The award winning Boycott bar\, and MaddHatter. The most incredible\, supportive crowds. This bar is a treat. Come out with KJ Zondo and not only see\, but FEEL the hype. Good vibes only! \n4301 N 7th Ave\, Phoenix\, AZ 85013 \n+16028256240
URL:https://www.maddhatterpro.com/event/boycott-bar-karaoke/2026-11-08/
LOCATION:Boycott Bar\, 4301 N 7th Ave\, Phoenix\, AZ\, 85013\, United States
CATEGORIES:Karaoke,KJ Zondo
ATTACH;FMTTYPE=image/jpeg:https://www.maddhatterpro.com/wp-content/uploads/2026/02/boycott-PHX.jpg
END:VEVENT
BEGIN:VEVENT
DTSTART;TZID=UTC:20261115T210000
DTEND;TZID=UTC:20261115T210000
DTSTAMP:20260423T185644
CREATED:20250703T234035Z
LAST-MODIFIED:20260206T144755Z
UID:10020745-1794776400-1794776400@www.maddhatterpro.com
SUMMARY:Boycott Bar Karaoke
DESCRIPTION:The award winning Boycott bar\, and MaddHatter. The most incredible\, supportive crowds. This bar is a treat. Come out with KJ Zondo and not only see\, but FEEL the hype. Good vibes only! \n4301 N 7th Ave\, Phoenix\, AZ 85013 \n+16028256240
URL:https://www.maddhatterpro.com/event/boycott-bar-karaoke/2026-11-15/
LOCATION:Boycott Bar\, 4301 N 7th Ave\, Phoenix\, AZ\, 85013\, United States
CATEGORIES:Karaoke,KJ Zondo
ATTACH;FMTTYPE=image/jpeg:https://www.maddhatterpro.com/wp-content/uploads/2026/02/boycott-PHX.jpg
END:VEVENT
BEGIN:VEVENT
DTSTART;TZID=UTC:20261122T210000
DTEND;TZID=UTC:20261122T210000
DTSTAMP:20260423T185644
CREATED:20250703T234035Z
LAST-MODIFIED:20260206T144755Z
UID:10020746-1795381200-1795381200@www.maddhatterpro.com
SUMMARY:Boycott Bar Karaoke
DESCRIPTION:The award winning Boycott bar\, and MaddHatter. The most incredible\, supportive crowds. This bar is a treat. Come out with KJ Zondo and not only see\, but FEEL the hype. Good vibes only! \n4301 N 7th Ave\, Phoenix\, AZ 85013 \n+16028256240
URL:https://www.maddhatterpro.com/event/boycott-bar-karaoke/2026-11-22/
LOCATION:Boycott Bar\, 4301 N 7th Ave\, Phoenix\, AZ\, 85013\, United States
CATEGORIES:Karaoke,KJ Zondo
ATTACH;FMTTYPE=image/jpeg:https://www.maddhatterpro.com/wp-content/uploads/2026/02/boycott-PHX.jpg
END:VEVENT
BEGIN:VEVENT
DTSTART;TZID=UTC:20261129T210000
DTEND;TZID=UTC:20261129T210000
DTSTAMP:20260423T185644
CREATED:20250703T234035Z
LAST-MODIFIED:20260206T144755Z
UID:10020747-1795986000-1795986000@www.maddhatterpro.com
SUMMARY:Boycott Bar Karaoke
DESCRIPTION:The award winning Boycott bar\, and MaddHatter. The most incredible\, supportive crowds. This bar is a treat. Come out with KJ Zondo and not only see\, but FEEL the hype. Good vibes only! \n4301 N 7th Ave\, Phoenix\, AZ 85013 \n+16028256240
URL:https://www.maddhatterpro.com/event/boycott-bar-karaoke/2026-11-29/
LOCATION:Boycott Bar\, 4301 N 7th Ave\, Phoenix\, AZ\, 85013\, United States
CATEGORIES:Karaoke,KJ Zondo
ATTACH;FMTTYPE=image/jpeg:https://www.maddhatterpro.com/wp-content/uploads/2026/02/boycott-PHX.jpg
END:VEVENT
BEGIN:VEVENT
DTSTART;TZID=UTC:20261206T210000
DTEND;TZID=UTC:20261206T210000
DTSTAMP:20260423T185644
CREATED:20250703T234035Z
LAST-MODIFIED:20260206T144755Z
UID:10020748-1796590800-1796590800@www.maddhatterpro.com
SUMMARY:Boycott Bar Karaoke
DESCRIPTION:The award winning Boycott bar\, and MaddHatter. The most incredible\, supportive crowds. This bar is a treat. Come out with KJ Zondo and not only see\, but FEEL the hype. Good vibes only! \n4301 N 7th Ave\, Phoenix\, AZ 85013 \n+16028256240
URL:https://www.maddhatterpro.com/event/boycott-bar-karaoke/2026-12-06/
LOCATION:Boycott Bar\, 4301 N 7th Ave\, Phoenix\, AZ\, 85013\, United States
CATEGORIES:Karaoke,KJ Zondo
ATTACH;FMTTYPE=image/jpeg:https://www.maddhatterpro.com/wp-content/uploads/2026/02/boycott-PHX.jpg
END:VEVENT
BEGIN:VEVENT
DTSTART;TZID=UTC:20261213T210000
DTEND;TZID=UTC:20261213T210000
DTSTAMP:20260423T185644
CREATED:20250703T234035Z
LAST-MODIFIED:20260206T144755Z
UID:10020749-1797195600-1797195600@www.maddhatterpro.com
SUMMARY:Boycott Bar Karaoke
DESCRIPTION:The award winning Boycott bar\, and MaddHatter. The most incredible\, supportive crowds. This bar is a treat. Come out with KJ Zondo and not only see\, but FEEL the hype. Good vibes only! \n4301 N 7th Ave\, Phoenix\, AZ 85013 \n+16028256240
URL:https://www.maddhatterpro.com/event/boycott-bar-karaoke/2026-12-13/
LOCATION:Boycott Bar\, 4301 N 7th Ave\, Phoenix\, AZ\, 85013\, United States
CATEGORIES:Karaoke,KJ Zondo
ATTACH;FMTTYPE=image/jpeg:https://www.maddhatterpro.com/wp-content/uploads/2026/02/boycott-PHX.jpg
END:VEVENT
BEGIN:VEVENT
DTSTART;TZID=UTC:20261220T210000
DTEND;TZID=UTC:20261220T210000
DTSTAMP:20260423T185644
CREATED:20250703T234035Z
LAST-MODIFIED:20260206T144755Z
UID:10020750-1797800400-1797800400@www.maddhatterpro.com
SUMMARY:Boycott Bar Karaoke
DESCRIPTION:The award winning Boycott bar\, and MaddHatter. The most incredible\, supportive crowds. This bar is a treat. Come out with KJ Zondo and not only see\, but FEEL the hype. Good vibes only! \n4301 N 7th Ave\, Phoenix\, AZ 85013 \n+16028256240
URL:https://www.maddhatterpro.com/event/boycott-bar-karaoke/2026-12-20/
LOCATION:Boycott Bar\, 4301 N 7th Ave\, Phoenix\, AZ\, 85013\, United States
CATEGORIES:Karaoke,KJ Zondo
ATTACH;FMTTYPE=image/jpeg:https://www.maddhatterpro.com/wp-content/uploads/2026/02/boycott-PHX.jpg
END:VEVENT
BEGIN:VEVENT
DTSTART;TZID=UTC:20261227T210000
DTEND;TZID=UTC:20261227T210000
DTSTAMP:20260423T185644
CREATED:20250703T234035Z
LAST-MODIFIED:20260206T144755Z
UID:10020751-1798405200-1798405200@www.maddhatterpro.com
SUMMARY:Boycott Bar Karaoke
DESCRIPTION:The award winning Boycott bar\, and MaddHatter. The most incredible\, supportive crowds. This bar is a treat. Come out with KJ Zondo and not only see\, but FEEL the hype. Good vibes only! \n4301 N 7th Ave\, Phoenix\, AZ 85013 \n+16028256240
URL:https://www.maddhatterpro.com/event/boycott-bar-karaoke/2026-12-27/
LOCATION:Boycott Bar\, 4301 N 7th Ave\, Phoenix\, AZ\, 85013\, United States
CATEGORIES:Karaoke,KJ Zondo
ATTACH;FMTTYPE=image/jpeg:https://www.maddhatterpro.com/wp-content/uploads/2026/02/boycott-PHX.jpg
END:VEVENT
BEGIN:VEVENT
DTSTART;TZID=UTC:20270103T210000
DTEND;TZID=UTC:20270103T210000
DTSTAMP:20260423T185644
CREATED:20250703T234035Z
LAST-MODIFIED:20260206T144755Z
UID:10020752-1799010000-1799010000@www.maddhatterpro.com
SUMMARY:Boycott Bar Karaoke
DESCRIPTION:The award winning Boycott bar\, and MaddHatter. The most incredible\, supportive crowds. This bar is a treat. Come out with KJ Zondo and not only see\, but FEEL the hype. Good vibes only! \n4301 N 7th Ave\, Phoenix\, AZ 85013 \n+16028256240
URL:https://www.maddhatterpro.com/event/boycott-bar-karaoke/2027-01-03/
LOCATION:Boycott Bar\, 4301 N 7th Ave\, Phoenix\, AZ\, 85013\, United States
CATEGORIES:Karaoke,KJ Zondo
ATTACH;FMTTYPE=image/jpeg:https://www.maddhatterpro.com/wp-content/uploads/2026/02/boycott-PHX.jpg
END:VEVENT
BEGIN:VEVENT
DTSTART;TZID=UTC:20270110T210000
DTEND;TZID=UTC:20270110T210000
DTSTAMP:20260423T185644
CREATED:20250703T234035Z
LAST-MODIFIED:20260206T144755Z
UID:10020753-1799614800-1799614800@www.maddhatterpro.com
SUMMARY:Boycott Bar Karaoke
DESCRIPTION:The award winning Boycott bar\, and MaddHatter. The most incredible\, supportive crowds. This bar is a treat. Come out with KJ Zondo and not only see\, but FEEL the hype. Good vibes only! \n4301 N 7th Ave\, Phoenix\, AZ 85013 \n+16028256240
URL:https://www.maddhatterpro.com/event/boycott-bar-karaoke/2027-01-10/
LOCATION:Boycott Bar\, 4301 N 7th Ave\, Phoenix\, AZ\, 85013\, United States
CATEGORIES:Karaoke,KJ Zondo
ATTACH;FMTTYPE=image/jpeg:https://www.maddhatterpro.com/wp-content/uploads/2026/02/boycott-PHX.jpg
END:VEVENT
BEGIN:VEVENT
DTSTART;TZID=UTC:20270117T210000
DTEND;TZID=UTC:20270117T210000
DTSTAMP:20260423T185644
CREATED:20250703T234035Z
LAST-MODIFIED:20260206T144755Z
UID:10020754-1800219600-1800219600@www.maddhatterpro.com
SUMMARY:Boycott Bar Karaoke
DESCRIPTION:The award winning Boycott bar\, and MaddHatter. The most incredible\, supportive crowds. This bar is a treat. Come out with KJ Zondo and not only see\, but FEEL the hype. Good vibes only! \n4301 N 7th Ave\, Phoenix\, AZ 85013 \n+16028256240
URL:https://www.maddhatterpro.com/event/boycott-bar-karaoke/2027-01-17/
LOCATION:Boycott Bar\, 4301 N 7th Ave\, Phoenix\, AZ\, 85013\, United States
CATEGORIES:Karaoke,KJ Zondo
ATTACH;FMTTYPE=image/jpeg:https://www.maddhatterpro.com/wp-content/uploads/2026/02/boycott-PHX.jpg
END:VEVENT
BEGIN:VEVENT
DTSTART;TZID=UTC:20270124T210000
DTEND;TZID=UTC:20270124T210000
DTSTAMP:20260423T185644
CREATED:20250703T234035Z
LAST-MODIFIED:20260206T144755Z
UID:10020755-1800824400-1800824400@www.maddhatterpro.com
SUMMARY:Boycott Bar Karaoke
DESCRIPTION:The award winning Boycott bar\, and MaddHatter. The most incredible\, supportive crowds. This bar is a treat. Come out with KJ Zondo and not only see\, but FEEL the hype. Good vibes only! \n4301 N 7th Ave\, Phoenix\, AZ 85013 \n+16028256240
URL:https://www.maddhatterpro.com/event/boycott-bar-karaoke/2027-01-24/
LOCATION:Boycott Bar\, 4301 N 7th Ave\, Phoenix\, AZ\, 85013\, United States
CATEGORIES:Karaoke,KJ Zondo
ATTACH;FMTTYPE=image/jpeg:https://www.maddhatterpro.com/wp-content/uploads/2026/02/boycott-PHX.jpg
END:VEVENT
BEGIN:VEVENT
DTSTART;TZID=UTC:20270131T210000
DTEND;TZID=UTC:20270131T210000
DTSTAMP:20260423T185644
CREATED:20250703T234035Z
LAST-MODIFIED:20260206T144755Z
UID:10020756-1801429200-1801429200@www.maddhatterpro.com
SUMMARY:Boycott Bar Karaoke
DESCRIPTION:The award winning Boycott bar\, and MaddHatter. The most incredible\, supportive crowds. This bar is a treat. Come out with KJ Zondo and not only see\, but FEEL the hype. Good vibes only! \n4301 N 7th Ave\, Phoenix\, AZ 85013 \n+16028256240
URL:https://www.maddhatterpro.com/event/boycott-bar-karaoke/2027-01-31/
LOCATION:Boycott Bar\, 4301 N 7th Ave\, Phoenix\, AZ\, 85013\, United States
CATEGORIES:Karaoke,KJ Zondo
ATTACH;FMTTYPE=image/jpeg:https://www.maddhatterpro.com/wp-content/uploads/2026/02/boycott-PHX.jpg
END:VEVENT
BEGIN:VEVENT
DTSTART;TZID=UTC:20270207T210000
DTEND;TZID=UTC:20270207T210000
DTSTAMP:20260423T185644
CREATED:20250703T234035Z
LAST-MODIFIED:20260206T144755Z
UID:10020757-1802034000-1802034000@www.maddhatterpro.com
SUMMARY:Boycott Bar Karaoke
DESCRIPTION:The award winning Boycott bar\, and MaddHatter. The most incredible\, supportive crowds. This bar is a treat. Come out with KJ Zondo and not only see\, but FEEL the hype. Good vibes only! \n4301 N 7th Ave\, Phoenix\, AZ 85013 \n+16028256240
URL:https://www.maddhatterpro.com/event/boycott-bar-karaoke/2027-02-07/
LOCATION:Boycott Bar\, 4301 N 7th Ave\, Phoenix\, AZ\, 85013\, United States
CATEGORIES:Karaoke,KJ Zondo
ATTACH;FMTTYPE=image/jpeg:https://www.maddhatterpro.com/wp-content/uploads/2026/02/boycott-PHX.jpg
END:VEVENT
END:VCALENDAR