BEGIN:VCALENDAR
VERSION:2.0
PRODID:-//MaddHatterPro.com - ECPv6.15.20//NONSGML v1.0//EN
CALSCALE:GREGORIAN
METHOD:PUBLISH
X-ORIGINAL-URL:https://www.maddhatterpro.com
X-WR-CALDESC:Events for MaddHatterPro.com
REFRESH-INTERVAL;VALUE=DURATION:PT1H
X-Robots-Tag:noindex
X-PUBLISHED-TTL:PT1H
BEGIN:VTIMEZONE
TZID:UTC
BEGIN:STANDARD
TZOFFSETFROM:+0000
TZOFFSETTO:+0000
TZNAME:UTC
DTSTART:20240101T000000
END:STANDARD
END:VTIMEZONE
BEGIN:VEVENT
DTSTART;TZID=UTC:20251104T200000
DTEND;TZID=UTC:20251104T200000
DTSTAMP:20260424T012852
CREATED:20250704T001639Z
LAST-MODIFIED:20260206T143841Z
UID:10022017-1762286400-1762286400@www.maddhatterpro.com
SUMMARY:Beast of Bourbon Karaoke
DESCRIPTION:Great open atmosphere. Come out and sing your heart out with KJ Skribbz\, Yes\, some songs are off limits\, but its a blast anyway and there are plenty of songs to sing. Click following link to see what the venue is NOT licensed for. Please do NOT request 8pm-Midnight \n2235 S Power Rd #127\, Mesa\, AZ 85209 \n+14804261005
URL:https://www.maddhatterpro.com/event/beast-of-bourbon-karaoke/2025-11-04/
LOCATION:Beast of Bourbon\, 2235 S Power Rd #127\, Mesa\, AZ\, 85209\, United States
CATEGORIES:Karaoke,KJ Skribbz
ATTACH;FMTTYPE=image/jpeg:https://www.maddhatterpro.com/wp-content/uploads/2026/02/Beast-Mesa.jpg
END:VEVENT
BEGIN:VEVENT
DTSTART;TZID=UTC:20251101T200000
DTEND;TZID=UTC:20251101T200000
DTSTAMP:20260424T012852
CREATED:20250704T001639Z
LAST-MODIFIED:20260206T143841Z
UID:10022016-1762027200-1762027200@www.maddhatterpro.com
SUMMARY:Beast of Bourbon Karaoke
DESCRIPTION:Great open atmosphere. Come out and sing your heart out with KJ Skribbz\, Yes\, some songs are off limits\, but its a blast anyway and there are plenty of songs to sing. Click following link to see what the venue is NOT licensed for. Please do NOT request 8pm-Midnight \n2235 S Power Rd #127\, Mesa\, AZ 85209 \n+14804261005
URL:https://www.maddhatterpro.com/event/beast-of-bourbon-karaoke/2025-11-01/
LOCATION:Beast of Bourbon\, 2235 S Power Rd #127\, Mesa\, AZ\, 85209\, United States
CATEGORIES:Karaoke,KJ Skribbz
ATTACH;FMTTYPE=image/jpeg:https://www.maddhatterpro.com/wp-content/uploads/2026/02/Beast-Mesa.jpg
END:VEVENT
BEGIN:VEVENT
DTSTART;TZID=UTC:20251028T200000
DTEND;TZID=UTC:20251028T200000
DTSTAMP:20260424T012852
CREATED:20250704T001639Z
LAST-MODIFIED:20260206T143841Z
UID:10022015-1761681600-1761681600@www.maddhatterpro.com
SUMMARY:Beast of Bourbon Karaoke
DESCRIPTION:Great open atmosphere. Come out and sing your heart out with KJ Skribbz\, Yes\, some songs are off limits\, but its a blast anyway and there are plenty of songs to sing. Click following link to see what the venue is NOT licensed for. Please do NOT request 8pm-Midnight \n2235 S Power Rd #127\, Mesa\, AZ 85209 \n+14804261005
URL:https://www.maddhatterpro.com/event/beast-of-bourbon-karaoke/2025-10-28/
LOCATION:Beast of Bourbon\, 2235 S Power Rd #127\, Mesa\, AZ\, 85209\, United States
CATEGORIES:Karaoke,KJ Skribbz
ATTACH;FMTTYPE=image/jpeg:https://www.maddhatterpro.com/wp-content/uploads/2026/02/Beast-Mesa.jpg
END:VEVENT
BEGIN:VEVENT
DTSTART;TZID=UTC:20251025T200000
DTEND;TZID=UTC:20251025T200000
DTSTAMP:20260424T012852
CREATED:20250704T001639Z
LAST-MODIFIED:20260206T143841Z
UID:10022014-1761422400-1761422400@www.maddhatterpro.com
SUMMARY:Beast of Bourbon Karaoke
DESCRIPTION:Great open atmosphere. Come out and sing your heart out with KJ Skribbz\, Yes\, some songs are off limits\, but its a blast anyway and there are plenty of songs to sing. Click following link to see what the venue is NOT licensed for. Please do NOT request 8pm-Midnight \n2235 S Power Rd #127\, Mesa\, AZ 85209 \n+14804261005
URL:https://www.maddhatterpro.com/event/beast-of-bourbon-karaoke/2025-10-25/
LOCATION:Beast of Bourbon\, 2235 S Power Rd #127\, Mesa\, AZ\, 85209\, United States
CATEGORIES:Karaoke,KJ Skribbz
ATTACH;FMTTYPE=image/jpeg:https://www.maddhatterpro.com/wp-content/uploads/2026/02/Beast-Mesa.jpg
END:VEVENT
BEGIN:VEVENT
DTSTART;TZID=UTC:20251021T200000
DTEND;TZID=UTC:20251021T200000
DTSTAMP:20260424T012852
CREATED:20250704T001639Z
LAST-MODIFIED:20260206T143841Z
UID:10022013-1761076800-1761076800@www.maddhatterpro.com
SUMMARY:Beast of Bourbon Karaoke
DESCRIPTION:Great open atmosphere. Come out and sing your heart out with KJ Skribbz\, Yes\, some songs are off limits\, but its a blast anyway and there are plenty of songs to sing. Click following link to see what the venue is NOT licensed for. Please do NOT request 8pm-Midnight \n2235 S Power Rd #127\, Mesa\, AZ 85209 \n+14804261005
URL:https://www.maddhatterpro.com/event/beast-of-bourbon-karaoke/2025-10-21/
LOCATION:Beast of Bourbon\, 2235 S Power Rd #127\, Mesa\, AZ\, 85209\, United States
CATEGORIES:Karaoke,KJ Skribbz
ATTACH;FMTTYPE=image/jpeg:https://www.maddhatterpro.com/wp-content/uploads/2026/02/Beast-Mesa.jpg
END:VEVENT
BEGIN:VEVENT
DTSTART;TZID=UTC:20251018T200000
DTEND;TZID=UTC:20251018T200000
DTSTAMP:20260424T012852
CREATED:20250704T001639Z
LAST-MODIFIED:20260206T143841Z
UID:10022012-1760817600-1760817600@www.maddhatterpro.com
SUMMARY:Beast of Bourbon Karaoke
DESCRIPTION:Great open atmosphere. Come out and sing your heart out with KJ Skribbz\, Yes\, some songs are off limits\, but its a blast anyway and there are plenty of songs to sing. Click following link to see what the venue is NOT licensed for. Please do NOT request 8pm-Midnight \n2235 S Power Rd #127\, Mesa\, AZ 85209 \n+14804261005
URL:https://www.maddhatterpro.com/event/beast-of-bourbon-karaoke/2025-10-18/
LOCATION:Beast of Bourbon\, 2235 S Power Rd #127\, Mesa\, AZ\, 85209\, United States
CATEGORIES:Karaoke,KJ Skribbz
ATTACH;FMTTYPE=image/jpeg:https://www.maddhatterpro.com/wp-content/uploads/2026/02/Beast-Mesa.jpg
END:VEVENT
BEGIN:VEVENT
DTSTART;TZID=UTC:20251014T200000
DTEND;TZID=UTC:20251014T200000
DTSTAMP:20260424T012852
CREATED:20250704T001639Z
LAST-MODIFIED:20260206T143841Z
UID:10022011-1760472000-1760472000@www.maddhatterpro.com
SUMMARY:Beast of Bourbon Karaoke
DESCRIPTION:Great open atmosphere. Come out and sing your heart out with KJ Skribbz\, Yes\, some songs are off limits\, but its a blast anyway and there are plenty of songs to sing. Click following link to see what the venue is NOT licensed for. Please do NOT request 8pm-Midnight \n2235 S Power Rd #127\, Mesa\, AZ 85209 \n+14804261005
URL:https://www.maddhatterpro.com/event/beast-of-bourbon-karaoke/2025-10-14/
LOCATION:Beast of Bourbon\, 2235 S Power Rd #127\, Mesa\, AZ\, 85209\, United States
CATEGORIES:Karaoke,KJ Skribbz
ATTACH;FMTTYPE=image/jpeg:https://www.maddhatterpro.com/wp-content/uploads/2026/02/Beast-Mesa.jpg
END:VEVENT
BEGIN:VEVENT
DTSTART;TZID=UTC:20251011T200000
DTEND;TZID=UTC:20251011T200000
DTSTAMP:20260424T012852
CREATED:20250704T001639Z
LAST-MODIFIED:20260206T143841Z
UID:10022010-1760212800-1760212800@www.maddhatterpro.com
SUMMARY:Beast of Bourbon Karaoke
DESCRIPTION:Great open atmosphere. Come out and sing your heart out with KJ Skribbz\, Yes\, some songs are off limits\, but its a blast anyway and there are plenty of songs to sing. Click following link to see what the venue is NOT licensed for. Please do NOT request 8pm-Midnight \n2235 S Power Rd #127\, Mesa\, AZ 85209 \n+14804261005
URL:https://www.maddhatterpro.com/event/beast-of-bourbon-karaoke/2025-10-11/
LOCATION:Beast of Bourbon\, 2235 S Power Rd #127\, Mesa\, AZ\, 85209\, United States
CATEGORIES:Karaoke,KJ Skribbz
ATTACH;FMTTYPE=image/jpeg:https://www.maddhatterpro.com/wp-content/uploads/2026/02/Beast-Mesa.jpg
END:VEVENT
BEGIN:VEVENT
DTSTART;TZID=UTC:20251007T200000
DTEND;TZID=UTC:20251007T200000
DTSTAMP:20260424T012852
CREATED:20250704T001639Z
LAST-MODIFIED:20260206T143841Z
UID:10022009-1759867200-1759867200@www.maddhatterpro.com
SUMMARY:Beast of Bourbon Karaoke
DESCRIPTION:Great open atmosphere. Come out and sing your heart out with KJ Skribbz\, Yes\, some songs are off limits\, but its a blast anyway and there are plenty of songs to sing. Click following link to see what the venue is NOT licensed for. Please do NOT request 8pm-Midnight \n2235 S Power Rd #127\, Mesa\, AZ 85209 \n+14804261005
URL:https://www.maddhatterpro.com/event/beast-of-bourbon-karaoke/2025-10-07/
LOCATION:Beast of Bourbon\, 2235 S Power Rd #127\, Mesa\, AZ\, 85209\, United States
CATEGORIES:Karaoke,KJ Skribbz
ATTACH;FMTTYPE=image/jpeg:https://www.maddhatterpro.com/wp-content/uploads/2026/02/Beast-Mesa.jpg
END:VEVENT
BEGIN:VEVENT
DTSTART;TZID=UTC:20251004T200000
DTEND;TZID=UTC:20251004T200000
DTSTAMP:20260424T012852
CREATED:20250704T001639Z
LAST-MODIFIED:20260206T143841Z
UID:10022008-1759608000-1759608000@www.maddhatterpro.com
SUMMARY:Beast of Bourbon Karaoke
DESCRIPTION:Great open atmosphere. Come out and sing your heart out with KJ Skribbz\, Yes\, some songs are off limits\, but its a blast anyway and there are plenty of songs to sing. Click following link to see what the venue is NOT licensed for. Please do NOT request 8pm-Midnight \n2235 S Power Rd #127\, Mesa\, AZ 85209 \n+14804261005
URL:https://www.maddhatterpro.com/event/beast-of-bourbon-karaoke/2025-10-04/
LOCATION:Beast of Bourbon\, 2235 S Power Rd #127\, Mesa\, AZ\, 85209\, United States
CATEGORIES:Karaoke,KJ Skribbz
ATTACH;FMTTYPE=image/jpeg:https://www.maddhatterpro.com/wp-content/uploads/2026/02/Beast-Mesa.jpg
END:VEVENT
BEGIN:VEVENT
DTSTART;TZID=UTC:20250930T200000
DTEND;TZID=UTC:20250930T200000
DTSTAMP:20260424T012852
CREATED:20250704T001639Z
LAST-MODIFIED:20260206T143841Z
UID:10022007-1759262400-1759262400@www.maddhatterpro.com
SUMMARY:Beast of Bourbon Karaoke
DESCRIPTION:Great open atmosphere. Come out and sing your heart out with KJ Skribbz\, Yes\, some songs are off limits\, but its a blast anyway and there are plenty of songs to sing. Click following link to see what the venue is NOT licensed for. Please do NOT request 8pm-Midnight \n2235 S Power Rd #127\, Mesa\, AZ 85209 \n+14804261005
URL:https://www.maddhatterpro.com/event/beast-of-bourbon-karaoke/2025-09-30/
LOCATION:Beast of Bourbon\, 2235 S Power Rd #127\, Mesa\, AZ\, 85209\, United States
CATEGORIES:Karaoke,KJ Skribbz
ATTACH;FMTTYPE=image/jpeg:https://www.maddhatterpro.com/wp-content/uploads/2026/02/Beast-Mesa.jpg
END:VEVENT
BEGIN:VEVENT
DTSTART;TZID=UTC:20250927T200000
DTEND;TZID=UTC:20250927T200000
DTSTAMP:20260424T012852
CREATED:20250704T001639Z
LAST-MODIFIED:20260206T143841Z
UID:10022006-1759003200-1759003200@www.maddhatterpro.com
SUMMARY:Beast of Bourbon Karaoke
DESCRIPTION:Great open atmosphere. Come out and sing your heart out with KJ Skribbz\, Yes\, some songs are off limits\, but its a blast anyway and there are plenty of songs to sing. Click following link to see what the venue is NOT licensed for. Please do NOT request 8pm-Midnight \n2235 S Power Rd #127\, Mesa\, AZ 85209 \n+14804261005
URL:https://www.maddhatterpro.com/event/beast-of-bourbon-karaoke/2025-09-27/
LOCATION:Beast of Bourbon\, 2235 S Power Rd #127\, Mesa\, AZ\, 85209\, United States
CATEGORIES:Karaoke,KJ Skribbz
ATTACH;FMTTYPE=image/jpeg:https://www.maddhatterpro.com/wp-content/uploads/2026/02/Beast-Mesa.jpg
END:VEVENT
BEGIN:VEVENT
DTSTART;TZID=UTC:20250923T200000
DTEND;TZID=UTC:20250923T200000
DTSTAMP:20260424T012852
CREATED:20250704T001639Z
LAST-MODIFIED:20260206T143841Z
UID:10022005-1758657600-1758657600@www.maddhatterpro.com
SUMMARY:Beast of Bourbon Karaoke
DESCRIPTION:Great open atmosphere. Come out and sing your heart out with KJ Skribbz\, Yes\, some songs are off limits\, but its a blast anyway and there are plenty of songs to sing. Click following link to see what the venue is NOT licensed for. Please do NOT request 8pm-Midnight \n2235 S Power Rd #127\, Mesa\, AZ 85209 \n+14804261005
URL:https://www.maddhatterpro.com/event/beast-of-bourbon-karaoke/2025-09-23/
LOCATION:Beast of Bourbon\, 2235 S Power Rd #127\, Mesa\, AZ\, 85209\, United States
CATEGORIES:Karaoke,KJ Skribbz
ATTACH;FMTTYPE=image/jpeg:https://www.maddhatterpro.com/wp-content/uploads/2026/02/Beast-Mesa.jpg
END:VEVENT
BEGIN:VEVENT
DTSTART;TZID=UTC:20250920T200000
DTEND;TZID=UTC:20250920T200000
DTSTAMP:20260424T012852
CREATED:20250704T001639Z
LAST-MODIFIED:20260206T143841Z
UID:10022004-1758398400-1758398400@www.maddhatterpro.com
SUMMARY:Beast of Bourbon Karaoke
DESCRIPTION:Great open atmosphere. Come out and sing your heart out with KJ Skribbz\, Yes\, some songs are off limits\, but its a blast anyway and there are plenty of songs to sing. Click following link to see what the venue is NOT licensed for. Please do NOT request 8pm-Midnight \n2235 S Power Rd #127\, Mesa\, AZ 85209 \n+14804261005
URL:https://www.maddhatterpro.com/event/beast-of-bourbon-karaoke/2025-09-20/
LOCATION:Beast of Bourbon\, 2235 S Power Rd #127\, Mesa\, AZ\, 85209\, United States
CATEGORIES:Karaoke,KJ Skribbz
ATTACH;FMTTYPE=image/jpeg:https://www.maddhatterpro.com/wp-content/uploads/2026/02/Beast-Mesa.jpg
END:VEVENT
BEGIN:VEVENT
DTSTART;TZID=UTC:20250916T200000
DTEND;TZID=UTC:20250916T200000
DTSTAMP:20260424T012852
CREATED:20250704T001639Z
LAST-MODIFIED:20260206T143841Z
UID:10022003-1758052800-1758052800@www.maddhatterpro.com
SUMMARY:Beast of Bourbon Karaoke
DESCRIPTION:Great open atmosphere. Come out and sing your heart out with KJ Skribbz\, Yes\, some songs are off limits\, but its a blast anyway and there are plenty of songs to sing. Click following link to see what the venue is NOT licensed for. Please do NOT request 8pm-Midnight \n2235 S Power Rd #127\, Mesa\, AZ 85209 \n+14804261005
URL:https://www.maddhatterpro.com/event/beast-of-bourbon-karaoke/2025-09-16/
LOCATION:Beast of Bourbon\, 2235 S Power Rd #127\, Mesa\, AZ\, 85209\, United States
CATEGORIES:Karaoke,KJ Skribbz
ATTACH;FMTTYPE=image/jpeg:https://www.maddhatterpro.com/wp-content/uploads/2026/02/Beast-Mesa.jpg
END:VEVENT
BEGIN:VEVENT
DTSTART;TZID=UTC:20250913T200000
DTEND;TZID=UTC:20250913T200000
DTSTAMP:20260424T012852
CREATED:20250704T001639Z
LAST-MODIFIED:20260206T143841Z
UID:10022002-1757793600-1757793600@www.maddhatterpro.com
SUMMARY:Beast of Bourbon Karaoke
DESCRIPTION:Great open atmosphere. Come out and sing your heart out with KJ Skribbz\, Yes\, some songs are off limits\, but its a blast anyway and there are plenty of songs to sing. Click following link to see what the venue is NOT licensed for. Please do NOT request 8pm-Midnight \n2235 S Power Rd #127\, Mesa\, AZ 85209 \n+14804261005
URL:https://www.maddhatterpro.com/event/beast-of-bourbon-karaoke/2025-09-13/
LOCATION:Beast of Bourbon\, 2235 S Power Rd #127\, Mesa\, AZ\, 85209\, United States
CATEGORIES:Karaoke,KJ Skribbz
ATTACH;FMTTYPE=image/jpeg:https://www.maddhatterpro.com/wp-content/uploads/2026/02/Beast-Mesa.jpg
END:VEVENT
BEGIN:VEVENT
DTSTART;TZID=UTC:20250909T200000
DTEND;TZID=UTC:20250909T200000
DTSTAMP:20260424T012852
CREATED:20250704T001639Z
LAST-MODIFIED:20260206T143841Z
UID:10022001-1757448000-1757448000@www.maddhatterpro.com
SUMMARY:Beast of Bourbon Karaoke
DESCRIPTION:Great open atmosphere. Come out and sing your heart out with KJ Skribbz\, Yes\, some songs are off limits\, but its a blast anyway and there are plenty of songs to sing. Click following link to see what the venue is NOT licensed for. Please do NOT request 8pm-Midnight \n2235 S Power Rd #127\, Mesa\, AZ 85209 \n+14804261005
URL:https://www.maddhatterpro.com/event/beast-of-bourbon-karaoke/2025-09-09/
LOCATION:Beast of Bourbon\, 2235 S Power Rd #127\, Mesa\, AZ\, 85209\, United States
CATEGORIES:Karaoke,KJ Skribbz
ATTACH;FMTTYPE=image/jpeg:https://www.maddhatterpro.com/wp-content/uploads/2026/02/Beast-Mesa.jpg
END:VEVENT
BEGIN:VEVENT
DTSTART;TZID=UTC:20250906T200000
DTEND;TZID=UTC:20250906T200000
DTSTAMP:20260424T012852
CREATED:20250704T001639Z
LAST-MODIFIED:20260206T143841Z
UID:10022000-1757188800-1757188800@www.maddhatterpro.com
SUMMARY:Beast of Bourbon Karaoke
DESCRIPTION:Great open atmosphere. Come out and sing your heart out with KJ Skribbz\, Yes\, some songs are off limits\, but its a blast anyway and there are plenty of songs to sing. Click following link to see what the venue is NOT licensed for. Please do NOT request 8pm-Midnight \n2235 S Power Rd #127\, Mesa\, AZ 85209 \n+14804261005
URL:https://www.maddhatterpro.com/event/beast-of-bourbon-karaoke/2025-09-06/
LOCATION:Beast of Bourbon\, 2235 S Power Rd #127\, Mesa\, AZ\, 85209\, United States
CATEGORIES:Karaoke,KJ Skribbz
ATTACH;FMTTYPE=image/jpeg:https://www.maddhatterpro.com/wp-content/uploads/2026/02/Beast-Mesa.jpg
END:VEVENT
BEGIN:VEVENT
DTSTART;TZID=UTC:20250902T200000
DTEND;TZID=UTC:20250902T200000
DTSTAMP:20260424T012852
CREATED:20250704T001639Z
LAST-MODIFIED:20260206T143841Z
UID:10021999-1756843200-1756843200@www.maddhatterpro.com
SUMMARY:Beast of Bourbon Karaoke
DESCRIPTION:Great open atmosphere. Come out and sing your heart out with KJ Skribbz\, Yes\, some songs are off limits\, but its a blast anyway and there are plenty of songs to sing. Click following link to see what the venue is NOT licensed for. Please do NOT request 8pm-Midnight \n2235 S Power Rd #127\, Mesa\, AZ 85209 \n+14804261005
URL:https://www.maddhatterpro.com/event/beast-of-bourbon-karaoke/2025-09-02/
LOCATION:Beast of Bourbon\, 2235 S Power Rd #127\, Mesa\, AZ\, 85209\, United States
CATEGORIES:Karaoke,KJ Skribbz
ATTACH;FMTTYPE=image/jpeg:https://www.maddhatterpro.com/wp-content/uploads/2026/02/Beast-Mesa.jpg
END:VEVENT
BEGIN:VEVENT
DTSTART;TZID=UTC:20250830T200000
DTEND;TZID=UTC:20250830T200000
DTSTAMP:20260424T012852
CREATED:20250704T001639Z
LAST-MODIFIED:20260206T143841Z
UID:10021998-1756584000-1756584000@www.maddhatterpro.com
SUMMARY:Beast of Bourbon Karaoke
DESCRIPTION:Great open atmosphere. Come out and sing your heart out with KJ Skribbz\, Yes\, some songs are off limits\, but its a blast anyway and there are plenty of songs to sing. Click following link to see what the venue is NOT licensed for. Please do NOT request 8pm-Midnight \n2235 S Power Rd #127\, Mesa\, AZ 85209 \n+14804261005
URL:https://www.maddhatterpro.com/event/beast-of-bourbon-karaoke/2025-08-30/
LOCATION:Beast of Bourbon\, 2235 S Power Rd #127\, Mesa\, AZ\, 85209\, United States
CATEGORIES:Karaoke,KJ Skribbz
ATTACH;FMTTYPE=image/jpeg:https://www.maddhatterpro.com/wp-content/uploads/2026/02/Beast-Mesa.jpg
END:VEVENT
BEGIN:VEVENT
DTSTART;TZID=UTC:20250826T200000
DTEND;TZID=UTC:20250826T200000
DTSTAMP:20260424T012852
CREATED:20250704T001639Z
LAST-MODIFIED:20260206T143841Z
UID:10021997-1756238400-1756238400@www.maddhatterpro.com
SUMMARY:Beast of Bourbon Karaoke
DESCRIPTION:Great open atmosphere. Come out and sing your heart out with KJ Skribbz\, Yes\, some songs are off limits\, but its a blast anyway and there are plenty of songs to sing. Click following link to see what the venue is NOT licensed for. Please do NOT request 8pm-Midnight \n2235 S Power Rd #127\, Mesa\, AZ 85209 \n+14804261005
URL:https://www.maddhatterpro.com/event/beast-of-bourbon-karaoke/2025-08-26/
LOCATION:Beast of Bourbon\, 2235 S Power Rd #127\, Mesa\, AZ\, 85209\, United States
CATEGORIES:Karaoke,KJ Skribbz
ATTACH;FMTTYPE=image/jpeg:https://www.maddhatterpro.com/wp-content/uploads/2026/02/Beast-Mesa.jpg
END:VEVENT
BEGIN:VEVENT
DTSTART;TZID=UTC:20250823T200000
DTEND;TZID=UTC:20250823T200000
DTSTAMP:20260424T012852
CREATED:20250704T001639Z
LAST-MODIFIED:20260206T143841Z
UID:10021996-1755979200-1755979200@www.maddhatterpro.com
SUMMARY:Beast of Bourbon Karaoke
DESCRIPTION:Great open atmosphere. Come out and sing your heart out with KJ Skribbz\, Yes\, some songs are off limits\, but its a blast anyway and there are plenty of songs to sing. Click following link to see what the venue is NOT licensed for. Please do NOT request 8pm-Midnight \n2235 S Power Rd #127\, Mesa\, AZ 85209 \n+14804261005
URL:https://www.maddhatterpro.com/event/beast-of-bourbon-karaoke/2025-08-23/
LOCATION:Beast of Bourbon\, 2235 S Power Rd #127\, Mesa\, AZ\, 85209\, United States
CATEGORIES:Karaoke,KJ Skribbz
ATTACH;FMTTYPE=image/jpeg:https://www.maddhatterpro.com/wp-content/uploads/2026/02/Beast-Mesa.jpg
END:VEVENT
BEGIN:VEVENT
DTSTART;TZID=UTC:20250819T200000
DTEND;TZID=UTC:20250819T200000
DTSTAMP:20260424T012852
CREATED:20250704T001639Z
LAST-MODIFIED:20260206T143841Z
UID:10021995-1755633600-1755633600@www.maddhatterpro.com
SUMMARY:Beast of Bourbon Karaoke
DESCRIPTION:Great open atmosphere. Come out and sing your heart out with KJ Skribbz\, Yes\, some songs are off limits\, but its a blast anyway and there are plenty of songs to sing. Click following link to see what the venue is NOT licensed for. Please do NOT request 8pm-Midnight \n2235 S Power Rd #127\, Mesa\, AZ 85209 \n+14804261005
URL:https://www.maddhatterpro.com/event/beast-of-bourbon-karaoke/2025-08-19/
LOCATION:Beast of Bourbon\, 2235 S Power Rd #127\, Mesa\, AZ\, 85209\, United States
CATEGORIES:Karaoke,KJ Skribbz
ATTACH;FMTTYPE=image/jpeg:https://www.maddhatterpro.com/wp-content/uploads/2026/02/Beast-Mesa.jpg
END:VEVENT
BEGIN:VEVENT
DTSTART;TZID=UTC:20250816T200000
DTEND;TZID=UTC:20250816T200000
DTSTAMP:20260424T012852
CREATED:20250704T001639Z
LAST-MODIFIED:20260206T143841Z
UID:10021994-1755374400-1755374400@www.maddhatterpro.com
SUMMARY:Beast of Bourbon Karaoke
DESCRIPTION:Great open atmosphere. Come out and sing your heart out with KJ Skribbz\, Yes\, some songs are off limits\, but its a blast anyway and there are plenty of songs to sing. Click following link to see what the venue is NOT licensed for. Please do NOT request 8pm-Midnight \n2235 S Power Rd #127\, Mesa\, AZ 85209 \n+14804261005
URL:https://www.maddhatterpro.com/event/beast-of-bourbon-karaoke/2025-08-16/
LOCATION:Beast of Bourbon\, 2235 S Power Rd #127\, Mesa\, AZ\, 85209\, United States
CATEGORIES:Karaoke,KJ Skribbz
ATTACH;FMTTYPE=image/jpeg:https://www.maddhatterpro.com/wp-content/uploads/2026/02/Beast-Mesa.jpg
END:VEVENT
BEGIN:VEVENT
DTSTART;TZID=UTC:20250812T200000
DTEND;TZID=UTC:20250812T200000
DTSTAMP:20260424T012852
CREATED:20250704T001639Z
LAST-MODIFIED:20260206T143841Z
UID:10021993-1755028800-1755028800@www.maddhatterpro.com
SUMMARY:Beast of Bourbon Karaoke
DESCRIPTION:Great open atmosphere. Come out and sing your heart out with KJ Skribbz\, Yes\, some songs are off limits\, but its a blast anyway and there are plenty of songs to sing. Click following link to see what the venue is NOT licensed for. Please do NOT request 8pm-Midnight \n2235 S Power Rd #127\, Mesa\, AZ 85209 \n+14804261005
URL:https://www.maddhatterpro.com/event/beast-of-bourbon-karaoke/2025-08-12/
LOCATION:Beast of Bourbon\, 2235 S Power Rd #127\, Mesa\, AZ\, 85209\, United States
CATEGORIES:Karaoke,KJ Skribbz
ATTACH;FMTTYPE=image/jpeg:https://www.maddhatterpro.com/wp-content/uploads/2026/02/Beast-Mesa.jpg
END:VEVENT
BEGIN:VEVENT
DTSTART;TZID=UTC:20250809T200000
DTEND;TZID=UTC:20250809T200000
DTSTAMP:20260424T012852
CREATED:20250704T001639Z
LAST-MODIFIED:20260206T143841Z
UID:10021992-1754769600-1754769600@www.maddhatterpro.com
SUMMARY:Beast of Bourbon Karaoke
DESCRIPTION:Great open atmosphere. Come out and sing your heart out with KJ Skribbz\, Yes\, some songs are off limits\, but its a blast anyway and there are plenty of songs to sing. Click following link to see what the venue is NOT licensed for. Please do NOT request 8pm-Midnight \n2235 S Power Rd #127\, Mesa\, AZ 85209 \n+14804261005
URL:https://www.maddhatterpro.com/event/beast-of-bourbon-karaoke/2025-08-09/
LOCATION:Beast of Bourbon\, 2235 S Power Rd #127\, Mesa\, AZ\, 85209\, United States
CATEGORIES:Karaoke,KJ Skribbz
ATTACH;FMTTYPE=image/jpeg:https://www.maddhatterpro.com/wp-content/uploads/2026/02/Beast-Mesa.jpg
END:VEVENT
BEGIN:VEVENT
DTSTART;TZID=UTC:20250805T200000
DTEND;TZID=UTC:20250805T200000
DTSTAMP:20260424T012852
CREATED:20250704T001639Z
LAST-MODIFIED:20260206T143841Z
UID:10021991-1754424000-1754424000@www.maddhatterpro.com
SUMMARY:Beast of Bourbon Karaoke
DESCRIPTION:Great open atmosphere. Come out and sing your heart out with KJ Skribbz\, Yes\, some songs are off limits\, but its a blast anyway and there are plenty of songs to sing. Click following link to see what the venue is NOT licensed for. Please do NOT request 8pm-Midnight \n2235 S Power Rd #127\, Mesa\, AZ 85209 \n+14804261005
URL:https://www.maddhatterpro.com/event/beast-of-bourbon-karaoke/2025-08-05/
LOCATION:Beast of Bourbon\, 2235 S Power Rd #127\, Mesa\, AZ\, 85209\, United States
CATEGORIES:Karaoke,KJ Skribbz
ATTACH;FMTTYPE=image/jpeg:https://www.maddhatterpro.com/wp-content/uploads/2026/02/Beast-Mesa.jpg
END:VEVENT
BEGIN:VEVENT
DTSTART;TZID=UTC:20250802T200000
DTEND;TZID=UTC:20250802T200000
DTSTAMP:20260424T012852
CREATED:20250704T001639Z
LAST-MODIFIED:20260206T143841Z
UID:10021990-1754164800-1754164800@www.maddhatterpro.com
SUMMARY:Beast of Bourbon Karaoke
DESCRIPTION:Great open atmosphere. Come out and sing your heart out with KJ Skribbz\, Yes\, some songs are off limits\, but its a blast anyway and there are plenty of songs to sing. Click following link to see what the venue is NOT licensed for. Please do NOT request 8pm-Midnight \n2235 S Power Rd #127\, Mesa\, AZ 85209 \n+14804261005
URL:https://www.maddhatterpro.com/event/beast-of-bourbon-karaoke/2025-08-02/
LOCATION:Beast of Bourbon\, 2235 S Power Rd #127\, Mesa\, AZ\, 85209\, United States
CATEGORIES:Karaoke,KJ Skribbz
ATTACH;FMTTYPE=image/jpeg:https://www.maddhatterpro.com/wp-content/uploads/2026/02/Beast-Mesa.jpg
END:VEVENT
BEGIN:VEVENT
DTSTART;TZID=UTC:20250729T200000
DTEND;TZID=UTC:20250729T200000
DTSTAMP:20260424T012852
CREATED:20250704T001639Z
LAST-MODIFIED:20260206T143841Z
UID:10021989-1753819200-1753819200@www.maddhatterpro.com
SUMMARY:Beast of Bourbon Karaoke
DESCRIPTION:Great open atmosphere. Come out and sing your heart out with KJ Skribbz\, Yes\, some songs are off limits\, but its a blast anyway and there are plenty of songs to sing. Click following link to see what the venue is NOT licensed for. Please do NOT request 8pm-Midnight \n2235 S Power Rd #127\, Mesa\, AZ 85209 \n+14804261005
URL:https://www.maddhatterpro.com/event/beast-of-bourbon-karaoke/2025-07-29/
LOCATION:Beast of Bourbon\, 2235 S Power Rd #127\, Mesa\, AZ\, 85209\, United States
CATEGORIES:Karaoke,KJ Skribbz
ATTACH;FMTTYPE=image/jpeg:https://www.maddhatterpro.com/wp-content/uploads/2026/02/Beast-Mesa.jpg
END:VEVENT
BEGIN:VEVENT
DTSTART;TZID=UTC:20250726T200000
DTEND;TZID=UTC:20250726T200000
DTSTAMP:20260424T012852
CREATED:20250704T001639Z
LAST-MODIFIED:20260206T143841Z
UID:10021988-1753560000-1753560000@www.maddhatterpro.com
SUMMARY:Beast of Bourbon Karaoke
DESCRIPTION:Great open atmosphere. Come out and sing your heart out with KJ Skribbz\, Yes\, some songs are off limits\, but its a blast anyway and there are plenty of songs to sing. Click following link to see what the venue is NOT licensed for. Please do NOT request 8pm-Midnight \n2235 S Power Rd #127\, Mesa\, AZ 85209 \n+14804261005
URL:https://www.maddhatterpro.com/event/beast-of-bourbon-karaoke/2025-07-26/
LOCATION:Beast of Bourbon\, 2235 S Power Rd #127\, Mesa\, AZ\, 85209\, United States
CATEGORIES:Karaoke,KJ Skribbz
ATTACH;FMTTYPE=image/jpeg:https://www.maddhatterpro.com/wp-content/uploads/2026/02/Beast-Mesa.jpg
END:VEVENT
END:VCALENDAR