BEGIN:VCALENDAR
VERSION:2.0
PRODID:-//MaddHatterPro.com - ECPv6.15.20//NONSGML v1.0//EN
CALSCALE:GREGORIAN
METHOD:PUBLISH
X-WR-CALNAME:MaddHatterPro.com
X-ORIGINAL-URL:https://www.maddhatterpro.com
X-WR-CALDESC:Events for MaddHatterPro.com
REFRESH-INTERVAL;VALUE=DURATION:PT1H
X-Robots-Tag:noindex
X-PUBLISHED-TTL:PT1H
BEGIN:VTIMEZONE
TZID:UTC
BEGIN:STANDARD
TZOFFSETFROM:+0000
TZOFFSETTO:+0000
TZNAME:UTC
DTSTART:20270101T000000
END:STANDARD
END:VTIMEZONE
BEGIN:VEVENT
DTSTART;TZID=UTC:20281104T200000
DTEND;TZID=UTC:20281104T200000
DTSTAMP:20260425T011528
CREATED:20250704T001639Z
LAST-MODIFIED:20260206T143841Z
UID:10022330-1856980800-1856980800@www.maddhatterpro.com
SUMMARY:Beast of Bourbon Karaoke
DESCRIPTION:Great open atmosphere. Come out and sing your heart out with KJ Skribbz\, Yes\, some songs are off limits\, but its a blast anyway and there are plenty of songs to sing. Click following link to see what the venue is NOT licensed for. Please do NOT request 8pm-Midnight \n2235 S Power Rd #127\, Mesa\, AZ 85209 \n+14804261005
URL:https://www.maddhatterpro.com/event/beast-of-bourbon-karaoke/2028-11-04/
LOCATION:Beast of Bourbon\, 2235 S Power Rd #127\, Mesa\, AZ\, 85209\, United States
CATEGORIES:Karaoke,KJ Skribbz
ATTACH;FMTTYPE=image/jpeg:https://www.maddhatterpro.com/wp-content/uploads/2026/02/Beast-Mesa.jpg
END:VEVENT
BEGIN:VEVENT
DTSTART;TZID=UTC:20281107T200000
DTEND;TZID=UTC:20281107T200000
DTSTAMP:20260425T011528
CREATED:20250704T001639Z
LAST-MODIFIED:20260206T143841Z
UID:10022331-1857240000-1857240000@www.maddhatterpro.com
SUMMARY:Beast of Bourbon Karaoke
DESCRIPTION:Great open atmosphere. Come out and sing your heart out with KJ Skribbz\, Yes\, some songs are off limits\, but its a blast anyway and there are plenty of songs to sing. Click following link to see what the venue is NOT licensed for. Please do NOT request 8pm-Midnight \n2235 S Power Rd #127\, Mesa\, AZ 85209 \n+14804261005
URL:https://www.maddhatterpro.com/event/beast-of-bourbon-karaoke/2028-11-07/
LOCATION:Beast of Bourbon\, 2235 S Power Rd #127\, Mesa\, AZ\, 85209\, United States
CATEGORIES:Karaoke,KJ Skribbz
ATTACH;FMTTYPE=image/jpeg:https://www.maddhatterpro.com/wp-content/uploads/2026/02/Beast-Mesa.jpg
END:VEVENT
BEGIN:VEVENT
DTSTART;TZID=UTC:20281111T200000
DTEND;TZID=UTC:20281111T200000
DTSTAMP:20260425T011528
CREATED:20250704T001639Z
LAST-MODIFIED:20260206T143841Z
UID:10022332-1857585600-1857585600@www.maddhatterpro.com
SUMMARY:Beast of Bourbon Karaoke
DESCRIPTION:Great open atmosphere. Come out and sing your heart out with KJ Skribbz\, Yes\, some songs are off limits\, but its a blast anyway and there are plenty of songs to sing. Click following link to see what the venue is NOT licensed for. Please do NOT request 8pm-Midnight \n2235 S Power Rd #127\, Mesa\, AZ 85209 \n+14804261005
URL:https://www.maddhatterpro.com/event/beast-of-bourbon-karaoke/2028-11-11/
LOCATION:Beast of Bourbon\, 2235 S Power Rd #127\, Mesa\, AZ\, 85209\, United States
CATEGORIES:Karaoke,KJ Skribbz
ATTACH;FMTTYPE=image/jpeg:https://www.maddhatterpro.com/wp-content/uploads/2026/02/Beast-Mesa.jpg
END:VEVENT
BEGIN:VEVENT
DTSTART;TZID=UTC:20281114T200000
DTEND;TZID=UTC:20281114T200000
DTSTAMP:20260425T011528
CREATED:20250704T001639Z
LAST-MODIFIED:20260206T143841Z
UID:10022333-1857844800-1857844800@www.maddhatterpro.com
SUMMARY:Beast of Bourbon Karaoke
DESCRIPTION:Great open atmosphere. Come out and sing your heart out with KJ Skribbz\, Yes\, some songs are off limits\, but its a blast anyway and there are plenty of songs to sing. Click following link to see what the venue is NOT licensed for. Please do NOT request 8pm-Midnight \n2235 S Power Rd #127\, Mesa\, AZ 85209 \n+14804261005
URL:https://www.maddhatterpro.com/event/beast-of-bourbon-karaoke/2028-11-14/
LOCATION:Beast of Bourbon\, 2235 S Power Rd #127\, Mesa\, AZ\, 85209\, United States
CATEGORIES:Karaoke,KJ Skribbz
ATTACH;FMTTYPE=image/jpeg:https://www.maddhatterpro.com/wp-content/uploads/2026/02/Beast-Mesa.jpg
END:VEVENT
BEGIN:VEVENT
DTSTART;TZID=UTC:20281118T200000
DTEND;TZID=UTC:20281118T200000
DTSTAMP:20260425T011528
CREATED:20250704T001639Z
LAST-MODIFIED:20260206T143841Z
UID:10022334-1858190400-1858190400@www.maddhatterpro.com
SUMMARY:Beast of Bourbon Karaoke
DESCRIPTION:Great open atmosphere. Come out and sing your heart out with KJ Skribbz\, Yes\, some songs are off limits\, but its a blast anyway and there are plenty of songs to sing. Click following link to see what the venue is NOT licensed for. Please do NOT request 8pm-Midnight \n2235 S Power Rd #127\, Mesa\, AZ 85209 \n+14804261005
URL:https://www.maddhatterpro.com/event/beast-of-bourbon-karaoke/2028-11-18/
LOCATION:Beast of Bourbon\, 2235 S Power Rd #127\, Mesa\, AZ\, 85209\, United States
CATEGORIES:Karaoke,KJ Skribbz
ATTACH;FMTTYPE=image/jpeg:https://www.maddhatterpro.com/wp-content/uploads/2026/02/Beast-Mesa.jpg
END:VEVENT
BEGIN:VEVENT
DTSTART;TZID=UTC:20281121T200000
DTEND;TZID=UTC:20281121T200000
DTSTAMP:20260425T011528
CREATED:20250704T001639Z
LAST-MODIFIED:20260206T143841Z
UID:10022335-1858449600-1858449600@www.maddhatterpro.com
SUMMARY:Beast of Bourbon Karaoke
DESCRIPTION:Great open atmosphere. Come out and sing your heart out with KJ Skribbz\, Yes\, some songs are off limits\, but its a blast anyway and there are plenty of songs to sing. Click following link to see what the venue is NOT licensed for. Please do NOT request 8pm-Midnight \n2235 S Power Rd #127\, Mesa\, AZ 85209 \n+14804261005
URL:https://www.maddhatterpro.com/event/beast-of-bourbon-karaoke/2028-11-21/
LOCATION:Beast of Bourbon\, 2235 S Power Rd #127\, Mesa\, AZ\, 85209\, United States
CATEGORIES:Karaoke,KJ Skribbz
ATTACH;FMTTYPE=image/jpeg:https://www.maddhatterpro.com/wp-content/uploads/2026/02/Beast-Mesa.jpg
END:VEVENT
BEGIN:VEVENT
DTSTART;TZID=UTC:20281125T200000
DTEND;TZID=UTC:20281125T200000
DTSTAMP:20260425T011528
CREATED:20250704T001639Z
LAST-MODIFIED:20260206T143841Z
UID:10022336-1858795200-1858795200@www.maddhatterpro.com
SUMMARY:Beast of Bourbon Karaoke
DESCRIPTION:Great open atmosphere. Come out and sing your heart out with KJ Skribbz\, Yes\, some songs are off limits\, but its a blast anyway and there are plenty of songs to sing. Click following link to see what the venue is NOT licensed for. Please do NOT request 8pm-Midnight \n2235 S Power Rd #127\, Mesa\, AZ 85209 \n+14804261005
URL:https://www.maddhatterpro.com/event/beast-of-bourbon-karaoke/2028-11-25/
LOCATION:Beast of Bourbon\, 2235 S Power Rd #127\, Mesa\, AZ\, 85209\, United States
CATEGORIES:Karaoke,KJ Skribbz
ATTACH;FMTTYPE=image/jpeg:https://www.maddhatterpro.com/wp-content/uploads/2026/02/Beast-Mesa.jpg
END:VEVENT
BEGIN:VEVENT
DTSTART;TZID=UTC:20281128T200000
DTEND;TZID=UTC:20281128T200000
DTSTAMP:20260425T011528
CREATED:20250704T001639Z
LAST-MODIFIED:20260206T143841Z
UID:10022337-1859054400-1859054400@www.maddhatterpro.com
SUMMARY:Beast of Bourbon Karaoke
DESCRIPTION:Great open atmosphere. Come out and sing your heart out with KJ Skribbz\, Yes\, some songs are off limits\, but its a blast anyway and there are plenty of songs to sing. Click following link to see what the venue is NOT licensed for. Please do NOT request 8pm-Midnight \n2235 S Power Rd #127\, Mesa\, AZ 85209 \n+14804261005
URL:https://www.maddhatterpro.com/event/beast-of-bourbon-karaoke/2028-11-28/
LOCATION:Beast of Bourbon\, 2235 S Power Rd #127\, Mesa\, AZ\, 85209\, United States
CATEGORIES:Karaoke,KJ Skribbz
ATTACH;FMTTYPE=image/jpeg:https://www.maddhatterpro.com/wp-content/uploads/2026/02/Beast-Mesa.jpg
END:VEVENT
BEGIN:VEVENT
DTSTART;TZID=UTC:20281202T200000
DTEND;TZID=UTC:20281202T200000
DTSTAMP:20260425T011528
CREATED:20250704T001639Z
LAST-MODIFIED:20260206T143841Z
UID:10022338-1859400000-1859400000@www.maddhatterpro.com
SUMMARY:Beast of Bourbon Karaoke
DESCRIPTION:Great open atmosphere. Come out and sing your heart out with KJ Skribbz\, Yes\, some songs are off limits\, but its a blast anyway and there are plenty of songs to sing. Click following link to see what the venue is NOT licensed for. Please do NOT request 8pm-Midnight \n2235 S Power Rd #127\, Mesa\, AZ 85209 \n+14804261005
URL:https://www.maddhatterpro.com/event/beast-of-bourbon-karaoke/2028-12-02/
LOCATION:Beast of Bourbon\, 2235 S Power Rd #127\, Mesa\, AZ\, 85209\, United States
CATEGORIES:Karaoke,KJ Skribbz
ATTACH;FMTTYPE=image/jpeg:https://www.maddhatterpro.com/wp-content/uploads/2026/02/Beast-Mesa.jpg
END:VEVENT
BEGIN:VEVENT
DTSTART;TZID=UTC:20281205T200000
DTEND;TZID=UTC:20281205T200000
DTSTAMP:20260425T011528
CREATED:20250704T001639Z
LAST-MODIFIED:20260206T143841Z
UID:10022339-1859659200-1859659200@www.maddhatterpro.com
SUMMARY:Beast of Bourbon Karaoke
DESCRIPTION:Great open atmosphere. Come out and sing your heart out with KJ Skribbz\, Yes\, some songs are off limits\, but its a blast anyway and there are plenty of songs to sing. Click following link to see what the venue is NOT licensed for. Please do NOT request 8pm-Midnight \n2235 S Power Rd #127\, Mesa\, AZ 85209 \n+14804261005
URL:https://www.maddhatterpro.com/event/beast-of-bourbon-karaoke/2028-12-05/
LOCATION:Beast of Bourbon\, 2235 S Power Rd #127\, Mesa\, AZ\, 85209\, United States
CATEGORIES:Karaoke,KJ Skribbz
ATTACH;FMTTYPE=image/jpeg:https://www.maddhatterpro.com/wp-content/uploads/2026/02/Beast-Mesa.jpg
END:VEVENT
BEGIN:VEVENT
DTSTART;TZID=UTC:20281209T200000
DTEND;TZID=UTC:20281209T200000
DTSTAMP:20260425T011528
CREATED:20250704T001639Z
LAST-MODIFIED:20260206T143841Z
UID:10022340-1860004800-1860004800@www.maddhatterpro.com
SUMMARY:Beast of Bourbon Karaoke
DESCRIPTION:Great open atmosphere. Come out and sing your heart out with KJ Skribbz\, Yes\, some songs are off limits\, but its a blast anyway and there are plenty of songs to sing. Click following link to see what the venue is NOT licensed for. Please do NOT request 8pm-Midnight \n2235 S Power Rd #127\, Mesa\, AZ 85209 \n+14804261005
URL:https://www.maddhatterpro.com/event/beast-of-bourbon-karaoke/2028-12-09/
LOCATION:Beast of Bourbon\, 2235 S Power Rd #127\, Mesa\, AZ\, 85209\, United States
CATEGORIES:Karaoke,KJ Skribbz
ATTACH;FMTTYPE=image/jpeg:https://www.maddhatterpro.com/wp-content/uploads/2026/02/Beast-Mesa.jpg
END:VEVENT
BEGIN:VEVENT
DTSTART;TZID=UTC:20281212T200000
DTEND;TZID=UTC:20281212T200000
DTSTAMP:20260425T011528
CREATED:20250704T001639Z
LAST-MODIFIED:20260206T143841Z
UID:10022341-1860264000-1860264000@www.maddhatterpro.com
SUMMARY:Beast of Bourbon Karaoke
DESCRIPTION:Great open atmosphere. Come out and sing your heart out with KJ Skribbz\, Yes\, some songs are off limits\, but its a blast anyway and there are plenty of songs to sing. Click following link to see what the venue is NOT licensed for. Please do NOT request 8pm-Midnight \n2235 S Power Rd #127\, Mesa\, AZ 85209 \n+14804261005
URL:https://www.maddhatterpro.com/event/beast-of-bourbon-karaoke/2028-12-12/
LOCATION:Beast of Bourbon\, 2235 S Power Rd #127\, Mesa\, AZ\, 85209\, United States
CATEGORIES:Karaoke,KJ Skribbz
ATTACH;FMTTYPE=image/jpeg:https://www.maddhatterpro.com/wp-content/uploads/2026/02/Beast-Mesa.jpg
END:VEVENT
BEGIN:VEVENT
DTSTART;TZID=UTC:20281216T200000
DTEND;TZID=UTC:20281216T200000
DTSTAMP:20260425T011528
CREATED:20250704T001639Z
LAST-MODIFIED:20260206T143841Z
UID:10022342-1860609600-1860609600@www.maddhatterpro.com
SUMMARY:Beast of Bourbon Karaoke
DESCRIPTION:Great open atmosphere. Come out and sing your heart out with KJ Skribbz\, Yes\, some songs are off limits\, but its a blast anyway and there are plenty of songs to sing. Click following link to see what the venue is NOT licensed for. Please do NOT request 8pm-Midnight \n2235 S Power Rd #127\, Mesa\, AZ 85209 \n+14804261005
URL:https://www.maddhatterpro.com/event/beast-of-bourbon-karaoke/2028-12-16/
LOCATION:Beast of Bourbon\, 2235 S Power Rd #127\, Mesa\, AZ\, 85209\, United States
CATEGORIES:Karaoke,KJ Skribbz
ATTACH;FMTTYPE=image/jpeg:https://www.maddhatterpro.com/wp-content/uploads/2026/02/Beast-Mesa.jpg
END:VEVENT
BEGIN:VEVENT
DTSTART;TZID=UTC:20281219T200000
DTEND;TZID=UTC:20281219T200000
DTSTAMP:20260425T011528
CREATED:20250704T001639Z
LAST-MODIFIED:20260206T143841Z
UID:10022343-1860868800-1860868800@www.maddhatterpro.com
SUMMARY:Beast of Bourbon Karaoke
DESCRIPTION:Great open atmosphere. Come out and sing your heart out with KJ Skribbz\, Yes\, some songs are off limits\, but its a blast anyway and there are plenty of songs to sing. Click following link to see what the venue is NOT licensed for. Please do NOT request 8pm-Midnight \n2235 S Power Rd #127\, Mesa\, AZ 85209 \n+14804261005
URL:https://www.maddhatterpro.com/event/beast-of-bourbon-karaoke/2028-12-19/
LOCATION:Beast of Bourbon\, 2235 S Power Rd #127\, Mesa\, AZ\, 85209\, United States
CATEGORIES:Karaoke,KJ Skribbz
ATTACH;FMTTYPE=image/jpeg:https://www.maddhatterpro.com/wp-content/uploads/2026/02/Beast-Mesa.jpg
END:VEVENT
BEGIN:VEVENT
DTSTART;TZID=UTC:20281223T200000
DTEND;TZID=UTC:20281223T200000
DTSTAMP:20260425T011528
CREATED:20250704T001639Z
LAST-MODIFIED:20260206T143841Z
UID:10022344-1861214400-1861214400@www.maddhatterpro.com
SUMMARY:Beast of Bourbon Karaoke
DESCRIPTION:Great open atmosphere. Come out and sing your heart out with KJ Skribbz\, Yes\, some songs are off limits\, but its a blast anyway and there are plenty of songs to sing. Click following link to see what the venue is NOT licensed for. Please do NOT request 8pm-Midnight \n2235 S Power Rd #127\, Mesa\, AZ 85209 \n+14804261005
URL:https://www.maddhatterpro.com/event/beast-of-bourbon-karaoke/2028-12-23/
LOCATION:Beast of Bourbon\, 2235 S Power Rd #127\, Mesa\, AZ\, 85209\, United States
CATEGORIES:Karaoke,KJ Skribbz
ATTACH;FMTTYPE=image/jpeg:https://www.maddhatterpro.com/wp-content/uploads/2026/02/Beast-Mesa.jpg
END:VEVENT
BEGIN:VEVENT
DTSTART;TZID=UTC:20281226T200000
DTEND;TZID=UTC:20281226T200000
DTSTAMP:20260425T011528
CREATED:20250704T001639Z
LAST-MODIFIED:20260206T143841Z
UID:10022345-1861473600-1861473600@www.maddhatterpro.com
SUMMARY:Beast of Bourbon Karaoke
DESCRIPTION:Great open atmosphere. Come out and sing your heart out with KJ Skribbz\, Yes\, some songs are off limits\, but its a blast anyway and there are plenty of songs to sing. Click following link to see what the venue is NOT licensed for. Please do NOT request 8pm-Midnight \n2235 S Power Rd #127\, Mesa\, AZ 85209 \n+14804261005
URL:https://www.maddhatterpro.com/event/beast-of-bourbon-karaoke/2028-12-26/
LOCATION:Beast of Bourbon\, 2235 S Power Rd #127\, Mesa\, AZ\, 85209\, United States
CATEGORIES:Karaoke,KJ Skribbz
ATTACH;FMTTYPE=image/jpeg:https://www.maddhatterpro.com/wp-content/uploads/2026/02/Beast-Mesa.jpg
END:VEVENT
BEGIN:VEVENT
DTSTART;TZID=UTC:20281230T200000
DTEND;TZID=UTC:20281230T200000
DTSTAMP:20260425T011528
CREATED:20250704T001639Z
LAST-MODIFIED:20260206T143841Z
UID:10022346-1861819200-1861819200@www.maddhatterpro.com
SUMMARY:Beast of Bourbon Karaoke
DESCRIPTION:Great open atmosphere. Come out and sing your heart out with KJ Skribbz\, Yes\, some songs are off limits\, but its a blast anyway and there are plenty of songs to sing. Click following link to see what the venue is NOT licensed for. Please do NOT request 8pm-Midnight \n2235 S Power Rd #127\, Mesa\, AZ 85209 \n+14804261005
URL:https://www.maddhatterpro.com/event/beast-of-bourbon-karaoke/2028-12-30/
LOCATION:Beast of Bourbon\, 2235 S Power Rd #127\, Mesa\, AZ\, 85209\, United States
CATEGORIES:Karaoke,KJ Skribbz
ATTACH;FMTTYPE=image/jpeg:https://www.maddhatterpro.com/wp-content/uploads/2026/02/Beast-Mesa.jpg
END:VEVENT
BEGIN:VEVENT
DTSTART;TZID=UTC:20290102T200000
DTEND;TZID=UTC:20290102T200000
DTSTAMP:20260425T011528
CREATED:20250704T001639Z
LAST-MODIFIED:20260206T143841Z
UID:10022347-1862078400-1862078400@www.maddhatterpro.com
SUMMARY:Beast of Bourbon Karaoke
DESCRIPTION:Great open atmosphere. Come out and sing your heart out with KJ Skribbz\, Yes\, some songs are off limits\, but its a blast anyway and there are plenty of songs to sing. Click following link to see what the venue is NOT licensed for. Please do NOT request 8pm-Midnight \n2235 S Power Rd #127\, Mesa\, AZ 85209 \n+14804261005
URL:https://www.maddhatterpro.com/event/beast-of-bourbon-karaoke/2029-01-02/
LOCATION:Beast of Bourbon\, 2235 S Power Rd #127\, Mesa\, AZ\, 85209\, United States
CATEGORIES:Karaoke,KJ Skribbz
ATTACH;FMTTYPE=image/jpeg:https://www.maddhatterpro.com/wp-content/uploads/2026/02/Beast-Mesa.jpg
END:VEVENT
BEGIN:VEVENT
DTSTART;TZID=UTC:20290106T200000
DTEND;TZID=UTC:20290106T200000
DTSTAMP:20260425T011528
CREATED:20250704T001639Z
LAST-MODIFIED:20260206T143841Z
UID:10022348-1862424000-1862424000@www.maddhatterpro.com
SUMMARY:Beast of Bourbon Karaoke
DESCRIPTION:Great open atmosphere. Come out and sing your heart out with KJ Skribbz\, Yes\, some songs are off limits\, but its a blast anyway and there are plenty of songs to sing. Click following link to see what the venue is NOT licensed for. Please do NOT request 8pm-Midnight \n2235 S Power Rd #127\, Mesa\, AZ 85209 \n+14804261005
URL:https://www.maddhatterpro.com/event/beast-of-bourbon-karaoke/2029-01-06/
LOCATION:Beast of Bourbon\, 2235 S Power Rd #127\, Mesa\, AZ\, 85209\, United States
CATEGORIES:Karaoke,KJ Skribbz
ATTACH;FMTTYPE=image/jpeg:https://www.maddhatterpro.com/wp-content/uploads/2026/02/Beast-Mesa.jpg
END:VEVENT
BEGIN:VEVENT
DTSTART;TZID=UTC:20290109T200000
DTEND;TZID=UTC:20290109T200000
DTSTAMP:20260425T011528
CREATED:20250704T001639Z
LAST-MODIFIED:20260206T143841Z
UID:10022349-1862683200-1862683200@www.maddhatterpro.com
SUMMARY:Beast of Bourbon Karaoke
DESCRIPTION:Great open atmosphere. Come out and sing your heart out with KJ Skribbz\, Yes\, some songs are off limits\, but its a blast anyway and there are plenty of songs to sing. Click following link to see what the venue is NOT licensed for. Please do NOT request 8pm-Midnight \n2235 S Power Rd #127\, Mesa\, AZ 85209 \n+14804261005
URL:https://www.maddhatterpro.com/event/beast-of-bourbon-karaoke/2029-01-09/
LOCATION:Beast of Bourbon\, 2235 S Power Rd #127\, Mesa\, AZ\, 85209\, United States
CATEGORIES:Karaoke,KJ Skribbz
ATTACH;FMTTYPE=image/jpeg:https://www.maddhatterpro.com/wp-content/uploads/2026/02/Beast-Mesa.jpg
END:VEVENT
BEGIN:VEVENT
DTSTART;TZID=UTC:20290113T200000
DTEND;TZID=UTC:20290113T200000
DTSTAMP:20260425T011528
CREATED:20250704T001639Z
LAST-MODIFIED:20260206T143841Z
UID:10022350-1863028800-1863028800@www.maddhatterpro.com
SUMMARY:Beast of Bourbon Karaoke
DESCRIPTION:Great open atmosphere. Come out and sing your heart out with KJ Skribbz\, Yes\, some songs are off limits\, but its a blast anyway and there are plenty of songs to sing. Click following link to see what the venue is NOT licensed for. Please do NOT request 8pm-Midnight \n2235 S Power Rd #127\, Mesa\, AZ 85209 \n+14804261005
URL:https://www.maddhatterpro.com/event/beast-of-bourbon-karaoke/2029-01-13/
LOCATION:Beast of Bourbon\, 2235 S Power Rd #127\, Mesa\, AZ\, 85209\, United States
CATEGORIES:Karaoke,KJ Skribbz
ATTACH;FMTTYPE=image/jpeg:https://www.maddhatterpro.com/wp-content/uploads/2026/02/Beast-Mesa.jpg
END:VEVENT
BEGIN:VEVENT
DTSTART;TZID=UTC:20290116T200000
DTEND;TZID=UTC:20290116T200000
DTSTAMP:20260425T011528
CREATED:20250704T001639Z
LAST-MODIFIED:20260206T143841Z
UID:10022351-1863288000-1863288000@www.maddhatterpro.com
SUMMARY:Beast of Bourbon Karaoke
DESCRIPTION:Great open atmosphere. Come out and sing your heart out with KJ Skribbz\, Yes\, some songs are off limits\, but its a blast anyway and there are plenty of songs to sing. Click following link to see what the venue is NOT licensed for. Please do NOT request 8pm-Midnight \n2235 S Power Rd #127\, Mesa\, AZ 85209 \n+14804261005
URL:https://www.maddhatterpro.com/event/beast-of-bourbon-karaoke/2029-01-16/
LOCATION:Beast of Bourbon\, 2235 S Power Rd #127\, Mesa\, AZ\, 85209\, United States
CATEGORIES:Karaoke,KJ Skribbz
ATTACH;FMTTYPE=image/jpeg:https://www.maddhatterpro.com/wp-content/uploads/2026/02/Beast-Mesa.jpg
END:VEVENT
BEGIN:VEVENT
DTSTART;TZID=UTC:20290120T200000
DTEND;TZID=UTC:20290120T200000
DTSTAMP:20260425T011528
CREATED:20250704T001639Z
LAST-MODIFIED:20260206T143841Z
UID:10022352-1863633600-1863633600@www.maddhatterpro.com
SUMMARY:Beast of Bourbon Karaoke
DESCRIPTION:Great open atmosphere. Come out and sing your heart out with KJ Skribbz\, Yes\, some songs are off limits\, but its a blast anyway and there are plenty of songs to sing. Click following link to see what the venue is NOT licensed for. Please do NOT request 8pm-Midnight \n2235 S Power Rd #127\, Mesa\, AZ 85209 \n+14804261005
URL:https://www.maddhatterpro.com/event/beast-of-bourbon-karaoke/2029-01-20/
LOCATION:Beast of Bourbon\, 2235 S Power Rd #127\, Mesa\, AZ\, 85209\, United States
CATEGORIES:Karaoke,KJ Skribbz
ATTACH;FMTTYPE=image/jpeg:https://www.maddhatterpro.com/wp-content/uploads/2026/02/Beast-Mesa.jpg
END:VEVENT
BEGIN:VEVENT
DTSTART;TZID=UTC:20290123T200000
DTEND;TZID=UTC:20290123T200000
DTSTAMP:20260425T011528
CREATED:20250704T001639Z
LAST-MODIFIED:20260206T143841Z
UID:10022353-1863892800-1863892800@www.maddhatterpro.com
SUMMARY:Beast of Bourbon Karaoke
DESCRIPTION:Great open atmosphere. Come out and sing your heart out with KJ Skribbz\, Yes\, some songs are off limits\, but its a blast anyway and there are plenty of songs to sing. Click following link to see what the venue is NOT licensed for. Please do NOT request 8pm-Midnight \n2235 S Power Rd #127\, Mesa\, AZ 85209 \n+14804261005
URL:https://www.maddhatterpro.com/event/beast-of-bourbon-karaoke/2029-01-23/
LOCATION:Beast of Bourbon\, 2235 S Power Rd #127\, Mesa\, AZ\, 85209\, United States
CATEGORIES:Karaoke,KJ Skribbz
ATTACH;FMTTYPE=image/jpeg:https://www.maddhatterpro.com/wp-content/uploads/2026/02/Beast-Mesa.jpg
END:VEVENT
BEGIN:VEVENT
DTSTART;TZID=UTC:20290127T200000
DTEND;TZID=UTC:20290127T200000
DTSTAMP:20260425T011528
CREATED:20250704T001639Z
LAST-MODIFIED:20260206T143841Z
UID:10022354-1864238400-1864238400@www.maddhatterpro.com
SUMMARY:Beast of Bourbon Karaoke
DESCRIPTION:Great open atmosphere. Come out and sing your heart out with KJ Skribbz\, Yes\, some songs are off limits\, but its a blast anyway and there are plenty of songs to sing. Click following link to see what the venue is NOT licensed for. Please do NOT request 8pm-Midnight \n2235 S Power Rd #127\, Mesa\, AZ 85209 \n+14804261005
URL:https://www.maddhatterpro.com/event/beast-of-bourbon-karaoke/2029-01-27/
LOCATION:Beast of Bourbon\, 2235 S Power Rd #127\, Mesa\, AZ\, 85209\, United States
CATEGORIES:Karaoke,KJ Skribbz
ATTACH;FMTTYPE=image/jpeg:https://www.maddhatterpro.com/wp-content/uploads/2026/02/Beast-Mesa.jpg
END:VEVENT
BEGIN:VEVENT
DTSTART;TZID=UTC:20290130T200000
DTEND;TZID=UTC:20290130T200000
DTSTAMP:20260425T011528
CREATED:20250704T001639Z
LAST-MODIFIED:20260206T143841Z
UID:10022355-1864497600-1864497600@www.maddhatterpro.com
SUMMARY:Beast of Bourbon Karaoke
DESCRIPTION:Great open atmosphere. Come out and sing your heart out with KJ Skribbz\, Yes\, some songs are off limits\, but its a blast anyway and there are plenty of songs to sing. Click following link to see what the venue is NOT licensed for. Please do NOT request 8pm-Midnight \n2235 S Power Rd #127\, Mesa\, AZ 85209 \n+14804261005
URL:https://www.maddhatterpro.com/event/beast-of-bourbon-karaoke/2029-01-30/
LOCATION:Beast of Bourbon\, 2235 S Power Rd #127\, Mesa\, AZ\, 85209\, United States
CATEGORIES:Karaoke,KJ Skribbz
ATTACH;FMTTYPE=image/jpeg:https://www.maddhatterpro.com/wp-content/uploads/2026/02/Beast-Mesa.jpg
END:VEVENT
BEGIN:VEVENT
DTSTART;TZID=UTC:20290203T200000
DTEND;TZID=UTC:20290203T200000
DTSTAMP:20260425T011528
CREATED:20250704T001639Z
LAST-MODIFIED:20260206T143841Z
UID:10022356-1864843200-1864843200@www.maddhatterpro.com
SUMMARY:Beast of Bourbon Karaoke
DESCRIPTION:Great open atmosphere. Come out and sing your heart out with KJ Skribbz\, Yes\, some songs are off limits\, but its a blast anyway and there are plenty of songs to sing. Click following link to see what the venue is NOT licensed for. Please do NOT request 8pm-Midnight \n2235 S Power Rd #127\, Mesa\, AZ 85209 \n+14804261005
URL:https://www.maddhatterpro.com/event/beast-of-bourbon-karaoke/2029-02-03/
LOCATION:Beast of Bourbon\, 2235 S Power Rd #127\, Mesa\, AZ\, 85209\, United States
CATEGORIES:Karaoke,KJ Skribbz
ATTACH;FMTTYPE=image/jpeg:https://www.maddhatterpro.com/wp-content/uploads/2026/02/Beast-Mesa.jpg
END:VEVENT
BEGIN:VEVENT
DTSTART;TZID=UTC:20290206T200000
DTEND;TZID=UTC:20290206T200000
DTSTAMP:20260425T011528
CREATED:20250704T001639Z
LAST-MODIFIED:20260206T143841Z
UID:10022357-1865102400-1865102400@www.maddhatterpro.com
SUMMARY:Beast of Bourbon Karaoke
DESCRIPTION:Great open atmosphere. Come out and sing your heart out with KJ Skribbz\, Yes\, some songs are off limits\, but its a blast anyway and there are plenty of songs to sing. Click following link to see what the venue is NOT licensed for. Please do NOT request 8pm-Midnight \n2235 S Power Rd #127\, Mesa\, AZ 85209 \n+14804261005
URL:https://www.maddhatterpro.com/event/beast-of-bourbon-karaoke/2029-02-06/
LOCATION:Beast of Bourbon\, 2235 S Power Rd #127\, Mesa\, AZ\, 85209\, United States
CATEGORIES:Karaoke,KJ Skribbz
ATTACH;FMTTYPE=image/jpeg:https://www.maddhatterpro.com/wp-content/uploads/2026/02/Beast-Mesa.jpg
END:VEVENT
BEGIN:VEVENT
DTSTART;TZID=UTC:20290210T200000
DTEND;TZID=UTC:20290210T200000
DTSTAMP:20260425T011528
CREATED:20250704T001639Z
LAST-MODIFIED:20260206T143841Z
UID:10022358-1865448000-1865448000@www.maddhatterpro.com
SUMMARY:Beast of Bourbon Karaoke
DESCRIPTION:Great open atmosphere. Come out and sing your heart out with KJ Skribbz\, Yes\, some songs are off limits\, but its a blast anyway and there are plenty of songs to sing. Click following link to see what the venue is NOT licensed for. Please do NOT request 8pm-Midnight \n2235 S Power Rd #127\, Mesa\, AZ 85209 \n+14804261005
URL:https://www.maddhatterpro.com/event/beast-of-bourbon-karaoke/2029-02-10/
LOCATION:Beast of Bourbon\, 2235 S Power Rd #127\, Mesa\, AZ\, 85209\, United States
CATEGORIES:Karaoke,KJ Skribbz
ATTACH;FMTTYPE=image/jpeg:https://www.maddhatterpro.com/wp-content/uploads/2026/02/Beast-Mesa.jpg
END:VEVENT
BEGIN:VEVENT
DTSTART;TZID=UTC:20290213T200000
DTEND;TZID=UTC:20290213T200000
DTSTAMP:20260425T011528
CREATED:20250704T001639Z
LAST-MODIFIED:20260206T143841Z
UID:10022359-1865707200-1865707200@www.maddhatterpro.com
SUMMARY:Beast of Bourbon Karaoke
DESCRIPTION:Great open atmosphere. Come out and sing your heart out with KJ Skribbz\, Yes\, some songs are off limits\, but its a blast anyway and there are plenty of songs to sing. Click following link to see what the venue is NOT licensed for. Please do NOT request 8pm-Midnight \n2235 S Power Rd #127\, Mesa\, AZ 85209 \n+14804261005
URL:https://www.maddhatterpro.com/event/beast-of-bourbon-karaoke/2029-02-13/
LOCATION:Beast of Bourbon\, 2235 S Power Rd #127\, Mesa\, AZ\, 85209\, United States
CATEGORIES:Karaoke,KJ Skribbz
ATTACH;FMTTYPE=image/jpeg:https://www.maddhatterpro.com/wp-content/uploads/2026/02/Beast-Mesa.jpg
END:VEVENT
END:VCALENDAR