BEGIN:VCALENDAR
VERSION:2.0
PRODID:-//MaddHatterPro.com - ECPv6.15.20//NONSGML v1.0//EN
CALSCALE:GREGORIAN
METHOD:PUBLISH
X-WR-CALNAME:MaddHatterPro.com
X-ORIGINAL-URL:https://www.maddhatterpro.com
X-WR-CALDESC:Events for MaddHatterPro.com
REFRESH-INTERVAL;VALUE=DURATION:PT1H
X-Robots-Tag:noindex
X-PUBLISHED-TTL:PT1H
BEGIN:VTIMEZONE
TZID:UTC
BEGIN:STANDARD
TZOFFSETFROM:+0000
TZOFFSETTO:+0000
TZNAME:UTC
DTSTART:20270101T000000
END:STANDARD
END:VTIMEZONE
BEGIN:VEVENT
DTSTART;TZID=UTC:20280701T200000
DTEND;TZID=UTC:20280701T200000
DTSTAMP:20260424T212847
CREATED:20250704T001639Z
LAST-MODIFIED:20260206T143841Z
UID:10022294-1846094400-1846094400@www.maddhatterpro.com
SUMMARY:Beast of Bourbon Karaoke
DESCRIPTION:Great open atmosphere. Come out and sing your heart out with KJ Skribbz\, Yes\, some songs are off limits\, but its a blast anyway and there are plenty of songs to sing. Click following link to see what the venue is NOT licensed for. Please do NOT request 8pm-Midnight \n2235 S Power Rd #127\, Mesa\, AZ 85209 \n+14804261005
URL:https://www.maddhatterpro.com/event/beast-of-bourbon-karaoke/2028-07-01/
LOCATION:Beast of Bourbon\, 2235 S Power Rd #127\, Mesa\, AZ\, 85209\, United States
CATEGORIES:Karaoke,KJ Skribbz
ATTACH;FMTTYPE=image/jpeg:https://www.maddhatterpro.com/wp-content/uploads/2026/02/Beast-Mesa.jpg
END:VEVENT
BEGIN:VEVENT
DTSTART;TZID=UTC:20280704T200000
DTEND;TZID=UTC:20280704T200000
DTSTAMP:20260424T212847
CREATED:20250704T001639Z
LAST-MODIFIED:20260206T143841Z
UID:10022295-1846353600-1846353600@www.maddhatterpro.com
SUMMARY:Beast of Bourbon Karaoke
DESCRIPTION:Great open atmosphere. Come out and sing your heart out with KJ Skribbz\, Yes\, some songs are off limits\, but its a blast anyway and there are plenty of songs to sing. Click following link to see what the venue is NOT licensed for. Please do NOT request 8pm-Midnight \n2235 S Power Rd #127\, Mesa\, AZ 85209 \n+14804261005
URL:https://www.maddhatterpro.com/event/beast-of-bourbon-karaoke/2028-07-04/
LOCATION:Beast of Bourbon\, 2235 S Power Rd #127\, Mesa\, AZ\, 85209\, United States
CATEGORIES:Karaoke,KJ Skribbz
ATTACH;FMTTYPE=image/jpeg:https://www.maddhatterpro.com/wp-content/uploads/2026/02/Beast-Mesa.jpg
END:VEVENT
BEGIN:VEVENT
DTSTART;TZID=UTC:20280708T200000
DTEND;TZID=UTC:20280708T200000
DTSTAMP:20260424T212847
CREATED:20250704T001639Z
LAST-MODIFIED:20260206T143841Z
UID:10022296-1846699200-1846699200@www.maddhatterpro.com
SUMMARY:Beast of Bourbon Karaoke
DESCRIPTION:Great open atmosphere. Come out and sing your heart out with KJ Skribbz\, Yes\, some songs are off limits\, but its a blast anyway and there are plenty of songs to sing. Click following link to see what the venue is NOT licensed for. Please do NOT request 8pm-Midnight \n2235 S Power Rd #127\, Mesa\, AZ 85209 \n+14804261005
URL:https://www.maddhatterpro.com/event/beast-of-bourbon-karaoke/2028-07-08/
LOCATION:Beast of Bourbon\, 2235 S Power Rd #127\, Mesa\, AZ\, 85209\, United States
CATEGORIES:Karaoke,KJ Skribbz
ATTACH;FMTTYPE=image/jpeg:https://www.maddhatterpro.com/wp-content/uploads/2026/02/Beast-Mesa.jpg
END:VEVENT
BEGIN:VEVENT
DTSTART;TZID=UTC:20280711T200000
DTEND;TZID=UTC:20280711T200000
DTSTAMP:20260424T212847
CREATED:20250704T001639Z
LAST-MODIFIED:20260206T143841Z
UID:10022297-1846958400-1846958400@www.maddhatterpro.com
SUMMARY:Beast of Bourbon Karaoke
DESCRIPTION:Great open atmosphere. Come out and sing your heart out with KJ Skribbz\, Yes\, some songs are off limits\, but its a blast anyway and there are plenty of songs to sing. Click following link to see what the venue is NOT licensed for. Please do NOT request 8pm-Midnight \n2235 S Power Rd #127\, Mesa\, AZ 85209 \n+14804261005
URL:https://www.maddhatterpro.com/event/beast-of-bourbon-karaoke/2028-07-11/
LOCATION:Beast of Bourbon\, 2235 S Power Rd #127\, Mesa\, AZ\, 85209\, United States
CATEGORIES:Karaoke,KJ Skribbz
ATTACH;FMTTYPE=image/jpeg:https://www.maddhatterpro.com/wp-content/uploads/2026/02/Beast-Mesa.jpg
END:VEVENT
BEGIN:VEVENT
DTSTART;TZID=UTC:20280715T200000
DTEND;TZID=UTC:20280715T200000
DTSTAMP:20260424T212847
CREATED:20250704T001639Z
LAST-MODIFIED:20260206T143841Z
UID:10022298-1847304000-1847304000@www.maddhatterpro.com
SUMMARY:Beast of Bourbon Karaoke
DESCRIPTION:Great open atmosphere. Come out and sing your heart out with KJ Skribbz\, Yes\, some songs are off limits\, but its a blast anyway and there are plenty of songs to sing. Click following link to see what the venue is NOT licensed for. Please do NOT request 8pm-Midnight \n2235 S Power Rd #127\, Mesa\, AZ 85209 \n+14804261005
URL:https://www.maddhatterpro.com/event/beast-of-bourbon-karaoke/2028-07-15/
LOCATION:Beast of Bourbon\, 2235 S Power Rd #127\, Mesa\, AZ\, 85209\, United States
CATEGORIES:Karaoke,KJ Skribbz
ATTACH;FMTTYPE=image/jpeg:https://www.maddhatterpro.com/wp-content/uploads/2026/02/Beast-Mesa.jpg
END:VEVENT
BEGIN:VEVENT
DTSTART;TZID=UTC:20280718T200000
DTEND;TZID=UTC:20280718T200000
DTSTAMP:20260424T212847
CREATED:20250704T001639Z
LAST-MODIFIED:20260206T143841Z
UID:10022299-1847563200-1847563200@www.maddhatterpro.com
SUMMARY:Beast of Bourbon Karaoke
DESCRIPTION:Great open atmosphere. Come out and sing your heart out with KJ Skribbz\, Yes\, some songs are off limits\, but its a blast anyway and there are plenty of songs to sing. Click following link to see what the venue is NOT licensed for. Please do NOT request 8pm-Midnight \n2235 S Power Rd #127\, Mesa\, AZ 85209 \n+14804261005
URL:https://www.maddhatterpro.com/event/beast-of-bourbon-karaoke/2028-07-18/
LOCATION:Beast of Bourbon\, 2235 S Power Rd #127\, Mesa\, AZ\, 85209\, United States
CATEGORIES:Karaoke,KJ Skribbz
ATTACH;FMTTYPE=image/jpeg:https://www.maddhatterpro.com/wp-content/uploads/2026/02/Beast-Mesa.jpg
END:VEVENT
BEGIN:VEVENT
DTSTART;TZID=UTC:20280722T200000
DTEND;TZID=UTC:20280722T200000
DTSTAMP:20260424T212847
CREATED:20250704T001639Z
LAST-MODIFIED:20260206T143841Z
UID:10022300-1847908800-1847908800@www.maddhatterpro.com
SUMMARY:Beast of Bourbon Karaoke
DESCRIPTION:Great open atmosphere. Come out and sing your heart out with KJ Skribbz\, Yes\, some songs are off limits\, but its a blast anyway and there are plenty of songs to sing. Click following link to see what the venue is NOT licensed for. Please do NOT request 8pm-Midnight \n2235 S Power Rd #127\, Mesa\, AZ 85209 \n+14804261005
URL:https://www.maddhatterpro.com/event/beast-of-bourbon-karaoke/2028-07-22/
LOCATION:Beast of Bourbon\, 2235 S Power Rd #127\, Mesa\, AZ\, 85209\, United States
CATEGORIES:Karaoke,KJ Skribbz
ATTACH;FMTTYPE=image/jpeg:https://www.maddhatterpro.com/wp-content/uploads/2026/02/Beast-Mesa.jpg
END:VEVENT
BEGIN:VEVENT
DTSTART;TZID=UTC:20280725T200000
DTEND;TZID=UTC:20280725T200000
DTSTAMP:20260424T212847
CREATED:20250704T001639Z
LAST-MODIFIED:20260206T143841Z
UID:10022301-1848168000-1848168000@www.maddhatterpro.com
SUMMARY:Beast of Bourbon Karaoke
DESCRIPTION:Great open atmosphere. Come out and sing your heart out with KJ Skribbz\, Yes\, some songs are off limits\, but its a blast anyway and there are plenty of songs to sing. Click following link to see what the venue is NOT licensed for. Please do NOT request 8pm-Midnight \n2235 S Power Rd #127\, Mesa\, AZ 85209 \n+14804261005
URL:https://www.maddhatterpro.com/event/beast-of-bourbon-karaoke/2028-07-25/
LOCATION:Beast of Bourbon\, 2235 S Power Rd #127\, Mesa\, AZ\, 85209\, United States
CATEGORIES:Karaoke,KJ Skribbz
ATTACH;FMTTYPE=image/jpeg:https://www.maddhatterpro.com/wp-content/uploads/2026/02/Beast-Mesa.jpg
END:VEVENT
BEGIN:VEVENT
DTSTART;TZID=UTC:20280729T200000
DTEND;TZID=UTC:20280729T200000
DTSTAMP:20260424T212847
CREATED:20250704T001639Z
LAST-MODIFIED:20260206T143841Z
UID:10022302-1848513600-1848513600@www.maddhatterpro.com
SUMMARY:Beast of Bourbon Karaoke
DESCRIPTION:Great open atmosphere. Come out and sing your heart out with KJ Skribbz\, Yes\, some songs are off limits\, but its a blast anyway and there are plenty of songs to sing. Click following link to see what the venue is NOT licensed for. Please do NOT request 8pm-Midnight \n2235 S Power Rd #127\, Mesa\, AZ 85209 \n+14804261005
URL:https://www.maddhatterpro.com/event/beast-of-bourbon-karaoke/2028-07-29/
LOCATION:Beast of Bourbon\, 2235 S Power Rd #127\, Mesa\, AZ\, 85209\, United States
CATEGORIES:Karaoke,KJ Skribbz
ATTACH;FMTTYPE=image/jpeg:https://www.maddhatterpro.com/wp-content/uploads/2026/02/Beast-Mesa.jpg
END:VEVENT
BEGIN:VEVENT
DTSTART;TZID=UTC:20280801T200000
DTEND;TZID=UTC:20280801T200000
DTSTAMP:20260424T212847
CREATED:20250704T001639Z
LAST-MODIFIED:20260206T143841Z
UID:10022303-1848772800-1848772800@www.maddhatterpro.com
SUMMARY:Beast of Bourbon Karaoke
DESCRIPTION:Great open atmosphere. Come out and sing your heart out with KJ Skribbz\, Yes\, some songs are off limits\, but its a blast anyway and there are plenty of songs to sing. Click following link to see what the venue is NOT licensed for. Please do NOT request 8pm-Midnight \n2235 S Power Rd #127\, Mesa\, AZ 85209 \n+14804261005
URL:https://www.maddhatterpro.com/event/beast-of-bourbon-karaoke/2028-08-01/
LOCATION:Beast of Bourbon\, 2235 S Power Rd #127\, Mesa\, AZ\, 85209\, United States
CATEGORIES:Karaoke,KJ Skribbz
ATTACH;FMTTYPE=image/jpeg:https://www.maddhatterpro.com/wp-content/uploads/2026/02/Beast-Mesa.jpg
END:VEVENT
BEGIN:VEVENT
DTSTART;TZID=UTC:20280805T200000
DTEND;TZID=UTC:20280805T200000
DTSTAMP:20260424T212847
CREATED:20250704T001639Z
LAST-MODIFIED:20260206T143841Z
UID:10022304-1849118400-1849118400@www.maddhatterpro.com
SUMMARY:Beast of Bourbon Karaoke
DESCRIPTION:Great open atmosphere. Come out and sing your heart out with KJ Skribbz\, Yes\, some songs are off limits\, but its a blast anyway and there are plenty of songs to sing. Click following link to see what the venue is NOT licensed for. Please do NOT request 8pm-Midnight \n2235 S Power Rd #127\, Mesa\, AZ 85209 \n+14804261005
URL:https://www.maddhatterpro.com/event/beast-of-bourbon-karaoke/2028-08-05/
LOCATION:Beast of Bourbon\, 2235 S Power Rd #127\, Mesa\, AZ\, 85209\, United States
CATEGORIES:Karaoke,KJ Skribbz
ATTACH;FMTTYPE=image/jpeg:https://www.maddhatterpro.com/wp-content/uploads/2026/02/Beast-Mesa.jpg
END:VEVENT
BEGIN:VEVENT
DTSTART;TZID=UTC:20280808T200000
DTEND;TZID=UTC:20280808T200000
DTSTAMP:20260424T212847
CREATED:20250704T001639Z
LAST-MODIFIED:20260206T143841Z
UID:10022305-1849377600-1849377600@www.maddhatterpro.com
SUMMARY:Beast of Bourbon Karaoke
DESCRIPTION:Great open atmosphere. Come out and sing your heart out with KJ Skribbz\, Yes\, some songs are off limits\, but its a blast anyway and there are plenty of songs to sing. Click following link to see what the venue is NOT licensed for. Please do NOT request 8pm-Midnight \n2235 S Power Rd #127\, Mesa\, AZ 85209 \n+14804261005
URL:https://www.maddhatterpro.com/event/beast-of-bourbon-karaoke/2028-08-08/
LOCATION:Beast of Bourbon\, 2235 S Power Rd #127\, Mesa\, AZ\, 85209\, United States
CATEGORIES:Karaoke,KJ Skribbz
ATTACH;FMTTYPE=image/jpeg:https://www.maddhatterpro.com/wp-content/uploads/2026/02/Beast-Mesa.jpg
END:VEVENT
BEGIN:VEVENT
DTSTART;TZID=UTC:20280812T200000
DTEND;TZID=UTC:20280812T200000
DTSTAMP:20260424T212847
CREATED:20250704T001639Z
LAST-MODIFIED:20260206T143841Z
UID:10022306-1849723200-1849723200@www.maddhatterpro.com
SUMMARY:Beast of Bourbon Karaoke
DESCRIPTION:Great open atmosphere. Come out and sing your heart out with KJ Skribbz\, Yes\, some songs are off limits\, but its a blast anyway and there are plenty of songs to sing. Click following link to see what the venue is NOT licensed for. Please do NOT request 8pm-Midnight \n2235 S Power Rd #127\, Mesa\, AZ 85209 \n+14804261005
URL:https://www.maddhatterpro.com/event/beast-of-bourbon-karaoke/2028-08-12/
LOCATION:Beast of Bourbon\, 2235 S Power Rd #127\, Mesa\, AZ\, 85209\, United States
CATEGORIES:Karaoke,KJ Skribbz
ATTACH;FMTTYPE=image/jpeg:https://www.maddhatterpro.com/wp-content/uploads/2026/02/Beast-Mesa.jpg
END:VEVENT
BEGIN:VEVENT
DTSTART;TZID=UTC:20280815T200000
DTEND;TZID=UTC:20280815T200000
DTSTAMP:20260424T212847
CREATED:20250704T001639Z
LAST-MODIFIED:20260206T143841Z
UID:10022307-1849982400-1849982400@www.maddhatterpro.com
SUMMARY:Beast of Bourbon Karaoke
DESCRIPTION:Great open atmosphere. Come out and sing your heart out with KJ Skribbz\, Yes\, some songs are off limits\, but its a blast anyway and there are plenty of songs to sing. Click following link to see what the venue is NOT licensed for. Please do NOT request 8pm-Midnight \n2235 S Power Rd #127\, Mesa\, AZ 85209 \n+14804261005
URL:https://www.maddhatterpro.com/event/beast-of-bourbon-karaoke/2028-08-15/
LOCATION:Beast of Bourbon\, 2235 S Power Rd #127\, Mesa\, AZ\, 85209\, United States
CATEGORIES:Karaoke,KJ Skribbz
ATTACH;FMTTYPE=image/jpeg:https://www.maddhatterpro.com/wp-content/uploads/2026/02/Beast-Mesa.jpg
END:VEVENT
BEGIN:VEVENT
DTSTART;TZID=UTC:20280819T200000
DTEND;TZID=UTC:20280819T200000
DTSTAMP:20260424T212847
CREATED:20250704T001639Z
LAST-MODIFIED:20260206T143841Z
UID:10022308-1850328000-1850328000@www.maddhatterpro.com
SUMMARY:Beast of Bourbon Karaoke
DESCRIPTION:Great open atmosphere. Come out and sing your heart out with KJ Skribbz\, Yes\, some songs are off limits\, but its a blast anyway and there are plenty of songs to sing. Click following link to see what the venue is NOT licensed for. Please do NOT request 8pm-Midnight \n2235 S Power Rd #127\, Mesa\, AZ 85209 \n+14804261005
URL:https://www.maddhatterpro.com/event/beast-of-bourbon-karaoke/2028-08-19/
LOCATION:Beast of Bourbon\, 2235 S Power Rd #127\, Mesa\, AZ\, 85209\, United States
CATEGORIES:Karaoke,KJ Skribbz
ATTACH;FMTTYPE=image/jpeg:https://www.maddhatterpro.com/wp-content/uploads/2026/02/Beast-Mesa.jpg
END:VEVENT
BEGIN:VEVENT
DTSTART;TZID=UTC:20280822T200000
DTEND;TZID=UTC:20280822T200000
DTSTAMP:20260424T212847
CREATED:20250704T001639Z
LAST-MODIFIED:20260206T143841Z
UID:10022309-1850587200-1850587200@www.maddhatterpro.com
SUMMARY:Beast of Bourbon Karaoke
DESCRIPTION:Great open atmosphere. Come out and sing your heart out with KJ Skribbz\, Yes\, some songs are off limits\, but its a blast anyway and there are plenty of songs to sing. Click following link to see what the venue is NOT licensed for. Please do NOT request 8pm-Midnight \n2235 S Power Rd #127\, Mesa\, AZ 85209 \n+14804261005
URL:https://www.maddhatterpro.com/event/beast-of-bourbon-karaoke/2028-08-22/
LOCATION:Beast of Bourbon\, 2235 S Power Rd #127\, Mesa\, AZ\, 85209\, United States
CATEGORIES:Karaoke,KJ Skribbz
ATTACH;FMTTYPE=image/jpeg:https://www.maddhatterpro.com/wp-content/uploads/2026/02/Beast-Mesa.jpg
END:VEVENT
BEGIN:VEVENT
DTSTART;TZID=UTC:20280826T200000
DTEND;TZID=UTC:20280826T200000
DTSTAMP:20260424T212847
CREATED:20250704T001639Z
LAST-MODIFIED:20260206T143841Z
UID:10022310-1850932800-1850932800@www.maddhatterpro.com
SUMMARY:Beast of Bourbon Karaoke
DESCRIPTION:Great open atmosphere. Come out and sing your heart out with KJ Skribbz\, Yes\, some songs are off limits\, but its a blast anyway and there are plenty of songs to sing. Click following link to see what the venue is NOT licensed for. Please do NOT request 8pm-Midnight \n2235 S Power Rd #127\, Mesa\, AZ 85209 \n+14804261005
URL:https://www.maddhatterpro.com/event/beast-of-bourbon-karaoke/2028-08-26/
LOCATION:Beast of Bourbon\, 2235 S Power Rd #127\, Mesa\, AZ\, 85209\, United States
CATEGORIES:Karaoke,KJ Skribbz
ATTACH;FMTTYPE=image/jpeg:https://www.maddhatterpro.com/wp-content/uploads/2026/02/Beast-Mesa.jpg
END:VEVENT
BEGIN:VEVENT
DTSTART;TZID=UTC:20280829T200000
DTEND;TZID=UTC:20280829T200000
DTSTAMP:20260424T212847
CREATED:20250704T001639Z
LAST-MODIFIED:20260206T143841Z
UID:10022311-1851192000-1851192000@www.maddhatterpro.com
SUMMARY:Beast of Bourbon Karaoke
DESCRIPTION:Great open atmosphere. Come out and sing your heart out with KJ Skribbz\, Yes\, some songs are off limits\, but its a blast anyway and there are plenty of songs to sing. Click following link to see what the venue is NOT licensed for. Please do NOT request 8pm-Midnight \n2235 S Power Rd #127\, Mesa\, AZ 85209 \n+14804261005
URL:https://www.maddhatterpro.com/event/beast-of-bourbon-karaoke/2028-08-29/
LOCATION:Beast of Bourbon\, 2235 S Power Rd #127\, Mesa\, AZ\, 85209\, United States
CATEGORIES:Karaoke,KJ Skribbz
ATTACH;FMTTYPE=image/jpeg:https://www.maddhatterpro.com/wp-content/uploads/2026/02/Beast-Mesa.jpg
END:VEVENT
BEGIN:VEVENT
DTSTART;TZID=UTC:20280902T200000
DTEND;TZID=UTC:20280902T200000
DTSTAMP:20260424T212847
CREATED:20250704T001639Z
LAST-MODIFIED:20260206T143841Z
UID:10022312-1851537600-1851537600@www.maddhatterpro.com
SUMMARY:Beast of Bourbon Karaoke
DESCRIPTION:Great open atmosphere. Come out and sing your heart out with KJ Skribbz\, Yes\, some songs are off limits\, but its a blast anyway and there are plenty of songs to sing. Click following link to see what the venue is NOT licensed for. Please do NOT request 8pm-Midnight \n2235 S Power Rd #127\, Mesa\, AZ 85209 \n+14804261005
URL:https://www.maddhatterpro.com/event/beast-of-bourbon-karaoke/2028-09-02/
LOCATION:Beast of Bourbon\, 2235 S Power Rd #127\, Mesa\, AZ\, 85209\, United States
CATEGORIES:Karaoke,KJ Skribbz
ATTACH;FMTTYPE=image/jpeg:https://www.maddhatterpro.com/wp-content/uploads/2026/02/Beast-Mesa.jpg
END:VEVENT
BEGIN:VEVENT
DTSTART;TZID=UTC:20280905T200000
DTEND;TZID=UTC:20280905T200000
DTSTAMP:20260424T212847
CREATED:20250704T001639Z
LAST-MODIFIED:20260206T143841Z
UID:10022313-1851796800-1851796800@www.maddhatterpro.com
SUMMARY:Beast of Bourbon Karaoke
DESCRIPTION:Great open atmosphere. Come out and sing your heart out with KJ Skribbz\, Yes\, some songs are off limits\, but its a blast anyway and there are plenty of songs to sing. Click following link to see what the venue is NOT licensed for. Please do NOT request 8pm-Midnight \n2235 S Power Rd #127\, Mesa\, AZ 85209 \n+14804261005
URL:https://www.maddhatterpro.com/event/beast-of-bourbon-karaoke/2028-09-05/
LOCATION:Beast of Bourbon\, 2235 S Power Rd #127\, Mesa\, AZ\, 85209\, United States
CATEGORIES:Karaoke,KJ Skribbz
ATTACH;FMTTYPE=image/jpeg:https://www.maddhatterpro.com/wp-content/uploads/2026/02/Beast-Mesa.jpg
END:VEVENT
BEGIN:VEVENT
DTSTART;TZID=UTC:20280909T200000
DTEND;TZID=UTC:20280909T200000
DTSTAMP:20260424T212847
CREATED:20250704T001639Z
LAST-MODIFIED:20260206T143841Z
UID:10022314-1852142400-1852142400@www.maddhatterpro.com
SUMMARY:Beast of Bourbon Karaoke
DESCRIPTION:Great open atmosphere. Come out and sing your heart out with KJ Skribbz\, Yes\, some songs are off limits\, but its a blast anyway and there are plenty of songs to sing. Click following link to see what the venue is NOT licensed for. Please do NOT request 8pm-Midnight \n2235 S Power Rd #127\, Mesa\, AZ 85209 \n+14804261005
URL:https://www.maddhatterpro.com/event/beast-of-bourbon-karaoke/2028-09-09/
LOCATION:Beast of Bourbon\, 2235 S Power Rd #127\, Mesa\, AZ\, 85209\, United States
CATEGORIES:Karaoke,KJ Skribbz
ATTACH;FMTTYPE=image/jpeg:https://www.maddhatterpro.com/wp-content/uploads/2026/02/Beast-Mesa.jpg
END:VEVENT
BEGIN:VEVENT
DTSTART;TZID=UTC:20280912T200000
DTEND;TZID=UTC:20280912T200000
DTSTAMP:20260424T212847
CREATED:20250704T001639Z
LAST-MODIFIED:20260206T143841Z
UID:10022315-1852401600-1852401600@www.maddhatterpro.com
SUMMARY:Beast of Bourbon Karaoke
DESCRIPTION:Great open atmosphere. Come out and sing your heart out with KJ Skribbz\, Yes\, some songs are off limits\, but its a blast anyway and there are plenty of songs to sing. Click following link to see what the venue is NOT licensed for. Please do NOT request 8pm-Midnight \n2235 S Power Rd #127\, Mesa\, AZ 85209 \n+14804261005
URL:https://www.maddhatterpro.com/event/beast-of-bourbon-karaoke/2028-09-12/
LOCATION:Beast of Bourbon\, 2235 S Power Rd #127\, Mesa\, AZ\, 85209\, United States
CATEGORIES:Karaoke,KJ Skribbz
ATTACH;FMTTYPE=image/jpeg:https://www.maddhatterpro.com/wp-content/uploads/2026/02/Beast-Mesa.jpg
END:VEVENT
BEGIN:VEVENT
DTSTART;TZID=UTC:20280916T200000
DTEND;TZID=UTC:20280916T200000
DTSTAMP:20260424T212847
CREATED:20250704T001639Z
LAST-MODIFIED:20260206T143841Z
UID:10022316-1852747200-1852747200@www.maddhatterpro.com
SUMMARY:Beast of Bourbon Karaoke
DESCRIPTION:Great open atmosphere. Come out and sing your heart out with KJ Skribbz\, Yes\, some songs are off limits\, but its a blast anyway and there are plenty of songs to sing. Click following link to see what the venue is NOT licensed for. Please do NOT request 8pm-Midnight \n2235 S Power Rd #127\, Mesa\, AZ 85209 \n+14804261005
URL:https://www.maddhatterpro.com/event/beast-of-bourbon-karaoke/2028-09-16/
LOCATION:Beast of Bourbon\, 2235 S Power Rd #127\, Mesa\, AZ\, 85209\, United States
CATEGORIES:Karaoke,KJ Skribbz
ATTACH;FMTTYPE=image/jpeg:https://www.maddhatterpro.com/wp-content/uploads/2026/02/Beast-Mesa.jpg
END:VEVENT
BEGIN:VEVENT
DTSTART;TZID=UTC:20280919T200000
DTEND;TZID=UTC:20280919T200000
DTSTAMP:20260424T212847
CREATED:20250704T001639Z
LAST-MODIFIED:20260206T143841Z
UID:10022317-1853006400-1853006400@www.maddhatterpro.com
SUMMARY:Beast of Bourbon Karaoke
DESCRIPTION:Great open atmosphere. Come out and sing your heart out with KJ Skribbz\, Yes\, some songs are off limits\, but its a blast anyway and there are plenty of songs to sing. Click following link to see what the venue is NOT licensed for. Please do NOT request 8pm-Midnight \n2235 S Power Rd #127\, Mesa\, AZ 85209 \n+14804261005
URL:https://www.maddhatterpro.com/event/beast-of-bourbon-karaoke/2028-09-19/
LOCATION:Beast of Bourbon\, 2235 S Power Rd #127\, Mesa\, AZ\, 85209\, United States
CATEGORIES:Karaoke,KJ Skribbz
ATTACH;FMTTYPE=image/jpeg:https://www.maddhatterpro.com/wp-content/uploads/2026/02/Beast-Mesa.jpg
END:VEVENT
BEGIN:VEVENT
DTSTART;TZID=UTC:20280923T200000
DTEND;TZID=UTC:20280923T200000
DTSTAMP:20260424T212847
CREATED:20250704T001639Z
LAST-MODIFIED:20260206T143841Z
UID:10022318-1853352000-1853352000@www.maddhatterpro.com
SUMMARY:Beast of Bourbon Karaoke
DESCRIPTION:Great open atmosphere. Come out and sing your heart out with KJ Skribbz\, Yes\, some songs are off limits\, but its a blast anyway and there are plenty of songs to sing. Click following link to see what the venue is NOT licensed for. Please do NOT request 8pm-Midnight \n2235 S Power Rd #127\, Mesa\, AZ 85209 \n+14804261005
URL:https://www.maddhatterpro.com/event/beast-of-bourbon-karaoke/2028-09-23/
LOCATION:Beast of Bourbon\, 2235 S Power Rd #127\, Mesa\, AZ\, 85209\, United States
CATEGORIES:Karaoke,KJ Skribbz
ATTACH;FMTTYPE=image/jpeg:https://www.maddhatterpro.com/wp-content/uploads/2026/02/Beast-Mesa.jpg
END:VEVENT
BEGIN:VEVENT
DTSTART;TZID=UTC:20280926T200000
DTEND;TZID=UTC:20280926T200000
DTSTAMP:20260424T212847
CREATED:20250704T001639Z
LAST-MODIFIED:20260206T143841Z
UID:10022319-1853611200-1853611200@www.maddhatterpro.com
SUMMARY:Beast of Bourbon Karaoke
DESCRIPTION:Great open atmosphere. Come out and sing your heart out with KJ Skribbz\, Yes\, some songs are off limits\, but its a blast anyway and there are plenty of songs to sing. Click following link to see what the venue is NOT licensed for. Please do NOT request 8pm-Midnight \n2235 S Power Rd #127\, Mesa\, AZ 85209 \n+14804261005
URL:https://www.maddhatterpro.com/event/beast-of-bourbon-karaoke/2028-09-26/
LOCATION:Beast of Bourbon\, 2235 S Power Rd #127\, Mesa\, AZ\, 85209\, United States
CATEGORIES:Karaoke,KJ Skribbz
ATTACH;FMTTYPE=image/jpeg:https://www.maddhatterpro.com/wp-content/uploads/2026/02/Beast-Mesa.jpg
END:VEVENT
BEGIN:VEVENT
DTSTART;TZID=UTC:20280930T200000
DTEND;TZID=UTC:20280930T200000
DTSTAMP:20260424T212847
CREATED:20250704T001639Z
LAST-MODIFIED:20260206T143841Z
UID:10022320-1853956800-1853956800@www.maddhatterpro.com
SUMMARY:Beast of Bourbon Karaoke
DESCRIPTION:Great open atmosphere. Come out and sing your heart out with KJ Skribbz\, Yes\, some songs are off limits\, but its a blast anyway and there are plenty of songs to sing. Click following link to see what the venue is NOT licensed for. Please do NOT request 8pm-Midnight \n2235 S Power Rd #127\, Mesa\, AZ 85209 \n+14804261005
URL:https://www.maddhatterpro.com/event/beast-of-bourbon-karaoke/2028-09-30/
LOCATION:Beast of Bourbon\, 2235 S Power Rd #127\, Mesa\, AZ\, 85209\, United States
CATEGORIES:Karaoke,KJ Skribbz
ATTACH;FMTTYPE=image/jpeg:https://www.maddhatterpro.com/wp-content/uploads/2026/02/Beast-Mesa.jpg
END:VEVENT
BEGIN:VEVENT
DTSTART;TZID=UTC:20281003T200000
DTEND;TZID=UTC:20281003T200000
DTSTAMP:20260424T212847
CREATED:20250704T001639Z
LAST-MODIFIED:20260206T143841Z
UID:10022321-1854216000-1854216000@www.maddhatterpro.com
SUMMARY:Beast of Bourbon Karaoke
DESCRIPTION:Great open atmosphere. Come out and sing your heart out with KJ Skribbz\, Yes\, some songs are off limits\, but its a blast anyway and there are plenty of songs to sing. Click following link to see what the venue is NOT licensed for. Please do NOT request 8pm-Midnight \n2235 S Power Rd #127\, Mesa\, AZ 85209 \n+14804261005
URL:https://www.maddhatterpro.com/event/beast-of-bourbon-karaoke/2028-10-03/
LOCATION:Beast of Bourbon\, 2235 S Power Rd #127\, Mesa\, AZ\, 85209\, United States
CATEGORIES:Karaoke,KJ Skribbz
ATTACH;FMTTYPE=image/jpeg:https://www.maddhatterpro.com/wp-content/uploads/2026/02/Beast-Mesa.jpg
END:VEVENT
BEGIN:VEVENT
DTSTART;TZID=UTC:20281007T200000
DTEND;TZID=UTC:20281007T200000
DTSTAMP:20260424T212847
CREATED:20250704T001639Z
LAST-MODIFIED:20260206T143841Z
UID:10022322-1854561600-1854561600@www.maddhatterpro.com
SUMMARY:Beast of Bourbon Karaoke
DESCRIPTION:Great open atmosphere. Come out and sing your heart out with KJ Skribbz\, Yes\, some songs are off limits\, but its a blast anyway and there are plenty of songs to sing. Click following link to see what the venue is NOT licensed for. Please do NOT request 8pm-Midnight \n2235 S Power Rd #127\, Mesa\, AZ 85209 \n+14804261005
URL:https://www.maddhatterpro.com/event/beast-of-bourbon-karaoke/2028-10-07/
LOCATION:Beast of Bourbon\, 2235 S Power Rd #127\, Mesa\, AZ\, 85209\, United States
CATEGORIES:Karaoke,KJ Skribbz
ATTACH;FMTTYPE=image/jpeg:https://www.maddhatterpro.com/wp-content/uploads/2026/02/Beast-Mesa.jpg
END:VEVENT
BEGIN:VEVENT
DTSTART;TZID=UTC:20281010T200000
DTEND;TZID=UTC:20281010T200000
DTSTAMP:20260424T212847
CREATED:20250704T001639Z
LAST-MODIFIED:20260206T143841Z
UID:10022323-1854820800-1854820800@www.maddhatterpro.com
SUMMARY:Beast of Bourbon Karaoke
DESCRIPTION:Great open atmosphere. Come out and sing your heart out with KJ Skribbz\, Yes\, some songs are off limits\, but its a blast anyway and there are plenty of songs to sing. Click following link to see what the venue is NOT licensed for. Please do NOT request 8pm-Midnight \n2235 S Power Rd #127\, Mesa\, AZ 85209 \n+14804261005
URL:https://www.maddhatterpro.com/event/beast-of-bourbon-karaoke/2028-10-10/
LOCATION:Beast of Bourbon\, 2235 S Power Rd #127\, Mesa\, AZ\, 85209\, United States
CATEGORIES:Karaoke,KJ Skribbz
ATTACH;FMTTYPE=image/jpeg:https://www.maddhatterpro.com/wp-content/uploads/2026/02/Beast-Mesa.jpg
END:VEVENT
END:VCALENDAR