BEGIN:VCALENDAR
VERSION:2.0
PRODID:-//MaddHatterPro.com - ECPv6.15.20//NONSGML v1.0//EN
CALSCALE:GREGORIAN
METHOD:PUBLISH
X-WR-CALNAME:MaddHatterPro.com
X-ORIGINAL-URL:https://www.maddhatterpro.com
X-WR-CALDESC:Events for MaddHatterPro.com
REFRESH-INTERVAL;VALUE=DURATION:PT1H
X-Robots-Tag:noindex
X-PUBLISHED-TTL:PT1H
BEGIN:VTIMEZONE
TZID:UTC
BEGIN:STANDARD
TZOFFSETFROM:+0000
TZOFFSETTO:+0000
TZNAME:UTC
DTSTART:20270101T000000
END:STANDARD
END:VTIMEZONE
BEGIN:VEVENT
DTSTART;TZID=UTC:20280408T200000
DTEND;TZID=UTC:20280408T200000
DTSTAMP:20260424T183719
CREATED:20250704T001639Z
LAST-MODIFIED:20260206T143841Z
UID:10022270-1838836800-1838836800@www.maddhatterpro.com
SUMMARY:Beast of Bourbon Karaoke
DESCRIPTION:Great open atmosphere. Come out and sing your heart out with KJ Skribbz\, Yes\, some songs are off limits\, but its a blast anyway and there are plenty of songs to sing. Click following link to see what the venue is NOT licensed for. Please do NOT request 8pm-Midnight \n2235 S Power Rd #127\, Mesa\, AZ 85209 \n+14804261005
URL:https://www.maddhatterpro.com/event/beast-of-bourbon-karaoke/2028-04-08/
LOCATION:Beast of Bourbon\, 2235 S Power Rd #127\, Mesa\, AZ\, 85209\, United States
CATEGORIES:Karaoke,KJ Skribbz
ATTACH;FMTTYPE=image/jpeg:https://www.maddhatterpro.com/wp-content/uploads/2026/02/Beast-Mesa.jpg
END:VEVENT
BEGIN:VEVENT
DTSTART;TZID=UTC:20280411T200000
DTEND;TZID=UTC:20280411T200000
DTSTAMP:20260424T183719
CREATED:20250704T001639Z
LAST-MODIFIED:20260206T143841Z
UID:10022271-1839096000-1839096000@www.maddhatterpro.com
SUMMARY:Beast of Bourbon Karaoke
DESCRIPTION:Great open atmosphere. Come out and sing your heart out with KJ Skribbz\, Yes\, some songs are off limits\, but its a blast anyway and there are plenty of songs to sing. Click following link to see what the venue is NOT licensed for. Please do NOT request 8pm-Midnight \n2235 S Power Rd #127\, Mesa\, AZ 85209 \n+14804261005
URL:https://www.maddhatterpro.com/event/beast-of-bourbon-karaoke/2028-04-11/
LOCATION:Beast of Bourbon\, 2235 S Power Rd #127\, Mesa\, AZ\, 85209\, United States
CATEGORIES:Karaoke,KJ Skribbz
ATTACH;FMTTYPE=image/jpeg:https://www.maddhatterpro.com/wp-content/uploads/2026/02/Beast-Mesa.jpg
END:VEVENT
BEGIN:VEVENT
DTSTART;TZID=UTC:20280415T200000
DTEND;TZID=UTC:20280415T200000
DTSTAMP:20260424T183719
CREATED:20250704T001639Z
LAST-MODIFIED:20260206T143841Z
UID:10022272-1839441600-1839441600@www.maddhatterpro.com
SUMMARY:Beast of Bourbon Karaoke
DESCRIPTION:Great open atmosphere. Come out and sing your heart out with KJ Skribbz\, Yes\, some songs are off limits\, but its a blast anyway and there are plenty of songs to sing. Click following link to see what the venue is NOT licensed for. Please do NOT request 8pm-Midnight \n2235 S Power Rd #127\, Mesa\, AZ 85209 \n+14804261005
URL:https://www.maddhatterpro.com/event/beast-of-bourbon-karaoke/2028-04-15/
LOCATION:Beast of Bourbon\, 2235 S Power Rd #127\, Mesa\, AZ\, 85209\, United States
CATEGORIES:Karaoke,KJ Skribbz
ATTACH;FMTTYPE=image/jpeg:https://www.maddhatterpro.com/wp-content/uploads/2026/02/Beast-Mesa.jpg
END:VEVENT
BEGIN:VEVENT
DTSTART;TZID=UTC:20280418T200000
DTEND;TZID=UTC:20280418T200000
DTSTAMP:20260424T183719
CREATED:20250704T001639Z
LAST-MODIFIED:20260206T143841Z
UID:10022273-1839700800-1839700800@www.maddhatterpro.com
SUMMARY:Beast of Bourbon Karaoke
DESCRIPTION:Great open atmosphere. Come out and sing your heart out with KJ Skribbz\, Yes\, some songs are off limits\, but its a blast anyway and there are plenty of songs to sing. Click following link to see what the venue is NOT licensed for. Please do NOT request 8pm-Midnight \n2235 S Power Rd #127\, Mesa\, AZ 85209 \n+14804261005
URL:https://www.maddhatterpro.com/event/beast-of-bourbon-karaoke/2028-04-18/
LOCATION:Beast of Bourbon\, 2235 S Power Rd #127\, Mesa\, AZ\, 85209\, United States
CATEGORIES:Karaoke,KJ Skribbz
ATTACH;FMTTYPE=image/jpeg:https://www.maddhatterpro.com/wp-content/uploads/2026/02/Beast-Mesa.jpg
END:VEVENT
BEGIN:VEVENT
DTSTART;TZID=UTC:20280422T200000
DTEND;TZID=UTC:20280422T200000
DTSTAMP:20260424T183719
CREATED:20250704T001639Z
LAST-MODIFIED:20260206T143841Z
UID:10022274-1840046400-1840046400@www.maddhatterpro.com
SUMMARY:Beast of Bourbon Karaoke
DESCRIPTION:Great open atmosphere. Come out and sing your heart out with KJ Skribbz\, Yes\, some songs are off limits\, but its a blast anyway and there are plenty of songs to sing. Click following link to see what the venue is NOT licensed for. Please do NOT request 8pm-Midnight \n2235 S Power Rd #127\, Mesa\, AZ 85209 \n+14804261005
URL:https://www.maddhatterpro.com/event/beast-of-bourbon-karaoke/2028-04-22/
LOCATION:Beast of Bourbon\, 2235 S Power Rd #127\, Mesa\, AZ\, 85209\, United States
CATEGORIES:Karaoke,KJ Skribbz
ATTACH;FMTTYPE=image/jpeg:https://www.maddhatterpro.com/wp-content/uploads/2026/02/Beast-Mesa.jpg
END:VEVENT
BEGIN:VEVENT
DTSTART;TZID=UTC:20280425T200000
DTEND;TZID=UTC:20280425T200000
DTSTAMP:20260424T183719
CREATED:20250704T001639Z
LAST-MODIFIED:20260206T143841Z
UID:10022275-1840305600-1840305600@www.maddhatterpro.com
SUMMARY:Beast of Bourbon Karaoke
DESCRIPTION:Great open atmosphere. Come out and sing your heart out with KJ Skribbz\, Yes\, some songs are off limits\, but its a blast anyway and there are plenty of songs to sing. Click following link to see what the venue is NOT licensed for. Please do NOT request 8pm-Midnight \n2235 S Power Rd #127\, Mesa\, AZ 85209 \n+14804261005
URL:https://www.maddhatterpro.com/event/beast-of-bourbon-karaoke/2028-04-25/
LOCATION:Beast of Bourbon\, 2235 S Power Rd #127\, Mesa\, AZ\, 85209\, United States
CATEGORIES:Karaoke,KJ Skribbz
ATTACH;FMTTYPE=image/jpeg:https://www.maddhatterpro.com/wp-content/uploads/2026/02/Beast-Mesa.jpg
END:VEVENT
BEGIN:VEVENT
DTSTART;TZID=UTC:20280429T200000
DTEND;TZID=UTC:20280429T200000
DTSTAMP:20260424T183719
CREATED:20250704T001639Z
LAST-MODIFIED:20260206T143841Z
UID:10022276-1840651200-1840651200@www.maddhatterpro.com
SUMMARY:Beast of Bourbon Karaoke
DESCRIPTION:Great open atmosphere. Come out and sing your heart out with KJ Skribbz\, Yes\, some songs are off limits\, but its a blast anyway and there are plenty of songs to sing. Click following link to see what the venue is NOT licensed for. Please do NOT request 8pm-Midnight \n2235 S Power Rd #127\, Mesa\, AZ 85209 \n+14804261005
URL:https://www.maddhatterpro.com/event/beast-of-bourbon-karaoke/2028-04-29/
LOCATION:Beast of Bourbon\, 2235 S Power Rd #127\, Mesa\, AZ\, 85209\, United States
CATEGORIES:Karaoke,KJ Skribbz
ATTACH;FMTTYPE=image/jpeg:https://www.maddhatterpro.com/wp-content/uploads/2026/02/Beast-Mesa.jpg
END:VEVENT
BEGIN:VEVENT
DTSTART;TZID=UTC:20280502T200000
DTEND;TZID=UTC:20280502T200000
DTSTAMP:20260424T183719
CREATED:20250704T001639Z
LAST-MODIFIED:20260206T143841Z
UID:10022277-1840910400-1840910400@www.maddhatterpro.com
SUMMARY:Beast of Bourbon Karaoke
DESCRIPTION:Great open atmosphere. Come out and sing your heart out with KJ Skribbz\, Yes\, some songs are off limits\, but its a blast anyway and there are plenty of songs to sing. Click following link to see what the venue is NOT licensed for. Please do NOT request 8pm-Midnight \n2235 S Power Rd #127\, Mesa\, AZ 85209 \n+14804261005
URL:https://www.maddhatterpro.com/event/beast-of-bourbon-karaoke/2028-05-02/
LOCATION:Beast of Bourbon\, 2235 S Power Rd #127\, Mesa\, AZ\, 85209\, United States
CATEGORIES:Karaoke,KJ Skribbz
ATTACH;FMTTYPE=image/jpeg:https://www.maddhatterpro.com/wp-content/uploads/2026/02/Beast-Mesa.jpg
END:VEVENT
BEGIN:VEVENT
DTSTART;TZID=UTC:20280506T200000
DTEND;TZID=UTC:20280506T200000
DTSTAMP:20260424T183719
CREATED:20250704T001639Z
LAST-MODIFIED:20260206T143841Z
UID:10022278-1841256000-1841256000@www.maddhatterpro.com
SUMMARY:Beast of Bourbon Karaoke
DESCRIPTION:Great open atmosphere. Come out and sing your heart out with KJ Skribbz\, Yes\, some songs are off limits\, but its a blast anyway and there are plenty of songs to sing. Click following link to see what the venue is NOT licensed for. Please do NOT request 8pm-Midnight \n2235 S Power Rd #127\, Mesa\, AZ 85209 \n+14804261005
URL:https://www.maddhatterpro.com/event/beast-of-bourbon-karaoke/2028-05-06/
LOCATION:Beast of Bourbon\, 2235 S Power Rd #127\, Mesa\, AZ\, 85209\, United States
CATEGORIES:Karaoke,KJ Skribbz
ATTACH;FMTTYPE=image/jpeg:https://www.maddhatterpro.com/wp-content/uploads/2026/02/Beast-Mesa.jpg
END:VEVENT
BEGIN:VEVENT
DTSTART;TZID=UTC:20280509T200000
DTEND;TZID=UTC:20280509T200000
DTSTAMP:20260424T183719
CREATED:20250704T001639Z
LAST-MODIFIED:20260206T143841Z
UID:10022279-1841515200-1841515200@www.maddhatterpro.com
SUMMARY:Beast of Bourbon Karaoke
DESCRIPTION:Great open atmosphere. Come out and sing your heart out with KJ Skribbz\, Yes\, some songs are off limits\, but its a blast anyway and there are plenty of songs to sing. Click following link to see what the venue is NOT licensed for. Please do NOT request 8pm-Midnight \n2235 S Power Rd #127\, Mesa\, AZ 85209 \n+14804261005
URL:https://www.maddhatterpro.com/event/beast-of-bourbon-karaoke/2028-05-09/
LOCATION:Beast of Bourbon\, 2235 S Power Rd #127\, Mesa\, AZ\, 85209\, United States
CATEGORIES:Karaoke,KJ Skribbz
ATTACH;FMTTYPE=image/jpeg:https://www.maddhatterpro.com/wp-content/uploads/2026/02/Beast-Mesa.jpg
END:VEVENT
BEGIN:VEVENT
DTSTART;TZID=UTC:20280513T200000
DTEND;TZID=UTC:20280513T200000
DTSTAMP:20260424T183719
CREATED:20250704T001639Z
LAST-MODIFIED:20260206T143841Z
UID:10022280-1841860800-1841860800@www.maddhatterpro.com
SUMMARY:Beast of Bourbon Karaoke
DESCRIPTION:Great open atmosphere. Come out and sing your heart out with KJ Skribbz\, Yes\, some songs are off limits\, but its a blast anyway and there are plenty of songs to sing. Click following link to see what the venue is NOT licensed for. Please do NOT request 8pm-Midnight \n2235 S Power Rd #127\, Mesa\, AZ 85209 \n+14804261005
URL:https://www.maddhatterpro.com/event/beast-of-bourbon-karaoke/2028-05-13/
LOCATION:Beast of Bourbon\, 2235 S Power Rd #127\, Mesa\, AZ\, 85209\, United States
CATEGORIES:Karaoke,KJ Skribbz
ATTACH;FMTTYPE=image/jpeg:https://www.maddhatterpro.com/wp-content/uploads/2026/02/Beast-Mesa.jpg
END:VEVENT
BEGIN:VEVENT
DTSTART;TZID=UTC:20280516T200000
DTEND;TZID=UTC:20280516T200000
DTSTAMP:20260424T183719
CREATED:20250704T001639Z
LAST-MODIFIED:20260206T143841Z
UID:10022281-1842120000-1842120000@www.maddhatterpro.com
SUMMARY:Beast of Bourbon Karaoke
DESCRIPTION:Great open atmosphere. Come out and sing your heart out with KJ Skribbz\, Yes\, some songs are off limits\, but its a blast anyway and there are plenty of songs to sing. Click following link to see what the venue is NOT licensed for. Please do NOT request 8pm-Midnight \n2235 S Power Rd #127\, Mesa\, AZ 85209 \n+14804261005
URL:https://www.maddhatterpro.com/event/beast-of-bourbon-karaoke/2028-05-16/
LOCATION:Beast of Bourbon\, 2235 S Power Rd #127\, Mesa\, AZ\, 85209\, United States
CATEGORIES:Karaoke,KJ Skribbz
ATTACH;FMTTYPE=image/jpeg:https://www.maddhatterpro.com/wp-content/uploads/2026/02/Beast-Mesa.jpg
END:VEVENT
BEGIN:VEVENT
DTSTART;TZID=UTC:20280520T200000
DTEND;TZID=UTC:20280520T200000
DTSTAMP:20260424T183719
CREATED:20250704T001639Z
LAST-MODIFIED:20260206T143841Z
UID:10022282-1842465600-1842465600@www.maddhatterpro.com
SUMMARY:Beast of Bourbon Karaoke
DESCRIPTION:Great open atmosphere. Come out and sing your heart out with KJ Skribbz\, Yes\, some songs are off limits\, but its a blast anyway and there are plenty of songs to sing. Click following link to see what the venue is NOT licensed for. Please do NOT request 8pm-Midnight \n2235 S Power Rd #127\, Mesa\, AZ 85209 \n+14804261005
URL:https://www.maddhatterpro.com/event/beast-of-bourbon-karaoke/2028-05-20/
LOCATION:Beast of Bourbon\, 2235 S Power Rd #127\, Mesa\, AZ\, 85209\, United States
CATEGORIES:Karaoke,KJ Skribbz
ATTACH;FMTTYPE=image/jpeg:https://www.maddhatterpro.com/wp-content/uploads/2026/02/Beast-Mesa.jpg
END:VEVENT
BEGIN:VEVENT
DTSTART;TZID=UTC:20280523T200000
DTEND;TZID=UTC:20280523T200000
DTSTAMP:20260424T183719
CREATED:20250704T001639Z
LAST-MODIFIED:20260206T143841Z
UID:10022283-1842724800-1842724800@www.maddhatterpro.com
SUMMARY:Beast of Bourbon Karaoke
DESCRIPTION:Great open atmosphere. Come out and sing your heart out with KJ Skribbz\, Yes\, some songs are off limits\, but its a blast anyway and there are plenty of songs to sing. Click following link to see what the venue is NOT licensed for. Please do NOT request 8pm-Midnight \n2235 S Power Rd #127\, Mesa\, AZ 85209 \n+14804261005
URL:https://www.maddhatterpro.com/event/beast-of-bourbon-karaoke/2028-05-23/
LOCATION:Beast of Bourbon\, 2235 S Power Rd #127\, Mesa\, AZ\, 85209\, United States
CATEGORIES:Karaoke,KJ Skribbz
ATTACH;FMTTYPE=image/jpeg:https://www.maddhatterpro.com/wp-content/uploads/2026/02/Beast-Mesa.jpg
END:VEVENT
BEGIN:VEVENT
DTSTART;TZID=UTC:20280527T200000
DTEND;TZID=UTC:20280527T200000
DTSTAMP:20260424T183719
CREATED:20250704T001639Z
LAST-MODIFIED:20260206T143841Z
UID:10022284-1843070400-1843070400@www.maddhatterpro.com
SUMMARY:Beast of Bourbon Karaoke
DESCRIPTION:Great open atmosphere. Come out and sing your heart out with KJ Skribbz\, Yes\, some songs are off limits\, but its a blast anyway and there are plenty of songs to sing. Click following link to see what the venue is NOT licensed for. Please do NOT request 8pm-Midnight \n2235 S Power Rd #127\, Mesa\, AZ 85209 \n+14804261005
URL:https://www.maddhatterpro.com/event/beast-of-bourbon-karaoke/2028-05-27/
LOCATION:Beast of Bourbon\, 2235 S Power Rd #127\, Mesa\, AZ\, 85209\, United States
CATEGORIES:Karaoke,KJ Skribbz
ATTACH;FMTTYPE=image/jpeg:https://www.maddhatterpro.com/wp-content/uploads/2026/02/Beast-Mesa.jpg
END:VEVENT
BEGIN:VEVENT
DTSTART;TZID=UTC:20280530T200000
DTEND;TZID=UTC:20280530T200000
DTSTAMP:20260424T183719
CREATED:20250704T001639Z
LAST-MODIFIED:20260206T143841Z
UID:10022285-1843329600-1843329600@www.maddhatterpro.com
SUMMARY:Beast of Bourbon Karaoke
DESCRIPTION:Great open atmosphere. Come out and sing your heart out with KJ Skribbz\, Yes\, some songs are off limits\, but its a blast anyway and there are plenty of songs to sing. Click following link to see what the venue is NOT licensed for. Please do NOT request 8pm-Midnight \n2235 S Power Rd #127\, Mesa\, AZ 85209 \n+14804261005
URL:https://www.maddhatterpro.com/event/beast-of-bourbon-karaoke/2028-05-30/
LOCATION:Beast of Bourbon\, 2235 S Power Rd #127\, Mesa\, AZ\, 85209\, United States
CATEGORIES:Karaoke,KJ Skribbz
ATTACH;FMTTYPE=image/jpeg:https://www.maddhatterpro.com/wp-content/uploads/2026/02/Beast-Mesa.jpg
END:VEVENT
BEGIN:VEVENT
DTSTART;TZID=UTC:20280603T200000
DTEND;TZID=UTC:20280603T200000
DTSTAMP:20260424T183719
CREATED:20250704T001639Z
LAST-MODIFIED:20260206T143841Z
UID:10022286-1843675200-1843675200@www.maddhatterpro.com
SUMMARY:Beast of Bourbon Karaoke
DESCRIPTION:Great open atmosphere. Come out and sing your heart out with KJ Skribbz\, Yes\, some songs are off limits\, but its a blast anyway and there are plenty of songs to sing. Click following link to see what the venue is NOT licensed for. Please do NOT request 8pm-Midnight \n2235 S Power Rd #127\, Mesa\, AZ 85209 \n+14804261005
URL:https://www.maddhatterpro.com/event/beast-of-bourbon-karaoke/2028-06-03/
LOCATION:Beast of Bourbon\, 2235 S Power Rd #127\, Mesa\, AZ\, 85209\, United States
CATEGORIES:Karaoke,KJ Skribbz
ATTACH;FMTTYPE=image/jpeg:https://www.maddhatterpro.com/wp-content/uploads/2026/02/Beast-Mesa.jpg
END:VEVENT
BEGIN:VEVENT
DTSTART;TZID=UTC:20280606T200000
DTEND;TZID=UTC:20280606T200000
DTSTAMP:20260424T183719
CREATED:20250704T001639Z
LAST-MODIFIED:20260206T143841Z
UID:10022287-1843934400-1843934400@www.maddhatterpro.com
SUMMARY:Beast of Bourbon Karaoke
DESCRIPTION:Great open atmosphere. Come out and sing your heart out with KJ Skribbz\, Yes\, some songs are off limits\, but its a blast anyway and there are plenty of songs to sing. Click following link to see what the venue is NOT licensed for. Please do NOT request 8pm-Midnight \n2235 S Power Rd #127\, Mesa\, AZ 85209 \n+14804261005
URL:https://www.maddhatterpro.com/event/beast-of-bourbon-karaoke/2028-06-06/
LOCATION:Beast of Bourbon\, 2235 S Power Rd #127\, Mesa\, AZ\, 85209\, United States
CATEGORIES:Karaoke,KJ Skribbz
ATTACH;FMTTYPE=image/jpeg:https://www.maddhatterpro.com/wp-content/uploads/2026/02/Beast-Mesa.jpg
END:VEVENT
BEGIN:VEVENT
DTSTART;TZID=UTC:20280610T200000
DTEND;TZID=UTC:20280610T200000
DTSTAMP:20260424T183719
CREATED:20250704T001639Z
LAST-MODIFIED:20260206T143841Z
UID:10022288-1844280000-1844280000@www.maddhatterpro.com
SUMMARY:Beast of Bourbon Karaoke
DESCRIPTION:Great open atmosphere. Come out and sing your heart out with KJ Skribbz\, Yes\, some songs are off limits\, but its a blast anyway and there are plenty of songs to sing. Click following link to see what the venue is NOT licensed for. Please do NOT request 8pm-Midnight \n2235 S Power Rd #127\, Mesa\, AZ 85209 \n+14804261005
URL:https://www.maddhatterpro.com/event/beast-of-bourbon-karaoke/2028-06-10/
LOCATION:Beast of Bourbon\, 2235 S Power Rd #127\, Mesa\, AZ\, 85209\, United States
CATEGORIES:Karaoke,KJ Skribbz
ATTACH;FMTTYPE=image/jpeg:https://www.maddhatterpro.com/wp-content/uploads/2026/02/Beast-Mesa.jpg
END:VEVENT
BEGIN:VEVENT
DTSTART;TZID=UTC:20280613T200000
DTEND;TZID=UTC:20280613T200000
DTSTAMP:20260424T183719
CREATED:20250704T001639Z
LAST-MODIFIED:20260206T143841Z
UID:10022289-1844539200-1844539200@www.maddhatterpro.com
SUMMARY:Beast of Bourbon Karaoke
DESCRIPTION:Great open atmosphere. Come out and sing your heart out with KJ Skribbz\, Yes\, some songs are off limits\, but its a blast anyway and there are plenty of songs to sing. Click following link to see what the venue is NOT licensed for. Please do NOT request 8pm-Midnight \n2235 S Power Rd #127\, Mesa\, AZ 85209 \n+14804261005
URL:https://www.maddhatterpro.com/event/beast-of-bourbon-karaoke/2028-06-13/
LOCATION:Beast of Bourbon\, 2235 S Power Rd #127\, Mesa\, AZ\, 85209\, United States
CATEGORIES:Karaoke,KJ Skribbz
ATTACH;FMTTYPE=image/jpeg:https://www.maddhatterpro.com/wp-content/uploads/2026/02/Beast-Mesa.jpg
END:VEVENT
BEGIN:VEVENT
DTSTART;TZID=UTC:20280617T200000
DTEND;TZID=UTC:20280617T200000
DTSTAMP:20260424T183719
CREATED:20250704T001639Z
LAST-MODIFIED:20260206T143841Z
UID:10022290-1844884800-1844884800@www.maddhatterpro.com
SUMMARY:Beast of Bourbon Karaoke
DESCRIPTION:Great open atmosphere. Come out and sing your heart out with KJ Skribbz\, Yes\, some songs are off limits\, but its a blast anyway and there are plenty of songs to sing. Click following link to see what the venue is NOT licensed for. Please do NOT request 8pm-Midnight \n2235 S Power Rd #127\, Mesa\, AZ 85209 \n+14804261005
URL:https://www.maddhatterpro.com/event/beast-of-bourbon-karaoke/2028-06-17/
LOCATION:Beast of Bourbon\, 2235 S Power Rd #127\, Mesa\, AZ\, 85209\, United States
CATEGORIES:Karaoke,KJ Skribbz
ATTACH;FMTTYPE=image/jpeg:https://www.maddhatterpro.com/wp-content/uploads/2026/02/Beast-Mesa.jpg
END:VEVENT
BEGIN:VEVENT
DTSTART;TZID=UTC:20280620T200000
DTEND;TZID=UTC:20280620T200000
DTSTAMP:20260424T183719
CREATED:20250704T001639Z
LAST-MODIFIED:20260206T143841Z
UID:10022291-1845144000-1845144000@www.maddhatterpro.com
SUMMARY:Beast of Bourbon Karaoke
DESCRIPTION:Great open atmosphere. Come out and sing your heart out with KJ Skribbz\, Yes\, some songs are off limits\, but its a blast anyway and there are plenty of songs to sing. Click following link to see what the venue is NOT licensed for. Please do NOT request 8pm-Midnight \n2235 S Power Rd #127\, Mesa\, AZ 85209 \n+14804261005
URL:https://www.maddhatterpro.com/event/beast-of-bourbon-karaoke/2028-06-20/
LOCATION:Beast of Bourbon\, 2235 S Power Rd #127\, Mesa\, AZ\, 85209\, United States
CATEGORIES:Karaoke,KJ Skribbz
ATTACH;FMTTYPE=image/jpeg:https://www.maddhatterpro.com/wp-content/uploads/2026/02/Beast-Mesa.jpg
END:VEVENT
BEGIN:VEVENT
DTSTART;TZID=UTC:20280624T200000
DTEND;TZID=UTC:20280624T200000
DTSTAMP:20260424T183719
CREATED:20250704T001639Z
LAST-MODIFIED:20260206T143841Z
UID:10022292-1845489600-1845489600@www.maddhatterpro.com
SUMMARY:Beast of Bourbon Karaoke
DESCRIPTION:Great open atmosphere. Come out and sing your heart out with KJ Skribbz\, Yes\, some songs are off limits\, but its a blast anyway and there are plenty of songs to sing. Click following link to see what the venue is NOT licensed for. Please do NOT request 8pm-Midnight \n2235 S Power Rd #127\, Mesa\, AZ 85209 \n+14804261005
URL:https://www.maddhatterpro.com/event/beast-of-bourbon-karaoke/2028-06-24/
LOCATION:Beast of Bourbon\, 2235 S Power Rd #127\, Mesa\, AZ\, 85209\, United States
CATEGORIES:Karaoke,KJ Skribbz
ATTACH;FMTTYPE=image/jpeg:https://www.maddhatterpro.com/wp-content/uploads/2026/02/Beast-Mesa.jpg
END:VEVENT
BEGIN:VEVENT
DTSTART;TZID=UTC:20280627T200000
DTEND;TZID=UTC:20280627T200000
DTSTAMP:20260424T183719
CREATED:20250704T001639Z
LAST-MODIFIED:20260206T143841Z
UID:10022293-1845748800-1845748800@www.maddhatterpro.com
SUMMARY:Beast of Bourbon Karaoke
DESCRIPTION:Great open atmosphere. Come out and sing your heart out with KJ Skribbz\, Yes\, some songs are off limits\, but its a blast anyway and there are plenty of songs to sing. Click following link to see what the venue is NOT licensed for. Please do NOT request 8pm-Midnight \n2235 S Power Rd #127\, Mesa\, AZ 85209 \n+14804261005
URL:https://www.maddhatterpro.com/event/beast-of-bourbon-karaoke/2028-06-27/
LOCATION:Beast of Bourbon\, 2235 S Power Rd #127\, Mesa\, AZ\, 85209\, United States
CATEGORIES:Karaoke,KJ Skribbz
ATTACH;FMTTYPE=image/jpeg:https://www.maddhatterpro.com/wp-content/uploads/2026/02/Beast-Mesa.jpg
END:VEVENT
BEGIN:VEVENT
DTSTART;TZID=UTC:20280701T200000
DTEND;TZID=UTC:20280701T200000
DTSTAMP:20260424T183719
CREATED:20250704T001639Z
LAST-MODIFIED:20260206T143841Z
UID:10022294-1846094400-1846094400@www.maddhatterpro.com
SUMMARY:Beast of Bourbon Karaoke
DESCRIPTION:Great open atmosphere. Come out and sing your heart out with KJ Skribbz\, Yes\, some songs are off limits\, but its a blast anyway and there are plenty of songs to sing. Click following link to see what the venue is NOT licensed for. Please do NOT request 8pm-Midnight \n2235 S Power Rd #127\, Mesa\, AZ 85209 \n+14804261005
URL:https://www.maddhatterpro.com/event/beast-of-bourbon-karaoke/2028-07-01/
LOCATION:Beast of Bourbon\, 2235 S Power Rd #127\, Mesa\, AZ\, 85209\, United States
CATEGORIES:Karaoke,KJ Skribbz
ATTACH;FMTTYPE=image/jpeg:https://www.maddhatterpro.com/wp-content/uploads/2026/02/Beast-Mesa.jpg
END:VEVENT
BEGIN:VEVENT
DTSTART;TZID=UTC:20280704T200000
DTEND;TZID=UTC:20280704T200000
DTSTAMP:20260424T183719
CREATED:20250704T001639Z
LAST-MODIFIED:20260206T143841Z
UID:10022295-1846353600-1846353600@www.maddhatterpro.com
SUMMARY:Beast of Bourbon Karaoke
DESCRIPTION:Great open atmosphere. Come out and sing your heart out with KJ Skribbz\, Yes\, some songs are off limits\, but its a blast anyway and there are plenty of songs to sing. Click following link to see what the venue is NOT licensed for. Please do NOT request 8pm-Midnight \n2235 S Power Rd #127\, Mesa\, AZ 85209 \n+14804261005
URL:https://www.maddhatterpro.com/event/beast-of-bourbon-karaoke/2028-07-04/
LOCATION:Beast of Bourbon\, 2235 S Power Rd #127\, Mesa\, AZ\, 85209\, United States
CATEGORIES:Karaoke,KJ Skribbz
ATTACH;FMTTYPE=image/jpeg:https://www.maddhatterpro.com/wp-content/uploads/2026/02/Beast-Mesa.jpg
END:VEVENT
BEGIN:VEVENT
DTSTART;TZID=UTC:20280708T200000
DTEND;TZID=UTC:20280708T200000
DTSTAMP:20260424T183719
CREATED:20250704T001639Z
LAST-MODIFIED:20260206T143841Z
UID:10022296-1846699200-1846699200@www.maddhatterpro.com
SUMMARY:Beast of Bourbon Karaoke
DESCRIPTION:Great open atmosphere. Come out and sing your heart out with KJ Skribbz\, Yes\, some songs are off limits\, but its a blast anyway and there are plenty of songs to sing. Click following link to see what the venue is NOT licensed for. Please do NOT request 8pm-Midnight \n2235 S Power Rd #127\, Mesa\, AZ 85209 \n+14804261005
URL:https://www.maddhatterpro.com/event/beast-of-bourbon-karaoke/2028-07-08/
LOCATION:Beast of Bourbon\, 2235 S Power Rd #127\, Mesa\, AZ\, 85209\, United States
CATEGORIES:Karaoke,KJ Skribbz
ATTACH;FMTTYPE=image/jpeg:https://www.maddhatterpro.com/wp-content/uploads/2026/02/Beast-Mesa.jpg
END:VEVENT
BEGIN:VEVENT
DTSTART;TZID=UTC:20280711T200000
DTEND;TZID=UTC:20280711T200000
DTSTAMP:20260424T183719
CREATED:20250704T001639Z
LAST-MODIFIED:20260206T143841Z
UID:10022297-1846958400-1846958400@www.maddhatterpro.com
SUMMARY:Beast of Bourbon Karaoke
DESCRIPTION:Great open atmosphere. Come out and sing your heart out with KJ Skribbz\, Yes\, some songs are off limits\, but its a blast anyway and there are plenty of songs to sing. Click following link to see what the venue is NOT licensed for. Please do NOT request 8pm-Midnight \n2235 S Power Rd #127\, Mesa\, AZ 85209 \n+14804261005
URL:https://www.maddhatterpro.com/event/beast-of-bourbon-karaoke/2028-07-11/
LOCATION:Beast of Bourbon\, 2235 S Power Rd #127\, Mesa\, AZ\, 85209\, United States
CATEGORIES:Karaoke,KJ Skribbz
ATTACH;FMTTYPE=image/jpeg:https://www.maddhatterpro.com/wp-content/uploads/2026/02/Beast-Mesa.jpg
END:VEVENT
BEGIN:VEVENT
DTSTART;TZID=UTC:20280715T200000
DTEND;TZID=UTC:20280715T200000
DTSTAMP:20260424T183719
CREATED:20250704T001639Z
LAST-MODIFIED:20260206T143841Z
UID:10022298-1847304000-1847304000@www.maddhatterpro.com
SUMMARY:Beast of Bourbon Karaoke
DESCRIPTION:Great open atmosphere. Come out and sing your heart out with KJ Skribbz\, Yes\, some songs are off limits\, but its a blast anyway and there are plenty of songs to sing. Click following link to see what the venue is NOT licensed for. Please do NOT request 8pm-Midnight \n2235 S Power Rd #127\, Mesa\, AZ 85209 \n+14804261005
URL:https://www.maddhatterpro.com/event/beast-of-bourbon-karaoke/2028-07-15/
LOCATION:Beast of Bourbon\, 2235 S Power Rd #127\, Mesa\, AZ\, 85209\, United States
CATEGORIES:Karaoke,KJ Skribbz
ATTACH;FMTTYPE=image/jpeg:https://www.maddhatterpro.com/wp-content/uploads/2026/02/Beast-Mesa.jpg
END:VEVENT
BEGIN:VEVENT
DTSTART;TZID=UTC:20280718T200000
DTEND;TZID=UTC:20280718T200000
DTSTAMP:20260424T183719
CREATED:20250704T001639Z
LAST-MODIFIED:20260206T143841Z
UID:10022299-1847563200-1847563200@www.maddhatterpro.com
SUMMARY:Beast of Bourbon Karaoke
DESCRIPTION:Great open atmosphere. Come out and sing your heart out with KJ Skribbz\, Yes\, some songs are off limits\, but its a blast anyway and there are plenty of songs to sing. Click following link to see what the venue is NOT licensed for. Please do NOT request 8pm-Midnight \n2235 S Power Rd #127\, Mesa\, AZ 85209 \n+14804261005
URL:https://www.maddhatterpro.com/event/beast-of-bourbon-karaoke/2028-07-18/
LOCATION:Beast of Bourbon\, 2235 S Power Rd #127\, Mesa\, AZ\, 85209\, United States
CATEGORIES:Karaoke,KJ Skribbz
ATTACH;FMTTYPE=image/jpeg:https://www.maddhatterpro.com/wp-content/uploads/2026/02/Beast-Mesa.jpg
END:VEVENT
END:VCALENDAR