BEGIN:VCALENDAR
VERSION:2.0
PRODID:-//MaddHatterPro.com - ECPv6.15.20//NONSGML v1.0//EN
CALSCALE:GREGORIAN
METHOD:PUBLISH
X-ORIGINAL-URL:https://www.maddhatterpro.com
X-WR-CALDESC:Events for MaddHatterPro.com
REFRESH-INTERVAL;VALUE=DURATION:PT1H
X-Robots-Tag:noindex
X-PUBLISHED-TTL:PT1H
BEGIN:VTIMEZONE
TZID:UTC
BEGIN:STANDARD
TZOFFSETFROM:+0000
TZOFFSETTO:+0000
TZNAME:UTC
DTSTART:20260101T000000
END:STANDARD
END:VTIMEZONE
BEGIN:VEVENT
DTSTART;TZID=UTC:20270326T210000
DTEND;TZID=UTC:20270326T210000
DTSTAMP:20260424T073123
CREATED:20250704T012040Z
LAST-MODIFIED:20260206T144628Z
UID:10024252-1806094800-1806094800@www.maddhatterpro.com
SUMMARY:92nd St Cafe Karaoke
DESCRIPTION:MHP in East Scottsdale! Best karaoke spot on the east side with DJ Wonder and YOU! Lets have a great time and sing the night away. Try the Prime rib\, its to sing for! 9pm-1am \nNW Corner\, 9160 E Shea Blvd\, Scottsdale\, AZ 85260 \n+14808604003
URL:https://www.maddhatterpro.com/event/92nd-st-cafe-karaoke/2027-03-26/
LOCATION:92nd Street Cafe\, 9160 E Shea Blvd\, Scottsdale\, AZ\, 85260\, United States
CATEGORIES:DJ Wonder,Karaoke
ATTACH;FMTTYPE=image/jpeg:https://www.maddhatterpro.com/wp-content/uploads/2026/02/92st-scottsdale.jpg
END:VEVENT
BEGIN:VEVENT
DTSTART;TZID=UTC:20270327T210000
DTEND;TZID=UTC:20270327T210000
DTSTAMP:20260424T073123
CREATED:20250704T012040Z
LAST-MODIFIED:20260206T144628Z
UID:10024253-1806181200-1806181200@www.maddhatterpro.com
SUMMARY:92nd St Cafe Karaoke
DESCRIPTION:MHP in East Scottsdale! Best karaoke spot on the east side with DJ Wonder and YOU! Lets have a great time and sing the night away. Try the Prime rib\, its to sing for! 9pm-1am \nNW Corner\, 9160 E Shea Blvd\, Scottsdale\, AZ 85260 \n+14808604003
URL:https://www.maddhatterpro.com/event/92nd-st-cafe-karaoke/2027-03-27/
LOCATION:92nd Street Cafe\, 9160 E Shea Blvd\, Scottsdale\, AZ\, 85260\, United States
CATEGORIES:DJ Wonder,Karaoke
ATTACH;FMTTYPE=image/jpeg:https://www.maddhatterpro.com/wp-content/uploads/2026/02/92st-scottsdale.jpg
END:VEVENT
BEGIN:VEVENT
DTSTART;TZID=UTC:20270402T210000
DTEND;TZID=UTC:20270402T210000
DTSTAMP:20260424T073123
CREATED:20250704T012040Z
LAST-MODIFIED:20260206T144628Z
UID:10024254-1806699600-1806699600@www.maddhatterpro.com
SUMMARY:92nd St Cafe Karaoke
DESCRIPTION:MHP in East Scottsdale! Best karaoke spot on the east side with DJ Wonder and YOU! Lets have a great time and sing the night away. Try the Prime rib\, its to sing for! 9pm-1am \nNW Corner\, 9160 E Shea Blvd\, Scottsdale\, AZ 85260 \n+14808604003
URL:https://www.maddhatterpro.com/event/92nd-st-cafe-karaoke/2027-04-02/
LOCATION:92nd Street Cafe\, 9160 E Shea Blvd\, Scottsdale\, AZ\, 85260\, United States
CATEGORIES:DJ Wonder,Karaoke
ATTACH;FMTTYPE=image/jpeg:https://www.maddhatterpro.com/wp-content/uploads/2026/02/92st-scottsdale.jpg
END:VEVENT
BEGIN:VEVENT
DTSTART;TZID=UTC:20270403T210000
DTEND;TZID=UTC:20270403T210000
DTSTAMP:20260424T073123
CREATED:20250704T012040Z
LAST-MODIFIED:20260206T144628Z
UID:10024255-1806786000-1806786000@www.maddhatterpro.com
SUMMARY:92nd St Cafe Karaoke
DESCRIPTION:MHP in East Scottsdale! Best karaoke spot on the east side with DJ Wonder and YOU! Lets have a great time and sing the night away. Try the Prime rib\, its to sing for! 9pm-1am \nNW Corner\, 9160 E Shea Blvd\, Scottsdale\, AZ 85260 \n+14808604003
URL:https://www.maddhatterpro.com/event/92nd-st-cafe-karaoke/2027-04-03/
LOCATION:92nd Street Cafe\, 9160 E Shea Blvd\, Scottsdale\, AZ\, 85260\, United States
CATEGORIES:DJ Wonder,Karaoke
ATTACH;FMTTYPE=image/jpeg:https://www.maddhatterpro.com/wp-content/uploads/2026/02/92st-scottsdale.jpg
END:VEVENT
BEGIN:VEVENT
DTSTART;TZID=UTC:20270409T210000
DTEND;TZID=UTC:20270409T210000
DTSTAMP:20260424T073123
CREATED:20250704T012040Z
LAST-MODIFIED:20260206T144628Z
UID:10024256-1807304400-1807304400@www.maddhatterpro.com
SUMMARY:92nd St Cafe Karaoke
DESCRIPTION:MHP in East Scottsdale! Best karaoke spot on the east side with DJ Wonder and YOU! Lets have a great time and sing the night away. Try the Prime rib\, its to sing for! 9pm-1am \nNW Corner\, 9160 E Shea Blvd\, Scottsdale\, AZ 85260 \n+14808604003
URL:https://www.maddhatterpro.com/event/92nd-st-cafe-karaoke/2027-04-09/
LOCATION:92nd Street Cafe\, 9160 E Shea Blvd\, Scottsdale\, AZ\, 85260\, United States
CATEGORIES:DJ Wonder,Karaoke
ATTACH;FMTTYPE=image/jpeg:https://www.maddhatterpro.com/wp-content/uploads/2026/02/92st-scottsdale.jpg
END:VEVENT
BEGIN:VEVENT
DTSTART;TZID=UTC:20270410T210000
DTEND;TZID=UTC:20270410T210000
DTSTAMP:20260424T073123
CREATED:20250704T012040Z
LAST-MODIFIED:20260206T144628Z
UID:10024257-1807390800-1807390800@www.maddhatterpro.com
SUMMARY:92nd St Cafe Karaoke
DESCRIPTION:MHP in East Scottsdale! Best karaoke spot on the east side with DJ Wonder and YOU! Lets have a great time and sing the night away. Try the Prime rib\, its to sing for! 9pm-1am \nNW Corner\, 9160 E Shea Blvd\, Scottsdale\, AZ 85260 \n+14808604003
URL:https://www.maddhatterpro.com/event/92nd-st-cafe-karaoke/2027-04-10/
LOCATION:92nd Street Cafe\, 9160 E Shea Blvd\, Scottsdale\, AZ\, 85260\, United States
CATEGORIES:DJ Wonder,Karaoke
ATTACH;FMTTYPE=image/jpeg:https://www.maddhatterpro.com/wp-content/uploads/2026/02/92st-scottsdale.jpg
END:VEVENT
BEGIN:VEVENT
DTSTART;TZID=UTC:20270416T210000
DTEND;TZID=UTC:20270416T210000
DTSTAMP:20260424T073123
CREATED:20250704T012040Z
LAST-MODIFIED:20260206T144628Z
UID:10024258-1807909200-1807909200@www.maddhatterpro.com
SUMMARY:92nd St Cafe Karaoke
DESCRIPTION:MHP in East Scottsdale! Best karaoke spot on the east side with DJ Wonder and YOU! Lets have a great time and sing the night away. Try the Prime rib\, its to sing for! 9pm-1am \nNW Corner\, 9160 E Shea Blvd\, Scottsdale\, AZ 85260 \n+14808604003
URL:https://www.maddhatterpro.com/event/92nd-st-cafe-karaoke/2027-04-16/
LOCATION:92nd Street Cafe\, 9160 E Shea Blvd\, Scottsdale\, AZ\, 85260\, United States
CATEGORIES:DJ Wonder,Karaoke
ATTACH;FMTTYPE=image/jpeg:https://www.maddhatterpro.com/wp-content/uploads/2026/02/92st-scottsdale.jpg
END:VEVENT
BEGIN:VEVENT
DTSTART;TZID=UTC:20270417T210000
DTEND;TZID=UTC:20270417T210000
DTSTAMP:20260424T073123
CREATED:20250704T012040Z
LAST-MODIFIED:20260206T144628Z
UID:10024259-1807995600-1807995600@www.maddhatterpro.com
SUMMARY:92nd St Cafe Karaoke
DESCRIPTION:MHP in East Scottsdale! Best karaoke spot on the east side with DJ Wonder and YOU! Lets have a great time and sing the night away. Try the Prime rib\, its to sing for! 9pm-1am \nNW Corner\, 9160 E Shea Blvd\, Scottsdale\, AZ 85260 \n+14808604003
URL:https://www.maddhatterpro.com/event/92nd-st-cafe-karaoke/2027-04-17/
LOCATION:92nd Street Cafe\, 9160 E Shea Blvd\, Scottsdale\, AZ\, 85260\, United States
CATEGORIES:DJ Wonder,Karaoke
ATTACH;FMTTYPE=image/jpeg:https://www.maddhatterpro.com/wp-content/uploads/2026/02/92st-scottsdale.jpg
END:VEVENT
BEGIN:VEVENT
DTSTART;TZID=UTC:20270423T210000
DTEND;TZID=UTC:20270423T210000
DTSTAMP:20260424T073123
CREATED:20250704T012040Z
LAST-MODIFIED:20260206T144628Z
UID:10024260-1808514000-1808514000@www.maddhatterpro.com
SUMMARY:92nd St Cafe Karaoke
DESCRIPTION:MHP in East Scottsdale! Best karaoke spot on the east side with DJ Wonder and YOU! Lets have a great time and sing the night away. Try the Prime rib\, its to sing for! 9pm-1am \nNW Corner\, 9160 E Shea Blvd\, Scottsdale\, AZ 85260 \n+14808604003
URL:https://www.maddhatterpro.com/event/92nd-st-cafe-karaoke/2027-04-23/
LOCATION:92nd Street Cafe\, 9160 E Shea Blvd\, Scottsdale\, AZ\, 85260\, United States
CATEGORIES:DJ Wonder,Karaoke
ATTACH;FMTTYPE=image/jpeg:https://www.maddhatterpro.com/wp-content/uploads/2026/02/92st-scottsdale.jpg
END:VEVENT
BEGIN:VEVENT
DTSTART;TZID=UTC:20270424T210000
DTEND;TZID=UTC:20270424T210000
DTSTAMP:20260424T073123
CREATED:20250704T012040Z
LAST-MODIFIED:20260206T144628Z
UID:10024261-1808600400-1808600400@www.maddhatterpro.com
SUMMARY:92nd St Cafe Karaoke
DESCRIPTION:MHP in East Scottsdale! Best karaoke spot on the east side with DJ Wonder and YOU! Lets have a great time and sing the night away. Try the Prime rib\, its to sing for! 9pm-1am \nNW Corner\, 9160 E Shea Blvd\, Scottsdale\, AZ 85260 \n+14808604003
URL:https://www.maddhatterpro.com/event/92nd-st-cafe-karaoke/2027-04-24/
LOCATION:92nd Street Cafe\, 9160 E Shea Blvd\, Scottsdale\, AZ\, 85260\, United States
CATEGORIES:DJ Wonder,Karaoke
ATTACH;FMTTYPE=image/jpeg:https://www.maddhatterpro.com/wp-content/uploads/2026/02/92st-scottsdale.jpg
END:VEVENT
BEGIN:VEVENT
DTSTART;TZID=UTC:20270430T210000
DTEND;TZID=UTC:20270430T210000
DTSTAMP:20260424T073123
CREATED:20250704T012040Z
LAST-MODIFIED:20260206T144628Z
UID:10024262-1809118800-1809118800@www.maddhatterpro.com
SUMMARY:92nd St Cafe Karaoke
DESCRIPTION:MHP in East Scottsdale! Best karaoke spot on the east side with DJ Wonder and YOU! Lets have a great time and sing the night away. Try the Prime rib\, its to sing for! 9pm-1am \nNW Corner\, 9160 E Shea Blvd\, Scottsdale\, AZ 85260 \n+14808604003
URL:https://www.maddhatterpro.com/event/92nd-st-cafe-karaoke/2027-04-30/
LOCATION:92nd Street Cafe\, 9160 E Shea Blvd\, Scottsdale\, AZ\, 85260\, United States
CATEGORIES:DJ Wonder,Karaoke
ATTACH;FMTTYPE=image/jpeg:https://www.maddhatterpro.com/wp-content/uploads/2026/02/92st-scottsdale.jpg
END:VEVENT
BEGIN:VEVENT
DTSTART;TZID=UTC:20270501T210000
DTEND;TZID=UTC:20270501T210000
DTSTAMP:20260424T073123
CREATED:20250704T012040Z
LAST-MODIFIED:20260206T144628Z
UID:10024263-1809205200-1809205200@www.maddhatterpro.com
SUMMARY:92nd St Cafe Karaoke
DESCRIPTION:MHP in East Scottsdale! Best karaoke spot on the east side with DJ Wonder and YOU! Lets have a great time and sing the night away. Try the Prime rib\, its to sing for! 9pm-1am \nNW Corner\, 9160 E Shea Blvd\, Scottsdale\, AZ 85260 \n+14808604003
URL:https://www.maddhatterpro.com/event/92nd-st-cafe-karaoke/2027-05-01/
LOCATION:92nd Street Cafe\, 9160 E Shea Blvd\, Scottsdale\, AZ\, 85260\, United States
CATEGORIES:DJ Wonder,Karaoke
ATTACH;FMTTYPE=image/jpeg:https://www.maddhatterpro.com/wp-content/uploads/2026/02/92st-scottsdale.jpg
END:VEVENT
BEGIN:VEVENT
DTSTART;TZID=UTC:20270507T210000
DTEND;TZID=UTC:20270507T210000
DTSTAMP:20260424T073123
CREATED:20250704T012040Z
LAST-MODIFIED:20260206T144628Z
UID:10024264-1809723600-1809723600@www.maddhatterpro.com
SUMMARY:92nd St Cafe Karaoke
DESCRIPTION:MHP in East Scottsdale! Best karaoke spot on the east side with DJ Wonder and YOU! Lets have a great time and sing the night away. Try the Prime rib\, its to sing for! 9pm-1am \nNW Corner\, 9160 E Shea Blvd\, Scottsdale\, AZ 85260 \n+14808604003
URL:https://www.maddhatterpro.com/event/92nd-st-cafe-karaoke/2027-05-07/
LOCATION:92nd Street Cafe\, 9160 E Shea Blvd\, Scottsdale\, AZ\, 85260\, United States
CATEGORIES:DJ Wonder,Karaoke
ATTACH;FMTTYPE=image/jpeg:https://www.maddhatterpro.com/wp-content/uploads/2026/02/92st-scottsdale.jpg
END:VEVENT
BEGIN:VEVENT
DTSTART;TZID=UTC:20270508T210000
DTEND;TZID=UTC:20270508T210000
DTSTAMP:20260424T073123
CREATED:20250704T012040Z
LAST-MODIFIED:20260206T144628Z
UID:10024265-1809810000-1809810000@www.maddhatterpro.com
SUMMARY:92nd St Cafe Karaoke
DESCRIPTION:MHP in East Scottsdale! Best karaoke spot on the east side with DJ Wonder and YOU! Lets have a great time and sing the night away. Try the Prime rib\, its to sing for! 9pm-1am \nNW Corner\, 9160 E Shea Blvd\, Scottsdale\, AZ 85260 \n+14808604003
URL:https://www.maddhatterpro.com/event/92nd-st-cafe-karaoke/2027-05-08/
LOCATION:92nd Street Cafe\, 9160 E Shea Blvd\, Scottsdale\, AZ\, 85260\, United States
CATEGORIES:DJ Wonder,Karaoke
ATTACH;FMTTYPE=image/jpeg:https://www.maddhatterpro.com/wp-content/uploads/2026/02/92st-scottsdale.jpg
END:VEVENT
BEGIN:VEVENT
DTSTART;TZID=UTC:20270514T210000
DTEND;TZID=UTC:20270514T210000
DTSTAMP:20260424T073123
CREATED:20250704T012040Z
LAST-MODIFIED:20260206T144628Z
UID:10024266-1810328400-1810328400@www.maddhatterpro.com
SUMMARY:92nd St Cafe Karaoke
DESCRIPTION:MHP in East Scottsdale! Best karaoke spot on the east side with DJ Wonder and YOU! Lets have a great time and sing the night away. Try the Prime rib\, its to sing for! 9pm-1am \nNW Corner\, 9160 E Shea Blvd\, Scottsdale\, AZ 85260 \n+14808604003
URL:https://www.maddhatterpro.com/event/92nd-st-cafe-karaoke/2027-05-14/
LOCATION:92nd Street Cafe\, 9160 E Shea Blvd\, Scottsdale\, AZ\, 85260\, United States
CATEGORIES:DJ Wonder,Karaoke
ATTACH;FMTTYPE=image/jpeg:https://www.maddhatterpro.com/wp-content/uploads/2026/02/92st-scottsdale.jpg
END:VEVENT
BEGIN:VEVENT
DTSTART;TZID=UTC:20270515T210000
DTEND;TZID=UTC:20270515T210000
DTSTAMP:20260424T073123
CREATED:20250704T012040Z
LAST-MODIFIED:20260206T144628Z
UID:10024267-1810414800-1810414800@www.maddhatterpro.com
SUMMARY:92nd St Cafe Karaoke
DESCRIPTION:MHP in East Scottsdale! Best karaoke spot on the east side with DJ Wonder and YOU! Lets have a great time and sing the night away. Try the Prime rib\, its to sing for! 9pm-1am \nNW Corner\, 9160 E Shea Blvd\, Scottsdale\, AZ 85260 \n+14808604003
URL:https://www.maddhatterpro.com/event/92nd-st-cafe-karaoke/2027-05-15/
LOCATION:92nd Street Cafe\, 9160 E Shea Blvd\, Scottsdale\, AZ\, 85260\, United States
CATEGORIES:DJ Wonder,Karaoke
ATTACH;FMTTYPE=image/jpeg:https://www.maddhatterpro.com/wp-content/uploads/2026/02/92st-scottsdale.jpg
END:VEVENT
BEGIN:VEVENT
DTSTART;TZID=UTC:20270521T210000
DTEND;TZID=UTC:20270521T210000
DTSTAMP:20260424T073123
CREATED:20250704T012040Z
LAST-MODIFIED:20260206T144628Z
UID:10024268-1810933200-1810933200@www.maddhatterpro.com
SUMMARY:92nd St Cafe Karaoke
DESCRIPTION:MHP in East Scottsdale! Best karaoke spot on the east side with DJ Wonder and YOU! Lets have a great time and sing the night away. Try the Prime rib\, its to sing for! 9pm-1am \nNW Corner\, 9160 E Shea Blvd\, Scottsdale\, AZ 85260 \n+14808604003
URL:https://www.maddhatterpro.com/event/92nd-st-cafe-karaoke/2027-05-21/
LOCATION:92nd Street Cafe\, 9160 E Shea Blvd\, Scottsdale\, AZ\, 85260\, United States
CATEGORIES:DJ Wonder,Karaoke
ATTACH;FMTTYPE=image/jpeg:https://www.maddhatterpro.com/wp-content/uploads/2026/02/92st-scottsdale.jpg
END:VEVENT
BEGIN:VEVENT
DTSTART;TZID=UTC:20270522T210000
DTEND;TZID=UTC:20270522T210000
DTSTAMP:20260424T073123
CREATED:20250704T012040Z
LAST-MODIFIED:20260206T144628Z
UID:10024269-1811019600-1811019600@www.maddhatterpro.com
SUMMARY:92nd St Cafe Karaoke
DESCRIPTION:MHP in East Scottsdale! Best karaoke spot on the east side with DJ Wonder and YOU! Lets have a great time and sing the night away. Try the Prime rib\, its to sing for! 9pm-1am \nNW Corner\, 9160 E Shea Blvd\, Scottsdale\, AZ 85260 \n+14808604003
URL:https://www.maddhatterpro.com/event/92nd-st-cafe-karaoke/2027-05-22/
LOCATION:92nd Street Cafe\, 9160 E Shea Blvd\, Scottsdale\, AZ\, 85260\, United States
CATEGORIES:DJ Wonder,Karaoke
ATTACH;FMTTYPE=image/jpeg:https://www.maddhatterpro.com/wp-content/uploads/2026/02/92st-scottsdale.jpg
END:VEVENT
BEGIN:VEVENT
DTSTART;TZID=UTC:20270528T210000
DTEND;TZID=UTC:20270528T210000
DTSTAMP:20260424T073123
CREATED:20250704T012040Z
LAST-MODIFIED:20260206T144628Z
UID:10024270-1811538000-1811538000@www.maddhatterpro.com
SUMMARY:92nd St Cafe Karaoke
DESCRIPTION:MHP in East Scottsdale! Best karaoke spot on the east side with DJ Wonder and YOU! Lets have a great time and sing the night away. Try the Prime rib\, its to sing for! 9pm-1am \nNW Corner\, 9160 E Shea Blvd\, Scottsdale\, AZ 85260 \n+14808604003
URL:https://www.maddhatterpro.com/event/92nd-st-cafe-karaoke/2027-05-28/
LOCATION:92nd Street Cafe\, 9160 E Shea Blvd\, Scottsdale\, AZ\, 85260\, United States
CATEGORIES:DJ Wonder,Karaoke
ATTACH;FMTTYPE=image/jpeg:https://www.maddhatterpro.com/wp-content/uploads/2026/02/92st-scottsdale.jpg
END:VEVENT
BEGIN:VEVENT
DTSTART;TZID=UTC:20270529T210000
DTEND;TZID=UTC:20270529T210000
DTSTAMP:20260424T073123
CREATED:20250704T012040Z
LAST-MODIFIED:20260206T144628Z
UID:10024271-1811624400-1811624400@www.maddhatterpro.com
SUMMARY:92nd St Cafe Karaoke
DESCRIPTION:MHP in East Scottsdale! Best karaoke spot on the east side with DJ Wonder and YOU! Lets have a great time and sing the night away. Try the Prime rib\, its to sing for! 9pm-1am \nNW Corner\, 9160 E Shea Blvd\, Scottsdale\, AZ 85260 \n+14808604003
URL:https://www.maddhatterpro.com/event/92nd-st-cafe-karaoke/2027-05-29/
LOCATION:92nd Street Cafe\, 9160 E Shea Blvd\, Scottsdale\, AZ\, 85260\, United States
CATEGORIES:DJ Wonder,Karaoke
ATTACH;FMTTYPE=image/jpeg:https://www.maddhatterpro.com/wp-content/uploads/2026/02/92st-scottsdale.jpg
END:VEVENT
BEGIN:VEVENT
DTSTART;TZID=UTC:20270604T210000
DTEND;TZID=UTC:20270604T210000
DTSTAMP:20260424T073123
CREATED:20250704T012040Z
LAST-MODIFIED:20260206T144628Z
UID:10024272-1812142800-1812142800@www.maddhatterpro.com
SUMMARY:92nd St Cafe Karaoke
DESCRIPTION:MHP in East Scottsdale! Best karaoke spot on the east side with DJ Wonder and YOU! Lets have a great time and sing the night away. Try the Prime rib\, its to sing for! 9pm-1am \nNW Corner\, 9160 E Shea Blvd\, Scottsdale\, AZ 85260 \n+14808604003
URL:https://www.maddhatterpro.com/event/92nd-st-cafe-karaoke/2027-06-04/
LOCATION:92nd Street Cafe\, 9160 E Shea Blvd\, Scottsdale\, AZ\, 85260\, United States
CATEGORIES:DJ Wonder,Karaoke
ATTACH;FMTTYPE=image/jpeg:https://www.maddhatterpro.com/wp-content/uploads/2026/02/92st-scottsdale.jpg
END:VEVENT
BEGIN:VEVENT
DTSTART;TZID=UTC:20270605T210000
DTEND;TZID=UTC:20270605T210000
DTSTAMP:20260424T073123
CREATED:20250704T012040Z
LAST-MODIFIED:20260206T144628Z
UID:10024273-1812229200-1812229200@www.maddhatterpro.com
SUMMARY:92nd St Cafe Karaoke
DESCRIPTION:MHP in East Scottsdale! Best karaoke spot on the east side with DJ Wonder and YOU! Lets have a great time and sing the night away. Try the Prime rib\, its to sing for! 9pm-1am \nNW Corner\, 9160 E Shea Blvd\, Scottsdale\, AZ 85260 \n+14808604003
URL:https://www.maddhatterpro.com/event/92nd-st-cafe-karaoke/2027-06-05/
LOCATION:92nd Street Cafe\, 9160 E Shea Blvd\, Scottsdale\, AZ\, 85260\, United States
CATEGORIES:DJ Wonder,Karaoke
ATTACH;FMTTYPE=image/jpeg:https://www.maddhatterpro.com/wp-content/uploads/2026/02/92st-scottsdale.jpg
END:VEVENT
BEGIN:VEVENT
DTSTART;TZID=UTC:20270611T210000
DTEND;TZID=UTC:20270611T210000
DTSTAMP:20260424T073123
CREATED:20250704T012040Z
LAST-MODIFIED:20260206T144628Z
UID:10024274-1812747600-1812747600@www.maddhatterpro.com
SUMMARY:92nd St Cafe Karaoke
DESCRIPTION:MHP in East Scottsdale! Best karaoke spot on the east side with DJ Wonder and YOU! Lets have a great time and sing the night away. Try the Prime rib\, its to sing for! 9pm-1am \nNW Corner\, 9160 E Shea Blvd\, Scottsdale\, AZ 85260 \n+14808604003
URL:https://www.maddhatterpro.com/event/92nd-st-cafe-karaoke/2027-06-11/
LOCATION:92nd Street Cafe\, 9160 E Shea Blvd\, Scottsdale\, AZ\, 85260\, United States
CATEGORIES:DJ Wonder,Karaoke
ATTACH;FMTTYPE=image/jpeg:https://www.maddhatterpro.com/wp-content/uploads/2026/02/92st-scottsdale.jpg
END:VEVENT
BEGIN:VEVENT
DTSTART;TZID=UTC:20270612T210000
DTEND;TZID=UTC:20270612T210000
DTSTAMP:20260424T073123
CREATED:20250704T012040Z
LAST-MODIFIED:20260206T144628Z
UID:10024275-1812834000-1812834000@www.maddhatterpro.com
SUMMARY:92nd St Cafe Karaoke
DESCRIPTION:MHP in East Scottsdale! Best karaoke spot on the east side with DJ Wonder and YOU! Lets have a great time and sing the night away. Try the Prime rib\, its to sing for! 9pm-1am \nNW Corner\, 9160 E Shea Blvd\, Scottsdale\, AZ 85260 \n+14808604003
URL:https://www.maddhatterpro.com/event/92nd-st-cafe-karaoke/2027-06-12/
LOCATION:92nd Street Cafe\, 9160 E Shea Blvd\, Scottsdale\, AZ\, 85260\, United States
CATEGORIES:DJ Wonder,Karaoke
ATTACH;FMTTYPE=image/jpeg:https://www.maddhatterpro.com/wp-content/uploads/2026/02/92st-scottsdale.jpg
END:VEVENT
BEGIN:VEVENT
DTSTART;TZID=UTC:20270618T210000
DTEND;TZID=UTC:20270618T210000
DTSTAMP:20260424T073123
CREATED:20250704T012040Z
LAST-MODIFIED:20260206T144628Z
UID:10024276-1813352400-1813352400@www.maddhatterpro.com
SUMMARY:92nd St Cafe Karaoke
DESCRIPTION:MHP in East Scottsdale! Best karaoke spot on the east side with DJ Wonder and YOU! Lets have a great time and sing the night away. Try the Prime rib\, its to sing for! 9pm-1am \nNW Corner\, 9160 E Shea Blvd\, Scottsdale\, AZ 85260 \n+14808604003
URL:https://www.maddhatterpro.com/event/92nd-st-cafe-karaoke/2027-06-18/
LOCATION:92nd Street Cafe\, 9160 E Shea Blvd\, Scottsdale\, AZ\, 85260\, United States
CATEGORIES:DJ Wonder,Karaoke
ATTACH;FMTTYPE=image/jpeg:https://www.maddhatterpro.com/wp-content/uploads/2026/02/92st-scottsdale.jpg
END:VEVENT
BEGIN:VEVENT
DTSTART;TZID=UTC:20270619T210000
DTEND;TZID=UTC:20270619T210000
DTSTAMP:20260424T073123
CREATED:20250704T012040Z
LAST-MODIFIED:20260206T144628Z
UID:10024277-1813438800-1813438800@www.maddhatterpro.com
SUMMARY:92nd St Cafe Karaoke
DESCRIPTION:MHP in East Scottsdale! Best karaoke spot on the east side with DJ Wonder and YOU! Lets have a great time and sing the night away. Try the Prime rib\, its to sing for! 9pm-1am \nNW Corner\, 9160 E Shea Blvd\, Scottsdale\, AZ 85260 \n+14808604003
URL:https://www.maddhatterpro.com/event/92nd-st-cafe-karaoke/2027-06-19/
LOCATION:92nd Street Cafe\, 9160 E Shea Blvd\, Scottsdale\, AZ\, 85260\, United States
CATEGORIES:DJ Wonder,Karaoke
ATTACH;FMTTYPE=image/jpeg:https://www.maddhatterpro.com/wp-content/uploads/2026/02/92st-scottsdale.jpg
END:VEVENT
BEGIN:VEVENT
DTSTART;TZID=UTC:20270625T210000
DTEND;TZID=UTC:20270625T210000
DTSTAMP:20260424T073123
CREATED:20250704T012040Z
LAST-MODIFIED:20260206T144628Z
UID:10024278-1813957200-1813957200@www.maddhatterpro.com
SUMMARY:92nd St Cafe Karaoke
DESCRIPTION:MHP in East Scottsdale! Best karaoke spot on the east side with DJ Wonder and YOU! Lets have a great time and sing the night away. Try the Prime rib\, its to sing for! 9pm-1am \nNW Corner\, 9160 E Shea Blvd\, Scottsdale\, AZ 85260 \n+14808604003
URL:https://www.maddhatterpro.com/event/92nd-st-cafe-karaoke/2027-06-25/
LOCATION:92nd Street Cafe\, 9160 E Shea Blvd\, Scottsdale\, AZ\, 85260\, United States
CATEGORIES:DJ Wonder,Karaoke
ATTACH;FMTTYPE=image/jpeg:https://www.maddhatterpro.com/wp-content/uploads/2026/02/92st-scottsdale.jpg
END:VEVENT
BEGIN:VEVENT
DTSTART;TZID=UTC:20270626T210000
DTEND;TZID=UTC:20270626T210000
DTSTAMP:20260424T073123
CREATED:20250704T012040Z
LAST-MODIFIED:20260206T144628Z
UID:10024279-1814043600-1814043600@www.maddhatterpro.com
SUMMARY:92nd St Cafe Karaoke
DESCRIPTION:MHP in East Scottsdale! Best karaoke spot on the east side with DJ Wonder and YOU! Lets have a great time and sing the night away. Try the Prime rib\, its to sing for! 9pm-1am \nNW Corner\, 9160 E Shea Blvd\, Scottsdale\, AZ 85260 \n+14808604003
URL:https://www.maddhatterpro.com/event/92nd-st-cafe-karaoke/2027-06-26/
LOCATION:92nd Street Cafe\, 9160 E Shea Blvd\, Scottsdale\, AZ\, 85260\, United States
CATEGORIES:DJ Wonder,Karaoke
ATTACH;FMTTYPE=image/jpeg:https://www.maddhatterpro.com/wp-content/uploads/2026/02/92st-scottsdale.jpg
END:VEVENT
BEGIN:VEVENT
DTSTART;TZID=UTC:20270702T210000
DTEND;TZID=UTC:20270702T210000
DTSTAMP:20260424T073123
CREATED:20250704T012040Z
LAST-MODIFIED:20260206T144628Z
UID:10024280-1814562000-1814562000@www.maddhatterpro.com
SUMMARY:92nd St Cafe Karaoke
DESCRIPTION:MHP in East Scottsdale! Best karaoke spot on the east side with DJ Wonder and YOU! Lets have a great time and sing the night away. Try the Prime rib\, its to sing for! 9pm-1am \nNW Corner\, 9160 E Shea Blvd\, Scottsdale\, AZ 85260 \n+14808604003
URL:https://www.maddhatterpro.com/event/92nd-st-cafe-karaoke/2027-07-02/
LOCATION:92nd Street Cafe\, 9160 E Shea Blvd\, Scottsdale\, AZ\, 85260\, United States
CATEGORIES:DJ Wonder,Karaoke
ATTACH;FMTTYPE=image/jpeg:https://www.maddhatterpro.com/wp-content/uploads/2026/02/92st-scottsdale.jpg
END:VEVENT
BEGIN:VEVENT
DTSTART;TZID=UTC:20270703T210000
DTEND;TZID=UTC:20270703T210000
DTSTAMP:20260424T073123
CREATED:20250704T012040Z
LAST-MODIFIED:20260206T144628Z
UID:10024281-1814648400-1814648400@www.maddhatterpro.com
SUMMARY:92nd St Cafe Karaoke
DESCRIPTION:MHP in East Scottsdale! Best karaoke spot on the east side with DJ Wonder and YOU! Lets have a great time and sing the night away. Try the Prime rib\, its to sing for! 9pm-1am \nNW Corner\, 9160 E Shea Blvd\, Scottsdale\, AZ 85260 \n+14808604003
URL:https://www.maddhatterpro.com/event/92nd-st-cafe-karaoke/2027-07-03/
LOCATION:92nd Street Cafe\, 9160 E Shea Blvd\, Scottsdale\, AZ\, 85260\, United States
CATEGORIES:DJ Wonder,Karaoke
ATTACH;FMTTYPE=image/jpeg:https://www.maddhatterpro.com/wp-content/uploads/2026/02/92st-scottsdale.jpg
END:VEVENT
END:VCALENDAR