BEGIN:VCALENDAR
VERSION:2.0
PRODID:-//MaddHatterPro.com - ECPv6.15.20//NONSGML v1.0//EN
CALSCALE:GREGORIAN
METHOD:PUBLISH
X-ORIGINAL-URL:https://www.maddhatterpro.com
X-WR-CALDESC:Events for MaddHatterPro.com
REFRESH-INTERVAL;VALUE=DURATION:PT1H
X-Robots-Tag:noindex
X-PUBLISHED-TTL:PT1H
BEGIN:VTIMEZONE
TZID:UTC
BEGIN:STANDARD
TZOFFSETFROM:+0000
TZOFFSETTO:+0000
TZNAME:UTC
DTSTART:20250101T000000
END:STANDARD
END:VTIMEZONE
BEGIN:VEVENT
DTSTART;TZID=UTC:20260424T210000
DTEND;TZID=UTC:20260424T210000
DTSTAMP:20260423T202839
CREATED:20250704T012040Z
LAST-MODIFIED:20260206T144628Z
UID:10024156-1777064400-1777064400@www.maddhatterpro.com
SUMMARY:92nd St Cafe Karaoke
DESCRIPTION:MHP in East Scottsdale! Best karaoke spot on the east side with DJ Wonder and YOU! Lets have a great time and sing the night away. Try the Prime rib\, its to sing for! 9pm-1am \nNW Corner\, 9160 E Shea Blvd\, Scottsdale\, AZ 85260 \n+14808604003
URL:https://www.maddhatterpro.com/event/92nd-st-cafe-karaoke/2026-04-24/
LOCATION:92nd Street Cafe\, 9160 E Shea Blvd\, Scottsdale\, AZ\, 85260\, United States
CATEGORIES:DJ Wonder,Karaoke
ATTACH;FMTTYPE=image/jpeg:https://www.maddhatterpro.com/wp-content/uploads/2026/02/92st-scottsdale.jpg
END:VEVENT
BEGIN:VEVENT
DTSTART;TZID=UTC:20260425T210000
DTEND;TZID=UTC:20260425T210000
DTSTAMP:20260423T202839
CREATED:20250704T012040Z
LAST-MODIFIED:20260206T144628Z
UID:10024157-1777150800-1777150800@www.maddhatterpro.com
SUMMARY:92nd St Cafe Karaoke
DESCRIPTION:MHP in East Scottsdale! Best karaoke spot on the east side with DJ Wonder and YOU! Lets have a great time and sing the night away. Try the Prime rib\, its to sing for! 9pm-1am \nNW Corner\, 9160 E Shea Blvd\, Scottsdale\, AZ 85260 \n+14808604003
URL:https://www.maddhatterpro.com/event/92nd-st-cafe-karaoke/2026-04-25/
LOCATION:92nd Street Cafe\, 9160 E Shea Blvd\, Scottsdale\, AZ\, 85260\, United States
CATEGORIES:DJ Wonder,Karaoke
ATTACH;FMTTYPE=image/jpeg:https://www.maddhatterpro.com/wp-content/uploads/2026/02/92st-scottsdale.jpg
END:VEVENT
BEGIN:VEVENT
DTSTART;TZID=UTC:20260501T210000
DTEND;TZID=UTC:20260501T210000
DTSTAMP:20260423T202839
CREATED:20250704T012040Z
LAST-MODIFIED:20260206T144628Z
UID:10024158-1777669200-1777669200@www.maddhatterpro.com
SUMMARY:92nd St Cafe Karaoke
DESCRIPTION:MHP in East Scottsdale! Best karaoke spot on the east side with DJ Wonder and YOU! Lets have a great time and sing the night away. Try the Prime rib\, its to sing for! 9pm-1am \nNW Corner\, 9160 E Shea Blvd\, Scottsdale\, AZ 85260 \n+14808604003
URL:https://www.maddhatterpro.com/event/92nd-st-cafe-karaoke/2026-05-01/
LOCATION:92nd Street Cafe\, 9160 E Shea Blvd\, Scottsdale\, AZ\, 85260\, United States
CATEGORIES:DJ Wonder,Karaoke
ATTACH;FMTTYPE=image/jpeg:https://www.maddhatterpro.com/wp-content/uploads/2026/02/92st-scottsdale.jpg
END:VEVENT
BEGIN:VEVENT
DTSTART;TZID=UTC:20260502T210000
DTEND;TZID=UTC:20260502T210000
DTSTAMP:20260423T202839
CREATED:20250704T012040Z
LAST-MODIFIED:20260206T144628Z
UID:10024159-1777755600-1777755600@www.maddhatterpro.com
SUMMARY:92nd St Cafe Karaoke
DESCRIPTION:MHP in East Scottsdale! Best karaoke spot on the east side with DJ Wonder and YOU! Lets have a great time and sing the night away. Try the Prime rib\, its to sing for! 9pm-1am \nNW Corner\, 9160 E Shea Blvd\, Scottsdale\, AZ 85260 \n+14808604003
URL:https://www.maddhatterpro.com/event/92nd-st-cafe-karaoke/2026-05-02/
LOCATION:92nd Street Cafe\, 9160 E Shea Blvd\, Scottsdale\, AZ\, 85260\, United States
CATEGORIES:DJ Wonder,Karaoke
ATTACH;FMTTYPE=image/jpeg:https://www.maddhatterpro.com/wp-content/uploads/2026/02/92st-scottsdale.jpg
END:VEVENT
BEGIN:VEVENT
DTSTART;TZID=UTC:20260508T210000
DTEND;TZID=UTC:20260508T210000
DTSTAMP:20260423T202839
CREATED:20250704T012040Z
LAST-MODIFIED:20260206T144628Z
UID:10024160-1778274000-1778274000@www.maddhatterpro.com
SUMMARY:92nd St Cafe Karaoke
DESCRIPTION:MHP in East Scottsdale! Best karaoke spot on the east side with DJ Wonder and YOU! Lets have a great time and sing the night away. Try the Prime rib\, its to sing for! 9pm-1am \nNW Corner\, 9160 E Shea Blvd\, Scottsdale\, AZ 85260 \n+14808604003
URL:https://www.maddhatterpro.com/event/92nd-st-cafe-karaoke/2026-05-08/
LOCATION:92nd Street Cafe\, 9160 E Shea Blvd\, Scottsdale\, AZ\, 85260\, United States
CATEGORIES:DJ Wonder,Karaoke
ATTACH;FMTTYPE=image/jpeg:https://www.maddhatterpro.com/wp-content/uploads/2026/02/92st-scottsdale.jpg
END:VEVENT
BEGIN:VEVENT
DTSTART;TZID=UTC:20260509T210000
DTEND;TZID=UTC:20260509T210000
DTSTAMP:20260423T202839
CREATED:20250704T012040Z
LAST-MODIFIED:20260206T144628Z
UID:10024161-1778360400-1778360400@www.maddhatterpro.com
SUMMARY:92nd St Cafe Karaoke
DESCRIPTION:MHP in East Scottsdale! Best karaoke spot on the east side with DJ Wonder and YOU! Lets have a great time and sing the night away. Try the Prime rib\, its to sing for! 9pm-1am \nNW Corner\, 9160 E Shea Blvd\, Scottsdale\, AZ 85260 \n+14808604003
URL:https://www.maddhatterpro.com/event/92nd-st-cafe-karaoke/2026-05-09/
LOCATION:92nd Street Cafe\, 9160 E Shea Blvd\, Scottsdale\, AZ\, 85260\, United States
CATEGORIES:DJ Wonder,Karaoke
ATTACH;FMTTYPE=image/jpeg:https://www.maddhatterpro.com/wp-content/uploads/2026/02/92st-scottsdale.jpg
END:VEVENT
BEGIN:VEVENT
DTSTART;TZID=UTC:20260515T210000
DTEND;TZID=UTC:20260515T210000
DTSTAMP:20260423T202839
CREATED:20250704T012040Z
LAST-MODIFIED:20260206T144628Z
UID:10024162-1778878800-1778878800@www.maddhatterpro.com
SUMMARY:92nd St Cafe Karaoke
DESCRIPTION:MHP in East Scottsdale! Best karaoke spot on the east side with DJ Wonder and YOU! Lets have a great time and sing the night away. Try the Prime rib\, its to sing for! 9pm-1am \nNW Corner\, 9160 E Shea Blvd\, Scottsdale\, AZ 85260 \n+14808604003
URL:https://www.maddhatterpro.com/event/92nd-st-cafe-karaoke/2026-05-15/
LOCATION:92nd Street Cafe\, 9160 E Shea Blvd\, Scottsdale\, AZ\, 85260\, United States
CATEGORIES:DJ Wonder,Karaoke
ATTACH;FMTTYPE=image/jpeg:https://www.maddhatterpro.com/wp-content/uploads/2026/02/92st-scottsdale.jpg
END:VEVENT
BEGIN:VEVENT
DTSTART;TZID=UTC:20260516T210000
DTEND;TZID=UTC:20260516T210000
DTSTAMP:20260423T202839
CREATED:20250704T012040Z
LAST-MODIFIED:20260206T144628Z
UID:10024163-1778965200-1778965200@www.maddhatterpro.com
SUMMARY:92nd St Cafe Karaoke
DESCRIPTION:MHP in East Scottsdale! Best karaoke spot on the east side with DJ Wonder and YOU! Lets have a great time and sing the night away. Try the Prime rib\, its to sing for! 9pm-1am \nNW Corner\, 9160 E Shea Blvd\, Scottsdale\, AZ 85260 \n+14808604003
URL:https://www.maddhatterpro.com/event/92nd-st-cafe-karaoke/2026-05-16/
LOCATION:92nd Street Cafe\, 9160 E Shea Blvd\, Scottsdale\, AZ\, 85260\, United States
CATEGORIES:DJ Wonder,Karaoke
ATTACH;FMTTYPE=image/jpeg:https://www.maddhatterpro.com/wp-content/uploads/2026/02/92st-scottsdale.jpg
END:VEVENT
BEGIN:VEVENT
DTSTART;TZID=UTC:20260522T210000
DTEND;TZID=UTC:20260522T210000
DTSTAMP:20260423T202839
CREATED:20250704T012040Z
LAST-MODIFIED:20260206T144628Z
UID:10024164-1779483600-1779483600@www.maddhatterpro.com
SUMMARY:92nd St Cafe Karaoke
DESCRIPTION:MHP in East Scottsdale! Best karaoke spot on the east side with DJ Wonder and YOU! Lets have a great time and sing the night away. Try the Prime rib\, its to sing for! 9pm-1am \nNW Corner\, 9160 E Shea Blvd\, Scottsdale\, AZ 85260 \n+14808604003
URL:https://www.maddhatterpro.com/event/92nd-st-cafe-karaoke/2026-05-22/
LOCATION:92nd Street Cafe\, 9160 E Shea Blvd\, Scottsdale\, AZ\, 85260\, United States
CATEGORIES:DJ Wonder,Karaoke
ATTACH;FMTTYPE=image/jpeg:https://www.maddhatterpro.com/wp-content/uploads/2026/02/92st-scottsdale.jpg
END:VEVENT
BEGIN:VEVENT
DTSTART;TZID=UTC:20260523T210000
DTEND;TZID=UTC:20260523T210000
DTSTAMP:20260423T202839
CREATED:20250704T012040Z
LAST-MODIFIED:20260206T144628Z
UID:10024165-1779570000-1779570000@www.maddhatterpro.com
SUMMARY:92nd St Cafe Karaoke
DESCRIPTION:MHP in East Scottsdale! Best karaoke spot on the east side with DJ Wonder and YOU! Lets have a great time and sing the night away. Try the Prime rib\, its to sing for! 9pm-1am \nNW Corner\, 9160 E Shea Blvd\, Scottsdale\, AZ 85260 \n+14808604003
URL:https://www.maddhatterpro.com/event/92nd-st-cafe-karaoke/2026-05-23/
LOCATION:92nd Street Cafe\, 9160 E Shea Blvd\, Scottsdale\, AZ\, 85260\, United States
CATEGORIES:DJ Wonder,Karaoke
ATTACH;FMTTYPE=image/jpeg:https://www.maddhatterpro.com/wp-content/uploads/2026/02/92st-scottsdale.jpg
END:VEVENT
BEGIN:VEVENT
DTSTART;TZID=UTC:20260529T210000
DTEND;TZID=UTC:20260529T210000
DTSTAMP:20260423T202839
CREATED:20250704T012040Z
LAST-MODIFIED:20260206T144628Z
UID:10024166-1780088400-1780088400@www.maddhatterpro.com
SUMMARY:92nd St Cafe Karaoke
DESCRIPTION:MHP in East Scottsdale! Best karaoke spot on the east side with DJ Wonder and YOU! Lets have a great time and sing the night away. Try the Prime rib\, its to sing for! 9pm-1am \nNW Corner\, 9160 E Shea Blvd\, Scottsdale\, AZ 85260 \n+14808604003
URL:https://www.maddhatterpro.com/event/92nd-st-cafe-karaoke/2026-05-29/
LOCATION:92nd Street Cafe\, 9160 E Shea Blvd\, Scottsdale\, AZ\, 85260\, United States
CATEGORIES:DJ Wonder,Karaoke
ATTACH;FMTTYPE=image/jpeg:https://www.maddhatterpro.com/wp-content/uploads/2026/02/92st-scottsdale.jpg
END:VEVENT
BEGIN:VEVENT
DTSTART;TZID=UTC:20260530T210000
DTEND;TZID=UTC:20260530T210000
DTSTAMP:20260423T202839
CREATED:20250704T012040Z
LAST-MODIFIED:20260206T144628Z
UID:10024167-1780174800-1780174800@www.maddhatterpro.com
SUMMARY:92nd St Cafe Karaoke
DESCRIPTION:MHP in East Scottsdale! Best karaoke spot on the east side with DJ Wonder and YOU! Lets have a great time and sing the night away. Try the Prime rib\, its to sing for! 9pm-1am \nNW Corner\, 9160 E Shea Blvd\, Scottsdale\, AZ 85260 \n+14808604003
URL:https://www.maddhatterpro.com/event/92nd-st-cafe-karaoke/2026-05-30/
LOCATION:92nd Street Cafe\, 9160 E Shea Blvd\, Scottsdale\, AZ\, 85260\, United States
CATEGORIES:DJ Wonder,Karaoke
ATTACH;FMTTYPE=image/jpeg:https://www.maddhatterpro.com/wp-content/uploads/2026/02/92st-scottsdale.jpg
END:VEVENT
BEGIN:VEVENT
DTSTART;TZID=UTC:20260605T210000
DTEND;TZID=UTC:20260605T210000
DTSTAMP:20260423T202839
CREATED:20250704T012040Z
LAST-MODIFIED:20260206T144628Z
UID:10024168-1780693200-1780693200@www.maddhatterpro.com
SUMMARY:92nd St Cafe Karaoke
DESCRIPTION:MHP in East Scottsdale! Best karaoke spot on the east side with DJ Wonder and YOU! Lets have a great time and sing the night away. Try the Prime rib\, its to sing for! 9pm-1am \nNW Corner\, 9160 E Shea Blvd\, Scottsdale\, AZ 85260 \n+14808604003
URL:https://www.maddhatterpro.com/event/92nd-st-cafe-karaoke/2026-06-05/
LOCATION:92nd Street Cafe\, 9160 E Shea Blvd\, Scottsdale\, AZ\, 85260\, United States
CATEGORIES:DJ Wonder,Karaoke
ATTACH;FMTTYPE=image/jpeg:https://www.maddhatterpro.com/wp-content/uploads/2026/02/92st-scottsdale.jpg
END:VEVENT
BEGIN:VEVENT
DTSTART;TZID=UTC:20260606T210000
DTEND;TZID=UTC:20260606T210000
DTSTAMP:20260423T202839
CREATED:20250704T012040Z
LAST-MODIFIED:20260206T144628Z
UID:10024169-1780779600-1780779600@www.maddhatterpro.com
SUMMARY:92nd St Cafe Karaoke
DESCRIPTION:MHP in East Scottsdale! Best karaoke spot on the east side with DJ Wonder and YOU! Lets have a great time and sing the night away. Try the Prime rib\, its to sing for! 9pm-1am \nNW Corner\, 9160 E Shea Blvd\, Scottsdale\, AZ 85260 \n+14808604003
URL:https://www.maddhatterpro.com/event/92nd-st-cafe-karaoke/2026-06-06/
LOCATION:92nd Street Cafe\, 9160 E Shea Blvd\, Scottsdale\, AZ\, 85260\, United States
CATEGORIES:DJ Wonder,Karaoke
ATTACH;FMTTYPE=image/jpeg:https://www.maddhatterpro.com/wp-content/uploads/2026/02/92st-scottsdale.jpg
END:VEVENT
BEGIN:VEVENT
DTSTART;TZID=UTC:20260612T210000
DTEND;TZID=UTC:20260612T210000
DTSTAMP:20260423T202839
CREATED:20250704T012040Z
LAST-MODIFIED:20260206T144628Z
UID:10024170-1781298000-1781298000@www.maddhatterpro.com
SUMMARY:92nd St Cafe Karaoke
DESCRIPTION:MHP in East Scottsdale! Best karaoke spot on the east side with DJ Wonder and YOU! Lets have a great time and sing the night away. Try the Prime rib\, its to sing for! 9pm-1am \nNW Corner\, 9160 E Shea Blvd\, Scottsdale\, AZ 85260 \n+14808604003
URL:https://www.maddhatterpro.com/event/92nd-st-cafe-karaoke/2026-06-12/
LOCATION:92nd Street Cafe\, 9160 E Shea Blvd\, Scottsdale\, AZ\, 85260\, United States
CATEGORIES:DJ Wonder,Karaoke
ATTACH;FMTTYPE=image/jpeg:https://www.maddhatterpro.com/wp-content/uploads/2026/02/92st-scottsdale.jpg
END:VEVENT
BEGIN:VEVENT
DTSTART;TZID=UTC:20260613T210000
DTEND;TZID=UTC:20260613T210000
DTSTAMP:20260423T202839
CREATED:20250704T012040Z
LAST-MODIFIED:20260206T144628Z
UID:10024171-1781384400-1781384400@www.maddhatterpro.com
SUMMARY:92nd St Cafe Karaoke
DESCRIPTION:MHP in East Scottsdale! Best karaoke spot on the east side with DJ Wonder and YOU! Lets have a great time and sing the night away. Try the Prime rib\, its to sing for! 9pm-1am \nNW Corner\, 9160 E Shea Blvd\, Scottsdale\, AZ 85260 \n+14808604003
URL:https://www.maddhatterpro.com/event/92nd-st-cafe-karaoke/2026-06-13/
LOCATION:92nd Street Cafe\, 9160 E Shea Blvd\, Scottsdale\, AZ\, 85260\, United States
CATEGORIES:DJ Wonder,Karaoke
ATTACH;FMTTYPE=image/jpeg:https://www.maddhatterpro.com/wp-content/uploads/2026/02/92st-scottsdale.jpg
END:VEVENT
BEGIN:VEVENT
DTSTART;TZID=UTC:20260619T210000
DTEND;TZID=UTC:20260619T210000
DTSTAMP:20260423T202839
CREATED:20250704T012040Z
LAST-MODIFIED:20260206T144628Z
UID:10024172-1781902800-1781902800@www.maddhatterpro.com
SUMMARY:92nd St Cafe Karaoke
DESCRIPTION:MHP in East Scottsdale! Best karaoke spot on the east side with DJ Wonder and YOU! Lets have a great time and sing the night away. Try the Prime rib\, its to sing for! 9pm-1am \nNW Corner\, 9160 E Shea Blvd\, Scottsdale\, AZ 85260 \n+14808604003
URL:https://www.maddhatterpro.com/event/92nd-st-cafe-karaoke/2026-06-19/
LOCATION:92nd Street Cafe\, 9160 E Shea Blvd\, Scottsdale\, AZ\, 85260\, United States
CATEGORIES:DJ Wonder,Karaoke
ATTACH;FMTTYPE=image/jpeg:https://www.maddhatterpro.com/wp-content/uploads/2026/02/92st-scottsdale.jpg
END:VEVENT
BEGIN:VEVENT
DTSTART;TZID=UTC:20260620T210000
DTEND;TZID=UTC:20260620T210000
DTSTAMP:20260423T202839
CREATED:20250704T012040Z
LAST-MODIFIED:20260206T144628Z
UID:10024173-1781989200-1781989200@www.maddhatterpro.com
SUMMARY:92nd St Cafe Karaoke
DESCRIPTION:MHP in East Scottsdale! Best karaoke spot on the east side with DJ Wonder and YOU! Lets have a great time and sing the night away. Try the Prime rib\, its to sing for! 9pm-1am \nNW Corner\, 9160 E Shea Blvd\, Scottsdale\, AZ 85260 \n+14808604003
URL:https://www.maddhatterpro.com/event/92nd-st-cafe-karaoke/2026-06-20/
LOCATION:92nd Street Cafe\, 9160 E Shea Blvd\, Scottsdale\, AZ\, 85260\, United States
CATEGORIES:DJ Wonder,Karaoke
ATTACH;FMTTYPE=image/jpeg:https://www.maddhatterpro.com/wp-content/uploads/2026/02/92st-scottsdale.jpg
END:VEVENT
BEGIN:VEVENT
DTSTART;TZID=UTC:20260626T210000
DTEND;TZID=UTC:20260626T210000
DTSTAMP:20260423T202839
CREATED:20250704T012040Z
LAST-MODIFIED:20260206T144628Z
UID:10024174-1782507600-1782507600@www.maddhatterpro.com
SUMMARY:92nd St Cafe Karaoke
DESCRIPTION:MHP in East Scottsdale! Best karaoke spot on the east side with DJ Wonder and YOU! Lets have a great time and sing the night away. Try the Prime rib\, its to sing for! 9pm-1am \nNW Corner\, 9160 E Shea Blvd\, Scottsdale\, AZ 85260 \n+14808604003
URL:https://www.maddhatterpro.com/event/92nd-st-cafe-karaoke/2026-06-26/
LOCATION:92nd Street Cafe\, 9160 E Shea Blvd\, Scottsdale\, AZ\, 85260\, United States
CATEGORIES:DJ Wonder,Karaoke
ATTACH;FMTTYPE=image/jpeg:https://www.maddhatterpro.com/wp-content/uploads/2026/02/92st-scottsdale.jpg
END:VEVENT
BEGIN:VEVENT
DTSTART;TZID=UTC:20260627T210000
DTEND;TZID=UTC:20260627T210000
DTSTAMP:20260423T202839
CREATED:20250704T012040Z
LAST-MODIFIED:20260206T144628Z
UID:10024175-1782594000-1782594000@www.maddhatterpro.com
SUMMARY:92nd St Cafe Karaoke
DESCRIPTION:MHP in East Scottsdale! Best karaoke spot on the east side with DJ Wonder and YOU! Lets have a great time and sing the night away. Try the Prime rib\, its to sing for! 9pm-1am \nNW Corner\, 9160 E Shea Blvd\, Scottsdale\, AZ 85260 \n+14808604003
URL:https://www.maddhatterpro.com/event/92nd-st-cafe-karaoke/2026-06-27/
LOCATION:92nd Street Cafe\, 9160 E Shea Blvd\, Scottsdale\, AZ\, 85260\, United States
CATEGORIES:DJ Wonder,Karaoke
ATTACH;FMTTYPE=image/jpeg:https://www.maddhatterpro.com/wp-content/uploads/2026/02/92st-scottsdale.jpg
END:VEVENT
BEGIN:VEVENT
DTSTART;TZID=UTC:20260703T210000
DTEND;TZID=UTC:20260703T210000
DTSTAMP:20260423T202839
CREATED:20250704T012040Z
LAST-MODIFIED:20260206T144628Z
UID:10024176-1783112400-1783112400@www.maddhatterpro.com
SUMMARY:92nd St Cafe Karaoke
DESCRIPTION:MHP in East Scottsdale! Best karaoke spot on the east side with DJ Wonder and YOU! Lets have a great time and sing the night away. Try the Prime rib\, its to sing for! 9pm-1am \nNW Corner\, 9160 E Shea Blvd\, Scottsdale\, AZ 85260 \n+14808604003
URL:https://www.maddhatterpro.com/event/92nd-st-cafe-karaoke/2026-07-03/
LOCATION:92nd Street Cafe\, 9160 E Shea Blvd\, Scottsdale\, AZ\, 85260\, United States
CATEGORIES:DJ Wonder,Karaoke
ATTACH;FMTTYPE=image/jpeg:https://www.maddhatterpro.com/wp-content/uploads/2026/02/92st-scottsdale.jpg
END:VEVENT
BEGIN:VEVENT
DTSTART;TZID=UTC:20260704T210000
DTEND;TZID=UTC:20260704T210000
DTSTAMP:20260423T202839
CREATED:20250704T012040Z
LAST-MODIFIED:20260206T144628Z
UID:10024177-1783198800-1783198800@www.maddhatterpro.com
SUMMARY:92nd St Cafe Karaoke
DESCRIPTION:MHP in East Scottsdale! Best karaoke spot on the east side with DJ Wonder and YOU! Lets have a great time and sing the night away. Try the Prime rib\, its to sing for! 9pm-1am \nNW Corner\, 9160 E Shea Blvd\, Scottsdale\, AZ 85260 \n+14808604003
URL:https://www.maddhatterpro.com/event/92nd-st-cafe-karaoke/2026-07-04/
LOCATION:92nd Street Cafe\, 9160 E Shea Blvd\, Scottsdale\, AZ\, 85260\, United States
CATEGORIES:DJ Wonder,Karaoke
ATTACH;FMTTYPE=image/jpeg:https://www.maddhatterpro.com/wp-content/uploads/2026/02/92st-scottsdale.jpg
END:VEVENT
BEGIN:VEVENT
DTSTART;TZID=UTC:20260710T210000
DTEND;TZID=UTC:20260710T210000
DTSTAMP:20260423T202839
CREATED:20250704T012040Z
LAST-MODIFIED:20260206T144628Z
UID:10024178-1783717200-1783717200@www.maddhatterpro.com
SUMMARY:92nd St Cafe Karaoke
DESCRIPTION:MHP in East Scottsdale! Best karaoke spot on the east side with DJ Wonder and YOU! Lets have a great time and sing the night away. Try the Prime rib\, its to sing for! 9pm-1am \nNW Corner\, 9160 E Shea Blvd\, Scottsdale\, AZ 85260 \n+14808604003
URL:https://www.maddhatterpro.com/event/92nd-st-cafe-karaoke/2026-07-10/
LOCATION:92nd Street Cafe\, 9160 E Shea Blvd\, Scottsdale\, AZ\, 85260\, United States
CATEGORIES:DJ Wonder,Karaoke
ATTACH;FMTTYPE=image/jpeg:https://www.maddhatterpro.com/wp-content/uploads/2026/02/92st-scottsdale.jpg
END:VEVENT
BEGIN:VEVENT
DTSTART;TZID=UTC:20260711T210000
DTEND;TZID=UTC:20260711T210000
DTSTAMP:20260423T202839
CREATED:20250704T012040Z
LAST-MODIFIED:20260206T144628Z
UID:10024179-1783803600-1783803600@www.maddhatterpro.com
SUMMARY:92nd St Cafe Karaoke
DESCRIPTION:MHP in East Scottsdale! Best karaoke spot on the east side with DJ Wonder and YOU! Lets have a great time and sing the night away. Try the Prime rib\, its to sing for! 9pm-1am \nNW Corner\, 9160 E Shea Blvd\, Scottsdale\, AZ 85260 \n+14808604003
URL:https://www.maddhatterpro.com/event/92nd-st-cafe-karaoke/2026-07-11/
LOCATION:92nd Street Cafe\, 9160 E Shea Blvd\, Scottsdale\, AZ\, 85260\, United States
CATEGORIES:DJ Wonder,Karaoke
ATTACH;FMTTYPE=image/jpeg:https://www.maddhatterpro.com/wp-content/uploads/2026/02/92st-scottsdale.jpg
END:VEVENT
BEGIN:VEVENT
DTSTART;TZID=UTC:20260717T210000
DTEND;TZID=UTC:20260717T210000
DTSTAMP:20260423T202839
CREATED:20250704T012040Z
LAST-MODIFIED:20260206T144628Z
UID:10024180-1784322000-1784322000@www.maddhatterpro.com
SUMMARY:92nd St Cafe Karaoke
DESCRIPTION:MHP in East Scottsdale! Best karaoke spot on the east side with DJ Wonder and YOU! Lets have a great time and sing the night away. Try the Prime rib\, its to sing for! 9pm-1am \nNW Corner\, 9160 E Shea Blvd\, Scottsdale\, AZ 85260 \n+14808604003
URL:https://www.maddhatterpro.com/event/92nd-st-cafe-karaoke/2026-07-17/
LOCATION:92nd Street Cafe\, 9160 E Shea Blvd\, Scottsdale\, AZ\, 85260\, United States
CATEGORIES:DJ Wonder,Karaoke
ATTACH;FMTTYPE=image/jpeg:https://www.maddhatterpro.com/wp-content/uploads/2026/02/92st-scottsdale.jpg
END:VEVENT
BEGIN:VEVENT
DTSTART;TZID=UTC:20260718T210000
DTEND;TZID=UTC:20260718T210000
DTSTAMP:20260423T202839
CREATED:20250704T012040Z
LAST-MODIFIED:20260206T144628Z
UID:10024181-1784408400-1784408400@www.maddhatterpro.com
SUMMARY:92nd St Cafe Karaoke
DESCRIPTION:MHP in East Scottsdale! Best karaoke spot on the east side with DJ Wonder and YOU! Lets have a great time and sing the night away. Try the Prime rib\, its to sing for! 9pm-1am \nNW Corner\, 9160 E Shea Blvd\, Scottsdale\, AZ 85260 \n+14808604003
URL:https://www.maddhatterpro.com/event/92nd-st-cafe-karaoke/2026-07-18/
LOCATION:92nd Street Cafe\, 9160 E Shea Blvd\, Scottsdale\, AZ\, 85260\, United States
CATEGORIES:DJ Wonder,Karaoke
ATTACH;FMTTYPE=image/jpeg:https://www.maddhatterpro.com/wp-content/uploads/2026/02/92st-scottsdale.jpg
END:VEVENT
BEGIN:VEVENT
DTSTART;TZID=UTC:20260724T210000
DTEND;TZID=UTC:20260724T210000
DTSTAMP:20260423T202839
CREATED:20250704T012040Z
LAST-MODIFIED:20260206T144628Z
UID:10024182-1784926800-1784926800@www.maddhatterpro.com
SUMMARY:92nd St Cafe Karaoke
DESCRIPTION:MHP in East Scottsdale! Best karaoke spot on the east side with DJ Wonder and YOU! Lets have a great time and sing the night away. Try the Prime rib\, its to sing for! 9pm-1am \nNW Corner\, 9160 E Shea Blvd\, Scottsdale\, AZ 85260 \n+14808604003
URL:https://www.maddhatterpro.com/event/92nd-st-cafe-karaoke/2026-07-24/
LOCATION:92nd Street Cafe\, 9160 E Shea Blvd\, Scottsdale\, AZ\, 85260\, United States
CATEGORIES:DJ Wonder,Karaoke
ATTACH;FMTTYPE=image/jpeg:https://www.maddhatterpro.com/wp-content/uploads/2026/02/92st-scottsdale.jpg
END:VEVENT
BEGIN:VEVENT
DTSTART;TZID=UTC:20260725T210000
DTEND;TZID=UTC:20260725T210000
DTSTAMP:20260423T202839
CREATED:20250704T012040Z
LAST-MODIFIED:20260206T144628Z
UID:10024183-1785013200-1785013200@www.maddhatterpro.com
SUMMARY:92nd St Cafe Karaoke
DESCRIPTION:MHP in East Scottsdale! Best karaoke spot on the east side with DJ Wonder and YOU! Lets have a great time and sing the night away. Try the Prime rib\, its to sing for! 9pm-1am \nNW Corner\, 9160 E Shea Blvd\, Scottsdale\, AZ 85260 \n+14808604003
URL:https://www.maddhatterpro.com/event/92nd-st-cafe-karaoke/2026-07-25/
LOCATION:92nd Street Cafe\, 9160 E Shea Blvd\, Scottsdale\, AZ\, 85260\, United States
CATEGORIES:DJ Wonder,Karaoke
ATTACH;FMTTYPE=image/jpeg:https://www.maddhatterpro.com/wp-content/uploads/2026/02/92st-scottsdale.jpg
END:VEVENT
BEGIN:VEVENT
DTSTART;TZID=UTC:20260731T210000
DTEND;TZID=UTC:20260731T210000
DTSTAMP:20260423T202839
CREATED:20250704T012040Z
LAST-MODIFIED:20260206T144628Z
UID:10024184-1785531600-1785531600@www.maddhatterpro.com
SUMMARY:92nd St Cafe Karaoke
DESCRIPTION:MHP in East Scottsdale! Best karaoke spot on the east side with DJ Wonder and YOU! Lets have a great time and sing the night away. Try the Prime rib\, its to sing for! 9pm-1am \nNW Corner\, 9160 E Shea Blvd\, Scottsdale\, AZ 85260 \n+14808604003
URL:https://www.maddhatterpro.com/event/92nd-st-cafe-karaoke/2026-07-31/
LOCATION:92nd Street Cafe\, 9160 E Shea Blvd\, Scottsdale\, AZ\, 85260\, United States
CATEGORIES:DJ Wonder,Karaoke
ATTACH;FMTTYPE=image/jpeg:https://www.maddhatterpro.com/wp-content/uploads/2026/02/92st-scottsdale.jpg
END:VEVENT
BEGIN:VEVENT
DTSTART;TZID=UTC:20260801T210000
DTEND;TZID=UTC:20260801T210000
DTSTAMP:20260423T202839
CREATED:20250704T012040Z
LAST-MODIFIED:20260206T144628Z
UID:10024185-1785618000-1785618000@www.maddhatterpro.com
SUMMARY:92nd St Cafe Karaoke
DESCRIPTION:MHP in East Scottsdale! Best karaoke spot on the east side with DJ Wonder and YOU! Lets have a great time and sing the night away. Try the Prime rib\, its to sing for! 9pm-1am \nNW Corner\, 9160 E Shea Blvd\, Scottsdale\, AZ 85260 \n+14808604003
URL:https://www.maddhatterpro.com/event/92nd-st-cafe-karaoke/2026-08-01/
LOCATION:92nd Street Cafe\, 9160 E Shea Blvd\, Scottsdale\, AZ\, 85260\, United States
CATEGORIES:DJ Wonder,Karaoke
ATTACH;FMTTYPE=image/jpeg:https://www.maddhatterpro.com/wp-content/uploads/2026/02/92st-scottsdale.jpg
END:VEVENT
END:VCALENDAR