BEGIN:VCALENDAR
VERSION:2.0
PRODID:-//MaddHatterPro.com - ECPv6.15.20//NONSGML v1.0//EN
CALSCALE:GREGORIAN
METHOD:PUBLISH
X-WR-CALNAME:MaddHatterPro.com
X-ORIGINAL-URL:https://www.maddhatterpro.com
X-WR-CALDESC:Events for MaddHatterPro.com
REFRESH-INTERVAL;VALUE=DURATION:PT1H
X-Robots-Tag:noindex
X-PUBLISHED-TTL:PT1H
BEGIN:VTIMEZONE
TZID:UTC
BEGIN:STANDARD
TZOFFSETFROM:+0000
TZOFFSETTO:+0000
TZNAME:UTC
DTSTART:20250101T000000
END:STANDARD
END:VTIMEZONE
BEGIN:VEVENT
DTSTART;TZID=UTC:20260418T210000
DTEND;TZID=UTC:20260418T210000
DTSTAMP:20260423T220245
CREATED:20250704T012040Z
LAST-MODIFIED:20260206T144628Z
UID:10024155-1776546000-1776546000@www.maddhatterpro.com
SUMMARY:92nd St Cafe Karaoke
DESCRIPTION:MHP in East Scottsdale! Best karaoke spot on the east side with DJ Wonder and YOU! Lets have a great time and sing the night away. Try the Prime rib\, its to sing for! 9pm-1am \nNW Corner\, 9160 E Shea Blvd\, Scottsdale\, AZ 85260 \n+14808604003
URL:https://www.maddhatterpro.com/event/92nd-st-cafe-karaoke/2026-04-18/
LOCATION:92nd Street Cafe\, 9160 E Shea Blvd\, Scottsdale\, AZ\, 85260\, United States
CATEGORIES:DJ Wonder,Karaoke
ATTACH;FMTTYPE=image/jpeg:https://www.maddhatterpro.com/wp-content/uploads/2026/02/92st-scottsdale.jpg
END:VEVENT
BEGIN:VEVENT
DTSTART;TZID=UTC:20260417T210000
DTEND;TZID=UTC:20260417T210000
DTSTAMP:20260423T220245
CREATED:20250704T012040Z
LAST-MODIFIED:20260206T144628Z
UID:10024154-1776459600-1776459600@www.maddhatterpro.com
SUMMARY:92nd St Cafe Karaoke
DESCRIPTION:MHP in East Scottsdale! Best karaoke spot on the east side with DJ Wonder and YOU! Lets have a great time and sing the night away. Try the Prime rib\, its to sing for! 9pm-1am \nNW Corner\, 9160 E Shea Blvd\, Scottsdale\, AZ 85260 \n+14808604003
URL:https://www.maddhatterpro.com/event/92nd-st-cafe-karaoke/2026-04-17/
LOCATION:92nd Street Cafe\, 9160 E Shea Blvd\, Scottsdale\, AZ\, 85260\, United States
CATEGORIES:DJ Wonder,Karaoke
ATTACH;FMTTYPE=image/jpeg:https://www.maddhatterpro.com/wp-content/uploads/2026/02/92st-scottsdale.jpg
END:VEVENT
BEGIN:VEVENT
DTSTART;TZID=UTC:20260411T210000
DTEND;TZID=UTC:20260411T210000
DTSTAMP:20260423T220245
CREATED:20250704T012040Z
LAST-MODIFIED:20260206T144628Z
UID:10024153-1775941200-1775941200@www.maddhatterpro.com
SUMMARY:92nd St Cafe Karaoke
DESCRIPTION:MHP in East Scottsdale! Best karaoke spot on the east side with DJ Wonder and YOU! Lets have a great time and sing the night away. Try the Prime rib\, its to sing for! 9pm-1am \nNW Corner\, 9160 E Shea Blvd\, Scottsdale\, AZ 85260 \n+14808604003
URL:https://www.maddhatterpro.com/event/92nd-st-cafe-karaoke/2026-04-11/
LOCATION:92nd Street Cafe\, 9160 E Shea Blvd\, Scottsdale\, AZ\, 85260\, United States
CATEGORIES:DJ Wonder,Karaoke
ATTACH;FMTTYPE=image/jpeg:https://www.maddhatterpro.com/wp-content/uploads/2026/02/92st-scottsdale.jpg
END:VEVENT
BEGIN:VEVENT
DTSTART;TZID=UTC:20260410T210000
DTEND;TZID=UTC:20260410T210000
DTSTAMP:20260423T220245
CREATED:20250704T012040Z
LAST-MODIFIED:20260206T144628Z
UID:10024152-1775854800-1775854800@www.maddhatterpro.com
SUMMARY:92nd St Cafe Karaoke
DESCRIPTION:MHP in East Scottsdale! Best karaoke spot on the east side with DJ Wonder and YOU! Lets have a great time and sing the night away. Try the Prime rib\, its to sing for! 9pm-1am \nNW Corner\, 9160 E Shea Blvd\, Scottsdale\, AZ 85260 \n+14808604003
URL:https://www.maddhatterpro.com/event/92nd-st-cafe-karaoke/2026-04-10/
LOCATION:92nd Street Cafe\, 9160 E Shea Blvd\, Scottsdale\, AZ\, 85260\, United States
CATEGORIES:DJ Wonder,Karaoke
ATTACH;FMTTYPE=image/jpeg:https://www.maddhatterpro.com/wp-content/uploads/2026/02/92st-scottsdale.jpg
END:VEVENT
BEGIN:VEVENT
DTSTART;TZID=UTC:20260404T210000
DTEND;TZID=UTC:20260404T210000
DTSTAMP:20260423T220245
CREATED:20250704T012040Z
LAST-MODIFIED:20260206T144628Z
UID:10024151-1775336400-1775336400@www.maddhatterpro.com
SUMMARY:92nd St Cafe Karaoke
DESCRIPTION:MHP in East Scottsdale! Best karaoke spot on the east side with DJ Wonder and YOU! Lets have a great time and sing the night away. Try the Prime rib\, its to sing for! 9pm-1am \nNW Corner\, 9160 E Shea Blvd\, Scottsdale\, AZ 85260 \n+14808604003
URL:https://www.maddhatterpro.com/event/92nd-st-cafe-karaoke/2026-04-04/
LOCATION:92nd Street Cafe\, 9160 E Shea Blvd\, Scottsdale\, AZ\, 85260\, United States
CATEGORIES:DJ Wonder,Karaoke
ATTACH;FMTTYPE=image/jpeg:https://www.maddhatterpro.com/wp-content/uploads/2026/02/92st-scottsdale.jpg
END:VEVENT
BEGIN:VEVENT
DTSTART;TZID=UTC:20260403T210000
DTEND;TZID=UTC:20260403T210000
DTSTAMP:20260423T220245
CREATED:20250704T012040Z
LAST-MODIFIED:20260206T144628Z
UID:10024150-1775250000-1775250000@www.maddhatterpro.com
SUMMARY:92nd St Cafe Karaoke
DESCRIPTION:MHP in East Scottsdale! Best karaoke spot on the east side with DJ Wonder and YOU! Lets have a great time and sing the night away. Try the Prime rib\, its to sing for! 9pm-1am \nNW Corner\, 9160 E Shea Blvd\, Scottsdale\, AZ 85260 \n+14808604003
URL:https://www.maddhatterpro.com/event/92nd-st-cafe-karaoke/2026-04-03/
LOCATION:92nd Street Cafe\, 9160 E Shea Blvd\, Scottsdale\, AZ\, 85260\, United States
CATEGORIES:DJ Wonder,Karaoke
ATTACH;FMTTYPE=image/jpeg:https://www.maddhatterpro.com/wp-content/uploads/2026/02/92st-scottsdale.jpg
END:VEVENT
BEGIN:VEVENT
DTSTART;TZID=UTC:20260328T210000
DTEND;TZID=UTC:20260328T210000
DTSTAMP:20260423T220245
CREATED:20250704T012040Z
LAST-MODIFIED:20260206T144628Z
UID:10024149-1774731600-1774731600@www.maddhatterpro.com
SUMMARY:92nd St Cafe Karaoke
DESCRIPTION:MHP in East Scottsdale! Best karaoke spot on the east side with DJ Wonder and YOU! Lets have a great time and sing the night away. Try the Prime rib\, its to sing for! 9pm-1am \nNW Corner\, 9160 E Shea Blvd\, Scottsdale\, AZ 85260 \n+14808604003
URL:https://www.maddhatterpro.com/event/92nd-st-cafe-karaoke/2026-03-28/
LOCATION:92nd Street Cafe\, 9160 E Shea Blvd\, Scottsdale\, AZ\, 85260\, United States
CATEGORIES:DJ Wonder,Karaoke
ATTACH;FMTTYPE=image/jpeg:https://www.maddhatterpro.com/wp-content/uploads/2026/02/92st-scottsdale.jpg
END:VEVENT
BEGIN:VEVENT
DTSTART;TZID=UTC:20260327T210000
DTEND;TZID=UTC:20260327T210000
DTSTAMP:20260423T220245
CREATED:20250704T012040Z
LAST-MODIFIED:20260206T144628Z
UID:10024148-1774645200-1774645200@www.maddhatterpro.com
SUMMARY:92nd St Cafe Karaoke
DESCRIPTION:MHP in East Scottsdale! Best karaoke spot on the east side with DJ Wonder and YOU! Lets have a great time and sing the night away. Try the Prime rib\, its to sing for! 9pm-1am \nNW Corner\, 9160 E Shea Blvd\, Scottsdale\, AZ 85260 \n+14808604003
URL:https://www.maddhatterpro.com/event/92nd-st-cafe-karaoke/2026-03-27/
LOCATION:92nd Street Cafe\, 9160 E Shea Blvd\, Scottsdale\, AZ\, 85260\, United States
CATEGORIES:DJ Wonder,Karaoke
ATTACH;FMTTYPE=image/jpeg:https://www.maddhatterpro.com/wp-content/uploads/2026/02/92st-scottsdale.jpg
END:VEVENT
BEGIN:VEVENT
DTSTART;TZID=UTC:20260321T210000
DTEND;TZID=UTC:20260321T210000
DTSTAMP:20260423T220245
CREATED:20250704T012040Z
LAST-MODIFIED:20260206T144628Z
UID:10024147-1774126800-1774126800@www.maddhatterpro.com
SUMMARY:92nd St Cafe Karaoke
DESCRIPTION:MHP in East Scottsdale! Best karaoke spot on the east side with DJ Wonder and YOU! Lets have a great time and sing the night away. Try the Prime rib\, its to sing for! 9pm-1am \nNW Corner\, 9160 E Shea Blvd\, Scottsdale\, AZ 85260 \n+14808604003
URL:https://www.maddhatterpro.com/event/92nd-st-cafe-karaoke/2026-03-21/
LOCATION:92nd Street Cafe\, 9160 E Shea Blvd\, Scottsdale\, AZ\, 85260\, United States
CATEGORIES:DJ Wonder,Karaoke
ATTACH;FMTTYPE=image/jpeg:https://www.maddhatterpro.com/wp-content/uploads/2026/02/92st-scottsdale.jpg
END:VEVENT
BEGIN:VEVENT
DTSTART;TZID=UTC:20260320T210000
DTEND;TZID=UTC:20260320T210000
DTSTAMP:20260423T220245
CREATED:20250704T012040Z
LAST-MODIFIED:20260206T144628Z
UID:10024146-1774040400-1774040400@www.maddhatterpro.com
SUMMARY:92nd St Cafe Karaoke
DESCRIPTION:MHP in East Scottsdale! Best karaoke spot on the east side with DJ Wonder and YOU! Lets have a great time and sing the night away. Try the Prime rib\, its to sing for! 9pm-1am \nNW Corner\, 9160 E Shea Blvd\, Scottsdale\, AZ 85260 \n+14808604003
URL:https://www.maddhatterpro.com/event/92nd-st-cafe-karaoke/2026-03-20/
LOCATION:92nd Street Cafe\, 9160 E Shea Blvd\, Scottsdale\, AZ\, 85260\, United States
CATEGORIES:DJ Wonder,Karaoke
ATTACH;FMTTYPE=image/jpeg:https://www.maddhatterpro.com/wp-content/uploads/2026/02/92st-scottsdale.jpg
END:VEVENT
BEGIN:VEVENT
DTSTART;TZID=UTC:20260314T210000
DTEND;TZID=UTC:20260314T210000
DTSTAMP:20260423T220245
CREATED:20250704T012040Z
LAST-MODIFIED:20260206T144628Z
UID:10024145-1773522000-1773522000@www.maddhatterpro.com
SUMMARY:92nd St Cafe Karaoke
DESCRIPTION:MHP in East Scottsdale! Best karaoke spot on the east side with DJ Wonder and YOU! Lets have a great time and sing the night away. Try the Prime rib\, its to sing for! 9pm-1am \nNW Corner\, 9160 E Shea Blvd\, Scottsdale\, AZ 85260 \n+14808604003
URL:https://www.maddhatterpro.com/event/92nd-st-cafe-karaoke/2026-03-14/
LOCATION:92nd Street Cafe\, 9160 E Shea Blvd\, Scottsdale\, AZ\, 85260\, United States
CATEGORIES:DJ Wonder,Karaoke
ATTACH;FMTTYPE=image/jpeg:https://www.maddhatterpro.com/wp-content/uploads/2026/02/92st-scottsdale.jpg
END:VEVENT
BEGIN:VEVENT
DTSTART;TZID=UTC:20260313T210000
DTEND;TZID=UTC:20260313T210000
DTSTAMP:20260423T220245
CREATED:20250704T012040Z
LAST-MODIFIED:20260206T144628Z
UID:10024144-1773435600-1773435600@www.maddhatterpro.com
SUMMARY:92nd St Cafe Karaoke
DESCRIPTION:MHP in East Scottsdale! Best karaoke spot on the east side with DJ Wonder and YOU! Lets have a great time and sing the night away. Try the Prime rib\, its to sing for! 9pm-1am \nNW Corner\, 9160 E Shea Blvd\, Scottsdale\, AZ 85260 \n+14808604003
URL:https://www.maddhatterpro.com/event/92nd-st-cafe-karaoke/2026-03-13/
LOCATION:92nd Street Cafe\, 9160 E Shea Blvd\, Scottsdale\, AZ\, 85260\, United States
CATEGORIES:DJ Wonder,Karaoke
ATTACH;FMTTYPE=image/jpeg:https://www.maddhatterpro.com/wp-content/uploads/2026/02/92st-scottsdale.jpg
END:VEVENT
BEGIN:VEVENT
DTSTART;TZID=UTC:20260307T210000
DTEND;TZID=UTC:20260307T210000
DTSTAMP:20260423T220245
CREATED:20250704T012040Z
LAST-MODIFIED:20260206T144628Z
UID:10024143-1772917200-1772917200@www.maddhatterpro.com
SUMMARY:92nd St Cafe Karaoke
DESCRIPTION:MHP in East Scottsdale! Best karaoke spot on the east side with DJ Wonder and YOU! Lets have a great time and sing the night away. Try the Prime rib\, its to sing for! 9pm-1am \nNW Corner\, 9160 E Shea Blvd\, Scottsdale\, AZ 85260 \n+14808604003
URL:https://www.maddhatterpro.com/event/92nd-st-cafe-karaoke/2026-03-07/
LOCATION:92nd Street Cafe\, 9160 E Shea Blvd\, Scottsdale\, AZ\, 85260\, United States
CATEGORIES:DJ Wonder,Karaoke
ATTACH;FMTTYPE=image/jpeg:https://www.maddhatterpro.com/wp-content/uploads/2026/02/92st-scottsdale.jpg
END:VEVENT
BEGIN:VEVENT
DTSTART;TZID=UTC:20260306T210000
DTEND;TZID=UTC:20260306T210000
DTSTAMP:20260423T220245
CREATED:20250704T012040Z
LAST-MODIFIED:20260206T144628Z
UID:10024142-1772830800-1772830800@www.maddhatterpro.com
SUMMARY:92nd St Cafe Karaoke
DESCRIPTION:MHP in East Scottsdale! Best karaoke spot on the east side with DJ Wonder and YOU! Lets have a great time and sing the night away. Try the Prime rib\, its to sing for! 9pm-1am \nNW Corner\, 9160 E Shea Blvd\, Scottsdale\, AZ 85260 \n+14808604003
URL:https://www.maddhatterpro.com/event/92nd-st-cafe-karaoke/2026-03-06/
LOCATION:92nd Street Cafe\, 9160 E Shea Blvd\, Scottsdale\, AZ\, 85260\, United States
CATEGORIES:DJ Wonder,Karaoke
ATTACH;FMTTYPE=image/jpeg:https://www.maddhatterpro.com/wp-content/uploads/2026/02/92st-scottsdale.jpg
END:VEVENT
BEGIN:VEVENT
DTSTART;TZID=UTC:20260228T210000
DTEND;TZID=UTC:20260228T210000
DTSTAMP:20260423T220245
CREATED:20250704T012040Z
LAST-MODIFIED:20260206T144628Z
UID:10024141-1772312400-1772312400@www.maddhatterpro.com
SUMMARY:92nd St Cafe Karaoke
DESCRIPTION:MHP in East Scottsdale! Best karaoke spot on the east side with DJ Wonder and YOU! Lets have a great time and sing the night away. Try the Prime rib\, its to sing for! 9pm-1am \nNW Corner\, 9160 E Shea Blvd\, Scottsdale\, AZ 85260 \n+14808604003
URL:https://www.maddhatterpro.com/event/92nd-st-cafe-karaoke/2026-02-28/
LOCATION:92nd Street Cafe\, 9160 E Shea Blvd\, Scottsdale\, AZ\, 85260\, United States
CATEGORIES:DJ Wonder,Karaoke
ATTACH;FMTTYPE=image/jpeg:https://www.maddhatterpro.com/wp-content/uploads/2026/02/92st-scottsdale.jpg
END:VEVENT
BEGIN:VEVENT
DTSTART;TZID=UTC:20260227T210000
DTEND;TZID=UTC:20260227T210000
DTSTAMP:20260423T220245
CREATED:20250704T012040Z
LAST-MODIFIED:20260206T144628Z
UID:10024140-1772226000-1772226000@www.maddhatterpro.com
SUMMARY:92nd St Cafe Karaoke
DESCRIPTION:MHP in East Scottsdale! Best karaoke spot on the east side with DJ Wonder and YOU! Lets have a great time and sing the night away. Try the Prime rib\, its to sing for! 9pm-1am \nNW Corner\, 9160 E Shea Blvd\, Scottsdale\, AZ 85260 \n+14808604003
URL:https://www.maddhatterpro.com/event/92nd-st-cafe-karaoke/2026-02-27/
LOCATION:92nd Street Cafe\, 9160 E Shea Blvd\, Scottsdale\, AZ\, 85260\, United States
CATEGORIES:DJ Wonder,Karaoke
ATTACH;FMTTYPE=image/jpeg:https://www.maddhatterpro.com/wp-content/uploads/2026/02/92st-scottsdale.jpg
END:VEVENT
BEGIN:VEVENT
DTSTART;TZID=UTC:20260221T210000
DTEND;TZID=UTC:20260221T210000
DTSTAMP:20260423T220245
CREATED:20250704T012040Z
LAST-MODIFIED:20260206T144628Z
UID:10024139-1771707600-1771707600@www.maddhatterpro.com
SUMMARY:92nd St Cafe Karaoke
DESCRIPTION:MHP in East Scottsdale! Best karaoke spot on the east side with DJ Wonder and YOU! Lets have a great time and sing the night away. Try the Prime rib\, its to sing for! 9pm-1am \nNW Corner\, 9160 E Shea Blvd\, Scottsdale\, AZ 85260 \n+14808604003
URL:https://www.maddhatterpro.com/event/92nd-st-cafe-karaoke/2026-02-21/
LOCATION:92nd Street Cafe\, 9160 E Shea Blvd\, Scottsdale\, AZ\, 85260\, United States
CATEGORIES:DJ Wonder,Karaoke
ATTACH;FMTTYPE=image/jpeg:https://www.maddhatterpro.com/wp-content/uploads/2026/02/92st-scottsdale.jpg
END:VEVENT
BEGIN:VEVENT
DTSTART;TZID=UTC:20260220T210000
DTEND;TZID=UTC:20260220T210000
DTSTAMP:20260423T220245
CREATED:20250704T012040Z
LAST-MODIFIED:20260206T144628Z
UID:10024138-1771621200-1771621200@www.maddhatterpro.com
SUMMARY:92nd St Cafe Karaoke
DESCRIPTION:MHP in East Scottsdale! Best karaoke spot on the east side with DJ Wonder and YOU! Lets have a great time and sing the night away. Try the Prime rib\, its to sing for! 9pm-1am \nNW Corner\, 9160 E Shea Blvd\, Scottsdale\, AZ 85260 \n+14808604003
URL:https://www.maddhatterpro.com/event/92nd-st-cafe-karaoke/2026-02-20/
LOCATION:92nd Street Cafe\, 9160 E Shea Blvd\, Scottsdale\, AZ\, 85260\, United States
CATEGORIES:DJ Wonder,Karaoke
ATTACH;FMTTYPE=image/jpeg:https://www.maddhatterpro.com/wp-content/uploads/2026/02/92st-scottsdale.jpg
END:VEVENT
BEGIN:VEVENT
DTSTART;TZID=UTC:20260214T210000
DTEND;TZID=UTC:20260214T210000
DTSTAMP:20260423T220245
CREATED:20250704T012040Z
LAST-MODIFIED:20260206T144628Z
UID:10024137-1771102800-1771102800@www.maddhatterpro.com
SUMMARY:92nd St Cafe Karaoke
DESCRIPTION:MHP in East Scottsdale! Best karaoke spot on the east side with DJ Wonder and YOU! Lets have a great time and sing the night away. Try the Prime rib\, its to sing for! 9pm-1am \nNW Corner\, 9160 E Shea Blvd\, Scottsdale\, AZ 85260 \n+14808604003
URL:https://www.maddhatterpro.com/event/92nd-st-cafe-karaoke/2026-02-14/
LOCATION:92nd Street Cafe\, 9160 E Shea Blvd\, Scottsdale\, AZ\, 85260\, United States
CATEGORIES:DJ Wonder,Karaoke
ATTACH;FMTTYPE=image/jpeg:https://www.maddhatterpro.com/wp-content/uploads/2026/02/92st-scottsdale.jpg
END:VEVENT
BEGIN:VEVENT
DTSTART;TZID=UTC:20260213T210000
DTEND;TZID=UTC:20260213T210000
DTSTAMP:20260423T220245
CREATED:20250704T012040Z
LAST-MODIFIED:20260206T144628Z
UID:10024136-1771016400-1771016400@www.maddhatterpro.com
SUMMARY:92nd St Cafe Karaoke
DESCRIPTION:MHP in East Scottsdale! Best karaoke spot on the east side with DJ Wonder and YOU! Lets have a great time and sing the night away. Try the Prime rib\, its to sing for! 9pm-1am \nNW Corner\, 9160 E Shea Blvd\, Scottsdale\, AZ 85260 \n+14808604003
URL:https://www.maddhatterpro.com/event/92nd-st-cafe-karaoke/2026-02-13/
LOCATION:92nd Street Cafe\, 9160 E Shea Blvd\, Scottsdale\, AZ\, 85260\, United States
CATEGORIES:DJ Wonder,Karaoke
ATTACH;FMTTYPE=image/jpeg:https://www.maddhatterpro.com/wp-content/uploads/2026/02/92st-scottsdale.jpg
END:VEVENT
BEGIN:VEVENT
DTSTART;TZID=UTC:20260207T210000
DTEND;TZID=UTC:20260207T210000
DTSTAMP:20260423T220245
CREATED:20250704T012040Z
LAST-MODIFIED:20260206T144628Z
UID:10024135-1770498000-1770498000@www.maddhatterpro.com
SUMMARY:92nd St Cafe Karaoke
DESCRIPTION:MHP in East Scottsdale! Best karaoke spot on the east side with DJ Wonder and YOU! Lets have a great time and sing the night away. Try the Prime rib\, its to sing for! 9pm-1am \nNW Corner\, 9160 E Shea Blvd\, Scottsdale\, AZ 85260 \n+14808604003
URL:https://www.maddhatterpro.com/event/92nd-st-cafe-karaoke/2026-02-07/
LOCATION:92nd Street Cafe\, 9160 E Shea Blvd\, Scottsdale\, AZ\, 85260\, United States
CATEGORIES:DJ Wonder,Karaoke
ATTACH;FMTTYPE=image/jpeg:https://www.maddhatterpro.com/wp-content/uploads/2026/02/92st-scottsdale.jpg
END:VEVENT
BEGIN:VEVENT
DTSTART;TZID=UTC:20260206T210000
DTEND;TZID=UTC:20260206T210000
DTSTAMP:20260423T220245
CREATED:20250704T012040Z
LAST-MODIFIED:20260206T144628Z
UID:10024134-1770411600-1770411600@www.maddhatterpro.com
SUMMARY:92nd St Cafe Karaoke
DESCRIPTION:MHP in East Scottsdale! Best karaoke spot on the east side with DJ Wonder and YOU! Lets have a great time and sing the night away. Try the Prime rib\, its to sing for! 9pm-1am \nNW Corner\, 9160 E Shea Blvd\, Scottsdale\, AZ 85260 \n+14808604003
URL:https://www.maddhatterpro.com/event/92nd-st-cafe-karaoke/2026-02-06/
LOCATION:92nd Street Cafe\, 9160 E Shea Blvd\, Scottsdale\, AZ\, 85260\, United States
CATEGORIES:DJ Wonder,Karaoke
ATTACH;FMTTYPE=image/jpeg:https://www.maddhatterpro.com/wp-content/uploads/2026/02/92st-scottsdale.jpg
END:VEVENT
BEGIN:VEVENT
DTSTART;TZID=UTC:20260131T210000
DTEND;TZID=UTC:20260131T210000
DTSTAMP:20260423T220245
CREATED:20250704T012040Z
LAST-MODIFIED:20260206T144628Z
UID:10024133-1769893200-1769893200@www.maddhatterpro.com
SUMMARY:92nd St Cafe Karaoke
DESCRIPTION:MHP in East Scottsdale! Best karaoke spot on the east side with DJ Wonder and YOU! Lets have a great time and sing the night away. Try the Prime rib\, its to sing for! 9pm-1am \nNW Corner\, 9160 E Shea Blvd\, Scottsdale\, AZ 85260 \n+14808604003
URL:https://www.maddhatterpro.com/event/92nd-st-cafe-karaoke/2026-01-31/
LOCATION:92nd Street Cafe\, 9160 E Shea Blvd\, Scottsdale\, AZ\, 85260\, United States
CATEGORIES:DJ Wonder,Karaoke
ATTACH;FMTTYPE=image/jpeg:https://www.maddhatterpro.com/wp-content/uploads/2026/02/92st-scottsdale.jpg
END:VEVENT
BEGIN:VEVENT
DTSTART;TZID=UTC:20260130T210000
DTEND;TZID=UTC:20260130T210000
DTSTAMP:20260423T220245
CREATED:20250704T012040Z
LAST-MODIFIED:20260206T144628Z
UID:10024132-1769806800-1769806800@www.maddhatterpro.com
SUMMARY:92nd St Cafe Karaoke
DESCRIPTION:MHP in East Scottsdale! Best karaoke spot on the east side with DJ Wonder and YOU! Lets have a great time and sing the night away. Try the Prime rib\, its to sing for! 9pm-1am \nNW Corner\, 9160 E Shea Blvd\, Scottsdale\, AZ 85260 \n+14808604003
URL:https://www.maddhatterpro.com/event/92nd-st-cafe-karaoke/2026-01-30/
LOCATION:92nd Street Cafe\, 9160 E Shea Blvd\, Scottsdale\, AZ\, 85260\, United States
CATEGORIES:DJ Wonder,Karaoke
ATTACH;FMTTYPE=image/jpeg:https://www.maddhatterpro.com/wp-content/uploads/2026/02/92st-scottsdale.jpg
END:VEVENT
BEGIN:VEVENT
DTSTART;TZID=UTC:20260124T210000
DTEND;TZID=UTC:20260124T210000
DTSTAMP:20260423T220245
CREATED:20250704T012040Z
LAST-MODIFIED:20260206T144628Z
UID:10024131-1769288400-1769288400@www.maddhatterpro.com
SUMMARY:92nd St Cafe Karaoke
DESCRIPTION:MHP in East Scottsdale! Best karaoke spot on the east side with DJ Wonder and YOU! Lets have a great time and sing the night away. Try the Prime rib\, its to sing for! 9pm-1am \nNW Corner\, 9160 E Shea Blvd\, Scottsdale\, AZ 85260 \n+14808604003
URL:https://www.maddhatterpro.com/event/92nd-st-cafe-karaoke/2026-01-24/
LOCATION:92nd Street Cafe\, 9160 E Shea Blvd\, Scottsdale\, AZ\, 85260\, United States
CATEGORIES:DJ Wonder,Karaoke
ATTACH;FMTTYPE=image/jpeg:https://www.maddhatterpro.com/wp-content/uploads/2026/02/92st-scottsdale.jpg
END:VEVENT
BEGIN:VEVENT
DTSTART;TZID=UTC:20260123T210000
DTEND;TZID=UTC:20260123T210000
DTSTAMP:20260423T220245
CREATED:20250704T012040Z
LAST-MODIFIED:20260206T144628Z
UID:10024130-1769202000-1769202000@www.maddhatterpro.com
SUMMARY:92nd St Cafe Karaoke
DESCRIPTION:MHP in East Scottsdale! Best karaoke spot on the east side with DJ Wonder and YOU! Lets have a great time and sing the night away. Try the Prime rib\, its to sing for! 9pm-1am \nNW Corner\, 9160 E Shea Blvd\, Scottsdale\, AZ 85260 \n+14808604003
URL:https://www.maddhatterpro.com/event/92nd-st-cafe-karaoke/2026-01-23/
LOCATION:92nd Street Cafe\, 9160 E Shea Blvd\, Scottsdale\, AZ\, 85260\, United States
CATEGORIES:DJ Wonder,Karaoke
ATTACH;FMTTYPE=image/jpeg:https://www.maddhatterpro.com/wp-content/uploads/2026/02/92st-scottsdale.jpg
END:VEVENT
BEGIN:VEVENT
DTSTART;TZID=UTC:20260117T210000
DTEND;TZID=UTC:20260117T210000
DTSTAMP:20260423T220245
CREATED:20250704T012040Z
LAST-MODIFIED:20260206T144628Z
UID:10024129-1768683600-1768683600@www.maddhatterpro.com
SUMMARY:92nd St Cafe Karaoke
DESCRIPTION:MHP in East Scottsdale! Best karaoke spot on the east side with DJ Wonder and YOU! Lets have a great time and sing the night away. Try the Prime rib\, its to sing for! 9pm-1am \nNW Corner\, 9160 E Shea Blvd\, Scottsdale\, AZ 85260 \n+14808604003
URL:https://www.maddhatterpro.com/event/92nd-st-cafe-karaoke/2026-01-17/
LOCATION:92nd Street Cafe\, 9160 E Shea Blvd\, Scottsdale\, AZ\, 85260\, United States
CATEGORIES:DJ Wonder,Karaoke
ATTACH;FMTTYPE=image/jpeg:https://www.maddhatterpro.com/wp-content/uploads/2026/02/92st-scottsdale.jpg
END:VEVENT
BEGIN:VEVENT
DTSTART;TZID=UTC:20260116T210000
DTEND;TZID=UTC:20260116T210000
DTSTAMP:20260423T220245
CREATED:20250704T012040Z
LAST-MODIFIED:20260206T144628Z
UID:10024128-1768597200-1768597200@www.maddhatterpro.com
SUMMARY:92nd St Cafe Karaoke
DESCRIPTION:MHP in East Scottsdale! Best karaoke spot on the east side with DJ Wonder and YOU! Lets have a great time and sing the night away. Try the Prime rib\, its to sing for! 9pm-1am \nNW Corner\, 9160 E Shea Blvd\, Scottsdale\, AZ 85260 \n+14808604003
URL:https://www.maddhatterpro.com/event/92nd-st-cafe-karaoke/2026-01-16/
LOCATION:92nd Street Cafe\, 9160 E Shea Blvd\, Scottsdale\, AZ\, 85260\, United States
CATEGORIES:DJ Wonder,Karaoke
ATTACH;FMTTYPE=image/jpeg:https://www.maddhatterpro.com/wp-content/uploads/2026/02/92st-scottsdale.jpg
END:VEVENT
BEGIN:VEVENT
DTSTART;TZID=UTC:20260110T210000
DTEND;TZID=UTC:20260110T210000
DTSTAMP:20260423T220245
CREATED:20250704T012040Z
LAST-MODIFIED:20260206T144628Z
UID:10024127-1768078800-1768078800@www.maddhatterpro.com
SUMMARY:92nd St Cafe Karaoke
DESCRIPTION:MHP in East Scottsdale! Best karaoke spot on the east side with DJ Wonder and YOU! Lets have a great time and sing the night away. Try the Prime rib\, its to sing for! 9pm-1am \nNW Corner\, 9160 E Shea Blvd\, Scottsdale\, AZ 85260 \n+14808604003
URL:https://www.maddhatterpro.com/event/92nd-st-cafe-karaoke/2026-01-10/
LOCATION:92nd Street Cafe\, 9160 E Shea Blvd\, Scottsdale\, AZ\, 85260\, United States
CATEGORIES:DJ Wonder,Karaoke
ATTACH;FMTTYPE=image/jpeg:https://www.maddhatterpro.com/wp-content/uploads/2026/02/92st-scottsdale.jpg
END:VEVENT
BEGIN:VEVENT
DTSTART;TZID=UTC:20260109T210000
DTEND;TZID=UTC:20260109T210000
DTSTAMP:20260423T220245
CREATED:20250704T012040Z
LAST-MODIFIED:20260206T144628Z
UID:10024126-1767992400-1767992400@www.maddhatterpro.com
SUMMARY:92nd St Cafe Karaoke
DESCRIPTION:MHP in East Scottsdale! Best karaoke spot on the east side with DJ Wonder and YOU! Lets have a great time and sing the night away. Try the Prime rib\, its to sing for! 9pm-1am \nNW Corner\, 9160 E Shea Blvd\, Scottsdale\, AZ 85260 \n+14808604003
URL:https://www.maddhatterpro.com/event/92nd-st-cafe-karaoke/2026-01-09/
LOCATION:92nd Street Cafe\, 9160 E Shea Blvd\, Scottsdale\, AZ\, 85260\, United States
CATEGORIES:DJ Wonder,Karaoke
ATTACH;FMTTYPE=image/jpeg:https://www.maddhatterpro.com/wp-content/uploads/2026/02/92st-scottsdale.jpg
END:VEVENT
END:VCALENDAR