BEGIN:VCALENDAR
VERSION:2.0
PRODID:-//MaddHatterPro.com - ECPv6.15.20//NONSGML v1.0//EN
CALSCALE:GREGORIAN
METHOD:PUBLISH
X-ORIGINAL-URL:https://www.maddhatterpro.com
X-WR-CALDESC:Events for MaddHatterPro.com
REFRESH-INTERVAL;VALUE=DURATION:PT1H
X-Robots-Tag:noindex
X-PUBLISHED-TTL:PT1H
BEGIN:VTIMEZONE
TZID:UTC
BEGIN:STANDARD
TZOFFSETFROM:+0000
TZOFFSETTO:+0000
TZNAME:UTC
DTSTART:20270101T000000
END:STANDARD
END:VTIMEZONE
BEGIN:VEVENT
DTSTART;TZID=UTC:20280228T173000
DTEND;TZID=UTC:20280228T190000
DTSTAMP:20260424T061404
CREATED:20260206T145607Z
LAST-MODIFIED:20260206T145607Z
UID:10025474-1835371800-1835377200@www.maddhatterpro.com
SUMMARY:Headliners Sports Bar Trivia
DESCRIPTION:Arizona’s toughest comes to Ahwatukee! DJ Wonder in the house serving up those questions to make you think\, while Headliners serves up the wings! Starting at 5pm\, come out to play FAMILY FRIENDLY.
URL:https://www.maddhatterpro.com/event/headliners-sports-bar-trivia/2028-02-28/
LOCATION:Headliners\, 4142 E Chandler Blvd\, Phoenix\, AZ\, 85048\, United States
ATTACH;FMTTYPE=image/jpeg:https://www.maddhatterpro.com/wp-content/uploads/2026/02/Headliners-Ahwatukee.jpg
END:VEVENT
BEGIN:VEVENT
DTSTART;TZID=UTC:20280306T173000
DTEND;TZID=UTC:20280306T190000
DTSTAMP:20260424T061404
CREATED:20260206T145607Z
LAST-MODIFIED:20260206T145607Z
UID:10025475-1835976600-1835982000@www.maddhatterpro.com
SUMMARY:Headliners Sports Bar Trivia
DESCRIPTION:Arizona’s toughest comes to Ahwatukee! DJ Wonder in the house serving up those questions to make you think\, while Headliners serves up the wings! Starting at 5pm\, come out to play FAMILY FRIENDLY.
URL:https://www.maddhatterpro.com/event/headliners-sports-bar-trivia/2028-03-06/
LOCATION:Headliners\, 4142 E Chandler Blvd\, Phoenix\, AZ\, 85048\, United States
ATTACH;FMTTYPE=image/jpeg:https://www.maddhatterpro.com/wp-content/uploads/2026/02/Headliners-Ahwatukee.jpg
END:VEVENT
BEGIN:VEVENT
DTSTART;TZID=UTC:20280313T173000
DTEND;TZID=UTC:20280313T190000
DTSTAMP:20260424T061404
CREATED:20260206T145607Z
LAST-MODIFIED:20260206T145607Z
UID:10025476-1836581400-1836586800@www.maddhatterpro.com
SUMMARY:Headliners Sports Bar Trivia
DESCRIPTION:Arizona’s toughest comes to Ahwatukee! DJ Wonder in the house serving up those questions to make you think\, while Headliners serves up the wings! Starting at 5pm\, come out to play FAMILY FRIENDLY.
URL:https://www.maddhatterpro.com/event/headliners-sports-bar-trivia/2028-03-13/
LOCATION:Headliners\, 4142 E Chandler Blvd\, Phoenix\, AZ\, 85048\, United States
ATTACH;FMTTYPE=image/jpeg:https://www.maddhatterpro.com/wp-content/uploads/2026/02/Headliners-Ahwatukee.jpg
END:VEVENT
BEGIN:VEVENT
DTSTART;TZID=UTC:20280320T173000
DTEND;TZID=UTC:20280320T190000
DTSTAMP:20260424T061404
CREATED:20260206T145607Z
LAST-MODIFIED:20260206T145607Z
UID:10025477-1837186200-1837191600@www.maddhatterpro.com
SUMMARY:Headliners Sports Bar Trivia
DESCRIPTION:Arizona’s toughest comes to Ahwatukee! DJ Wonder in the house serving up those questions to make you think\, while Headliners serves up the wings! Starting at 5pm\, come out to play FAMILY FRIENDLY.
URL:https://www.maddhatterpro.com/event/headliners-sports-bar-trivia/2028-03-20/
LOCATION:Headliners\, 4142 E Chandler Blvd\, Phoenix\, AZ\, 85048\, United States
ATTACH;FMTTYPE=image/jpeg:https://www.maddhatterpro.com/wp-content/uploads/2026/02/Headliners-Ahwatukee.jpg
END:VEVENT
BEGIN:VEVENT
DTSTART;TZID=UTC:20280327T173000
DTEND;TZID=UTC:20280327T190000
DTSTAMP:20260424T061404
CREATED:20260206T145607Z
LAST-MODIFIED:20260206T145607Z
UID:10025478-1837791000-1837796400@www.maddhatterpro.com
SUMMARY:Headliners Sports Bar Trivia
DESCRIPTION:Arizona’s toughest comes to Ahwatukee! DJ Wonder in the house serving up those questions to make you think\, while Headliners serves up the wings! Starting at 5pm\, come out to play FAMILY FRIENDLY.
URL:https://www.maddhatterpro.com/event/headliners-sports-bar-trivia/2028-03-27/
LOCATION:Headliners\, 4142 E Chandler Blvd\, Phoenix\, AZ\, 85048\, United States
ATTACH;FMTTYPE=image/jpeg:https://www.maddhatterpro.com/wp-content/uploads/2026/02/Headliners-Ahwatukee.jpg
END:VEVENT
BEGIN:VEVENT
DTSTART;TZID=UTC:20280403T173000
DTEND;TZID=UTC:20280403T190000
DTSTAMP:20260424T061404
CREATED:20260206T145607Z
LAST-MODIFIED:20260206T145607Z
UID:10025479-1838395800-1838401200@www.maddhatterpro.com
SUMMARY:Headliners Sports Bar Trivia
DESCRIPTION:Arizona’s toughest comes to Ahwatukee! DJ Wonder in the house serving up those questions to make you think\, while Headliners serves up the wings! Starting at 5pm\, come out to play FAMILY FRIENDLY.
URL:https://www.maddhatterpro.com/event/headliners-sports-bar-trivia/2028-04-03/
LOCATION:Headliners\, 4142 E Chandler Blvd\, Phoenix\, AZ\, 85048\, United States
ATTACH;FMTTYPE=image/jpeg:https://www.maddhatterpro.com/wp-content/uploads/2026/02/Headliners-Ahwatukee.jpg
END:VEVENT
BEGIN:VEVENT
DTSTART;TZID=UTC:20280410T173000
DTEND;TZID=UTC:20280410T190000
DTSTAMP:20260424T061404
CREATED:20260206T145607Z
LAST-MODIFIED:20260206T145607Z
UID:10025480-1839000600-1839006000@www.maddhatterpro.com
SUMMARY:Headliners Sports Bar Trivia
DESCRIPTION:Arizona’s toughest comes to Ahwatukee! DJ Wonder in the house serving up those questions to make you think\, while Headliners serves up the wings! Starting at 5pm\, come out to play FAMILY FRIENDLY.
URL:https://www.maddhatterpro.com/event/headliners-sports-bar-trivia/2028-04-10/
LOCATION:Headliners\, 4142 E Chandler Blvd\, Phoenix\, AZ\, 85048\, United States
ATTACH;FMTTYPE=image/jpeg:https://www.maddhatterpro.com/wp-content/uploads/2026/02/Headliners-Ahwatukee.jpg
END:VEVENT
BEGIN:VEVENT
DTSTART;TZID=UTC:20280417T173000
DTEND;TZID=UTC:20280417T190000
DTSTAMP:20260424T061404
CREATED:20260206T145607Z
LAST-MODIFIED:20260206T145607Z
UID:10025481-1839605400-1839610800@www.maddhatterpro.com
SUMMARY:Headliners Sports Bar Trivia
DESCRIPTION:Arizona’s toughest comes to Ahwatukee! DJ Wonder in the house serving up those questions to make you think\, while Headliners serves up the wings! Starting at 5pm\, come out to play FAMILY FRIENDLY.
URL:https://www.maddhatterpro.com/event/headliners-sports-bar-trivia/2028-04-17/
LOCATION:Headliners\, 4142 E Chandler Blvd\, Phoenix\, AZ\, 85048\, United States
ATTACH;FMTTYPE=image/jpeg:https://www.maddhatterpro.com/wp-content/uploads/2026/02/Headliners-Ahwatukee.jpg
END:VEVENT
BEGIN:VEVENT
DTSTART;TZID=UTC:20280424T173000
DTEND;TZID=UTC:20280424T190000
DTSTAMP:20260424T061404
CREATED:20260206T145607Z
LAST-MODIFIED:20260206T145607Z
UID:10025482-1840210200-1840215600@www.maddhatterpro.com
SUMMARY:Headliners Sports Bar Trivia
DESCRIPTION:Arizona’s toughest comes to Ahwatukee! DJ Wonder in the house serving up those questions to make you think\, while Headliners serves up the wings! Starting at 5pm\, come out to play FAMILY FRIENDLY.
URL:https://www.maddhatterpro.com/event/headliners-sports-bar-trivia/2028-04-24/
LOCATION:Headliners\, 4142 E Chandler Blvd\, Phoenix\, AZ\, 85048\, United States
ATTACH;FMTTYPE=image/jpeg:https://www.maddhatterpro.com/wp-content/uploads/2026/02/Headliners-Ahwatukee.jpg
END:VEVENT
BEGIN:VEVENT
DTSTART;TZID=UTC:20280501T173000
DTEND;TZID=UTC:20280501T190000
DTSTAMP:20260424T061404
CREATED:20260206T145607Z
LAST-MODIFIED:20260206T145607Z
UID:10025483-1840815000-1840820400@www.maddhatterpro.com
SUMMARY:Headliners Sports Bar Trivia
DESCRIPTION:Arizona’s toughest comes to Ahwatukee! DJ Wonder in the house serving up those questions to make you think\, while Headliners serves up the wings! Starting at 5pm\, come out to play FAMILY FRIENDLY.
URL:https://www.maddhatterpro.com/event/headliners-sports-bar-trivia/2028-05-01/
LOCATION:Headliners\, 4142 E Chandler Blvd\, Phoenix\, AZ\, 85048\, United States
ATTACH;FMTTYPE=image/jpeg:https://www.maddhatterpro.com/wp-content/uploads/2026/02/Headliners-Ahwatukee.jpg
END:VEVENT
BEGIN:VEVENT
DTSTART;TZID=UTC:20280508T173000
DTEND;TZID=UTC:20280508T190000
DTSTAMP:20260424T061404
CREATED:20260206T145607Z
LAST-MODIFIED:20260206T145607Z
UID:10025484-1841419800-1841425200@www.maddhatterpro.com
SUMMARY:Headliners Sports Bar Trivia
DESCRIPTION:Arizona’s toughest comes to Ahwatukee! DJ Wonder in the house serving up those questions to make you think\, while Headliners serves up the wings! Starting at 5pm\, come out to play FAMILY FRIENDLY.
URL:https://www.maddhatterpro.com/event/headliners-sports-bar-trivia/2028-05-08/
LOCATION:Headliners\, 4142 E Chandler Blvd\, Phoenix\, AZ\, 85048\, United States
ATTACH;FMTTYPE=image/jpeg:https://www.maddhatterpro.com/wp-content/uploads/2026/02/Headliners-Ahwatukee.jpg
END:VEVENT
BEGIN:VEVENT
DTSTART;TZID=UTC:20280515T173000
DTEND;TZID=UTC:20280515T190000
DTSTAMP:20260424T061404
CREATED:20260206T145607Z
LAST-MODIFIED:20260206T145607Z
UID:10025485-1842024600-1842030000@www.maddhatterpro.com
SUMMARY:Headliners Sports Bar Trivia
DESCRIPTION:Arizona’s toughest comes to Ahwatukee! DJ Wonder in the house serving up those questions to make you think\, while Headliners serves up the wings! Starting at 5pm\, come out to play FAMILY FRIENDLY.
URL:https://www.maddhatterpro.com/event/headliners-sports-bar-trivia/2028-05-15/
LOCATION:Headliners\, 4142 E Chandler Blvd\, Phoenix\, AZ\, 85048\, United States
ATTACH;FMTTYPE=image/jpeg:https://www.maddhatterpro.com/wp-content/uploads/2026/02/Headliners-Ahwatukee.jpg
END:VEVENT
BEGIN:VEVENT
DTSTART;TZID=UTC:20280522T173000
DTEND;TZID=UTC:20280522T190000
DTSTAMP:20260424T061404
CREATED:20260206T145607Z
LAST-MODIFIED:20260206T145607Z
UID:10025486-1842629400-1842634800@www.maddhatterpro.com
SUMMARY:Headliners Sports Bar Trivia
DESCRIPTION:Arizona’s toughest comes to Ahwatukee! DJ Wonder in the house serving up those questions to make you think\, while Headliners serves up the wings! Starting at 5pm\, come out to play FAMILY FRIENDLY.
URL:https://www.maddhatterpro.com/event/headliners-sports-bar-trivia/2028-05-22/
LOCATION:Headliners\, 4142 E Chandler Blvd\, Phoenix\, AZ\, 85048\, United States
ATTACH;FMTTYPE=image/jpeg:https://www.maddhatterpro.com/wp-content/uploads/2026/02/Headliners-Ahwatukee.jpg
END:VEVENT
BEGIN:VEVENT
DTSTART;TZID=UTC:20280529T173000
DTEND;TZID=UTC:20280529T190000
DTSTAMP:20260424T061404
CREATED:20260206T145607Z
LAST-MODIFIED:20260206T145607Z
UID:10025487-1843234200-1843239600@www.maddhatterpro.com
SUMMARY:Headliners Sports Bar Trivia
DESCRIPTION:Arizona’s toughest comes to Ahwatukee! DJ Wonder in the house serving up those questions to make you think\, while Headliners serves up the wings! Starting at 5pm\, come out to play FAMILY FRIENDLY.
URL:https://www.maddhatterpro.com/event/headliners-sports-bar-trivia/2028-05-29/
LOCATION:Headliners\, 4142 E Chandler Blvd\, Phoenix\, AZ\, 85048\, United States
ATTACH;FMTTYPE=image/jpeg:https://www.maddhatterpro.com/wp-content/uploads/2026/02/Headliners-Ahwatukee.jpg
END:VEVENT
BEGIN:VEVENT
DTSTART;TZID=UTC:20280605T173000
DTEND;TZID=UTC:20280605T190000
DTSTAMP:20260424T061404
CREATED:20260206T145607Z
LAST-MODIFIED:20260206T145607Z
UID:10025488-1843839000-1843844400@www.maddhatterpro.com
SUMMARY:Headliners Sports Bar Trivia
DESCRIPTION:Arizona’s toughest comes to Ahwatukee! DJ Wonder in the house serving up those questions to make you think\, while Headliners serves up the wings! Starting at 5pm\, come out to play FAMILY FRIENDLY.
URL:https://www.maddhatterpro.com/event/headliners-sports-bar-trivia/2028-06-05/
LOCATION:Headliners\, 4142 E Chandler Blvd\, Phoenix\, AZ\, 85048\, United States
ATTACH;FMTTYPE=image/jpeg:https://www.maddhatterpro.com/wp-content/uploads/2026/02/Headliners-Ahwatukee.jpg
END:VEVENT
BEGIN:VEVENT
DTSTART;TZID=UTC:20280612T173000
DTEND;TZID=UTC:20280612T190000
DTSTAMP:20260424T061404
CREATED:20260206T145607Z
LAST-MODIFIED:20260206T145607Z
UID:10025489-1844443800-1844449200@www.maddhatterpro.com
SUMMARY:Headliners Sports Bar Trivia
DESCRIPTION:Arizona’s toughest comes to Ahwatukee! DJ Wonder in the house serving up those questions to make you think\, while Headliners serves up the wings! Starting at 5pm\, come out to play FAMILY FRIENDLY.
URL:https://www.maddhatterpro.com/event/headliners-sports-bar-trivia/2028-06-12/
LOCATION:Headliners\, 4142 E Chandler Blvd\, Phoenix\, AZ\, 85048\, United States
ATTACH;FMTTYPE=image/jpeg:https://www.maddhatterpro.com/wp-content/uploads/2026/02/Headliners-Ahwatukee.jpg
END:VEVENT
BEGIN:VEVENT
DTSTART;TZID=UTC:20280619T173000
DTEND;TZID=UTC:20280619T190000
DTSTAMP:20260424T061404
CREATED:20260206T145607Z
LAST-MODIFIED:20260206T145607Z
UID:10025490-1845048600-1845054000@www.maddhatterpro.com
SUMMARY:Headliners Sports Bar Trivia
DESCRIPTION:Arizona’s toughest comes to Ahwatukee! DJ Wonder in the house serving up those questions to make you think\, while Headliners serves up the wings! Starting at 5pm\, come out to play FAMILY FRIENDLY.
URL:https://www.maddhatterpro.com/event/headliners-sports-bar-trivia/2028-06-19/
LOCATION:Headliners\, 4142 E Chandler Blvd\, Phoenix\, AZ\, 85048\, United States
ATTACH;FMTTYPE=image/jpeg:https://www.maddhatterpro.com/wp-content/uploads/2026/02/Headliners-Ahwatukee.jpg
END:VEVENT
BEGIN:VEVENT
DTSTART;TZID=UTC:20280626T173000
DTEND;TZID=UTC:20280626T190000
DTSTAMP:20260424T061404
CREATED:20260206T145607Z
LAST-MODIFIED:20260206T145607Z
UID:10025491-1845653400-1845658800@www.maddhatterpro.com
SUMMARY:Headliners Sports Bar Trivia
DESCRIPTION:Arizona’s toughest comes to Ahwatukee! DJ Wonder in the house serving up those questions to make you think\, while Headliners serves up the wings! Starting at 5pm\, come out to play FAMILY FRIENDLY.
URL:https://www.maddhatterpro.com/event/headliners-sports-bar-trivia/2028-06-26/
LOCATION:Headliners\, 4142 E Chandler Blvd\, Phoenix\, AZ\, 85048\, United States
ATTACH;FMTTYPE=image/jpeg:https://www.maddhatterpro.com/wp-content/uploads/2026/02/Headliners-Ahwatukee.jpg
END:VEVENT
BEGIN:VEVENT
DTSTART;TZID=UTC:20280703T173000
DTEND;TZID=UTC:20280703T190000
DTSTAMP:20260424T061404
CREATED:20260206T145607Z
LAST-MODIFIED:20260206T145607Z
UID:10025492-1846258200-1846263600@www.maddhatterpro.com
SUMMARY:Headliners Sports Bar Trivia
DESCRIPTION:Arizona’s toughest comes to Ahwatukee! DJ Wonder in the house serving up those questions to make you think\, while Headliners serves up the wings! Starting at 5pm\, come out to play FAMILY FRIENDLY.
URL:https://www.maddhatterpro.com/event/headliners-sports-bar-trivia/2028-07-03/
LOCATION:Headliners\, 4142 E Chandler Blvd\, Phoenix\, AZ\, 85048\, United States
ATTACH;FMTTYPE=image/jpeg:https://www.maddhatterpro.com/wp-content/uploads/2026/02/Headliners-Ahwatukee.jpg
END:VEVENT
BEGIN:VEVENT
DTSTART;TZID=UTC:20280710T173000
DTEND;TZID=UTC:20280710T190000
DTSTAMP:20260424T061404
CREATED:20260206T145607Z
LAST-MODIFIED:20260206T145607Z
UID:10025493-1846863000-1846868400@www.maddhatterpro.com
SUMMARY:Headliners Sports Bar Trivia
DESCRIPTION:Arizona’s toughest comes to Ahwatukee! DJ Wonder in the house serving up those questions to make you think\, while Headliners serves up the wings! Starting at 5pm\, come out to play FAMILY FRIENDLY.
URL:https://www.maddhatterpro.com/event/headliners-sports-bar-trivia/2028-07-10/
LOCATION:Headliners\, 4142 E Chandler Blvd\, Phoenix\, AZ\, 85048\, United States
ATTACH;FMTTYPE=image/jpeg:https://www.maddhatterpro.com/wp-content/uploads/2026/02/Headliners-Ahwatukee.jpg
END:VEVENT
BEGIN:VEVENT
DTSTART;TZID=UTC:20280717T173000
DTEND;TZID=UTC:20280717T190000
DTSTAMP:20260424T061404
CREATED:20260206T145607Z
LAST-MODIFIED:20260206T145607Z
UID:10025494-1847467800-1847473200@www.maddhatterpro.com
SUMMARY:Headliners Sports Bar Trivia
DESCRIPTION:Arizona’s toughest comes to Ahwatukee! DJ Wonder in the house serving up those questions to make you think\, while Headliners serves up the wings! Starting at 5pm\, come out to play FAMILY FRIENDLY.
URL:https://www.maddhatterpro.com/event/headliners-sports-bar-trivia/2028-07-17/
LOCATION:Headliners\, 4142 E Chandler Blvd\, Phoenix\, AZ\, 85048\, United States
ATTACH;FMTTYPE=image/jpeg:https://www.maddhatterpro.com/wp-content/uploads/2026/02/Headliners-Ahwatukee.jpg
END:VEVENT
BEGIN:VEVENT
DTSTART;TZID=UTC:20280724T173000
DTEND;TZID=UTC:20280724T190000
DTSTAMP:20260424T061404
CREATED:20260206T145607Z
LAST-MODIFIED:20260206T145607Z
UID:10025495-1848072600-1848078000@www.maddhatterpro.com
SUMMARY:Headliners Sports Bar Trivia
DESCRIPTION:Arizona’s toughest comes to Ahwatukee! DJ Wonder in the house serving up those questions to make you think\, while Headliners serves up the wings! Starting at 5pm\, come out to play FAMILY FRIENDLY.
URL:https://www.maddhatterpro.com/event/headliners-sports-bar-trivia/2028-07-24/
LOCATION:Headliners\, 4142 E Chandler Blvd\, Phoenix\, AZ\, 85048\, United States
ATTACH;FMTTYPE=image/jpeg:https://www.maddhatterpro.com/wp-content/uploads/2026/02/Headliners-Ahwatukee.jpg
END:VEVENT
BEGIN:VEVENT
DTSTART;TZID=UTC:20280731T173000
DTEND;TZID=UTC:20280731T190000
DTSTAMP:20260424T061404
CREATED:20260206T145607Z
LAST-MODIFIED:20260206T145607Z
UID:10025496-1848677400-1848682800@www.maddhatterpro.com
SUMMARY:Headliners Sports Bar Trivia
DESCRIPTION:Arizona’s toughest comes to Ahwatukee! DJ Wonder in the house serving up those questions to make you think\, while Headliners serves up the wings! Starting at 5pm\, come out to play FAMILY FRIENDLY.
URL:https://www.maddhatterpro.com/event/headliners-sports-bar-trivia/2028-07-31/
LOCATION:Headliners\, 4142 E Chandler Blvd\, Phoenix\, AZ\, 85048\, United States
ATTACH;FMTTYPE=image/jpeg:https://www.maddhatterpro.com/wp-content/uploads/2026/02/Headliners-Ahwatukee.jpg
END:VEVENT
BEGIN:VEVENT
DTSTART;TZID=UTC:20280807T173000
DTEND;TZID=UTC:20280807T190000
DTSTAMP:20260424T061404
CREATED:20260206T145607Z
LAST-MODIFIED:20260206T145607Z
UID:10025497-1849282200-1849287600@www.maddhatterpro.com
SUMMARY:Headliners Sports Bar Trivia
DESCRIPTION:Arizona’s toughest comes to Ahwatukee! DJ Wonder in the house serving up those questions to make you think\, while Headliners serves up the wings! Starting at 5pm\, come out to play FAMILY FRIENDLY.
URL:https://www.maddhatterpro.com/event/headliners-sports-bar-trivia/2028-08-07/
LOCATION:Headliners\, 4142 E Chandler Blvd\, Phoenix\, AZ\, 85048\, United States
ATTACH;FMTTYPE=image/jpeg:https://www.maddhatterpro.com/wp-content/uploads/2026/02/Headliners-Ahwatukee.jpg
END:VEVENT
BEGIN:VEVENT
DTSTART;TZID=UTC:20280814T173000
DTEND;TZID=UTC:20280814T190000
DTSTAMP:20260424T061404
CREATED:20260206T145607Z
LAST-MODIFIED:20260206T145607Z
UID:10025498-1849887000-1849892400@www.maddhatterpro.com
SUMMARY:Headliners Sports Bar Trivia
DESCRIPTION:Arizona’s toughest comes to Ahwatukee! DJ Wonder in the house serving up those questions to make you think\, while Headliners serves up the wings! Starting at 5pm\, come out to play FAMILY FRIENDLY.
URL:https://www.maddhatterpro.com/event/headliners-sports-bar-trivia/2028-08-14/
LOCATION:Headliners\, 4142 E Chandler Blvd\, Phoenix\, AZ\, 85048\, United States
ATTACH;FMTTYPE=image/jpeg:https://www.maddhatterpro.com/wp-content/uploads/2026/02/Headliners-Ahwatukee.jpg
END:VEVENT
BEGIN:VEVENT
DTSTART;TZID=UTC:20280821T173000
DTEND;TZID=UTC:20280821T190000
DTSTAMP:20260424T061404
CREATED:20260206T145607Z
LAST-MODIFIED:20260206T145607Z
UID:10025499-1850491800-1850497200@www.maddhatterpro.com
SUMMARY:Headliners Sports Bar Trivia
DESCRIPTION:Arizona’s toughest comes to Ahwatukee! DJ Wonder in the house serving up those questions to make you think\, while Headliners serves up the wings! Starting at 5pm\, come out to play FAMILY FRIENDLY.
URL:https://www.maddhatterpro.com/event/headliners-sports-bar-trivia/2028-08-21/
LOCATION:Headliners\, 4142 E Chandler Blvd\, Phoenix\, AZ\, 85048\, United States
ATTACH;FMTTYPE=image/jpeg:https://www.maddhatterpro.com/wp-content/uploads/2026/02/Headliners-Ahwatukee.jpg
END:VEVENT
BEGIN:VEVENT
DTSTART;TZID=UTC:20280828T173000
DTEND;TZID=UTC:20280828T190000
DTSTAMP:20260424T061404
CREATED:20260206T145607Z
LAST-MODIFIED:20260206T145607Z
UID:10025500-1851096600-1851102000@www.maddhatterpro.com
SUMMARY:Headliners Sports Bar Trivia
DESCRIPTION:Arizona’s toughest comes to Ahwatukee! DJ Wonder in the house serving up those questions to make you think\, while Headliners serves up the wings! Starting at 5pm\, come out to play FAMILY FRIENDLY.
URL:https://www.maddhatterpro.com/event/headliners-sports-bar-trivia/2028-08-28/
LOCATION:Headliners\, 4142 E Chandler Blvd\, Phoenix\, AZ\, 85048\, United States
ATTACH;FMTTYPE=image/jpeg:https://www.maddhatterpro.com/wp-content/uploads/2026/02/Headliners-Ahwatukee.jpg
END:VEVENT
BEGIN:VEVENT
DTSTART;TZID=UTC:20280904T173000
DTEND;TZID=UTC:20280904T190000
DTSTAMP:20260424T061404
CREATED:20260206T145607Z
LAST-MODIFIED:20260206T145607Z
UID:10025501-1851701400-1851706800@www.maddhatterpro.com
SUMMARY:Headliners Sports Bar Trivia
DESCRIPTION:Arizona’s toughest comes to Ahwatukee! DJ Wonder in the house serving up those questions to make you think\, while Headliners serves up the wings! Starting at 5pm\, come out to play FAMILY FRIENDLY.
URL:https://www.maddhatterpro.com/event/headliners-sports-bar-trivia/2028-09-04/
LOCATION:Headliners\, 4142 E Chandler Blvd\, Phoenix\, AZ\, 85048\, United States
ATTACH;FMTTYPE=image/jpeg:https://www.maddhatterpro.com/wp-content/uploads/2026/02/Headliners-Ahwatukee.jpg
END:VEVENT
BEGIN:VEVENT
DTSTART;TZID=UTC:20280911T173000
DTEND;TZID=UTC:20280911T190000
DTSTAMP:20260424T061404
CREATED:20260206T145607Z
LAST-MODIFIED:20260206T145607Z
UID:10025502-1852306200-1852311600@www.maddhatterpro.com
SUMMARY:Headliners Sports Bar Trivia
DESCRIPTION:Arizona’s toughest comes to Ahwatukee! DJ Wonder in the house serving up those questions to make you think\, while Headliners serves up the wings! Starting at 5pm\, come out to play FAMILY FRIENDLY.
URL:https://www.maddhatterpro.com/event/headliners-sports-bar-trivia/2028-09-11/
LOCATION:Headliners\, 4142 E Chandler Blvd\, Phoenix\, AZ\, 85048\, United States
ATTACH;FMTTYPE=image/jpeg:https://www.maddhatterpro.com/wp-content/uploads/2026/02/Headliners-Ahwatukee.jpg
END:VEVENT
BEGIN:VEVENT
DTSTART;TZID=UTC:20280918T173000
DTEND;TZID=UTC:20280918T190000
DTSTAMP:20260424T061404
CREATED:20260206T145607Z
LAST-MODIFIED:20260206T145607Z
UID:10025503-1852911000-1852916400@www.maddhatterpro.com
SUMMARY:Headliners Sports Bar Trivia
DESCRIPTION:Arizona’s toughest comes to Ahwatukee! DJ Wonder in the house serving up those questions to make you think\, while Headliners serves up the wings! Starting at 5pm\, come out to play FAMILY FRIENDLY.
URL:https://www.maddhatterpro.com/event/headliners-sports-bar-trivia/2028-09-18/
LOCATION:Headliners\, 4142 E Chandler Blvd\, Phoenix\, AZ\, 85048\, United States
ATTACH;FMTTYPE=image/jpeg:https://www.maddhatterpro.com/wp-content/uploads/2026/02/Headliners-Ahwatukee.jpg
END:VEVENT
END:VCALENDAR