BEGIN:VCALENDAR
VERSION:2.0
PRODID:-//MaddHatterPro.com - ECPv6.15.20//NONSGML v1.0//EN
CALSCALE:GREGORIAN
METHOD:PUBLISH
X-WR-CALNAME:MaddHatterPro.com
X-ORIGINAL-URL:https://www.maddhatterpro.com
X-WR-CALDESC:Events for MaddHatterPro.com
REFRESH-INTERVAL;VALUE=DURATION:PT1H
X-Robots-Tag:noindex
X-PUBLISHED-TTL:PT1H
BEGIN:VTIMEZONE
TZID:UTC
BEGIN:STANDARD
TZOFFSETFROM:+0000
TZOFFSETTO:+0000
TZNAME:UTC
DTSTART:20270101T000000
END:STANDARD
END:VTIMEZONE
BEGIN:VEVENT
DTSTART;TZID=UTC:20280226T210000
DTEND;TZID=UTC:20280226T210000
DTSTAMP:20260424T051600
CREATED:20250704T004113Z
LAST-MODIFIED:20260206T144717Z
UID:10023427-1835211600-1835211600@www.maddhatterpro.com
SUMMARY:Third Base Karaoke
DESCRIPTION:Super chill and ready to hear you sing! KJ Amygdala in the house slinging those tunes\, and your bar tenders\, slinging those drinks. Lets have a blast! \n4910 W Ray Rd #3\, Chandler\, AZ\, United States\, Arizona \n\n\n\n(480) 687-1556
URL:https://www.maddhatterpro.com/event/third-base-karaoke/2028-02-26/
LOCATION:Third Base\, 4910 W Ray Rd #3\, Chandler\, AZ\, 85226\, United States
CATEGORIES:Karaoke,KJ Amygdala
ATTACH;FMTTYPE=image/jpeg:https://www.maddhatterpro.com/wp-content/uploads/2026/02/Third-Base-Chandler.jpg
END:VEVENT
BEGIN:VEVENT
DTSTART;TZID=UTC:20280304T210000
DTEND;TZID=UTC:20280304T210000
DTSTAMP:20260424T051600
CREATED:20250704T004113Z
LAST-MODIFIED:20260206T144717Z
UID:10023428-1835816400-1835816400@www.maddhatterpro.com
SUMMARY:Third Base Karaoke
DESCRIPTION:Super chill and ready to hear you sing! KJ Amygdala in the house slinging those tunes\, and your bar tenders\, slinging those drinks. Lets have a blast! \n4910 W Ray Rd #3\, Chandler\, AZ\, United States\, Arizona \n\n\n\n(480) 687-1556
URL:https://www.maddhatterpro.com/event/third-base-karaoke/2028-03-04/
LOCATION:Third Base\, 4910 W Ray Rd #3\, Chandler\, AZ\, 85226\, United States
CATEGORIES:Karaoke,KJ Amygdala
ATTACH;FMTTYPE=image/jpeg:https://www.maddhatterpro.com/wp-content/uploads/2026/02/Third-Base-Chandler.jpg
END:VEVENT
BEGIN:VEVENT
DTSTART;TZID=UTC:20280311T210000
DTEND;TZID=UTC:20280311T210000
DTSTAMP:20260424T051600
CREATED:20250704T004113Z
LAST-MODIFIED:20260206T144717Z
UID:10023429-1836421200-1836421200@www.maddhatterpro.com
SUMMARY:Third Base Karaoke
DESCRIPTION:Super chill and ready to hear you sing! KJ Amygdala in the house slinging those tunes\, and your bar tenders\, slinging those drinks. Lets have a blast! \n4910 W Ray Rd #3\, Chandler\, AZ\, United States\, Arizona \n\n\n\n(480) 687-1556
URL:https://www.maddhatterpro.com/event/third-base-karaoke/2028-03-11/
LOCATION:Third Base\, 4910 W Ray Rd #3\, Chandler\, AZ\, 85226\, United States
CATEGORIES:Karaoke,KJ Amygdala
ATTACH;FMTTYPE=image/jpeg:https://www.maddhatterpro.com/wp-content/uploads/2026/02/Third-Base-Chandler.jpg
END:VEVENT
BEGIN:VEVENT
DTSTART;TZID=UTC:20280318T210000
DTEND;TZID=UTC:20280318T210000
DTSTAMP:20260424T051600
CREATED:20250704T004113Z
LAST-MODIFIED:20260206T144717Z
UID:10023430-1837026000-1837026000@www.maddhatterpro.com
SUMMARY:Third Base Karaoke
DESCRIPTION:Super chill and ready to hear you sing! KJ Amygdala in the house slinging those tunes\, and your bar tenders\, slinging those drinks. Lets have a blast! \n4910 W Ray Rd #3\, Chandler\, AZ\, United States\, Arizona \n\n\n\n(480) 687-1556
URL:https://www.maddhatterpro.com/event/third-base-karaoke/2028-03-18/
LOCATION:Third Base\, 4910 W Ray Rd #3\, Chandler\, AZ\, 85226\, United States
CATEGORIES:Karaoke,KJ Amygdala
ATTACH;FMTTYPE=image/jpeg:https://www.maddhatterpro.com/wp-content/uploads/2026/02/Third-Base-Chandler.jpg
END:VEVENT
BEGIN:VEVENT
DTSTART;TZID=UTC:20280325T210000
DTEND;TZID=UTC:20280325T210000
DTSTAMP:20260424T051600
CREATED:20250704T004113Z
LAST-MODIFIED:20260206T144717Z
UID:10023431-1837630800-1837630800@www.maddhatterpro.com
SUMMARY:Third Base Karaoke
DESCRIPTION:Super chill and ready to hear you sing! KJ Amygdala in the house slinging those tunes\, and your bar tenders\, slinging those drinks. Lets have a blast! \n4910 W Ray Rd #3\, Chandler\, AZ\, United States\, Arizona \n\n\n\n(480) 687-1556
URL:https://www.maddhatterpro.com/event/third-base-karaoke/2028-03-25/
LOCATION:Third Base\, 4910 W Ray Rd #3\, Chandler\, AZ\, 85226\, United States
CATEGORIES:Karaoke,KJ Amygdala
ATTACH;FMTTYPE=image/jpeg:https://www.maddhatterpro.com/wp-content/uploads/2026/02/Third-Base-Chandler.jpg
END:VEVENT
BEGIN:VEVENT
DTSTART;TZID=UTC:20280401T210000
DTEND;TZID=UTC:20280401T210000
DTSTAMP:20260424T051600
CREATED:20250704T004113Z
LAST-MODIFIED:20260206T144717Z
UID:10023432-1838235600-1838235600@www.maddhatterpro.com
SUMMARY:Third Base Karaoke
DESCRIPTION:Super chill and ready to hear you sing! KJ Amygdala in the house slinging those tunes\, and your bar tenders\, slinging those drinks. Lets have a blast! \n4910 W Ray Rd #3\, Chandler\, AZ\, United States\, Arizona \n\n\n\n(480) 687-1556
URL:https://www.maddhatterpro.com/event/third-base-karaoke/2028-04-01/
LOCATION:Third Base\, 4910 W Ray Rd #3\, Chandler\, AZ\, 85226\, United States
CATEGORIES:Karaoke,KJ Amygdala
ATTACH;FMTTYPE=image/jpeg:https://www.maddhatterpro.com/wp-content/uploads/2026/02/Third-Base-Chandler.jpg
END:VEVENT
BEGIN:VEVENT
DTSTART;TZID=UTC:20280408T210000
DTEND;TZID=UTC:20280408T210000
DTSTAMP:20260424T051600
CREATED:20250704T004113Z
LAST-MODIFIED:20260206T144717Z
UID:10023433-1838840400-1838840400@www.maddhatterpro.com
SUMMARY:Third Base Karaoke
DESCRIPTION:Super chill and ready to hear you sing! KJ Amygdala in the house slinging those tunes\, and your bar tenders\, slinging those drinks. Lets have a blast! \n4910 W Ray Rd #3\, Chandler\, AZ\, United States\, Arizona \n\n\n\n(480) 687-1556
URL:https://www.maddhatterpro.com/event/third-base-karaoke/2028-04-08/
LOCATION:Third Base\, 4910 W Ray Rd #3\, Chandler\, AZ\, 85226\, United States
CATEGORIES:Karaoke,KJ Amygdala
ATTACH;FMTTYPE=image/jpeg:https://www.maddhatterpro.com/wp-content/uploads/2026/02/Third-Base-Chandler.jpg
END:VEVENT
BEGIN:VEVENT
DTSTART;TZID=UTC:20280415T210000
DTEND;TZID=UTC:20280415T210000
DTSTAMP:20260424T051600
CREATED:20250704T004113Z
LAST-MODIFIED:20260206T144717Z
UID:10023434-1839445200-1839445200@www.maddhatterpro.com
SUMMARY:Third Base Karaoke
DESCRIPTION:Super chill and ready to hear you sing! KJ Amygdala in the house slinging those tunes\, and your bar tenders\, slinging those drinks. Lets have a blast! \n4910 W Ray Rd #3\, Chandler\, AZ\, United States\, Arizona \n\n\n\n(480) 687-1556
URL:https://www.maddhatterpro.com/event/third-base-karaoke/2028-04-15/
LOCATION:Third Base\, 4910 W Ray Rd #3\, Chandler\, AZ\, 85226\, United States
CATEGORIES:Karaoke,KJ Amygdala
ATTACH;FMTTYPE=image/jpeg:https://www.maddhatterpro.com/wp-content/uploads/2026/02/Third-Base-Chandler.jpg
END:VEVENT
BEGIN:VEVENT
DTSTART;TZID=UTC:20280422T210000
DTEND;TZID=UTC:20280422T210000
DTSTAMP:20260424T051600
CREATED:20250704T004113Z
LAST-MODIFIED:20260206T144717Z
UID:10023435-1840050000-1840050000@www.maddhatterpro.com
SUMMARY:Third Base Karaoke
DESCRIPTION:Super chill and ready to hear you sing! KJ Amygdala in the house slinging those tunes\, and your bar tenders\, slinging those drinks. Lets have a blast! \n4910 W Ray Rd #3\, Chandler\, AZ\, United States\, Arizona \n\n\n\n(480) 687-1556
URL:https://www.maddhatterpro.com/event/third-base-karaoke/2028-04-22/
LOCATION:Third Base\, 4910 W Ray Rd #3\, Chandler\, AZ\, 85226\, United States
CATEGORIES:Karaoke,KJ Amygdala
ATTACH;FMTTYPE=image/jpeg:https://www.maddhatterpro.com/wp-content/uploads/2026/02/Third-Base-Chandler.jpg
END:VEVENT
BEGIN:VEVENT
DTSTART;TZID=UTC:20280429T210000
DTEND;TZID=UTC:20280429T210000
DTSTAMP:20260424T051600
CREATED:20250704T004113Z
LAST-MODIFIED:20260206T144717Z
UID:10023436-1840654800-1840654800@www.maddhatterpro.com
SUMMARY:Third Base Karaoke
DESCRIPTION:Super chill and ready to hear you sing! KJ Amygdala in the house slinging those tunes\, and your bar tenders\, slinging those drinks. Lets have a blast! \n4910 W Ray Rd #3\, Chandler\, AZ\, United States\, Arizona \n\n\n\n(480) 687-1556
URL:https://www.maddhatterpro.com/event/third-base-karaoke/2028-04-29/
LOCATION:Third Base\, 4910 W Ray Rd #3\, Chandler\, AZ\, 85226\, United States
CATEGORIES:Karaoke,KJ Amygdala
ATTACH;FMTTYPE=image/jpeg:https://www.maddhatterpro.com/wp-content/uploads/2026/02/Third-Base-Chandler.jpg
END:VEVENT
BEGIN:VEVENT
DTSTART;TZID=UTC:20280506T210000
DTEND;TZID=UTC:20280506T210000
DTSTAMP:20260424T051600
CREATED:20250704T004113Z
LAST-MODIFIED:20260206T144717Z
UID:10023437-1841259600-1841259600@www.maddhatterpro.com
SUMMARY:Third Base Karaoke
DESCRIPTION:Super chill and ready to hear you sing! KJ Amygdala in the house slinging those tunes\, and your bar tenders\, slinging those drinks. Lets have a blast! \n4910 W Ray Rd #3\, Chandler\, AZ\, United States\, Arizona \n\n\n\n(480) 687-1556
URL:https://www.maddhatterpro.com/event/third-base-karaoke/2028-05-06/
LOCATION:Third Base\, 4910 W Ray Rd #3\, Chandler\, AZ\, 85226\, United States
CATEGORIES:Karaoke,KJ Amygdala
ATTACH;FMTTYPE=image/jpeg:https://www.maddhatterpro.com/wp-content/uploads/2026/02/Third-Base-Chandler.jpg
END:VEVENT
BEGIN:VEVENT
DTSTART;TZID=UTC:20280513T210000
DTEND;TZID=UTC:20280513T210000
DTSTAMP:20260424T051600
CREATED:20250704T004113Z
LAST-MODIFIED:20260206T144717Z
UID:10023438-1841864400-1841864400@www.maddhatterpro.com
SUMMARY:Third Base Karaoke
DESCRIPTION:Super chill and ready to hear you sing! KJ Amygdala in the house slinging those tunes\, and your bar tenders\, slinging those drinks. Lets have a blast! \n4910 W Ray Rd #3\, Chandler\, AZ\, United States\, Arizona \n\n\n\n(480) 687-1556
URL:https://www.maddhatterpro.com/event/third-base-karaoke/2028-05-13/
LOCATION:Third Base\, 4910 W Ray Rd #3\, Chandler\, AZ\, 85226\, United States
CATEGORIES:Karaoke,KJ Amygdala
ATTACH;FMTTYPE=image/jpeg:https://www.maddhatterpro.com/wp-content/uploads/2026/02/Third-Base-Chandler.jpg
END:VEVENT
BEGIN:VEVENT
DTSTART;TZID=UTC:20280520T210000
DTEND;TZID=UTC:20280520T210000
DTSTAMP:20260424T051600
CREATED:20250704T004113Z
LAST-MODIFIED:20260206T144717Z
UID:10023439-1842469200-1842469200@www.maddhatterpro.com
SUMMARY:Third Base Karaoke
DESCRIPTION:Super chill and ready to hear you sing! KJ Amygdala in the house slinging those tunes\, and your bar tenders\, slinging those drinks. Lets have a blast! \n4910 W Ray Rd #3\, Chandler\, AZ\, United States\, Arizona \n\n\n\n(480) 687-1556
URL:https://www.maddhatterpro.com/event/third-base-karaoke/2028-05-20/
LOCATION:Third Base\, 4910 W Ray Rd #3\, Chandler\, AZ\, 85226\, United States
CATEGORIES:Karaoke,KJ Amygdala
ATTACH;FMTTYPE=image/jpeg:https://www.maddhatterpro.com/wp-content/uploads/2026/02/Third-Base-Chandler.jpg
END:VEVENT
BEGIN:VEVENT
DTSTART;TZID=UTC:20280527T210000
DTEND;TZID=UTC:20280527T210000
DTSTAMP:20260424T051600
CREATED:20250704T004113Z
LAST-MODIFIED:20260206T144717Z
UID:10023440-1843074000-1843074000@www.maddhatterpro.com
SUMMARY:Third Base Karaoke
DESCRIPTION:Super chill and ready to hear you sing! KJ Amygdala in the house slinging those tunes\, and your bar tenders\, slinging those drinks. Lets have a blast! \n4910 W Ray Rd #3\, Chandler\, AZ\, United States\, Arizona \n\n\n\n(480) 687-1556
URL:https://www.maddhatterpro.com/event/third-base-karaoke/2028-05-27/
LOCATION:Third Base\, 4910 W Ray Rd #3\, Chandler\, AZ\, 85226\, United States
CATEGORIES:Karaoke,KJ Amygdala
ATTACH;FMTTYPE=image/jpeg:https://www.maddhatterpro.com/wp-content/uploads/2026/02/Third-Base-Chandler.jpg
END:VEVENT
BEGIN:VEVENT
DTSTART;TZID=UTC:20280603T210000
DTEND;TZID=UTC:20280603T210000
DTSTAMP:20260424T051600
CREATED:20250704T004113Z
LAST-MODIFIED:20260206T144717Z
UID:10023441-1843678800-1843678800@www.maddhatterpro.com
SUMMARY:Third Base Karaoke
DESCRIPTION:Super chill and ready to hear you sing! KJ Amygdala in the house slinging those tunes\, and your bar tenders\, slinging those drinks. Lets have a blast! \n4910 W Ray Rd #3\, Chandler\, AZ\, United States\, Arizona \n\n\n\n(480) 687-1556
URL:https://www.maddhatterpro.com/event/third-base-karaoke/2028-06-03/
LOCATION:Third Base\, 4910 W Ray Rd #3\, Chandler\, AZ\, 85226\, United States
CATEGORIES:Karaoke,KJ Amygdala
ATTACH;FMTTYPE=image/jpeg:https://www.maddhatterpro.com/wp-content/uploads/2026/02/Third-Base-Chandler.jpg
END:VEVENT
BEGIN:VEVENT
DTSTART;TZID=UTC:20280610T210000
DTEND;TZID=UTC:20280610T210000
DTSTAMP:20260424T051600
CREATED:20250704T004113Z
LAST-MODIFIED:20260206T144717Z
UID:10023442-1844283600-1844283600@www.maddhatterpro.com
SUMMARY:Third Base Karaoke
DESCRIPTION:Super chill and ready to hear you sing! KJ Amygdala in the house slinging those tunes\, and your bar tenders\, slinging those drinks. Lets have a blast! \n4910 W Ray Rd #3\, Chandler\, AZ\, United States\, Arizona \n\n\n\n(480) 687-1556
URL:https://www.maddhatterpro.com/event/third-base-karaoke/2028-06-10/
LOCATION:Third Base\, 4910 W Ray Rd #3\, Chandler\, AZ\, 85226\, United States
CATEGORIES:Karaoke,KJ Amygdala
ATTACH;FMTTYPE=image/jpeg:https://www.maddhatterpro.com/wp-content/uploads/2026/02/Third-Base-Chandler.jpg
END:VEVENT
BEGIN:VEVENT
DTSTART;TZID=UTC:20280617T210000
DTEND;TZID=UTC:20280617T210000
DTSTAMP:20260424T051600
CREATED:20250704T004113Z
LAST-MODIFIED:20260206T144717Z
UID:10023443-1844888400-1844888400@www.maddhatterpro.com
SUMMARY:Third Base Karaoke
DESCRIPTION:Super chill and ready to hear you sing! KJ Amygdala in the house slinging those tunes\, and your bar tenders\, slinging those drinks. Lets have a blast! \n4910 W Ray Rd #3\, Chandler\, AZ\, United States\, Arizona \n\n\n\n(480) 687-1556
URL:https://www.maddhatterpro.com/event/third-base-karaoke/2028-06-17/
LOCATION:Third Base\, 4910 W Ray Rd #3\, Chandler\, AZ\, 85226\, United States
CATEGORIES:Karaoke,KJ Amygdala
ATTACH;FMTTYPE=image/jpeg:https://www.maddhatterpro.com/wp-content/uploads/2026/02/Third-Base-Chandler.jpg
END:VEVENT
BEGIN:VEVENT
DTSTART;TZID=UTC:20280624T210000
DTEND;TZID=UTC:20280624T210000
DTSTAMP:20260424T051600
CREATED:20250704T004113Z
LAST-MODIFIED:20260206T144717Z
UID:10023444-1845493200-1845493200@www.maddhatterpro.com
SUMMARY:Third Base Karaoke
DESCRIPTION:Super chill and ready to hear you sing! KJ Amygdala in the house slinging those tunes\, and your bar tenders\, slinging those drinks. Lets have a blast! \n4910 W Ray Rd #3\, Chandler\, AZ\, United States\, Arizona \n\n\n\n(480) 687-1556
URL:https://www.maddhatterpro.com/event/third-base-karaoke/2028-06-24/
LOCATION:Third Base\, 4910 W Ray Rd #3\, Chandler\, AZ\, 85226\, United States
CATEGORIES:Karaoke,KJ Amygdala
ATTACH;FMTTYPE=image/jpeg:https://www.maddhatterpro.com/wp-content/uploads/2026/02/Third-Base-Chandler.jpg
END:VEVENT
BEGIN:VEVENT
DTSTART;TZID=UTC:20280701T210000
DTEND;TZID=UTC:20280701T210000
DTSTAMP:20260424T051600
CREATED:20250704T004113Z
LAST-MODIFIED:20260206T144717Z
UID:10023445-1846098000-1846098000@www.maddhatterpro.com
SUMMARY:Third Base Karaoke
DESCRIPTION:Super chill and ready to hear you sing! KJ Amygdala in the house slinging those tunes\, and your bar tenders\, slinging those drinks. Lets have a blast! \n4910 W Ray Rd #3\, Chandler\, AZ\, United States\, Arizona \n\n\n\n(480) 687-1556
URL:https://www.maddhatterpro.com/event/third-base-karaoke/2028-07-01/
LOCATION:Third Base\, 4910 W Ray Rd #3\, Chandler\, AZ\, 85226\, United States
CATEGORIES:Karaoke,KJ Amygdala
ATTACH;FMTTYPE=image/jpeg:https://www.maddhatterpro.com/wp-content/uploads/2026/02/Third-Base-Chandler.jpg
END:VEVENT
BEGIN:VEVENT
DTSTART;TZID=UTC:20280708T210000
DTEND;TZID=UTC:20280708T210000
DTSTAMP:20260424T051600
CREATED:20250704T004113Z
LAST-MODIFIED:20260206T144717Z
UID:10023446-1846702800-1846702800@www.maddhatterpro.com
SUMMARY:Third Base Karaoke
DESCRIPTION:Super chill and ready to hear you sing! KJ Amygdala in the house slinging those tunes\, and your bar tenders\, slinging those drinks. Lets have a blast! \n4910 W Ray Rd #3\, Chandler\, AZ\, United States\, Arizona \n\n\n\n(480) 687-1556
URL:https://www.maddhatterpro.com/event/third-base-karaoke/2028-07-08/
LOCATION:Third Base\, 4910 W Ray Rd #3\, Chandler\, AZ\, 85226\, United States
CATEGORIES:Karaoke,KJ Amygdala
ATTACH;FMTTYPE=image/jpeg:https://www.maddhatterpro.com/wp-content/uploads/2026/02/Third-Base-Chandler.jpg
END:VEVENT
BEGIN:VEVENT
DTSTART;TZID=UTC:20280715T210000
DTEND;TZID=UTC:20280715T210000
DTSTAMP:20260424T051600
CREATED:20250704T004113Z
LAST-MODIFIED:20260206T144717Z
UID:10023447-1847307600-1847307600@www.maddhatterpro.com
SUMMARY:Third Base Karaoke
DESCRIPTION:Super chill and ready to hear you sing! KJ Amygdala in the house slinging those tunes\, and your bar tenders\, slinging those drinks. Lets have a blast! \n4910 W Ray Rd #3\, Chandler\, AZ\, United States\, Arizona \n\n\n\n(480) 687-1556
URL:https://www.maddhatterpro.com/event/third-base-karaoke/2028-07-15/
LOCATION:Third Base\, 4910 W Ray Rd #3\, Chandler\, AZ\, 85226\, United States
CATEGORIES:Karaoke,KJ Amygdala
ATTACH;FMTTYPE=image/jpeg:https://www.maddhatterpro.com/wp-content/uploads/2026/02/Third-Base-Chandler.jpg
END:VEVENT
BEGIN:VEVENT
DTSTART;TZID=UTC:20280722T210000
DTEND;TZID=UTC:20280722T210000
DTSTAMP:20260424T051600
CREATED:20250704T004113Z
LAST-MODIFIED:20260206T144717Z
UID:10023448-1847912400-1847912400@www.maddhatterpro.com
SUMMARY:Third Base Karaoke
DESCRIPTION:Super chill and ready to hear you sing! KJ Amygdala in the house slinging those tunes\, and your bar tenders\, slinging those drinks. Lets have a blast! \n4910 W Ray Rd #3\, Chandler\, AZ\, United States\, Arizona \n\n\n\n(480) 687-1556
URL:https://www.maddhatterpro.com/event/third-base-karaoke/2028-07-22/
LOCATION:Third Base\, 4910 W Ray Rd #3\, Chandler\, AZ\, 85226\, United States
CATEGORIES:Karaoke,KJ Amygdala
ATTACH;FMTTYPE=image/jpeg:https://www.maddhatterpro.com/wp-content/uploads/2026/02/Third-Base-Chandler.jpg
END:VEVENT
BEGIN:VEVENT
DTSTART;TZID=UTC:20280729T210000
DTEND;TZID=UTC:20280729T210000
DTSTAMP:20260424T051600
CREATED:20250704T004113Z
LAST-MODIFIED:20260206T144717Z
UID:10023449-1848517200-1848517200@www.maddhatterpro.com
SUMMARY:Third Base Karaoke
DESCRIPTION:Super chill and ready to hear you sing! KJ Amygdala in the house slinging those tunes\, and your bar tenders\, slinging those drinks. Lets have a blast! \n4910 W Ray Rd #3\, Chandler\, AZ\, United States\, Arizona \n\n\n\n(480) 687-1556
URL:https://www.maddhatterpro.com/event/third-base-karaoke/2028-07-29/
LOCATION:Third Base\, 4910 W Ray Rd #3\, Chandler\, AZ\, 85226\, United States
CATEGORIES:Karaoke,KJ Amygdala
ATTACH;FMTTYPE=image/jpeg:https://www.maddhatterpro.com/wp-content/uploads/2026/02/Third-Base-Chandler.jpg
END:VEVENT
BEGIN:VEVENT
DTSTART;TZID=UTC:20280805T210000
DTEND;TZID=UTC:20280805T210000
DTSTAMP:20260424T051600
CREATED:20250704T004113Z
LAST-MODIFIED:20260206T144717Z
UID:10023450-1849122000-1849122000@www.maddhatterpro.com
SUMMARY:Third Base Karaoke
DESCRIPTION:Super chill and ready to hear you sing! KJ Amygdala in the house slinging those tunes\, and your bar tenders\, slinging those drinks. Lets have a blast! \n4910 W Ray Rd #3\, Chandler\, AZ\, United States\, Arizona \n\n\n\n(480) 687-1556
URL:https://www.maddhatterpro.com/event/third-base-karaoke/2028-08-05/
LOCATION:Third Base\, 4910 W Ray Rd #3\, Chandler\, AZ\, 85226\, United States
CATEGORIES:Karaoke,KJ Amygdala
ATTACH;FMTTYPE=image/jpeg:https://www.maddhatterpro.com/wp-content/uploads/2026/02/Third-Base-Chandler.jpg
END:VEVENT
BEGIN:VEVENT
DTSTART;TZID=UTC:20280812T210000
DTEND;TZID=UTC:20280812T210000
DTSTAMP:20260424T051600
CREATED:20250704T004113Z
LAST-MODIFIED:20260206T144717Z
UID:10023451-1849726800-1849726800@www.maddhatterpro.com
SUMMARY:Third Base Karaoke
DESCRIPTION:Super chill and ready to hear you sing! KJ Amygdala in the house slinging those tunes\, and your bar tenders\, slinging those drinks. Lets have a blast! \n4910 W Ray Rd #3\, Chandler\, AZ\, United States\, Arizona \n\n\n\n(480) 687-1556
URL:https://www.maddhatterpro.com/event/third-base-karaoke/2028-08-12/
LOCATION:Third Base\, 4910 W Ray Rd #3\, Chandler\, AZ\, 85226\, United States
CATEGORIES:Karaoke,KJ Amygdala
ATTACH;FMTTYPE=image/jpeg:https://www.maddhatterpro.com/wp-content/uploads/2026/02/Third-Base-Chandler.jpg
END:VEVENT
BEGIN:VEVENT
DTSTART;TZID=UTC:20280819T210000
DTEND;TZID=UTC:20280819T210000
DTSTAMP:20260424T051600
CREATED:20250704T004113Z
LAST-MODIFIED:20260206T144717Z
UID:10023452-1850331600-1850331600@www.maddhatterpro.com
SUMMARY:Third Base Karaoke
DESCRIPTION:Super chill and ready to hear you sing! KJ Amygdala in the house slinging those tunes\, and your bar tenders\, slinging those drinks. Lets have a blast! \n4910 W Ray Rd #3\, Chandler\, AZ\, United States\, Arizona \n\n\n\n(480) 687-1556
URL:https://www.maddhatterpro.com/event/third-base-karaoke/2028-08-19/
LOCATION:Third Base\, 4910 W Ray Rd #3\, Chandler\, AZ\, 85226\, United States
CATEGORIES:Karaoke,KJ Amygdala
ATTACH;FMTTYPE=image/jpeg:https://www.maddhatterpro.com/wp-content/uploads/2026/02/Third-Base-Chandler.jpg
END:VEVENT
BEGIN:VEVENT
DTSTART;TZID=UTC:20280826T210000
DTEND;TZID=UTC:20280826T210000
DTSTAMP:20260424T051600
CREATED:20250704T004113Z
LAST-MODIFIED:20260206T144717Z
UID:10023453-1850936400-1850936400@www.maddhatterpro.com
SUMMARY:Third Base Karaoke
DESCRIPTION:Super chill and ready to hear you sing! KJ Amygdala in the house slinging those tunes\, and your bar tenders\, slinging those drinks. Lets have a blast! \n4910 W Ray Rd #3\, Chandler\, AZ\, United States\, Arizona \n\n\n\n(480) 687-1556
URL:https://www.maddhatterpro.com/event/third-base-karaoke/2028-08-26/
LOCATION:Third Base\, 4910 W Ray Rd #3\, Chandler\, AZ\, 85226\, United States
CATEGORIES:Karaoke,KJ Amygdala
ATTACH;FMTTYPE=image/jpeg:https://www.maddhatterpro.com/wp-content/uploads/2026/02/Third-Base-Chandler.jpg
END:VEVENT
BEGIN:VEVENT
DTSTART;TZID=UTC:20280902T210000
DTEND;TZID=UTC:20280902T210000
DTSTAMP:20260424T051600
CREATED:20250704T004113Z
LAST-MODIFIED:20260206T144717Z
UID:10023454-1851541200-1851541200@www.maddhatterpro.com
SUMMARY:Third Base Karaoke
DESCRIPTION:Super chill and ready to hear you sing! KJ Amygdala in the house slinging those tunes\, and your bar tenders\, slinging those drinks. Lets have a blast! \n4910 W Ray Rd #3\, Chandler\, AZ\, United States\, Arizona \n\n\n\n(480) 687-1556
URL:https://www.maddhatterpro.com/event/third-base-karaoke/2028-09-02/
LOCATION:Third Base\, 4910 W Ray Rd #3\, Chandler\, AZ\, 85226\, United States
CATEGORIES:Karaoke,KJ Amygdala
ATTACH;FMTTYPE=image/jpeg:https://www.maddhatterpro.com/wp-content/uploads/2026/02/Third-Base-Chandler.jpg
END:VEVENT
BEGIN:VEVENT
DTSTART;TZID=UTC:20280909T210000
DTEND;TZID=UTC:20280909T210000
DTSTAMP:20260424T051600
CREATED:20250704T004113Z
LAST-MODIFIED:20260206T144717Z
UID:10023455-1852146000-1852146000@www.maddhatterpro.com
SUMMARY:Third Base Karaoke
DESCRIPTION:Super chill and ready to hear you sing! KJ Amygdala in the house slinging those tunes\, and your bar tenders\, slinging those drinks. Lets have a blast! \n4910 W Ray Rd #3\, Chandler\, AZ\, United States\, Arizona \n\n\n\n(480) 687-1556
URL:https://www.maddhatterpro.com/event/third-base-karaoke/2028-09-09/
LOCATION:Third Base\, 4910 W Ray Rd #3\, Chandler\, AZ\, 85226\, United States
CATEGORIES:Karaoke,KJ Amygdala
ATTACH;FMTTYPE=image/jpeg:https://www.maddhatterpro.com/wp-content/uploads/2026/02/Third-Base-Chandler.jpg
END:VEVENT
BEGIN:VEVENT
DTSTART;TZID=UTC:20280916T210000
DTEND;TZID=UTC:20280916T210000
DTSTAMP:20260424T051600
CREATED:20250704T004113Z
LAST-MODIFIED:20260206T144717Z
UID:10023456-1852750800-1852750800@www.maddhatterpro.com
SUMMARY:Third Base Karaoke
DESCRIPTION:Super chill and ready to hear you sing! KJ Amygdala in the house slinging those tunes\, and your bar tenders\, slinging those drinks. Lets have a blast! \n4910 W Ray Rd #3\, Chandler\, AZ\, United States\, Arizona \n\n\n\n(480) 687-1556
URL:https://www.maddhatterpro.com/event/third-base-karaoke/2028-09-16/
LOCATION:Third Base\, 4910 W Ray Rd #3\, Chandler\, AZ\, 85226\, United States
CATEGORIES:Karaoke,KJ Amygdala
ATTACH;FMTTYPE=image/jpeg:https://www.maddhatterpro.com/wp-content/uploads/2026/02/Third-Base-Chandler.jpg
END:VEVENT
END:VCALENDAR