BEGIN:VCALENDAR
VERSION:2.0
PRODID:-//MaddHatterPro.com - ECPv6.15.20//NONSGML v1.0//EN
CALSCALE:GREGORIAN
METHOD:PUBLISH
X-WR-CALNAME:MaddHatterPro.com
X-ORIGINAL-URL:https://www.maddhatterpro.com
X-WR-CALDESC:Events for MaddHatterPro.com
REFRESH-INTERVAL;VALUE=DURATION:PT1H
X-Robots-Tag:noindex
X-PUBLISHED-TTL:PT1H
BEGIN:VTIMEZONE
TZID:UTC
BEGIN:STANDARD
TZOFFSETFROM:+0000
TZOFFSETTO:+0000
TZNAME:UTC
DTSTART:20260101T000000
END:STANDARD
END:VTIMEZONE
BEGIN:VEVENT
DTSTART;TZID=UTC:20270327T210000
DTEND;TZID=UTC:20270327T210000
DTSTAMP:20260424T022345
CREATED:20250703T233325Z
LAST-MODIFIED:20260206T144355Z
UID:10020333-1806181200-1806181200@www.maddhatterpro.com
SUMMARY:Pullanos Pizza
DESCRIPTION:Glendale’s best karaoke spot! The Amazing KJ Zondo in the house\, 9pm-1am. Amazing staff\, amazing foods\, and amazing singers –  but only when YOU take the stage. \n13848 N 51st Ave\, Glendale\, AZ 85306 \n+16029781234
URL:https://www.maddhatterpro.com/event/pullanos-pizza/2027-03-27/
LOCATION:Pullanos Pizza\, 13848 N 51st Ave\, Glendale\, AZ\, 85306\, United States
CATEGORIES:Karaoke,KJ Zondo
ATTACH;FMTTYPE=image/jpeg:https://www.maddhatterpro.com/wp-content/uploads/2026/02/Pullanos-Glendale.jpg
END:VEVENT
BEGIN:VEVENT
DTSTART;TZID=UTC:20270401T210000
DTEND;TZID=UTC:20270401T210000
DTSTAMP:20260424T022345
CREATED:20250703T233325Z
LAST-MODIFIED:20260206T144355Z
UID:10020334-1806613200-1806613200@www.maddhatterpro.com
SUMMARY:Pullanos Pizza
DESCRIPTION:Glendale’s best karaoke spot! The Amazing KJ Zondo in the house\, 9pm-1am. Amazing staff\, amazing foods\, and amazing singers –  but only when YOU take the stage. \n13848 N 51st Ave\, Glendale\, AZ 85306 \n+16029781234
URL:https://www.maddhatterpro.com/event/pullanos-pizza/2027-04-01/
LOCATION:Pullanos Pizza\, 13848 N 51st Ave\, Glendale\, AZ\, 85306\, United States
CATEGORIES:Karaoke,KJ Zondo
ATTACH;FMTTYPE=image/jpeg:https://www.maddhatterpro.com/wp-content/uploads/2026/02/Pullanos-Glendale.jpg
END:VEVENT
BEGIN:VEVENT
DTSTART;TZID=UTC:20270403T210000
DTEND;TZID=UTC:20270403T210000
DTSTAMP:20260424T022345
CREATED:20250703T233325Z
LAST-MODIFIED:20260206T144355Z
UID:10020335-1806786000-1806786000@www.maddhatterpro.com
SUMMARY:Pullanos Pizza
DESCRIPTION:Glendale’s best karaoke spot! The Amazing KJ Zondo in the house\, 9pm-1am. Amazing staff\, amazing foods\, and amazing singers –  but only when YOU take the stage. \n13848 N 51st Ave\, Glendale\, AZ 85306 \n+16029781234
URL:https://www.maddhatterpro.com/event/pullanos-pizza/2027-04-03/
LOCATION:Pullanos Pizza\, 13848 N 51st Ave\, Glendale\, AZ\, 85306\, United States
CATEGORIES:Karaoke,KJ Zondo
ATTACH;FMTTYPE=image/jpeg:https://www.maddhatterpro.com/wp-content/uploads/2026/02/Pullanos-Glendale.jpg
END:VEVENT
BEGIN:VEVENT
DTSTART;TZID=UTC:20270408T210000
DTEND;TZID=UTC:20270408T210000
DTSTAMP:20260424T022345
CREATED:20250703T233325Z
LAST-MODIFIED:20260206T144355Z
UID:10020336-1807218000-1807218000@www.maddhatterpro.com
SUMMARY:Pullanos Pizza
DESCRIPTION:Glendale’s best karaoke spot! The Amazing KJ Zondo in the house\, 9pm-1am. Amazing staff\, amazing foods\, and amazing singers –  but only when YOU take the stage. \n13848 N 51st Ave\, Glendale\, AZ 85306 \n+16029781234
URL:https://www.maddhatterpro.com/event/pullanos-pizza/2027-04-08/
LOCATION:Pullanos Pizza\, 13848 N 51st Ave\, Glendale\, AZ\, 85306\, United States
CATEGORIES:Karaoke,KJ Zondo
ATTACH;FMTTYPE=image/jpeg:https://www.maddhatterpro.com/wp-content/uploads/2026/02/Pullanos-Glendale.jpg
END:VEVENT
BEGIN:VEVENT
DTSTART;TZID=UTC:20270410T210000
DTEND;TZID=UTC:20270410T210000
DTSTAMP:20260424T022345
CREATED:20250703T233325Z
LAST-MODIFIED:20260206T144355Z
UID:10020337-1807390800-1807390800@www.maddhatterpro.com
SUMMARY:Pullanos Pizza
DESCRIPTION:Glendale’s best karaoke spot! The Amazing KJ Zondo in the house\, 9pm-1am. Amazing staff\, amazing foods\, and amazing singers –  but only when YOU take the stage. \n13848 N 51st Ave\, Glendale\, AZ 85306 \n+16029781234
URL:https://www.maddhatterpro.com/event/pullanos-pizza/2027-04-10/
LOCATION:Pullanos Pizza\, 13848 N 51st Ave\, Glendale\, AZ\, 85306\, United States
CATEGORIES:Karaoke,KJ Zondo
ATTACH;FMTTYPE=image/jpeg:https://www.maddhatterpro.com/wp-content/uploads/2026/02/Pullanos-Glendale.jpg
END:VEVENT
BEGIN:VEVENT
DTSTART;TZID=UTC:20270415T210000
DTEND;TZID=UTC:20270415T210000
DTSTAMP:20260424T022345
CREATED:20250703T233325Z
LAST-MODIFIED:20260206T144355Z
UID:10020338-1807822800-1807822800@www.maddhatterpro.com
SUMMARY:Pullanos Pizza
DESCRIPTION:Glendale’s best karaoke spot! The Amazing KJ Zondo in the house\, 9pm-1am. Amazing staff\, amazing foods\, and amazing singers –  but only when YOU take the stage. \n13848 N 51st Ave\, Glendale\, AZ 85306 \n+16029781234
URL:https://www.maddhatterpro.com/event/pullanos-pizza/2027-04-15/
LOCATION:Pullanos Pizza\, 13848 N 51st Ave\, Glendale\, AZ\, 85306\, United States
CATEGORIES:Karaoke,KJ Zondo
ATTACH;FMTTYPE=image/jpeg:https://www.maddhatterpro.com/wp-content/uploads/2026/02/Pullanos-Glendale.jpg
END:VEVENT
BEGIN:VEVENT
DTSTART;TZID=UTC:20270417T210000
DTEND;TZID=UTC:20270417T210000
DTSTAMP:20260424T022345
CREATED:20250703T233325Z
LAST-MODIFIED:20260206T144355Z
UID:10020339-1807995600-1807995600@www.maddhatterpro.com
SUMMARY:Pullanos Pizza
DESCRIPTION:Glendale’s best karaoke spot! The Amazing KJ Zondo in the house\, 9pm-1am. Amazing staff\, amazing foods\, and amazing singers –  but only when YOU take the stage. \n13848 N 51st Ave\, Glendale\, AZ 85306 \n+16029781234
URL:https://www.maddhatterpro.com/event/pullanos-pizza/2027-04-17/
LOCATION:Pullanos Pizza\, 13848 N 51st Ave\, Glendale\, AZ\, 85306\, United States
CATEGORIES:Karaoke,KJ Zondo
ATTACH;FMTTYPE=image/jpeg:https://www.maddhatterpro.com/wp-content/uploads/2026/02/Pullanos-Glendale.jpg
END:VEVENT
BEGIN:VEVENT
DTSTART;TZID=UTC:20270422T210000
DTEND;TZID=UTC:20270422T210000
DTSTAMP:20260424T022345
CREATED:20250703T233325Z
LAST-MODIFIED:20260206T144355Z
UID:10020340-1808427600-1808427600@www.maddhatterpro.com
SUMMARY:Pullanos Pizza
DESCRIPTION:Glendale’s best karaoke spot! The Amazing KJ Zondo in the house\, 9pm-1am. Amazing staff\, amazing foods\, and amazing singers –  but only when YOU take the stage. \n13848 N 51st Ave\, Glendale\, AZ 85306 \n+16029781234
URL:https://www.maddhatterpro.com/event/pullanos-pizza/2027-04-22/
LOCATION:Pullanos Pizza\, 13848 N 51st Ave\, Glendale\, AZ\, 85306\, United States
CATEGORIES:Karaoke,KJ Zondo
ATTACH;FMTTYPE=image/jpeg:https://www.maddhatterpro.com/wp-content/uploads/2026/02/Pullanos-Glendale.jpg
END:VEVENT
BEGIN:VEVENT
DTSTART;TZID=UTC:20270424T210000
DTEND;TZID=UTC:20270424T210000
DTSTAMP:20260424T022345
CREATED:20250703T233325Z
LAST-MODIFIED:20260206T144355Z
UID:10020341-1808600400-1808600400@www.maddhatterpro.com
SUMMARY:Pullanos Pizza
DESCRIPTION:Glendale’s best karaoke spot! The Amazing KJ Zondo in the house\, 9pm-1am. Amazing staff\, amazing foods\, and amazing singers –  but only when YOU take the stage. \n13848 N 51st Ave\, Glendale\, AZ 85306 \n+16029781234
URL:https://www.maddhatterpro.com/event/pullanos-pizza/2027-04-24/
LOCATION:Pullanos Pizza\, 13848 N 51st Ave\, Glendale\, AZ\, 85306\, United States
CATEGORIES:Karaoke,KJ Zondo
ATTACH;FMTTYPE=image/jpeg:https://www.maddhatterpro.com/wp-content/uploads/2026/02/Pullanos-Glendale.jpg
END:VEVENT
BEGIN:VEVENT
DTSTART;TZID=UTC:20270429T210000
DTEND;TZID=UTC:20270429T210000
DTSTAMP:20260424T022345
CREATED:20250703T233325Z
LAST-MODIFIED:20260206T144355Z
UID:10020342-1809032400-1809032400@www.maddhatterpro.com
SUMMARY:Pullanos Pizza
DESCRIPTION:Glendale’s best karaoke spot! The Amazing KJ Zondo in the house\, 9pm-1am. Amazing staff\, amazing foods\, and amazing singers –  but only when YOU take the stage. \n13848 N 51st Ave\, Glendale\, AZ 85306 \n+16029781234
URL:https://www.maddhatterpro.com/event/pullanos-pizza/2027-04-29/
LOCATION:Pullanos Pizza\, 13848 N 51st Ave\, Glendale\, AZ\, 85306\, United States
CATEGORIES:Karaoke,KJ Zondo
ATTACH;FMTTYPE=image/jpeg:https://www.maddhatterpro.com/wp-content/uploads/2026/02/Pullanos-Glendale.jpg
END:VEVENT
BEGIN:VEVENT
DTSTART;TZID=UTC:20270501T210000
DTEND;TZID=UTC:20270501T210000
DTSTAMP:20260424T022345
CREATED:20250703T233325Z
LAST-MODIFIED:20260206T144355Z
UID:10020343-1809205200-1809205200@www.maddhatterpro.com
SUMMARY:Pullanos Pizza
DESCRIPTION:Glendale’s best karaoke spot! The Amazing KJ Zondo in the house\, 9pm-1am. Amazing staff\, amazing foods\, and amazing singers –  but only when YOU take the stage. \n13848 N 51st Ave\, Glendale\, AZ 85306 \n+16029781234
URL:https://www.maddhatterpro.com/event/pullanos-pizza/2027-05-01/
LOCATION:Pullanos Pizza\, 13848 N 51st Ave\, Glendale\, AZ\, 85306\, United States
CATEGORIES:Karaoke,KJ Zondo
ATTACH;FMTTYPE=image/jpeg:https://www.maddhatterpro.com/wp-content/uploads/2026/02/Pullanos-Glendale.jpg
END:VEVENT
BEGIN:VEVENT
DTSTART;TZID=UTC:20270506T210000
DTEND;TZID=UTC:20270506T210000
DTSTAMP:20260424T022345
CREATED:20250703T233325Z
LAST-MODIFIED:20260206T144355Z
UID:10020344-1809637200-1809637200@www.maddhatterpro.com
SUMMARY:Pullanos Pizza
DESCRIPTION:Glendale’s best karaoke spot! The Amazing KJ Zondo in the house\, 9pm-1am. Amazing staff\, amazing foods\, and amazing singers –  but only when YOU take the stage. \n13848 N 51st Ave\, Glendale\, AZ 85306 \n+16029781234
URL:https://www.maddhatterpro.com/event/pullanos-pizza/2027-05-06/
LOCATION:Pullanos Pizza\, 13848 N 51st Ave\, Glendale\, AZ\, 85306\, United States
CATEGORIES:Karaoke,KJ Zondo
ATTACH;FMTTYPE=image/jpeg:https://www.maddhatterpro.com/wp-content/uploads/2026/02/Pullanos-Glendale.jpg
END:VEVENT
BEGIN:VEVENT
DTSTART;TZID=UTC:20270508T210000
DTEND;TZID=UTC:20270508T210000
DTSTAMP:20260424T022345
CREATED:20250703T233325Z
LAST-MODIFIED:20260206T144355Z
UID:10020345-1809810000-1809810000@www.maddhatterpro.com
SUMMARY:Pullanos Pizza
DESCRIPTION:Glendale’s best karaoke spot! The Amazing KJ Zondo in the house\, 9pm-1am. Amazing staff\, amazing foods\, and amazing singers –  but only when YOU take the stage. \n13848 N 51st Ave\, Glendale\, AZ 85306 \n+16029781234
URL:https://www.maddhatterpro.com/event/pullanos-pizza/2027-05-08/
LOCATION:Pullanos Pizza\, 13848 N 51st Ave\, Glendale\, AZ\, 85306\, United States
CATEGORIES:Karaoke,KJ Zondo
ATTACH;FMTTYPE=image/jpeg:https://www.maddhatterpro.com/wp-content/uploads/2026/02/Pullanos-Glendale.jpg
END:VEVENT
BEGIN:VEVENT
DTSTART;TZID=UTC:20270513T210000
DTEND;TZID=UTC:20270513T210000
DTSTAMP:20260424T022345
CREATED:20250703T233325Z
LAST-MODIFIED:20260206T144355Z
UID:10020346-1810242000-1810242000@www.maddhatterpro.com
SUMMARY:Pullanos Pizza
DESCRIPTION:Glendale’s best karaoke spot! The Amazing KJ Zondo in the house\, 9pm-1am. Amazing staff\, amazing foods\, and amazing singers –  but only when YOU take the stage. \n13848 N 51st Ave\, Glendale\, AZ 85306 \n+16029781234
URL:https://www.maddhatterpro.com/event/pullanos-pizza/2027-05-13/
LOCATION:Pullanos Pizza\, 13848 N 51st Ave\, Glendale\, AZ\, 85306\, United States
CATEGORIES:Karaoke,KJ Zondo
ATTACH;FMTTYPE=image/jpeg:https://www.maddhatterpro.com/wp-content/uploads/2026/02/Pullanos-Glendale.jpg
END:VEVENT
BEGIN:VEVENT
DTSTART;TZID=UTC:20270515T210000
DTEND;TZID=UTC:20270515T210000
DTSTAMP:20260424T022345
CREATED:20250703T233325Z
LAST-MODIFIED:20260206T144355Z
UID:10020347-1810414800-1810414800@www.maddhatterpro.com
SUMMARY:Pullanos Pizza
DESCRIPTION:Glendale’s best karaoke spot! The Amazing KJ Zondo in the house\, 9pm-1am. Amazing staff\, amazing foods\, and amazing singers –  but only when YOU take the stage. \n13848 N 51st Ave\, Glendale\, AZ 85306 \n+16029781234
URL:https://www.maddhatterpro.com/event/pullanos-pizza/2027-05-15/
LOCATION:Pullanos Pizza\, 13848 N 51st Ave\, Glendale\, AZ\, 85306\, United States
CATEGORIES:Karaoke,KJ Zondo
ATTACH;FMTTYPE=image/jpeg:https://www.maddhatterpro.com/wp-content/uploads/2026/02/Pullanos-Glendale.jpg
END:VEVENT
BEGIN:VEVENT
DTSTART;TZID=UTC:20270520T210000
DTEND;TZID=UTC:20270520T210000
DTSTAMP:20260424T022345
CREATED:20250703T233325Z
LAST-MODIFIED:20260206T144355Z
UID:10020348-1810846800-1810846800@www.maddhatterpro.com
SUMMARY:Pullanos Pizza
DESCRIPTION:Glendale’s best karaoke spot! The Amazing KJ Zondo in the house\, 9pm-1am. Amazing staff\, amazing foods\, and amazing singers –  but only when YOU take the stage. \n13848 N 51st Ave\, Glendale\, AZ 85306 \n+16029781234
URL:https://www.maddhatterpro.com/event/pullanos-pizza/2027-05-20/
LOCATION:Pullanos Pizza\, 13848 N 51st Ave\, Glendale\, AZ\, 85306\, United States
CATEGORIES:Karaoke,KJ Zondo
ATTACH;FMTTYPE=image/jpeg:https://www.maddhatterpro.com/wp-content/uploads/2026/02/Pullanos-Glendale.jpg
END:VEVENT
BEGIN:VEVENT
DTSTART;TZID=UTC:20270522T210000
DTEND;TZID=UTC:20270522T210000
DTSTAMP:20260424T022345
CREATED:20250703T233325Z
LAST-MODIFIED:20260206T144355Z
UID:10020349-1811019600-1811019600@www.maddhatterpro.com
SUMMARY:Pullanos Pizza
DESCRIPTION:Glendale’s best karaoke spot! The Amazing KJ Zondo in the house\, 9pm-1am. Amazing staff\, amazing foods\, and amazing singers –  but only when YOU take the stage. \n13848 N 51st Ave\, Glendale\, AZ 85306 \n+16029781234
URL:https://www.maddhatterpro.com/event/pullanos-pizza/2027-05-22/
LOCATION:Pullanos Pizza\, 13848 N 51st Ave\, Glendale\, AZ\, 85306\, United States
CATEGORIES:Karaoke,KJ Zondo
ATTACH;FMTTYPE=image/jpeg:https://www.maddhatterpro.com/wp-content/uploads/2026/02/Pullanos-Glendale.jpg
END:VEVENT
BEGIN:VEVENT
DTSTART;TZID=UTC:20270527T210000
DTEND;TZID=UTC:20270527T210000
DTSTAMP:20260424T022345
CREATED:20250703T233325Z
LAST-MODIFIED:20260206T144355Z
UID:10020350-1811451600-1811451600@www.maddhatterpro.com
SUMMARY:Pullanos Pizza
DESCRIPTION:Glendale’s best karaoke spot! The Amazing KJ Zondo in the house\, 9pm-1am. Amazing staff\, amazing foods\, and amazing singers –  but only when YOU take the stage. \n13848 N 51st Ave\, Glendale\, AZ 85306 \n+16029781234
URL:https://www.maddhatterpro.com/event/pullanos-pizza/2027-05-27/
LOCATION:Pullanos Pizza\, 13848 N 51st Ave\, Glendale\, AZ\, 85306\, United States
CATEGORIES:Karaoke,KJ Zondo
ATTACH;FMTTYPE=image/jpeg:https://www.maddhatterpro.com/wp-content/uploads/2026/02/Pullanos-Glendale.jpg
END:VEVENT
BEGIN:VEVENT
DTSTART;TZID=UTC:20270529T210000
DTEND;TZID=UTC:20270529T210000
DTSTAMP:20260424T022345
CREATED:20250703T233325Z
LAST-MODIFIED:20260206T144355Z
UID:10020351-1811624400-1811624400@www.maddhatterpro.com
SUMMARY:Pullanos Pizza
DESCRIPTION:Glendale’s best karaoke spot! The Amazing KJ Zondo in the house\, 9pm-1am. Amazing staff\, amazing foods\, and amazing singers –  but only when YOU take the stage. \n13848 N 51st Ave\, Glendale\, AZ 85306 \n+16029781234
URL:https://www.maddhatterpro.com/event/pullanos-pizza/2027-05-29/
LOCATION:Pullanos Pizza\, 13848 N 51st Ave\, Glendale\, AZ\, 85306\, United States
CATEGORIES:Karaoke,KJ Zondo
ATTACH;FMTTYPE=image/jpeg:https://www.maddhatterpro.com/wp-content/uploads/2026/02/Pullanos-Glendale.jpg
END:VEVENT
BEGIN:VEVENT
DTSTART;TZID=UTC:20270603T210000
DTEND;TZID=UTC:20270603T210000
DTSTAMP:20260424T022345
CREATED:20250703T233325Z
LAST-MODIFIED:20260206T144355Z
UID:10020352-1812056400-1812056400@www.maddhatterpro.com
SUMMARY:Pullanos Pizza
DESCRIPTION:Glendale’s best karaoke spot! The Amazing KJ Zondo in the house\, 9pm-1am. Amazing staff\, amazing foods\, and amazing singers –  but only when YOU take the stage. \n13848 N 51st Ave\, Glendale\, AZ 85306 \n+16029781234
URL:https://www.maddhatterpro.com/event/pullanos-pizza/2027-06-03/
LOCATION:Pullanos Pizza\, 13848 N 51st Ave\, Glendale\, AZ\, 85306\, United States
CATEGORIES:Karaoke,KJ Zondo
ATTACH;FMTTYPE=image/jpeg:https://www.maddhatterpro.com/wp-content/uploads/2026/02/Pullanos-Glendale.jpg
END:VEVENT
BEGIN:VEVENT
DTSTART;TZID=UTC:20270605T210000
DTEND;TZID=UTC:20270605T210000
DTSTAMP:20260424T022345
CREATED:20250703T233325Z
LAST-MODIFIED:20260206T144355Z
UID:10020353-1812229200-1812229200@www.maddhatterpro.com
SUMMARY:Pullanos Pizza
DESCRIPTION:Glendale’s best karaoke spot! The Amazing KJ Zondo in the house\, 9pm-1am. Amazing staff\, amazing foods\, and amazing singers –  but only when YOU take the stage. \n13848 N 51st Ave\, Glendale\, AZ 85306 \n+16029781234
URL:https://www.maddhatterpro.com/event/pullanos-pizza/2027-06-05/
LOCATION:Pullanos Pizza\, 13848 N 51st Ave\, Glendale\, AZ\, 85306\, United States
CATEGORIES:Karaoke,KJ Zondo
ATTACH;FMTTYPE=image/jpeg:https://www.maddhatterpro.com/wp-content/uploads/2026/02/Pullanos-Glendale.jpg
END:VEVENT
BEGIN:VEVENT
DTSTART;TZID=UTC:20270610T210000
DTEND;TZID=UTC:20270610T210000
DTSTAMP:20260424T022345
CREATED:20250703T233325Z
LAST-MODIFIED:20260206T144355Z
UID:10020354-1812661200-1812661200@www.maddhatterpro.com
SUMMARY:Pullanos Pizza
DESCRIPTION:Glendale’s best karaoke spot! The Amazing KJ Zondo in the house\, 9pm-1am. Amazing staff\, amazing foods\, and amazing singers –  but only when YOU take the stage. \n13848 N 51st Ave\, Glendale\, AZ 85306 \n+16029781234
URL:https://www.maddhatterpro.com/event/pullanos-pizza/2027-06-10/
LOCATION:Pullanos Pizza\, 13848 N 51st Ave\, Glendale\, AZ\, 85306\, United States
CATEGORIES:Karaoke,KJ Zondo
ATTACH;FMTTYPE=image/jpeg:https://www.maddhatterpro.com/wp-content/uploads/2026/02/Pullanos-Glendale.jpg
END:VEVENT
BEGIN:VEVENT
DTSTART;TZID=UTC:20270612T210000
DTEND;TZID=UTC:20270612T210000
DTSTAMP:20260424T022345
CREATED:20250703T233325Z
LAST-MODIFIED:20260206T144355Z
UID:10020355-1812834000-1812834000@www.maddhatterpro.com
SUMMARY:Pullanos Pizza
DESCRIPTION:Glendale’s best karaoke spot! The Amazing KJ Zondo in the house\, 9pm-1am. Amazing staff\, amazing foods\, and amazing singers –  but only when YOU take the stage. \n13848 N 51st Ave\, Glendale\, AZ 85306 \n+16029781234
URL:https://www.maddhatterpro.com/event/pullanos-pizza/2027-06-12/
LOCATION:Pullanos Pizza\, 13848 N 51st Ave\, Glendale\, AZ\, 85306\, United States
CATEGORIES:Karaoke,KJ Zondo
ATTACH;FMTTYPE=image/jpeg:https://www.maddhatterpro.com/wp-content/uploads/2026/02/Pullanos-Glendale.jpg
END:VEVENT
BEGIN:VEVENT
DTSTART;TZID=UTC:20270617T210000
DTEND;TZID=UTC:20270617T210000
DTSTAMP:20260424T022345
CREATED:20250703T233325Z
LAST-MODIFIED:20260206T144355Z
UID:10020356-1813266000-1813266000@www.maddhatterpro.com
SUMMARY:Pullanos Pizza
DESCRIPTION:Glendale’s best karaoke spot! The Amazing KJ Zondo in the house\, 9pm-1am. Amazing staff\, amazing foods\, and amazing singers –  but only when YOU take the stage. \n13848 N 51st Ave\, Glendale\, AZ 85306 \n+16029781234
URL:https://www.maddhatterpro.com/event/pullanos-pizza/2027-06-17/
LOCATION:Pullanos Pizza\, 13848 N 51st Ave\, Glendale\, AZ\, 85306\, United States
CATEGORIES:Karaoke,KJ Zondo
ATTACH;FMTTYPE=image/jpeg:https://www.maddhatterpro.com/wp-content/uploads/2026/02/Pullanos-Glendale.jpg
END:VEVENT
BEGIN:VEVENT
DTSTART;TZID=UTC:20270619T210000
DTEND;TZID=UTC:20270619T210000
DTSTAMP:20260424T022346
CREATED:20250703T233325Z
LAST-MODIFIED:20260206T144355Z
UID:10020357-1813438800-1813438800@www.maddhatterpro.com
SUMMARY:Pullanos Pizza
DESCRIPTION:Glendale’s best karaoke spot! The Amazing KJ Zondo in the house\, 9pm-1am. Amazing staff\, amazing foods\, and amazing singers –  but only when YOU take the stage. \n13848 N 51st Ave\, Glendale\, AZ 85306 \n+16029781234
URL:https://www.maddhatterpro.com/event/pullanos-pizza/2027-06-19/
LOCATION:Pullanos Pizza\, 13848 N 51st Ave\, Glendale\, AZ\, 85306\, United States
CATEGORIES:Karaoke,KJ Zondo
ATTACH;FMTTYPE=image/jpeg:https://www.maddhatterpro.com/wp-content/uploads/2026/02/Pullanos-Glendale.jpg
END:VEVENT
BEGIN:VEVENT
DTSTART;TZID=UTC:20270624T210000
DTEND;TZID=UTC:20270624T210000
DTSTAMP:20260424T022346
CREATED:20250703T233325Z
LAST-MODIFIED:20260206T144355Z
UID:10020358-1813870800-1813870800@www.maddhatterpro.com
SUMMARY:Pullanos Pizza
DESCRIPTION:Glendale’s best karaoke spot! The Amazing KJ Zondo in the house\, 9pm-1am. Amazing staff\, amazing foods\, and amazing singers –  but only when YOU take the stage. \n13848 N 51st Ave\, Glendale\, AZ 85306 \n+16029781234
URL:https://www.maddhatterpro.com/event/pullanos-pizza/2027-06-24/
LOCATION:Pullanos Pizza\, 13848 N 51st Ave\, Glendale\, AZ\, 85306\, United States
CATEGORIES:Karaoke,KJ Zondo
ATTACH;FMTTYPE=image/jpeg:https://www.maddhatterpro.com/wp-content/uploads/2026/02/Pullanos-Glendale.jpg
END:VEVENT
BEGIN:VEVENT
DTSTART;TZID=UTC:20270626T210000
DTEND;TZID=UTC:20270626T210000
DTSTAMP:20260424T022346
CREATED:20250703T233325Z
LAST-MODIFIED:20260206T144355Z
UID:10020359-1814043600-1814043600@www.maddhatterpro.com
SUMMARY:Pullanos Pizza
DESCRIPTION:Glendale’s best karaoke spot! The Amazing KJ Zondo in the house\, 9pm-1am. Amazing staff\, amazing foods\, and amazing singers –  but only when YOU take the stage. \n13848 N 51st Ave\, Glendale\, AZ 85306 \n+16029781234
URL:https://www.maddhatterpro.com/event/pullanos-pizza/2027-06-26/
LOCATION:Pullanos Pizza\, 13848 N 51st Ave\, Glendale\, AZ\, 85306\, United States
CATEGORIES:Karaoke,KJ Zondo
ATTACH;FMTTYPE=image/jpeg:https://www.maddhatterpro.com/wp-content/uploads/2026/02/Pullanos-Glendale.jpg
END:VEVENT
BEGIN:VEVENT
DTSTART;TZID=UTC:20270701T210000
DTEND;TZID=UTC:20270701T210000
DTSTAMP:20260424T022346
CREATED:20250703T233325Z
LAST-MODIFIED:20260206T144355Z
UID:10020360-1814475600-1814475600@www.maddhatterpro.com
SUMMARY:Pullanos Pizza
DESCRIPTION:Glendale’s best karaoke spot! The Amazing KJ Zondo in the house\, 9pm-1am. Amazing staff\, amazing foods\, and amazing singers –  but only when YOU take the stage. \n13848 N 51st Ave\, Glendale\, AZ 85306 \n+16029781234
URL:https://www.maddhatterpro.com/event/pullanos-pizza/2027-07-01/
LOCATION:Pullanos Pizza\, 13848 N 51st Ave\, Glendale\, AZ\, 85306\, United States
CATEGORIES:Karaoke,KJ Zondo
ATTACH;FMTTYPE=image/jpeg:https://www.maddhatterpro.com/wp-content/uploads/2026/02/Pullanos-Glendale.jpg
END:VEVENT
BEGIN:VEVENT
DTSTART;TZID=UTC:20270703T210000
DTEND;TZID=UTC:20270703T210000
DTSTAMP:20260424T022346
CREATED:20250703T233325Z
LAST-MODIFIED:20260206T144355Z
UID:10020361-1814648400-1814648400@www.maddhatterpro.com
SUMMARY:Pullanos Pizza
DESCRIPTION:Glendale’s best karaoke spot! The Amazing KJ Zondo in the house\, 9pm-1am. Amazing staff\, amazing foods\, and amazing singers –  but only when YOU take the stage. \n13848 N 51st Ave\, Glendale\, AZ 85306 \n+16029781234
URL:https://www.maddhatterpro.com/event/pullanos-pizza/2027-07-03/
LOCATION:Pullanos Pizza\, 13848 N 51st Ave\, Glendale\, AZ\, 85306\, United States
CATEGORIES:Karaoke,KJ Zondo
ATTACH;FMTTYPE=image/jpeg:https://www.maddhatterpro.com/wp-content/uploads/2026/02/Pullanos-Glendale.jpg
END:VEVENT
BEGIN:VEVENT
DTSTART;TZID=UTC:20270708T210000
DTEND;TZID=UTC:20270708T210000
DTSTAMP:20260424T022346
CREATED:20250703T233325Z
LAST-MODIFIED:20260206T144355Z
UID:10020362-1815080400-1815080400@www.maddhatterpro.com
SUMMARY:Pullanos Pizza
DESCRIPTION:Glendale’s best karaoke spot! The Amazing KJ Zondo in the house\, 9pm-1am. Amazing staff\, amazing foods\, and amazing singers –  but only when YOU take the stage. \n13848 N 51st Ave\, Glendale\, AZ 85306 \n+16029781234
URL:https://www.maddhatterpro.com/event/pullanos-pizza/2027-07-08/
LOCATION:Pullanos Pizza\, 13848 N 51st Ave\, Glendale\, AZ\, 85306\, United States
CATEGORIES:Karaoke,KJ Zondo
ATTACH;FMTTYPE=image/jpeg:https://www.maddhatterpro.com/wp-content/uploads/2026/02/Pullanos-Glendale.jpg
END:VEVENT
END:VCALENDAR