BEGIN:VCALENDAR
VERSION:2.0
PRODID:-//MaddHatterPro.com - ECPv6.15.20//NONSGML v1.0//EN
CALSCALE:GREGORIAN
METHOD:PUBLISH
X-WR-CALNAME:MaddHatterPro.com
X-ORIGINAL-URL:https://www.maddhatterpro.com
X-WR-CALDESC:Events for MaddHatterPro.com
REFRESH-INTERVAL;VALUE=DURATION:PT1H
X-Robots-Tag:noindex
X-PUBLISHED-TTL:PT1H
BEGIN:VTIMEZONE
TZID:UTC
BEGIN:STANDARD
TZOFFSETFROM:+0000
TZOFFSETTO:+0000
TZNAME:UTC
DTSTART:20270101T000000
END:STANDARD
END:VTIMEZONE
BEGIN:VEVENT
DTSTART;TZID=UTC:20280229T210000
DTEND;TZID=UTC:20280229T210000
DTSTAMP:20260424T034759
CREATED:20250703T231700Z
LAST-MODIFIED:20260206T143948Z
UID:10020029-1835470800-1835470800@www.maddhatterpro.com
SUMMARY:Pub Rock Live Karaoke
DESCRIPTION:Karaoke in South Scottsdale’s prime spot! The amazing KJ Zondo in the house\, 9pm to 1am. Come keep me busy and I will stay till you’re done! \n8005 E Roosevelt St\, Scottsdale\, AZ 85257 \n+14809454985
URL:https://www.maddhatterpro.com/event/pub-rock-live-karaoke/2028-02-29/
LOCATION:Pub Rock Live\, 8005 E Roosevelt St\, Scottsdale\, AZ\, 85257\, United States
CATEGORIES:Karaoke,KJ Zondo
ATTACH;FMTTYPE=image/jpeg:https://www.maddhatterpro.com/wp-content/uploads/2026/02/PubRock-Scottsdale.jpg
END:VEVENT
BEGIN:VEVENT
DTSTART;TZID=UTC:20280307T210000
DTEND;TZID=UTC:20280307T210000
DTSTAMP:20260424T034759
CREATED:20250703T231700Z
LAST-MODIFIED:20260206T143948Z
UID:10020030-1836075600-1836075600@www.maddhatterpro.com
SUMMARY:Pub Rock Live Karaoke
DESCRIPTION:Karaoke in South Scottsdale’s prime spot! The amazing KJ Zondo in the house\, 9pm to 1am. Come keep me busy and I will stay till you’re done! \n8005 E Roosevelt St\, Scottsdale\, AZ 85257 \n+14809454985
URL:https://www.maddhatterpro.com/event/pub-rock-live-karaoke/2028-03-07/
LOCATION:Pub Rock Live\, 8005 E Roosevelt St\, Scottsdale\, AZ\, 85257\, United States
CATEGORIES:Karaoke,KJ Zondo
ATTACH;FMTTYPE=image/jpeg:https://www.maddhatterpro.com/wp-content/uploads/2026/02/PubRock-Scottsdale.jpg
END:VEVENT
BEGIN:VEVENT
DTSTART;TZID=UTC:20280314T210000
DTEND;TZID=UTC:20280314T210000
DTSTAMP:20260424T034759
CREATED:20250703T231700Z
LAST-MODIFIED:20260206T143948Z
UID:10020031-1836680400-1836680400@www.maddhatterpro.com
SUMMARY:Pub Rock Live Karaoke
DESCRIPTION:Karaoke in South Scottsdale’s prime spot! The amazing KJ Zondo in the house\, 9pm to 1am. Come keep me busy and I will stay till you’re done! \n8005 E Roosevelt St\, Scottsdale\, AZ 85257 \n+14809454985
URL:https://www.maddhatterpro.com/event/pub-rock-live-karaoke/2028-03-14/
LOCATION:Pub Rock Live\, 8005 E Roosevelt St\, Scottsdale\, AZ\, 85257\, United States
CATEGORIES:Karaoke,KJ Zondo
ATTACH;FMTTYPE=image/jpeg:https://www.maddhatterpro.com/wp-content/uploads/2026/02/PubRock-Scottsdale.jpg
END:VEVENT
BEGIN:VEVENT
DTSTART;TZID=UTC:20280321T210000
DTEND;TZID=UTC:20280321T210000
DTSTAMP:20260424T034759
CREATED:20250703T231700Z
LAST-MODIFIED:20260206T143948Z
UID:10020032-1837285200-1837285200@www.maddhatterpro.com
SUMMARY:Pub Rock Live Karaoke
DESCRIPTION:Karaoke in South Scottsdale’s prime spot! The amazing KJ Zondo in the house\, 9pm to 1am. Come keep me busy and I will stay till you’re done! \n8005 E Roosevelt St\, Scottsdale\, AZ 85257 \n+14809454985
URL:https://www.maddhatterpro.com/event/pub-rock-live-karaoke/2028-03-21/
LOCATION:Pub Rock Live\, 8005 E Roosevelt St\, Scottsdale\, AZ\, 85257\, United States
CATEGORIES:Karaoke,KJ Zondo
ATTACH;FMTTYPE=image/jpeg:https://www.maddhatterpro.com/wp-content/uploads/2026/02/PubRock-Scottsdale.jpg
END:VEVENT
BEGIN:VEVENT
DTSTART;TZID=UTC:20280328T210000
DTEND;TZID=UTC:20280328T210000
DTSTAMP:20260424T034759
CREATED:20250703T231700Z
LAST-MODIFIED:20260206T143948Z
UID:10020033-1837890000-1837890000@www.maddhatterpro.com
SUMMARY:Pub Rock Live Karaoke
DESCRIPTION:Karaoke in South Scottsdale’s prime spot! The amazing KJ Zondo in the house\, 9pm to 1am. Come keep me busy and I will stay till you’re done! \n8005 E Roosevelt St\, Scottsdale\, AZ 85257 \n+14809454985
URL:https://www.maddhatterpro.com/event/pub-rock-live-karaoke/2028-03-28/
LOCATION:Pub Rock Live\, 8005 E Roosevelt St\, Scottsdale\, AZ\, 85257\, United States
CATEGORIES:Karaoke,KJ Zondo
ATTACH;FMTTYPE=image/jpeg:https://www.maddhatterpro.com/wp-content/uploads/2026/02/PubRock-Scottsdale.jpg
END:VEVENT
BEGIN:VEVENT
DTSTART;TZID=UTC:20280404T210000
DTEND;TZID=UTC:20280404T210000
DTSTAMP:20260424T034759
CREATED:20250703T231700Z
LAST-MODIFIED:20260206T143948Z
UID:10020034-1838494800-1838494800@www.maddhatterpro.com
SUMMARY:Pub Rock Live Karaoke
DESCRIPTION:Karaoke in South Scottsdale’s prime spot! The amazing KJ Zondo in the house\, 9pm to 1am. Come keep me busy and I will stay till you’re done! \n8005 E Roosevelt St\, Scottsdale\, AZ 85257 \n+14809454985
URL:https://www.maddhatterpro.com/event/pub-rock-live-karaoke/2028-04-04/
LOCATION:Pub Rock Live\, 8005 E Roosevelt St\, Scottsdale\, AZ\, 85257\, United States
CATEGORIES:Karaoke,KJ Zondo
ATTACH;FMTTYPE=image/jpeg:https://www.maddhatterpro.com/wp-content/uploads/2026/02/PubRock-Scottsdale.jpg
END:VEVENT
BEGIN:VEVENT
DTSTART;TZID=UTC:20280411T210000
DTEND;TZID=UTC:20280411T210000
DTSTAMP:20260424T034759
CREATED:20250703T231700Z
LAST-MODIFIED:20260206T143948Z
UID:10020035-1839099600-1839099600@www.maddhatterpro.com
SUMMARY:Pub Rock Live Karaoke
DESCRIPTION:Karaoke in South Scottsdale’s prime spot! The amazing KJ Zondo in the house\, 9pm to 1am. Come keep me busy and I will stay till you’re done! \n8005 E Roosevelt St\, Scottsdale\, AZ 85257 \n+14809454985
URL:https://www.maddhatterpro.com/event/pub-rock-live-karaoke/2028-04-11/
LOCATION:Pub Rock Live\, 8005 E Roosevelt St\, Scottsdale\, AZ\, 85257\, United States
CATEGORIES:Karaoke,KJ Zondo
ATTACH;FMTTYPE=image/jpeg:https://www.maddhatterpro.com/wp-content/uploads/2026/02/PubRock-Scottsdale.jpg
END:VEVENT
BEGIN:VEVENT
DTSTART;TZID=UTC:20280418T210000
DTEND;TZID=UTC:20280418T210000
DTSTAMP:20260424T034759
CREATED:20250703T231700Z
LAST-MODIFIED:20260206T143948Z
UID:10020036-1839704400-1839704400@www.maddhatterpro.com
SUMMARY:Pub Rock Live Karaoke
DESCRIPTION:Karaoke in South Scottsdale’s prime spot! The amazing KJ Zondo in the house\, 9pm to 1am. Come keep me busy and I will stay till you’re done! \n8005 E Roosevelt St\, Scottsdale\, AZ 85257 \n+14809454985
URL:https://www.maddhatterpro.com/event/pub-rock-live-karaoke/2028-04-18/
LOCATION:Pub Rock Live\, 8005 E Roosevelt St\, Scottsdale\, AZ\, 85257\, United States
CATEGORIES:Karaoke,KJ Zondo
ATTACH;FMTTYPE=image/jpeg:https://www.maddhatterpro.com/wp-content/uploads/2026/02/PubRock-Scottsdale.jpg
END:VEVENT
BEGIN:VEVENT
DTSTART;TZID=UTC:20280425T210000
DTEND;TZID=UTC:20280425T210000
DTSTAMP:20260424T034759
CREATED:20250703T231700Z
LAST-MODIFIED:20260206T143948Z
UID:10020037-1840309200-1840309200@www.maddhatterpro.com
SUMMARY:Pub Rock Live Karaoke
DESCRIPTION:Karaoke in South Scottsdale’s prime spot! The amazing KJ Zondo in the house\, 9pm to 1am. Come keep me busy and I will stay till you’re done! \n8005 E Roosevelt St\, Scottsdale\, AZ 85257 \n+14809454985
URL:https://www.maddhatterpro.com/event/pub-rock-live-karaoke/2028-04-25/
LOCATION:Pub Rock Live\, 8005 E Roosevelt St\, Scottsdale\, AZ\, 85257\, United States
CATEGORIES:Karaoke,KJ Zondo
ATTACH;FMTTYPE=image/jpeg:https://www.maddhatterpro.com/wp-content/uploads/2026/02/PubRock-Scottsdale.jpg
END:VEVENT
BEGIN:VEVENT
DTSTART;TZID=UTC:20280502T210000
DTEND;TZID=UTC:20280502T210000
DTSTAMP:20260424T034759
CREATED:20250703T231700Z
LAST-MODIFIED:20260206T143948Z
UID:10020038-1840914000-1840914000@www.maddhatterpro.com
SUMMARY:Pub Rock Live Karaoke
DESCRIPTION:Karaoke in South Scottsdale’s prime spot! The amazing KJ Zondo in the house\, 9pm to 1am. Come keep me busy and I will stay till you’re done! \n8005 E Roosevelt St\, Scottsdale\, AZ 85257 \n+14809454985
URL:https://www.maddhatterpro.com/event/pub-rock-live-karaoke/2028-05-02/
LOCATION:Pub Rock Live\, 8005 E Roosevelt St\, Scottsdale\, AZ\, 85257\, United States
CATEGORIES:Karaoke,KJ Zondo
ATTACH;FMTTYPE=image/jpeg:https://www.maddhatterpro.com/wp-content/uploads/2026/02/PubRock-Scottsdale.jpg
END:VEVENT
BEGIN:VEVENT
DTSTART;TZID=UTC:20280509T210000
DTEND;TZID=UTC:20280509T210000
DTSTAMP:20260424T034759
CREATED:20250703T231700Z
LAST-MODIFIED:20260206T143948Z
UID:10020039-1841518800-1841518800@www.maddhatterpro.com
SUMMARY:Pub Rock Live Karaoke
DESCRIPTION:Karaoke in South Scottsdale’s prime spot! The amazing KJ Zondo in the house\, 9pm to 1am. Come keep me busy and I will stay till you’re done! \n8005 E Roosevelt St\, Scottsdale\, AZ 85257 \n+14809454985
URL:https://www.maddhatterpro.com/event/pub-rock-live-karaoke/2028-05-09/
LOCATION:Pub Rock Live\, 8005 E Roosevelt St\, Scottsdale\, AZ\, 85257\, United States
CATEGORIES:Karaoke,KJ Zondo
ATTACH;FMTTYPE=image/jpeg:https://www.maddhatterpro.com/wp-content/uploads/2026/02/PubRock-Scottsdale.jpg
END:VEVENT
BEGIN:VEVENT
DTSTART;TZID=UTC:20280516T210000
DTEND;TZID=UTC:20280516T210000
DTSTAMP:20260424T034759
CREATED:20250703T231700Z
LAST-MODIFIED:20260206T143948Z
UID:10020040-1842123600-1842123600@www.maddhatterpro.com
SUMMARY:Pub Rock Live Karaoke
DESCRIPTION:Karaoke in South Scottsdale’s prime spot! The amazing KJ Zondo in the house\, 9pm to 1am. Come keep me busy and I will stay till you’re done! \n8005 E Roosevelt St\, Scottsdale\, AZ 85257 \n+14809454985
URL:https://www.maddhatterpro.com/event/pub-rock-live-karaoke/2028-05-16/
LOCATION:Pub Rock Live\, 8005 E Roosevelt St\, Scottsdale\, AZ\, 85257\, United States
CATEGORIES:Karaoke,KJ Zondo
ATTACH;FMTTYPE=image/jpeg:https://www.maddhatterpro.com/wp-content/uploads/2026/02/PubRock-Scottsdale.jpg
END:VEVENT
BEGIN:VEVENT
DTSTART;TZID=UTC:20280523T210000
DTEND;TZID=UTC:20280523T210000
DTSTAMP:20260424T034759
CREATED:20250703T231700Z
LAST-MODIFIED:20260206T143948Z
UID:10020041-1842728400-1842728400@www.maddhatterpro.com
SUMMARY:Pub Rock Live Karaoke
DESCRIPTION:Karaoke in South Scottsdale’s prime spot! The amazing KJ Zondo in the house\, 9pm to 1am. Come keep me busy and I will stay till you’re done! \n8005 E Roosevelt St\, Scottsdale\, AZ 85257 \n+14809454985
URL:https://www.maddhatterpro.com/event/pub-rock-live-karaoke/2028-05-23/
LOCATION:Pub Rock Live\, 8005 E Roosevelt St\, Scottsdale\, AZ\, 85257\, United States
CATEGORIES:Karaoke,KJ Zondo
ATTACH;FMTTYPE=image/jpeg:https://www.maddhatterpro.com/wp-content/uploads/2026/02/PubRock-Scottsdale.jpg
END:VEVENT
BEGIN:VEVENT
DTSTART;TZID=UTC:20280530T210000
DTEND;TZID=UTC:20280530T210000
DTSTAMP:20260424T034759
CREATED:20250703T231700Z
LAST-MODIFIED:20260206T143948Z
UID:10020042-1843333200-1843333200@www.maddhatterpro.com
SUMMARY:Pub Rock Live Karaoke
DESCRIPTION:Karaoke in South Scottsdale’s prime spot! The amazing KJ Zondo in the house\, 9pm to 1am. Come keep me busy and I will stay till you’re done! \n8005 E Roosevelt St\, Scottsdale\, AZ 85257 \n+14809454985
URL:https://www.maddhatterpro.com/event/pub-rock-live-karaoke/2028-05-30/
LOCATION:Pub Rock Live\, 8005 E Roosevelt St\, Scottsdale\, AZ\, 85257\, United States
CATEGORIES:Karaoke,KJ Zondo
ATTACH;FMTTYPE=image/jpeg:https://www.maddhatterpro.com/wp-content/uploads/2026/02/PubRock-Scottsdale.jpg
END:VEVENT
BEGIN:VEVENT
DTSTART;TZID=UTC:20280606T210000
DTEND;TZID=UTC:20280606T210000
DTSTAMP:20260424T034759
CREATED:20250703T231700Z
LAST-MODIFIED:20260206T143948Z
UID:10020043-1843938000-1843938000@www.maddhatterpro.com
SUMMARY:Pub Rock Live Karaoke
DESCRIPTION:Karaoke in South Scottsdale’s prime spot! The amazing KJ Zondo in the house\, 9pm to 1am. Come keep me busy and I will stay till you’re done! \n8005 E Roosevelt St\, Scottsdale\, AZ 85257 \n+14809454985
URL:https://www.maddhatterpro.com/event/pub-rock-live-karaoke/2028-06-06/
LOCATION:Pub Rock Live\, 8005 E Roosevelt St\, Scottsdale\, AZ\, 85257\, United States
CATEGORIES:Karaoke,KJ Zondo
ATTACH;FMTTYPE=image/jpeg:https://www.maddhatterpro.com/wp-content/uploads/2026/02/PubRock-Scottsdale.jpg
END:VEVENT
BEGIN:VEVENT
DTSTART;TZID=UTC:20280613T210000
DTEND;TZID=UTC:20280613T210000
DTSTAMP:20260424T034759
CREATED:20250703T231700Z
LAST-MODIFIED:20260206T143948Z
UID:10020044-1844542800-1844542800@www.maddhatterpro.com
SUMMARY:Pub Rock Live Karaoke
DESCRIPTION:Karaoke in South Scottsdale’s prime spot! The amazing KJ Zondo in the house\, 9pm to 1am. Come keep me busy and I will stay till you’re done! \n8005 E Roosevelt St\, Scottsdale\, AZ 85257 \n+14809454985
URL:https://www.maddhatterpro.com/event/pub-rock-live-karaoke/2028-06-13/
LOCATION:Pub Rock Live\, 8005 E Roosevelt St\, Scottsdale\, AZ\, 85257\, United States
CATEGORIES:Karaoke,KJ Zondo
ATTACH;FMTTYPE=image/jpeg:https://www.maddhatterpro.com/wp-content/uploads/2026/02/PubRock-Scottsdale.jpg
END:VEVENT
BEGIN:VEVENT
DTSTART;TZID=UTC:20280620T210000
DTEND;TZID=UTC:20280620T210000
DTSTAMP:20260424T034759
CREATED:20250703T231700Z
LAST-MODIFIED:20260206T143948Z
UID:10020045-1845147600-1845147600@www.maddhatterpro.com
SUMMARY:Pub Rock Live Karaoke
DESCRIPTION:Karaoke in South Scottsdale’s prime spot! The amazing KJ Zondo in the house\, 9pm to 1am. Come keep me busy and I will stay till you’re done! \n8005 E Roosevelt St\, Scottsdale\, AZ 85257 \n+14809454985
URL:https://www.maddhatterpro.com/event/pub-rock-live-karaoke/2028-06-20/
LOCATION:Pub Rock Live\, 8005 E Roosevelt St\, Scottsdale\, AZ\, 85257\, United States
CATEGORIES:Karaoke,KJ Zondo
ATTACH;FMTTYPE=image/jpeg:https://www.maddhatterpro.com/wp-content/uploads/2026/02/PubRock-Scottsdale.jpg
END:VEVENT
BEGIN:VEVENT
DTSTART;TZID=UTC:20280627T210000
DTEND;TZID=UTC:20280627T210000
DTSTAMP:20260424T034759
CREATED:20250703T231700Z
LAST-MODIFIED:20260206T143948Z
UID:10020046-1845752400-1845752400@www.maddhatterpro.com
SUMMARY:Pub Rock Live Karaoke
DESCRIPTION:Karaoke in South Scottsdale’s prime spot! The amazing KJ Zondo in the house\, 9pm to 1am. Come keep me busy and I will stay till you’re done! \n8005 E Roosevelt St\, Scottsdale\, AZ 85257 \n+14809454985
URL:https://www.maddhatterpro.com/event/pub-rock-live-karaoke/2028-06-27/
LOCATION:Pub Rock Live\, 8005 E Roosevelt St\, Scottsdale\, AZ\, 85257\, United States
CATEGORIES:Karaoke,KJ Zondo
ATTACH;FMTTYPE=image/jpeg:https://www.maddhatterpro.com/wp-content/uploads/2026/02/PubRock-Scottsdale.jpg
END:VEVENT
BEGIN:VEVENT
DTSTART;TZID=UTC:20280704T210000
DTEND;TZID=UTC:20280704T210000
DTSTAMP:20260424T034759
CREATED:20250703T231700Z
LAST-MODIFIED:20260206T143948Z
UID:10020047-1846357200-1846357200@www.maddhatterpro.com
SUMMARY:Pub Rock Live Karaoke
DESCRIPTION:Karaoke in South Scottsdale’s prime spot! The amazing KJ Zondo in the house\, 9pm to 1am. Come keep me busy and I will stay till you’re done! \n8005 E Roosevelt St\, Scottsdale\, AZ 85257 \n+14809454985
URL:https://www.maddhatterpro.com/event/pub-rock-live-karaoke/2028-07-04/
LOCATION:Pub Rock Live\, 8005 E Roosevelt St\, Scottsdale\, AZ\, 85257\, United States
CATEGORIES:Karaoke,KJ Zondo
ATTACH;FMTTYPE=image/jpeg:https://www.maddhatterpro.com/wp-content/uploads/2026/02/PubRock-Scottsdale.jpg
END:VEVENT
BEGIN:VEVENT
DTSTART;TZID=UTC:20280711T210000
DTEND;TZID=UTC:20280711T210000
DTSTAMP:20260424T034759
CREATED:20250703T231700Z
LAST-MODIFIED:20260206T143948Z
UID:10020048-1846962000-1846962000@www.maddhatterpro.com
SUMMARY:Pub Rock Live Karaoke
DESCRIPTION:Karaoke in South Scottsdale’s prime spot! The amazing KJ Zondo in the house\, 9pm to 1am. Come keep me busy and I will stay till you’re done! \n8005 E Roosevelt St\, Scottsdale\, AZ 85257 \n+14809454985
URL:https://www.maddhatterpro.com/event/pub-rock-live-karaoke/2028-07-11/
LOCATION:Pub Rock Live\, 8005 E Roosevelt St\, Scottsdale\, AZ\, 85257\, United States
CATEGORIES:Karaoke,KJ Zondo
ATTACH;FMTTYPE=image/jpeg:https://www.maddhatterpro.com/wp-content/uploads/2026/02/PubRock-Scottsdale.jpg
END:VEVENT
BEGIN:VEVENT
DTSTART;TZID=UTC:20280718T210000
DTEND;TZID=UTC:20280718T210000
DTSTAMP:20260424T034759
CREATED:20250703T231700Z
LAST-MODIFIED:20260206T143948Z
UID:10020049-1847566800-1847566800@www.maddhatterpro.com
SUMMARY:Pub Rock Live Karaoke
DESCRIPTION:Karaoke in South Scottsdale’s prime spot! The amazing KJ Zondo in the house\, 9pm to 1am. Come keep me busy and I will stay till you’re done! \n8005 E Roosevelt St\, Scottsdale\, AZ 85257 \n+14809454985
URL:https://www.maddhatterpro.com/event/pub-rock-live-karaoke/2028-07-18/
LOCATION:Pub Rock Live\, 8005 E Roosevelt St\, Scottsdale\, AZ\, 85257\, United States
CATEGORIES:Karaoke,KJ Zondo
ATTACH;FMTTYPE=image/jpeg:https://www.maddhatterpro.com/wp-content/uploads/2026/02/PubRock-Scottsdale.jpg
END:VEVENT
BEGIN:VEVENT
DTSTART;TZID=UTC:20280725T210000
DTEND;TZID=UTC:20280725T210000
DTSTAMP:20260424T034759
CREATED:20250703T231700Z
LAST-MODIFIED:20260206T143948Z
UID:10020050-1848171600-1848171600@www.maddhatterpro.com
SUMMARY:Pub Rock Live Karaoke
DESCRIPTION:Karaoke in South Scottsdale’s prime spot! The amazing KJ Zondo in the house\, 9pm to 1am. Come keep me busy and I will stay till you’re done! \n8005 E Roosevelt St\, Scottsdale\, AZ 85257 \n+14809454985
URL:https://www.maddhatterpro.com/event/pub-rock-live-karaoke/2028-07-25/
LOCATION:Pub Rock Live\, 8005 E Roosevelt St\, Scottsdale\, AZ\, 85257\, United States
CATEGORIES:Karaoke,KJ Zondo
ATTACH;FMTTYPE=image/jpeg:https://www.maddhatterpro.com/wp-content/uploads/2026/02/PubRock-Scottsdale.jpg
END:VEVENT
BEGIN:VEVENT
DTSTART;TZID=UTC:20280801T210000
DTEND;TZID=UTC:20280801T210000
DTSTAMP:20260424T034759
CREATED:20250703T231700Z
LAST-MODIFIED:20260206T143948Z
UID:10020051-1848776400-1848776400@www.maddhatterpro.com
SUMMARY:Pub Rock Live Karaoke
DESCRIPTION:Karaoke in South Scottsdale’s prime spot! The amazing KJ Zondo in the house\, 9pm to 1am. Come keep me busy and I will stay till you’re done! \n8005 E Roosevelt St\, Scottsdale\, AZ 85257 \n+14809454985
URL:https://www.maddhatterpro.com/event/pub-rock-live-karaoke/2028-08-01/
LOCATION:Pub Rock Live\, 8005 E Roosevelt St\, Scottsdale\, AZ\, 85257\, United States
CATEGORIES:Karaoke,KJ Zondo
ATTACH;FMTTYPE=image/jpeg:https://www.maddhatterpro.com/wp-content/uploads/2026/02/PubRock-Scottsdale.jpg
END:VEVENT
BEGIN:VEVENT
DTSTART;TZID=UTC:20280808T210000
DTEND;TZID=UTC:20280808T210000
DTSTAMP:20260424T034759
CREATED:20250703T231700Z
LAST-MODIFIED:20260206T143948Z
UID:10020052-1849381200-1849381200@www.maddhatterpro.com
SUMMARY:Pub Rock Live Karaoke
DESCRIPTION:Karaoke in South Scottsdale’s prime spot! The amazing KJ Zondo in the house\, 9pm to 1am. Come keep me busy and I will stay till you’re done! \n8005 E Roosevelt St\, Scottsdale\, AZ 85257 \n+14809454985
URL:https://www.maddhatterpro.com/event/pub-rock-live-karaoke/2028-08-08/
LOCATION:Pub Rock Live\, 8005 E Roosevelt St\, Scottsdale\, AZ\, 85257\, United States
CATEGORIES:Karaoke,KJ Zondo
ATTACH;FMTTYPE=image/jpeg:https://www.maddhatterpro.com/wp-content/uploads/2026/02/PubRock-Scottsdale.jpg
END:VEVENT
BEGIN:VEVENT
DTSTART;TZID=UTC:20280815T210000
DTEND;TZID=UTC:20280815T210000
DTSTAMP:20260424T034759
CREATED:20250703T231700Z
LAST-MODIFIED:20260206T143948Z
UID:10020053-1849986000-1849986000@www.maddhatterpro.com
SUMMARY:Pub Rock Live Karaoke
DESCRIPTION:Karaoke in South Scottsdale’s prime spot! The amazing KJ Zondo in the house\, 9pm to 1am. Come keep me busy and I will stay till you’re done! \n8005 E Roosevelt St\, Scottsdale\, AZ 85257 \n+14809454985
URL:https://www.maddhatterpro.com/event/pub-rock-live-karaoke/2028-08-15/
LOCATION:Pub Rock Live\, 8005 E Roosevelt St\, Scottsdale\, AZ\, 85257\, United States
CATEGORIES:Karaoke,KJ Zondo
ATTACH;FMTTYPE=image/jpeg:https://www.maddhatterpro.com/wp-content/uploads/2026/02/PubRock-Scottsdale.jpg
END:VEVENT
BEGIN:VEVENT
DTSTART;TZID=UTC:20280822T210000
DTEND;TZID=UTC:20280822T210000
DTSTAMP:20260424T034759
CREATED:20250703T231700Z
LAST-MODIFIED:20260206T143948Z
UID:10020054-1850590800-1850590800@www.maddhatterpro.com
SUMMARY:Pub Rock Live Karaoke
DESCRIPTION:Karaoke in South Scottsdale’s prime spot! The amazing KJ Zondo in the house\, 9pm to 1am. Come keep me busy and I will stay till you’re done! \n8005 E Roosevelt St\, Scottsdale\, AZ 85257 \n+14809454985
URL:https://www.maddhatterpro.com/event/pub-rock-live-karaoke/2028-08-22/
LOCATION:Pub Rock Live\, 8005 E Roosevelt St\, Scottsdale\, AZ\, 85257\, United States
CATEGORIES:Karaoke,KJ Zondo
ATTACH;FMTTYPE=image/jpeg:https://www.maddhatterpro.com/wp-content/uploads/2026/02/PubRock-Scottsdale.jpg
END:VEVENT
BEGIN:VEVENT
DTSTART;TZID=UTC:20280829T210000
DTEND;TZID=UTC:20280829T210000
DTSTAMP:20260424T034759
CREATED:20250703T231700Z
LAST-MODIFIED:20260206T143948Z
UID:10020055-1851195600-1851195600@www.maddhatterpro.com
SUMMARY:Pub Rock Live Karaoke
DESCRIPTION:Karaoke in South Scottsdale’s prime spot! The amazing KJ Zondo in the house\, 9pm to 1am. Come keep me busy and I will stay till you’re done! \n8005 E Roosevelt St\, Scottsdale\, AZ 85257 \n+14809454985
URL:https://www.maddhatterpro.com/event/pub-rock-live-karaoke/2028-08-29/
LOCATION:Pub Rock Live\, 8005 E Roosevelt St\, Scottsdale\, AZ\, 85257\, United States
CATEGORIES:Karaoke,KJ Zondo
ATTACH;FMTTYPE=image/jpeg:https://www.maddhatterpro.com/wp-content/uploads/2026/02/PubRock-Scottsdale.jpg
END:VEVENT
BEGIN:VEVENT
DTSTART;TZID=UTC:20280905T210000
DTEND;TZID=UTC:20280905T210000
DTSTAMP:20260424T034759
CREATED:20250703T231700Z
LAST-MODIFIED:20260206T143948Z
UID:10020056-1851800400-1851800400@www.maddhatterpro.com
SUMMARY:Pub Rock Live Karaoke
DESCRIPTION:Karaoke in South Scottsdale’s prime spot! The amazing KJ Zondo in the house\, 9pm to 1am. Come keep me busy and I will stay till you’re done! \n8005 E Roosevelt St\, Scottsdale\, AZ 85257 \n+14809454985
URL:https://www.maddhatterpro.com/event/pub-rock-live-karaoke/2028-09-05/
LOCATION:Pub Rock Live\, 8005 E Roosevelt St\, Scottsdale\, AZ\, 85257\, United States
CATEGORIES:Karaoke,KJ Zondo
ATTACH;FMTTYPE=image/jpeg:https://www.maddhatterpro.com/wp-content/uploads/2026/02/PubRock-Scottsdale.jpg
END:VEVENT
BEGIN:VEVENT
DTSTART;TZID=UTC:20280912T210000
DTEND;TZID=UTC:20280912T210000
DTSTAMP:20260424T034759
CREATED:20250703T231700Z
LAST-MODIFIED:20260206T143948Z
UID:10020057-1852405200-1852405200@www.maddhatterpro.com
SUMMARY:Pub Rock Live Karaoke
DESCRIPTION:Karaoke in South Scottsdale’s prime spot! The amazing KJ Zondo in the house\, 9pm to 1am. Come keep me busy and I will stay till you’re done! \n8005 E Roosevelt St\, Scottsdale\, AZ 85257 \n+14809454985
URL:https://www.maddhatterpro.com/event/pub-rock-live-karaoke/2028-09-12/
LOCATION:Pub Rock Live\, 8005 E Roosevelt St\, Scottsdale\, AZ\, 85257\, United States
CATEGORIES:Karaoke,KJ Zondo
ATTACH;FMTTYPE=image/jpeg:https://www.maddhatterpro.com/wp-content/uploads/2026/02/PubRock-Scottsdale.jpg
END:VEVENT
BEGIN:VEVENT
DTSTART;TZID=UTC:20280919T210000
DTEND;TZID=UTC:20280919T210000
DTSTAMP:20260424T034759
CREATED:20250703T231700Z
LAST-MODIFIED:20260206T143948Z
UID:10020058-1853010000-1853010000@www.maddhatterpro.com
SUMMARY:Pub Rock Live Karaoke
DESCRIPTION:Karaoke in South Scottsdale’s prime spot! The amazing KJ Zondo in the house\, 9pm to 1am. Come keep me busy and I will stay till you’re done! \n8005 E Roosevelt St\, Scottsdale\, AZ 85257 \n+14809454985
URL:https://www.maddhatterpro.com/event/pub-rock-live-karaoke/2028-09-19/
LOCATION:Pub Rock Live\, 8005 E Roosevelt St\, Scottsdale\, AZ\, 85257\, United States
CATEGORIES:Karaoke,KJ Zondo
ATTACH;FMTTYPE=image/jpeg:https://www.maddhatterpro.com/wp-content/uploads/2026/02/PubRock-Scottsdale.jpg
END:VEVENT
END:VCALENDAR