BEGIN:VCALENDAR
VERSION:2.0
PRODID:-//MaddHatterPro.com - ECPv6.15.20//NONSGML v1.0//EN
CALSCALE:GREGORIAN
METHOD:PUBLISH
X-ORIGINAL-URL:https://www.maddhatterpro.com
X-WR-CALDESC:Events for MaddHatterPro.com
REFRESH-INTERVAL;VALUE=DURATION:PT1H
X-Robots-Tag:noindex
X-PUBLISHED-TTL:PT1H
BEGIN:VTIMEZONE
TZID:UTC
BEGIN:STANDARD
TZOFFSETFROM:+0000
TZOFFSETTO:+0000
TZNAME:UTC
DTSTART:20260101T000000
END:STANDARD
END:VTIMEZONE
BEGIN:VEVENT
DTSTART;TZID=UTC:20271207T200000
DTEND;TZID=UTC:20271207T200000
DTSTAMP:20260424T022504
CREATED:20250703T234609Z
LAST-MODIFIED:20260206T143724Z
UID:10021062-1828209600-1828209600@www.maddhatterpro.com
SUMMARY:Spokes on Southern Karaoke
DESCRIPTION:Great food\, great community oriented staff\, and stars like you make this  show a blast for the lovely KJ Wilde! Come sing the evening away 8pm-midnight. \n1470 E Southern Ave\, Tempe\, AZ 85282 \n+14803079920
URL:https://www.maddhatterpro.com/event/spokes-on-southern-karaoke/2027-12-07/
LOCATION:Spokes on Southern\, 1470 E Southern Ave\, Tempe\, AZ\, 85282\, United States
CATEGORIES:Karaoke,KJ Wilde
ATTACH;FMTTYPE=image/jpeg:https://www.maddhatterpro.com/wp-content/uploads/2026/02/spokes-tempe.jpg
END:VEVENT
BEGIN:VEVENT
DTSTART;TZID=UTC:20271214T200000
DTEND;TZID=UTC:20271214T200000
DTSTAMP:20260424T022504
CREATED:20250703T234609Z
LAST-MODIFIED:20260206T143724Z
UID:10021063-1828814400-1828814400@www.maddhatterpro.com
SUMMARY:Spokes on Southern Karaoke
DESCRIPTION:Great food\, great community oriented staff\, and stars like you make this  show a blast for the lovely KJ Wilde! Come sing the evening away 8pm-midnight. \n1470 E Southern Ave\, Tempe\, AZ 85282 \n+14803079920
URL:https://www.maddhatterpro.com/event/spokes-on-southern-karaoke/2027-12-14/
LOCATION:Spokes on Southern\, 1470 E Southern Ave\, Tempe\, AZ\, 85282\, United States
CATEGORIES:Karaoke,KJ Wilde
ATTACH;FMTTYPE=image/jpeg:https://www.maddhatterpro.com/wp-content/uploads/2026/02/spokes-tempe.jpg
END:VEVENT
BEGIN:VEVENT
DTSTART;TZID=UTC:20271221T200000
DTEND;TZID=UTC:20271221T200000
DTSTAMP:20260424T022504
CREATED:20250703T234609Z
LAST-MODIFIED:20260206T143724Z
UID:10021064-1829419200-1829419200@www.maddhatterpro.com
SUMMARY:Spokes on Southern Karaoke
DESCRIPTION:Great food\, great community oriented staff\, and stars like you make this  show a blast for the lovely KJ Wilde! Come sing the evening away 8pm-midnight. \n1470 E Southern Ave\, Tempe\, AZ 85282 \n+14803079920
URL:https://www.maddhatterpro.com/event/spokes-on-southern-karaoke/2027-12-21/
LOCATION:Spokes on Southern\, 1470 E Southern Ave\, Tempe\, AZ\, 85282\, United States
CATEGORIES:Karaoke,KJ Wilde
ATTACH;FMTTYPE=image/jpeg:https://www.maddhatterpro.com/wp-content/uploads/2026/02/spokes-tempe.jpg
END:VEVENT
BEGIN:VEVENT
DTSTART;TZID=UTC:20271228T200000
DTEND;TZID=UTC:20271228T200000
DTSTAMP:20260424T022504
CREATED:20250703T234609Z
LAST-MODIFIED:20260206T143724Z
UID:10021065-1830024000-1830024000@www.maddhatterpro.com
SUMMARY:Spokes on Southern Karaoke
DESCRIPTION:Great food\, great community oriented staff\, and stars like you make this  show a blast for the lovely KJ Wilde! Come sing the evening away 8pm-midnight. \n1470 E Southern Ave\, Tempe\, AZ 85282 \n+14803079920
URL:https://www.maddhatterpro.com/event/spokes-on-southern-karaoke/2027-12-28/
LOCATION:Spokes on Southern\, 1470 E Southern Ave\, Tempe\, AZ\, 85282\, United States
CATEGORIES:Karaoke,KJ Wilde
ATTACH;FMTTYPE=image/jpeg:https://www.maddhatterpro.com/wp-content/uploads/2026/02/spokes-tempe.jpg
END:VEVENT
BEGIN:VEVENT
DTSTART;TZID=UTC:20280104T200000
DTEND;TZID=UTC:20280104T200000
DTSTAMP:20260424T022504
CREATED:20250703T234609Z
LAST-MODIFIED:20260206T143724Z
UID:10021066-1830628800-1830628800@www.maddhatterpro.com
SUMMARY:Spokes on Southern Karaoke
DESCRIPTION:Great food\, great community oriented staff\, and stars like you make this  show a blast for the lovely KJ Wilde! Come sing the evening away 8pm-midnight. \n1470 E Southern Ave\, Tempe\, AZ 85282 \n+14803079920
URL:https://www.maddhatterpro.com/event/spokes-on-southern-karaoke/2028-01-04/
LOCATION:Spokes on Southern\, 1470 E Southern Ave\, Tempe\, AZ\, 85282\, United States
CATEGORIES:Karaoke,KJ Wilde
ATTACH;FMTTYPE=image/jpeg:https://www.maddhatterpro.com/wp-content/uploads/2026/02/spokes-tempe.jpg
END:VEVENT
BEGIN:VEVENT
DTSTART;TZID=UTC:20280111T200000
DTEND;TZID=UTC:20280111T200000
DTSTAMP:20260424T022504
CREATED:20250703T234609Z
LAST-MODIFIED:20260206T143724Z
UID:10021067-1831233600-1831233600@www.maddhatterpro.com
SUMMARY:Spokes on Southern Karaoke
DESCRIPTION:Great food\, great community oriented staff\, and stars like you make this  show a blast for the lovely KJ Wilde! Come sing the evening away 8pm-midnight. \n1470 E Southern Ave\, Tempe\, AZ 85282 \n+14803079920
URL:https://www.maddhatterpro.com/event/spokes-on-southern-karaoke/2028-01-11/
LOCATION:Spokes on Southern\, 1470 E Southern Ave\, Tempe\, AZ\, 85282\, United States
CATEGORIES:Karaoke,KJ Wilde
ATTACH;FMTTYPE=image/jpeg:https://www.maddhatterpro.com/wp-content/uploads/2026/02/spokes-tempe.jpg
END:VEVENT
BEGIN:VEVENT
DTSTART;TZID=UTC:20280118T200000
DTEND;TZID=UTC:20280118T200000
DTSTAMP:20260424T022504
CREATED:20250703T234609Z
LAST-MODIFIED:20260206T143724Z
UID:10021068-1831838400-1831838400@www.maddhatterpro.com
SUMMARY:Spokes on Southern Karaoke
DESCRIPTION:Great food\, great community oriented staff\, and stars like you make this  show a blast for the lovely KJ Wilde! Come sing the evening away 8pm-midnight. \n1470 E Southern Ave\, Tempe\, AZ 85282 \n+14803079920
URL:https://www.maddhatterpro.com/event/spokes-on-southern-karaoke/2028-01-18/
LOCATION:Spokes on Southern\, 1470 E Southern Ave\, Tempe\, AZ\, 85282\, United States
CATEGORIES:Karaoke,KJ Wilde
ATTACH;FMTTYPE=image/jpeg:https://www.maddhatterpro.com/wp-content/uploads/2026/02/spokes-tempe.jpg
END:VEVENT
BEGIN:VEVENT
DTSTART;TZID=UTC:20280125T200000
DTEND;TZID=UTC:20280125T200000
DTSTAMP:20260424T022504
CREATED:20250703T234609Z
LAST-MODIFIED:20260206T143724Z
UID:10021069-1832443200-1832443200@www.maddhatterpro.com
SUMMARY:Spokes on Southern Karaoke
DESCRIPTION:Great food\, great community oriented staff\, and stars like you make this  show a blast for the lovely KJ Wilde! Come sing the evening away 8pm-midnight. \n1470 E Southern Ave\, Tempe\, AZ 85282 \n+14803079920
URL:https://www.maddhatterpro.com/event/spokes-on-southern-karaoke/2028-01-25/
LOCATION:Spokes on Southern\, 1470 E Southern Ave\, Tempe\, AZ\, 85282\, United States
CATEGORIES:Karaoke,KJ Wilde
ATTACH;FMTTYPE=image/jpeg:https://www.maddhatterpro.com/wp-content/uploads/2026/02/spokes-tempe.jpg
END:VEVENT
BEGIN:VEVENT
DTSTART;TZID=UTC:20280201T200000
DTEND;TZID=UTC:20280201T200000
DTSTAMP:20260424T022504
CREATED:20250703T234609Z
LAST-MODIFIED:20260206T143724Z
UID:10021070-1833048000-1833048000@www.maddhatterpro.com
SUMMARY:Spokes on Southern Karaoke
DESCRIPTION:Great food\, great community oriented staff\, and stars like you make this  show a blast for the lovely KJ Wilde! Come sing the evening away 8pm-midnight. \n1470 E Southern Ave\, Tempe\, AZ 85282 \n+14803079920
URL:https://www.maddhatterpro.com/event/spokes-on-southern-karaoke/2028-02-01/
LOCATION:Spokes on Southern\, 1470 E Southern Ave\, Tempe\, AZ\, 85282\, United States
CATEGORIES:Karaoke,KJ Wilde
ATTACH;FMTTYPE=image/jpeg:https://www.maddhatterpro.com/wp-content/uploads/2026/02/spokes-tempe.jpg
END:VEVENT
BEGIN:VEVENT
DTSTART;TZID=UTC:20280208T200000
DTEND;TZID=UTC:20280208T200000
DTSTAMP:20260424T022504
CREATED:20250703T234609Z
LAST-MODIFIED:20260206T143724Z
UID:10021071-1833652800-1833652800@www.maddhatterpro.com
SUMMARY:Spokes on Southern Karaoke
DESCRIPTION:Great food\, great community oriented staff\, and stars like you make this  show a blast for the lovely KJ Wilde! Come sing the evening away 8pm-midnight. \n1470 E Southern Ave\, Tempe\, AZ 85282 \n+14803079920
URL:https://www.maddhatterpro.com/event/spokes-on-southern-karaoke/2028-02-08/
LOCATION:Spokes on Southern\, 1470 E Southern Ave\, Tempe\, AZ\, 85282\, United States
CATEGORIES:Karaoke,KJ Wilde
ATTACH;FMTTYPE=image/jpeg:https://www.maddhatterpro.com/wp-content/uploads/2026/02/spokes-tempe.jpg
END:VEVENT
BEGIN:VEVENT
DTSTART;TZID=UTC:20280215T200000
DTEND;TZID=UTC:20280215T200000
DTSTAMP:20260424T022504
CREATED:20250703T234609Z
LAST-MODIFIED:20260206T143724Z
UID:10021072-1834257600-1834257600@www.maddhatterpro.com
SUMMARY:Spokes on Southern Karaoke
DESCRIPTION:Great food\, great community oriented staff\, and stars like you make this  show a blast for the lovely KJ Wilde! Come sing the evening away 8pm-midnight. \n1470 E Southern Ave\, Tempe\, AZ 85282 \n+14803079920
URL:https://www.maddhatterpro.com/event/spokes-on-southern-karaoke/2028-02-15/
LOCATION:Spokes on Southern\, 1470 E Southern Ave\, Tempe\, AZ\, 85282\, United States
CATEGORIES:Karaoke,KJ Wilde
ATTACH;FMTTYPE=image/jpeg:https://www.maddhatterpro.com/wp-content/uploads/2026/02/spokes-tempe.jpg
END:VEVENT
BEGIN:VEVENT
DTSTART;TZID=UTC:20280222T200000
DTEND;TZID=UTC:20280222T200000
DTSTAMP:20260424T022504
CREATED:20250703T234609Z
LAST-MODIFIED:20260206T143724Z
UID:10021073-1834862400-1834862400@www.maddhatterpro.com
SUMMARY:Spokes on Southern Karaoke
DESCRIPTION:Great food\, great community oriented staff\, and stars like you make this  show a blast for the lovely KJ Wilde! Come sing the evening away 8pm-midnight. \n1470 E Southern Ave\, Tempe\, AZ 85282 \n+14803079920
URL:https://www.maddhatterpro.com/event/spokes-on-southern-karaoke/2028-02-22/
LOCATION:Spokes on Southern\, 1470 E Southern Ave\, Tempe\, AZ\, 85282\, United States
CATEGORIES:Karaoke,KJ Wilde
ATTACH;FMTTYPE=image/jpeg:https://www.maddhatterpro.com/wp-content/uploads/2026/02/spokes-tempe.jpg
END:VEVENT
BEGIN:VEVENT
DTSTART;TZID=UTC:20280229T200000
DTEND;TZID=UTC:20280229T200000
DTSTAMP:20260424T022504
CREATED:20250703T234609Z
LAST-MODIFIED:20260206T143724Z
UID:10021074-1835467200-1835467200@www.maddhatterpro.com
SUMMARY:Spokes on Southern Karaoke
DESCRIPTION:Great food\, great community oriented staff\, and stars like you make this  show a blast for the lovely KJ Wilde! Come sing the evening away 8pm-midnight. \n1470 E Southern Ave\, Tempe\, AZ 85282 \n+14803079920
URL:https://www.maddhatterpro.com/event/spokes-on-southern-karaoke/2028-02-29/
LOCATION:Spokes on Southern\, 1470 E Southern Ave\, Tempe\, AZ\, 85282\, United States
CATEGORIES:Karaoke,KJ Wilde
ATTACH;FMTTYPE=image/jpeg:https://www.maddhatterpro.com/wp-content/uploads/2026/02/spokes-tempe.jpg
END:VEVENT
BEGIN:VEVENT
DTSTART;TZID=UTC:20280307T200000
DTEND;TZID=UTC:20280307T200000
DTSTAMP:20260424T022504
CREATED:20250703T234609Z
LAST-MODIFIED:20260206T143724Z
UID:10021075-1836072000-1836072000@www.maddhatterpro.com
SUMMARY:Spokes on Southern Karaoke
DESCRIPTION:Great food\, great community oriented staff\, and stars like you make this  show a blast for the lovely KJ Wilde! Come sing the evening away 8pm-midnight. \n1470 E Southern Ave\, Tempe\, AZ 85282 \n+14803079920
URL:https://www.maddhatterpro.com/event/spokes-on-southern-karaoke/2028-03-07/
LOCATION:Spokes on Southern\, 1470 E Southern Ave\, Tempe\, AZ\, 85282\, United States
CATEGORIES:Karaoke,KJ Wilde
ATTACH;FMTTYPE=image/jpeg:https://www.maddhatterpro.com/wp-content/uploads/2026/02/spokes-tempe.jpg
END:VEVENT
BEGIN:VEVENT
DTSTART;TZID=UTC:20280314T200000
DTEND;TZID=UTC:20280314T200000
DTSTAMP:20260424T022504
CREATED:20250703T234609Z
LAST-MODIFIED:20260206T143724Z
UID:10021076-1836676800-1836676800@www.maddhatterpro.com
SUMMARY:Spokes on Southern Karaoke
DESCRIPTION:Great food\, great community oriented staff\, and stars like you make this  show a blast for the lovely KJ Wilde! Come sing the evening away 8pm-midnight. \n1470 E Southern Ave\, Tempe\, AZ 85282 \n+14803079920
URL:https://www.maddhatterpro.com/event/spokes-on-southern-karaoke/2028-03-14/
LOCATION:Spokes on Southern\, 1470 E Southern Ave\, Tempe\, AZ\, 85282\, United States
CATEGORIES:Karaoke,KJ Wilde
ATTACH;FMTTYPE=image/jpeg:https://www.maddhatterpro.com/wp-content/uploads/2026/02/spokes-tempe.jpg
END:VEVENT
BEGIN:VEVENT
DTSTART;TZID=UTC:20280321T200000
DTEND;TZID=UTC:20280321T200000
DTSTAMP:20260424T022504
CREATED:20250703T234609Z
LAST-MODIFIED:20260206T143724Z
UID:10021077-1837281600-1837281600@www.maddhatterpro.com
SUMMARY:Spokes on Southern Karaoke
DESCRIPTION:Great food\, great community oriented staff\, and stars like you make this  show a blast for the lovely KJ Wilde! Come sing the evening away 8pm-midnight. \n1470 E Southern Ave\, Tempe\, AZ 85282 \n+14803079920
URL:https://www.maddhatterpro.com/event/spokes-on-southern-karaoke/2028-03-21/
LOCATION:Spokes on Southern\, 1470 E Southern Ave\, Tempe\, AZ\, 85282\, United States
CATEGORIES:Karaoke,KJ Wilde
ATTACH;FMTTYPE=image/jpeg:https://www.maddhatterpro.com/wp-content/uploads/2026/02/spokes-tempe.jpg
END:VEVENT
BEGIN:VEVENT
DTSTART;TZID=UTC:20280328T200000
DTEND;TZID=UTC:20280328T200000
DTSTAMP:20260424T022504
CREATED:20250703T234609Z
LAST-MODIFIED:20260206T143724Z
UID:10021078-1837886400-1837886400@www.maddhatterpro.com
SUMMARY:Spokes on Southern Karaoke
DESCRIPTION:Great food\, great community oriented staff\, and stars like you make this  show a blast for the lovely KJ Wilde! Come sing the evening away 8pm-midnight. \n1470 E Southern Ave\, Tempe\, AZ 85282 \n+14803079920
URL:https://www.maddhatterpro.com/event/spokes-on-southern-karaoke/2028-03-28/
LOCATION:Spokes on Southern\, 1470 E Southern Ave\, Tempe\, AZ\, 85282\, United States
CATEGORIES:Karaoke,KJ Wilde
ATTACH;FMTTYPE=image/jpeg:https://www.maddhatterpro.com/wp-content/uploads/2026/02/spokes-tempe.jpg
END:VEVENT
BEGIN:VEVENT
DTSTART;TZID=UTC:20280404T200000
DTEND;TZID=UTC:20280404T200000
DTSTAMP:20260424T022504
CREATED:20250703T234609Z
LAST-MODIFIED:20260206T143724Z
UID:10021079-1838491200-1838491200@www.maddhatterpro.com
SUMMARY:Spokes on Southern Karaoke
DESCRIPTION:Great food\, great community oriented staff\, and stars like you make this  show a blast for the lovely KJ Wilde! Come sing the evening away 8pm-midnight. \n1470 E Southern Ave\, Tempe\, AZ 85282 \n+14803079920
URL:https://www.maddhatterpro.com/event/spokes-on-southern-karaoke/2028-04-04/
LOCATION:Spokes on Southern\, 1470 E Southern Ave\, Tempe\, AZ\, 85282\, United States
CATEGORIES:Karaoke,KJ Wilde
ATTACH;FMTTYPE=image/jpeg:https://www.maddhatterpro.com/wp-content/uploads/2026/02/spokes-tempe.jpg
END:VEVENT
BEGIN:VEVENT
DTSTART;TZID=UTC:20280411T200000
DTEND;TZID=UTC:20280411T200000
DTSTAMP:20260424T022504
CREATED:20250703T234609Z
LAST-MODIFIED:20260206T143724Z
UID:10021080-1839096000-1839096000@www.maddhatterpro.com
SUMMARY:Spokes on Southern Karaoke
DESCRIPTION:Great food\, great community oriented staff\, and stars like you make this  show a blast for the lovely KJ Wilde! Come sing the evening away 8pm-midnight. \n1470 E Southern Ave\, Tempe\, AZ 85282 \n+14803079920
URL:https://www.maddhatterpro.com/event/spokes-on-southern-karaoke/2028-04-11/
LOCATION:Spokes on Southern\, 1470 E Southern Ave\, Tempe\, AZ\, 85282\, United States
CATEGORIES:Karaoke,KJ Wilde
ATTACH;FMTTYPE=image/jpeg:https://www.maddhatterpro.com/wp-content/uploads/2026/02/spokes-tempe.jpg
END:VEVENT
BEGIN:VEVENT
DTSTART;TZID=UTC:20280418T200000
DTEND;TZID=UTC:20280418T200000
DTSTAMP:20260424T022504
CREATED:20250703T234609Z
LAST-MODIFIED:20260206T143724Z
UID:10021081-1839700800-1839700800@www.maddhatterpro.com
SUMMARY:Spokes on Southern Karaoke
DESCRIPTION:Great food\, great community oriented staff\, and stars like you make this  show a blast for the lovely KJ Wilde! Come sing the evening away 8pm-midnight. \n1470 E Southern Ave\, Tempe\, AZ 85282 \n+14803079920
URL:https://www.maddhatterpro.com/event/spokes-on-southern-karaoke/2028-04-18/
LOCATION:Spokes on Southern\, 1470 E Southern Ave\, Tempe\, AZ\, 85282\, United States
CATEGORIES:Karaoke,KJ Wilde
ATTACH;FMTTYPE=image/jpeg:https://www.maddhatterpro.com/wp-content/uploads/2026/02/spokes-tempe.jpg
END:VEVENT
BEGIN:VEVENT
DTSTART;TZID=UTC:20280425T200000
DTEND;TZID=UTC:20280425T200000
DTSTAMP:20260424T022504
CREATED:20250703T234609Z
LAST-MODIFIED:20260206T143724Z
UID:10021082-1840305600-1840305600@www.maddhatterpro.com
SUMMARY:Spokes on Southern Karaoke
DESCRIPTION:Great food\, great community oriented staff\, and stars like you make this  show a blast for the lovely KJ Wilde! Come sing the evening away 8pm-midnight. \n1470 E Southern Ave\, Tempe\, AZ 85282 \n+14803079920
URL:https://www.maddhatterpro.com/event/spokes-on-southern-karaoke/2028-04-25/
LOCATION:Spokes on Southern\, 1470 E Southern Ave\, Tempe\, AZ\, 85282\, United States
CATEGORIES:Karaoke,KJ Wilde
ATTACH;FMTTYPE=image/jpeg:https://www.maddhatterpro.com/wp-content/uploads/2026/02/spokes-tempe.jpg
END:VEVENT
BEGIN:VEVENT
DTSTART;TZID=UTC:20280502T200000
DTEND;TZID=UTC:20280502T200000
DTSTAMP:20260424T022504
CREATED:20250703T234609Z
LAST-MODIFIED:20260206T143724Z
UID:10021083-1840910400-1840910400@www.maddhatterpro.com
SUMMARY:Spokes on Southern Karaoke
DESCRIPTION:Great food\, great community oriented staff\, and stars like you make this  show a blast for the lovely KJ Wilde! Come sing the evening away 8pm-midnight. \n1470 E Southern Ave\, Tempe\, AZ 85282 \n+14803079920
URL:https://www.maddhatterpro.com/event/spokes-on-southern-karaoke/2028-05-02/
LOCATION:Spokes on Southern\, 1470 E Southern Ave\, Tempe\, AZ\, 85282\, United States
CATEGORIES:Karaoke,KJ Wilde
ATTACH;FMTTYPE=image/jpeg:https://www.maddhatterpro.com/wp-content/uploads/2026/02/spokes-tempe.jpg
END:VEVENT
BEGIN:VEVENT
DTSTART;TZID=UTC:20280509T200000
DTEND;TZID=UTC:20280509T200000
DTSTAMP:20260424T022504
CREATED:20250703T234609Z
LAST-MODIFIED:20260206T143724Z
UID:10021084-1841515200-1841515200@www.maddhatterpro.com
SUMMARY:Spokes on Southern Karaoke
DESCRIPTION:Great food\, great community oriented staff\, and stars like you make this  show a blast for the lovely KJ Wilde! Come sing the evening away 8pm-midnight. \n1470 E Southern Ave\, Tempe\, AZ 85282 \n+14803079920
URL:https://www.maddhatterpro.com/event/spokes-on-southern-karaoke/2028-05-09/
LOCATION:Spokes on Southern\, 1470 E Southern Ave\, Tempe\, AZ\, 85282\, United States
CATEGORIES:Karaoke,KJ Wilde
ATTACH;FMTTYPE=image/jpeg:https://www.maddhatterpro.com/wp-content/uploads/2026/02/spokes-tempe.jpg
END:VEVENT
BEGIN:VEVENT
DTSTART;TZID=UTC:20280516T200000
DTEND;TZID=UTC:20280516T200000
DTSTAMP:20260424T022504
CREATED:20250703T234609Z
LAST-MODIFIED:20260206T143724Z
UID:10021085-1842120000-1842120000@www.maddhatterpro.com
SUMMARY:Spokes on Southern Karaoke
DESCRIPTION:Great food\, great community oriented staff\, and stars like you make this  show a blast for the lovely KJ Wilde! Come sing the evening away 8pm-midnight. \n1470 E Southern Ave\, Tempe\, AZ 85282 \n+14803079920
URL:https://www.maddhatterpro.com/event/spokes-on-southern-karaoke/2028-05-16/
LOCATION:Spokes on Southern\, 1470 E Southern Ave\, Tempe\, AZ\, 85282\, United States
CATEGORIES:Karaoke,KJ Wilde
ATTACH;FMTTYPE=image/jpeg:https://www.maddhatterpro.com/wp-content/uploads/2026/02/spokes-tempe.jpg
END:VEVENT
BEGIN:VEVENT
DTSTART;TZID=UTC:20280523T200000
DTEND;TZID=UTC:20280523T200000
DTSTAMP:20260424T022504
CREATED:20250703T234609Z
LAST-MODIFIED:20260206T143724Z
UID:10021086-1842724800-1842724800@www.maddhatterpro.com
SUMMARY:Spokes on Southern Karaoke
DESCRIPTION:Great food\, great community oriented staff\, and stars like you make this  show a blast for the lovely KJ Wilde! Come sing the evening away 8pm-midnight. \n1470 E Southern Ave\, Tempe\, AZ 85282 \n+14803079920
URL:https://www.maddhatterpro.com/event/spokes-on-southern-karaoke/2028-05-23/
LOCATION:Spokes on Southern\, 1470 E Southern Ave\, Tempe\, AZ\, 85282\, United States
CATEGORIES:Karaoke,KJ Wilde
ATTACH;FMTTYPE=image/jpeg:https://www.maddhatterpro.com/wp-content/uploads/2026/02/spokes-tempe.jpg
END:VEVENT
BEGIN:VEVENT
DTSTART;TZID=UTC:20280530T200000
DTEND;TZID=UTC:20280530T200000
DTSTAMP:20260424T022504
CREATED:20250703T234609Z
LAST-MODIFIED:20260206T143724Z
UID:10021087-1843329600-1843329600@www.maddhatterpro.com
SUMMARY:Spokes on Southern Karaoke
DESCRIPTION:Great food\, great community oriented staff\, and stars like you make this  show a blast for the lovely KJ Wilde! Come sing the evening away 8pm-midnight. \n1470 E Southern Ave\, Tempe\, AZ 85282 \n+14803079920
URL:https://www.maddhatterpro.com/event/spokes-on-southern-karaoke/2028-05-30/
LOCATION:Spokes on Southern\, 1470 E Southern Ave\, Tempe\, AZ\, 85282\, United States
CATEGORIES:Karaoke,KJ Wilde
ATTACH;FMTTYPE=image/jpeg:https://www.maddhatterpro.com/wp-content/uploads/2026/02/spokes-tempe.jpg
END:VEVENT
BEGIN:VEVENT
DTSTART;TZID=UTC:20280606T200000
DTEND;TZID=UTC:20280606T200000
DTSTAMP:20260424T022504
CREATED:20250703T234609Z
LAST-MODIFIED:20260206T143724Z
UID:10021088-1843934400-1843934400@www.maddhatterpro.com
SUMMARY:Spokes on Southern Karaoke
DESCRIPTION:Great food\, great community oriented staff\, and stars like you make this  show a blast for the lovely KJ Wilde! Come sing the evening away 8pm-midnight. \n1470 E Southern Ave\, Tempe\, AZ 85282 \n+14803079920
URL:https://www.maddhatterpro.com/event/spokes-on-southern-karaoke/2028-06-06/
LOCATION:Spokes on Southern\, 1470 E Southern Ave\, Tempe\, AZ\, 85282\, United States
CATEGORIES:Karaoke,KJ Wilde
ATTACH;FMTTYPE=image/jpeg:https://www.maddhatterpro.com/wp-content/uploads/2026/02/spokes-tempe.jpg
END:VEVENT
BEGIN:VEVENT
DTSTART;TZID=UTC:20280613T200000
DTEND;TZID=UTC:20280613T200000
DTSTAMP:20260424T022504
CREATED:20250703T234609Z
LAST-MODIFIED:20260206T143724Z
UID:10021089-1844539200-1844539200@www.maddhatterpro.com
SUMMARY:Spokes on Southern Karaoke
DESCRIPTION:Great food\, great community oriented staff\, and stars like you make this  show a blast for the lovely KJ Wilde! Come sing the evening away 8pm-midnight. \n1470 E Southern Ave\, Tempe\, AZ 85282 \n+14803079920
URL:https://www.maddhatterpro.com/event/spokes-on-southern-karaoke/2028-06-13/
LOCATION:Spokes on Southern\, 1470 E Southern Ave\, Tempe\, AZ\, 85282\, United States
CATEGORIES:Karaoke,KJ Wilde
ATTACH;FMTTYPE=image/jpeg:https://www.maddhatterpro.com/wp-content/uploads/2026/02/spokes-tempe.jpg
END:VEVENT
BEGIN:VEVENT
DTSTART;TZID=UTC:20280620T200000
DTEND;TZID=UTC:20280620T200000
DTSTAMP:20260424T022504
CREATED:20250703T234609Z
LAST-MODIFIED:20260206T143724Z
UID:10021090-1845144000-1845144000@www.maddhatterpro.com
SUMMARY:Spokes on Southern Karaoke
DESCRIPTION:Great food\, great community oriented staff\, and stars like you make this  show a blast for the lovely KJ Wilde! Come sing the evening away 8pm-midnight. \n1470 E Southern Ave\, Tempe\, AZ 85282 \n+14803079920
URL:https://www.maddhatterpro.com/event/spokes-on-southern-karaoke/2028-06-20/
LOCATION:Spokes on Southern\, 1470 E Southern Ave\, Tempe\, AZ\, 85282\, United States
CATEGORIES:Karaoke,KJ Wilde
ATTACH;FMTTYPE=image/jpeg:https://www.maddhatterpro.com/wp-content/uploads/2026/02/spokes-tempe.jpg
END:VEVENT
BEGIN:VEVENT
DTSTART;TZID=UTC:20280627T200000
DTEND;TZID=UTC:20280627T200000
DTSTAMP:20260424T022504
CREATED:20250703T234609Z
LAST-MODIFIED:20260206T143724Z
UID:10021091-1845748800-1845748800@www.maddhatterpro.com
SUMMARY:Spokes on Southern Karaoke
DESCRIPTION:Great food\, great community oriented staff\, and stars like you make this  show a blast for the lovely KJ Wilde! Come sing the evening away 8pm-midnight. \n1470 E Southern Ave\, Tempe\, AZ 85282 \n+14803079920
URL:https://www.maddhatterpro.com/event/spokes-on-southern-karaoke/2028-06-27/
LOCATION:Spokes on Southern\, 1470 E Southern Ave\, Tempe\, AZ\, 85282\, United States
CATEGORIES:Karaoke,KJ Wilde
ATTACH;FMTTYPE=image/jpeg:https://www.maddhatterpro.com/wp-content/uploads/2026/02/spokes-tempe.jpg
END:VEVENT
END:VCALENDAR