BEGIN:VCALENDAR
VERSION:2.0
PRODID:-//MaddHatterPro.com - ECPv6.15.20//NONSGML v1.0//EN
CALSCALE:GREGORIAN
METHOD:PUBLISH
X-ORIGINAL-URL:https://www.maddhatterpro.com
X-WR-CALDESC:Events for MaddHatterPro.com
REFRESH-INTERVAL;VALUE=DURATION:PT1H
X-Robots-Tag:noindex
X-PUBLISHED-TTL:PT1H
BEGIN:VTIMEZONE
TZID:UTC
BEGIN:STANDARD
TZOFFSETFROM:+0000
TZOFFSETTO:+0000
TZNAME:UTC
DTSTART:20260101T000000
END:STANDARD
END:VTIMEZONE
BEGIN:VEVENT
DTSTART;TZID=UTC:20271205T210000
DTEND;TZID=UTC:20271205T210000
DTSTAMP:20260424T014401
CREATED:20250703T234035Z
LAST-MODIFIED:20260206T144755Z
UID:10020800-1828040400-1828040400@www.maddhatterpro.com
SUMMARY:Boycott Bar Karaoke
DESCRIPTION:The award winning Boycott bar\, and MaddHatter. The most incredible\, supportive crowds. This bar is a treat. Come out with KJ Zondo and not only see\, but FEEL the hype. Good vibes only! \n4301 N 7th Ave\, Phoenix\, AZ 85013 \n+16028256240
URL:https://www.maddhatterpro.com/event/boycott-bar-karaoke/2027-12-05/
LOCATION:Boycott Bar\, 4301 N 7th Ave\, Phoenix\, AZ\, 85013\, United States
CATEGORIES:Karaoke,KJ Zondo
ATTACH;FMTTYPE=image/jpeg:https://www.maddhatterpro.com/wp-content/uploads/2026/02/boycott-PHX.jpg
END:VEVENT
BEGIN:VEVENT
DTSTART;TZID=UTC:20271212T210000
DTEND;TZID=UTC:20271212T210000
DTSTAMP:20260424T014401
CREATED:20250703T234035Z
LAST-MODIFIED:20260206T144755Z
UID:10020801-1828645200-1828645200@www.maddhatterpro.com
SUMMARY:Boycott Bar Karaoke
DESCRIPTION:The award winning Boycott bar\, and MaddHatter. The most incredible\, supportive crowds. This bar is a treat. Come out with KJ Zondo and not only see\, but FEEL the hype. Good vibes only! \n4301 N 7th Ave\, Phoenix\, AZ 85013 \n+16028256240
URL:https://www.maddhatterpro.com/event/boycott-bar-karaoke/2027-12-12/
LOCATION:Boycott Bar\, 4301 N 7th Ave\, Phoenix\, AZ\, 85013\, United States
CATEGORIES:Karaoke,KJ Zondo
ATTACH;FMTTYPE=image/jpeg:https://www.maddhatterpro.com/wp-content/uploads/2026/02/boycott-PHX.jpg
END:VEVENT
BEGIN:VEVENT
DTSTART;TZID=UTC:20271219T210000
DTEND;TZID=UTC:20271219T210000
DTSTAMP:20260424T014401
CREATED:20250703T234035Z
LAST-MODIFIED:20260206T144755Z
UID:10020802-1829250000-1829250000@www.maddhatterpro.com
SUMMARY:Boycott Bar Karaoke
DESCRIPTION:The award winning Boycott bar\, and MaddHatter. The most incredible\, supportive crowds. This bar is a treat. Come out with KJ Zondo and not only see\, but FEEL the hype. Good vibes only! \n4301 N 7th Ave\, Phoenix\, AZ 85013 \n+16028256240
URL:https://www.maddhatterpro.com/event/boycott-bar-karaoke/2027-12-19/
LOCATION:Boycott Bar\, 4301 N 7th Ave\, Phoenix\, AZ\, 85013\, United States
CATEGORIES:Karaoke,KJ Zondo
ATTACH;FMTTYPE=image/jpeg:https://www.maddhatterpro.com/wp-content/uploads/2026/02/boycott-PHX.jpg
END:VEVENT
BEGIN:VEVENT
DTSTART;TZID=UTC:20271226T210000
DTEND;TZID=UTC:20271226T210000
DTSTAMP:20260424T014401
CREATED:20250703T234035Z
LAST-MODIFIED:20260206T144755Z
UID:10020803-1829854800-1829854800@www.maddhatterpro.com
SUMMARY:Boycott Bar Karaoke
DESCRIPTION:The award winning Boycott bar\, and MaddHatter. The most incredible\, supportive crowds. This bar is a treat. Come out with KJ Zondo and not only see\, but FEEL the hype. Good vibes only! \n4301 N 7th Ave\, Phoenix\, AZ 85013 \n+16028256240
URL:https://www.maddhatterpro.com/event/boycott-bar-karaoke/2027-12-26/
LOCATION:Boycott Bar\, 4301 N 7th Ave\, Phoenix\, AZ\, 85013\, United States
CATEGORIES:Karaoke,KJ Zondo
ATTACH;FMTTYPE=image/jpeg:https://www.maddhatterpro.com/wp-content/uploads/2026/02/boycott-PHX.jpg
END:VEVENT
BEGIN:VEVENT
DTSTART;TZID=UTC:20280102T210000
DTEND;TZID=UTC:20280102T210000
DTSTAMP:20260424T014401
CREATED:20250703T234035Z
LAST-MODIFIED:20260206T144755Z
UID:10020804-1830459600-1830459600@www.maddhatterpro.com
SUMMARY:Boycott Bar Karaoke
DESCRIPTION:The award winning Boycott bar\, and MaddHatter. The most incredible\, supportive crowds. This bar is a treat. Come out with KJ Zondo and not only see\, but FEEL the hype. Good vibes only! \n4301 N 7th Ave\, Phoenix\, AZ 85013 \n+16028256240
URL:https://www.maddhatterpro.com/event/boycott-bar-karaoke/2028-01-02/
LOCATION:Boycott Bar\, 4301 N 7th Ave\, Phoenix\, AZ\, 85013\, United States
CATEGORIES:Karaoke,KJ Zondo
ATTACH;FMTTYPE=image/jpeg:https://www.maddhatterpro.com/wp-content/uploads/2026/02/boycott-PHX.jpg
END:VEVENT
BEGIN:VEVENT
DTSTART;TZID=UTC:20280109T210000
DTEND;TZID=UTC:20280109T210000
DTSTAMP:20260424T014401
CREATED:20250703T234035Z
LAST-MODIFIED:20260206T144755Z
UID:10020805-1831064400-1831064400@www.maddhatterpro.com
SUMMARY:Boycott Bar Karaoke
DESCRIPTION:The award winning Boycott bar\, and MaddHatter. The most incredible\, supportive crowds. This bar is a treat. Come out with KJ Zondo and not only see\, but FEEL the hype. Good vibes only! \n4301 N 7th Ave\, Phoenix\, AZ 85013 \n+16028256240
URL:https://www.maddhatterpro.com/event/boycott-bar-karaoke/2028-01-09/
LOCATION:Boycott Bar\, 4301 N 7th Ave\, Phoenix\, AZ\, 85013\, United States
CATEGORIES:Karaoke,KJ Zondo
ATTACH;FMTTYPE=image/jpeg:https://www.maddhatterpro.com/wp-content/uploads/2026/02/boycott-PHX.jpg
END:VEVENT
BEGIN:VEVENT
DTSTART;TZID=UTC:20280116T210000
DTEND;TZID=UTC:20280116T210000
DTSTAMP:20260424T014401
CREATED:20250703T234035Z
LAST-MODIFIED:20260206T144755Z
UID:10020806-1831669200-1831669200@www.maddhatterpro.com
SUMMARY:Boycott Bar Karaoke
DESCRIPTION:The award winning Boycott bar\, and MaddHatter. The most incredible\, supportive crowds. This bar is a treat. Come out with KJ Zondo and not only see\, but FEEL the hype. Good vibes only! \n4301 N 7th Ave\, Phoenix\, AZ 85013 \n+16028256240
URL:https://www.maddhatterpro.com/event/boycott-bar-karaoke/2028-01-16/
LOCATION:Boycott Bar\, 4301 N 7th Ave\, Phoenix\, AZ\, 85013\, United States
CATEGORIES:Karaoke,KJ Zondo
ATTACH;FMTTYPE=image/jpeg:https://www.maddhatterpro.com/wp-content/uploads/2026/02/boycott-PHX.jpg
END:VEVENT
BEGIN:VEVENT
DTSTART;TZID=UTC:20280123T210000
DTEND;TZID=UTC:20280123T210000
DTSTAMP:20260424T014401
CREATED:20250703T234035Z
LAST-MODIFIED:20260206T144755Z
UID:10020807-1832274000-1832274000@www.maddhatterpro.com
SUMMARY:Boycott Bar Karaoke
DESCRIPTION:The award winning Boycott bar\, and MaddHatter. The most incredible\, supportive crowds. This bar is a treat. Come out with KJ Zondo and not only see\, but FEEL the hype. Good vibes only! \n4301 N 7th Ave\, Phoenix\, AZ 85013 \n+16028256240
URL:https://www.maddhatterpro.com/event/boycott-bar-karaoke/2028-01-23/
LOCATION:Boycott Bar\, 4301 N 7th Ave\, Phoenix\, AZ\, 85013\, United States
CATEGORIES:Karaoke,KJ Zondo
ATTACH;FMTTYPE=image/jpeg:https://www.maddhatterpro.com/wp-content/uploads/2026/02/boycott-PHX.jpg
END:VEVENT
BEGIN:VEVENT
DTSTART;TZID=UTC:20280130T210000
DTEND;TZID=UTC:20280130T210000
DTSTAMP:20260424T014401
CREATED:20250703T234035Z
LAST-MODIFIED:20260206T144755Z
UID:10020808-1832878800-1832878800@www.maddhatterpro.com
SUMMARY:Boycott Bar Karaoke
DESCRIPTION:The award winning Boycott bar\, and MaddHatter. The most incredible\, supportive crowds. This bar is a treat. Come out with KJ Zondo and not only see\, but FEEL the hype. Good vibes only! \n4301 N 7th Ave\, Phoenix\, AZ 85013 \n+16028256240
URL:https://www.maddhatterpro.com/event/boycott-bar-karaoke/2028-01-30/
LOCATION:Boycott Bar\, 4301 N 7th Ave\, Phoenix\, AZ\, 85013\, United States
CATEGORIES:Karaoke,KJ Zondo
ATTACH;FMTTYPE=image/jpeg:https://www.maddhatterpro.com/wp-content/uploads/2026/02/boycott-PHX.jpg
END:VEVENT
BEGIN:VEVENT
DTSTART;TZID=UTC:20280206T210000
DTEND;TZID=UTC:20280206T210000
DTSTAMP:20260424T014401
CREATED:20250703T234035Z
LAST-MODIFIED:20260206T144755Z
UID:10020809-1833483600-1833483600@www.maddhatterpro.com
SUMMARY:Boycott Bar Karaoke
DESCRIPTION:The award winning Boycott bar\, and MaddHatter. The most incredible\, supportive crowds. This bar is a treat. Come out with KJ Zondo and not only see\, but FEEL the hype. Good vibes only! \n4301 N 7th Ave\, Phoenix\, AZ 85013 \n+16028256240
URL:https://www.maddhatterpro.com/event/boycott-bar-karaoke/2028-02-06/
LOCATION:Boycott Bar\, 4301 N 7th Ave\, Phoenix\, AZ\, 85013\, United States
CATEGORIES:Karaoke,KJ Zondo
ATTACH;FMTTYPE=image/jpeg:https://www.maddhatterpro.com/wp-content/uploads/2026/02/boycott-PHX.jpg
END:VEVENT
BEGIN:VEVENT
DTSTART;TZID=UTC:20280213T210000
DTEND;TZID=UTC:20280213T210000
DTSTAMP:20260424T014401
CREATED:20250703T234035Z
LAST-MODIFIED:20260206T144755Z
UID:10020810-1834088400-1834088400@www.maddhatterpro.com
SUMMARY:Boycott Bar Karaoke
DESCRIPTION:The award winning Boycott bar\, and MaddHatter. The most incredible\, supportive crowds. This bar is a treat. Come out with KJ Zondo and not only see\, but FEEL the hype. Good vibes only! \n4301 N 7th Ave\, Phoenix\, AZ 85013 \n+16028256240
URL:https://www.maddhatterpro.com/event/boycott-bar-karaoke/2028-02-13/
LOCATION:Boycott Bar\, 4301 N 7th Ave\, Phoenix\, AZ\, 85013\, United States
CATEGORIES:Karaoke,KJ Zondo
ATTACH;FMTTYPE=image/jpeg:https://www.maddhatterpro.com/wp-content/uploads/2026/02/boycott-PHX.jpg
END:VEVENT
BEGIN:VEVENT
DTSTART;TZID=UTC:20280220T210000
DTEND;TZID=UTC:20280220T210000
DTSTAMP:20260424T014401
CREATED:20250703T234035Z
LAST-MODIFIED:20260206T144755Z
UID:10020811-1834693200-1834693200@www.maddhatterpro.com
SUMMARY:Boycott Bar Karaoke
DESCRIPTION:The award winning Boycott bar\, and MaddHatter. The most incredible\, supportive crowds. This bar is a treat. Come out with KJ Zondo and not only see\, but FEEL the hype. Good vibes only! \n4301 N 7th Ave\, Phoenix\, AZ 85013 \n+16028256240
URL:https://www.maddhatterpro.com/event/boycott-bar-karaoke/2028-02-20/
LOCATION:Boycott Bar\, 4301 N 7th Ave\, Phoenix\, AZ\, 85013\, United States
CATEGORIES:Karaoke,KJ Zondo
ATTACH;FMTTYPE=image/jpeg:https://www.maddhatterpro.com/wp-content/uploads/2026/02/boycott-PHX.jpg
END:VEVENT
BEGIN:VEVENT
DTSTART;TZID=UTC:20280227T210000
DTEND;TZID=UTC:20280227T210000
DTSTAMP:20260424T014401
CREATED:20250703T234035Z
LAST-MODIFIED:20260206T144755Z
UID:10020812-1835298000-1835298000@www.maddhatterpro.com
SUMMARY:Boycott Bar Karaoke
DESCRIPTION:The award winning Boycott bar\, and MaddHatter. The most incredible\, supportive crowds. This bar is a treat. Come out with KJ Zondo and not only see\, but FEEL the hype. Good vibes only! \n4301 N 7th Ave\, Phoenix\, AZ 85013 \n+16028256240
URL:https://www.maddhatterpro.com/event/boycott-bar-karaoke/2028-02-27/
LOCATION:Boycott Bar\, 4301 N 7th Ave\, Phoenix\, AZ\, 85013\, United States
CATEGORIES:Karaoke,KJ Zondo
ATTACH;FMTTYPE=image/jpeg:https://www.maddhatterpro.com/wp-content/uploads/2026/02/boycott-PHX.jpg
END:VEVENT
BEGIN:VEVENT
DTSTART;TZID=UTC:20280305T210000
DTEND;TZID=UTC:20280305T210000
DTSTAMP:20260424T014401
CREATED:20250703T234035Z
LAST-MODIFIED:20260206T144755Z
UID:10020813-1835902800-1835902800@www.maddhatterpro.com
SUMMARY:Boycott Bar Karaoke
DESCRIPTION:The award winning Boycott bar\, and MaddHatter. The most incredible\, supportive crowds. This bar is a treat. Come out with KJ Zondo and not only see\, but FEEL the hype. Good vibes only! \n4301 N 7th Ave\, Phoenix\, AZ 85013 \n+16028256240
URL:https://www.maddhatterpro.com/event/boycott-bar-karaoke/2028-03-05/
LOCATION:Boycott Bar\, 4301 N 7th Ave\, Phoenix\, AZ\, 85013\, United States
CATEGORIES:Karaoke,KJ Zondo
ATTACH;FMTTYPE=image/jpeg:https://www.maddhatterpro.com/wp-content/uploads/2026/02/boycott-PHX.jpg
END:VEVENT
BEGIN:VEVENT
DTSTART;TZID=UTC:20280312T210000
DTEND;TZID=UTC:20280312T210000
DTSTAMP:20260424T014401
CREATED:20250703T234035Z
LAST-MODIFIED:20260206T144755Z
UID:10020814-1836507600-1836507600@www.maddhatterpro.com
SUMMARY:Boycott Bar Karaoke
DESCRIPTION:The award winning Boycott bar\, and MaddHatter. The most incredible\, supportive crowds. This bar is a treat. Come out with KJ Zondo and not only see\, but FEEL the hype. Good vibes only! \n4301 N 7th Ave\, Phoenix\, AZ 85013 \n+16028256240
URL:https://www.maddhatterpro.com/event/boycott-bar-karaoke/2028-03-12/
LOCATION:Boycott Bar\, 4301 N 7th Ave\, Phoenix\, AZ\, 85013\, United States
CATEGORIES:Karaoke,KJ Zondo
ATTACH;FMTTYPE=image/jpeg:https://www.maddhatterpro.com/wp-content/uploads/2026/02/boycott-PHX.jpg
END:VEVENT
BEGIN:VEVENT
DTSTART;TZID=UTC:20280319T210000
DTEND;TZID=UTC:20280319T210000
DTSTAMP:20260424T014401
CREATED:20250703T234035Z
LAST-MODIFIED:20260206T144755Z
UID:10020815-1837112400-1837112400@www.maddhatterpro.com
SUMMARY:Boycott Bar Karaoke
DESCRIPTION:The award winning Boycott bar\, and MaddHatter. The most incredible\, supportive crowds. This bar is a treat. Come out with KJ Zondo and not only see\, but FEEL the hype. Good vibes only! \n4301 N 7th Ave\, Phoenix\, AZ 85013 \n+16028256240
URL:https://www.maddhatterpro.com/event/boycott-bar-karaoke/2028-03-19/
LOCATION:Boycott Bar\, 4301 N 7th Ave\, Phoenix\, AZ\, 85013\, United States
CATEGORIES:Karaoke,KJ Zondo
ATTACH;FMTTYPE=image/jpeg:https://www.maddhatterpro.com/wp-content/uploads/2026/02/boycott-PHX.jpg
END:VEVENT
BEGIN:VEVENT
DTSTART;TZID=UTC:20280326T210000
DTEND;TZID=UTC:20280326T210000
DTSTAMP:20260424T014401
CREATED:20250703T234035Z
LAST-MODIFIED:20260206T144755Z
UID:10020816-1837717200-1837717200@www.maddhatterpro.com
SUMMARY:Boycott Bar Karaoke
DESCRIPTION:The award winning Boycott bar\, and MaddHatter. The most incredible\, supportive crowds. This bar is a treat. Come out with KJ Zondo and not only see\, but FEEL the hype. Good vibes only! \n4301 N 7th Ave\, Phoenix\, AZ 85013 \n+16028256240
URL:https://www.maddhatterpro.com/event/boycott-bar-karaoke/2028-03-26/
LOCATION:Boycott Bar\, 4301 N 7th Ave\, Phoenix\, AZ\, 85013\, United States
CATEGORIES:Karaoke,KJ Zondo
ATTACH;FMTTYPE=image/jpeg:https://www.maddhatterpro.com/wp-content/uploads/2026/02/boycott-PHX.jpg
END:VEVENT
BEGIN:VEVENT
DTSTART;TZID=UTC:20280402T210000
DTEND;TZID=UTC:20280402T210000
DTSTAMP:20260424T014401
CREATED:20250703T234035Z
LAST-MODIFIED:20260206T144755Z
UID:10020817-1838322000-1838322000@www.maddhatterpro.com
SUMMARY:Boycott Bar Karaoke
DESCRIPTION:The award winning Boycott bar\, and MaddHatter. The most incredible\, supportive crowds. This bar is a treat. Come out with KJ Zondo and not only see\, but FEEL the hype. Good vibes only! \n4301 N 7th Ave\, Phoenix\, AZ 85013 \n+16028256240
URL:https://www.maddhatterpro.com/event/boycott-bar-karaoke/2028-04-02/
LOCATION:Boycott Bar\, 4301 N 7th Ave\, Phoenix\, AZ\, 85013\, United States
CATEGORIES:Karaoke,KJ Zondo
ATTACH;FMTTYPE=image/jpeg:https://www.maddhatterpro.com/wp-content/uploads/2026/02/boycott-PHX.jpg
END:VEVENT
BEGIN:VEVENT
DTSTART;TZID=UTC:20280409T210000
DTEND;TZID=UTC:20280409T210000
DTSTAMP:20260424T014401
CREATED:20250703T234035Z
LAST-MODIFIED:20260206T144755Z
UID:10020818-1838926800-1838926800@www.maddhatterpro.com
SUMMARY:Boycott Bar Karaoke
DESCRIPTION:The award winning Boycott bar\, and MaddHatter. The most incredible\, supportive crowds. This bar is a treat. Come out with KJ Zondo and not only see\, but FEEL the hype. Good vibes only! \n4301 N 7th Ave\, Phoenix\, AZ 85013 \n+16028256240
URL:https://www.maddhatterpro.com/event/boycott-bar-karaoke/2028-04-09/
LOCATION:Boycott Bar\, 4301 N 7th Ave\, Phoenix\, AZ\, 85013\, United States
CATEGORIES:Karaoke,KJ Zondo
ATTACH;FMTTYPE=image/jpeg:https://www.maddhatterpro.com/wp-content/uploads/2026/02/boycott-PHX.jpg
END:VEVENT
BEGIN:VEVENT
DTSTART;TZID=UTC:20280416T210000
DTEND;TZID=UTC:20280416T210000
DTSTAMP:20260424T014401
CREATED:20250703T234035Z
LAST-MODIFIED:20260206T144755Z
UID:10020819-1839531600-1839531600@www.maddhatterpro.com
SUMMARY:Boycott Bar Karaoke
DESCRIPTION:The award winning Boycott bar\, and MaddHatter. The most incredible\, supportive crowds. This bar is a treat. Come out with KJ Zondo and not only see\, but FEEL the hype. Good vibes only! \n4301 N 7th Ave\, Phoenix\, AZ 85013 \n+16028256240
URL:https://www.maddhatterpro.com/event/boycott-bar-karaoke/2028-04-16/
LOCATION:Boycott Bar\, 4301 N 7th Ave\, Phoenix\, AZ\, 85013\, United States
CATEGORIES:Karaoke,KJ Zondo
ATTACH;FMTTYPE=image/jpeg:https://www.maddhatterpro.com/wp-content/uploads/2026/02/boycott-PHX.jpg
END:VEVENT
BEGIN:VEVENT
DTSTART;TZID=UTC:20280423T210000
DTEND;TZID=UTC:20280423T210000
DTSTAMP:20260424T014401
CREATED:20250703T234035Z
LAST-MODIFIED:20260206T144755Z
UID:10020820-1840136400-1840136400@www.maddhatterpro.com
SUMMARY:Boycott Bar Karaoke
DESCRIPTION:The award winning Boycott bar\, and MaddHatter. The most incredible\, supportive crowds. This bar is a treat. Come out with KJ Zondo and not only see\, but FEEL the hype. Good vibes only! \n4301 N 7th Ave\, Phoenix\, AZ 85013 \n+16028256240
URL:https://www.maddhatterpro.com/event/boycott-bar-karaoke/2028-04-23/
LOCATION:Boycott Bar\, 4301 N 7th Ave\, Phoenix\, AZ\, 85013\, United States
CATEGORIES:Karaoke,KJ Zondo
ATTACH;FMTTYPE=image/jpeg:https://www.maddhatterpro.com/wp-content/uploads/2026/02/boycott-PHX.jpg
END:VEVENT
BEGIN:VEVENT
DTSTART;TZID=UTC:20280430T210000
DTEND;TZID=UTC:20280430T210000
DTSTAMP:20260424T014401
CREATED:20250703T234035Z
LAST-MODIFIED:20260206T144755Z
UID:10020821-1840741200-1840741200@www.maddhatterpro.com
SUMMARY:Boycott Bar Karaoke
DESCRIPTION:The award winning Boycott bar\, and MaddHatter. The most incredible\, supportive crowds. This bar is a treat. Come out with KJ Zondo and not only see\, but FEEL the hype. Good vibes only! \n4301 N 7th Ave\, Phoenix\, AZ 85013 \n+16028256240
URL:https://www.maddhatterpro.com/event/boycott-bar-karaoke/2028-04-30/
LOCATION:Boycott Bar\, 4301 N 7th Ave\, Phoenix\, AZ\, 85013\, United States
CATEGORIES:Karaoke,KJ Zondo
ATTACH;FMTTYPE=image/jpeg:https://www.maddhatterpro.com/wp-content/uploads/2026/02/boycott-PHX.jpg
END:VEVENT
BEGIN:VEVENT
DTSTART;TZID=UTC:20280507T210000
DTEND;TZID=UTC:20280507T210000
DTSTAMP:20260424T014401
CREATED:20250703T234035Z
LAST-MODIFIED:20260206T144755Z
UID:10020822-1841346000-1841346000@www.maddhatterpro.com
SUMMARY:Boycott Bar Karaoke
DESCRIPTION:The award winning Boycott bar\, and MaddHatter. The most incredible\, supportive crowds. This bar is a treat. Come out with KJ Zondo and not only see\, but FEEL the hype. Good vibes only! \n4301 N 7th Ave\, Phoenix\, AZ 85013 \n+16028256240
URL:https://www.maddhatterpro.com/event/boycott-bar-karaoke/2028-05-07/
LOCATION:Boycott Bar\, 4301 N 7th Ave\, Phoenix\, AZ\, 85013\, United States
CATEGORIES:Karaoke,KJ Zondo
ATTACH;FMTTYPE=image/jpeg:https://www.maddhatterpro.com/wp-content/uploads/2026/02/boycott-PHX.jpg
END:VEVENT
BEGIN:VEVENT
DTSTART;TZID=UTC:20280514T210000
DTEND;TZID=UTC:20280514T210000
DTSTAMP:20260424T014401
CREATED:20250703T234035Z
LAST-MODIFIED:20260206T144755Z
UID:10020823-1841950800-1841950800@www.maddhatterpro.com
SUMMARY:Boycott Bar Karaoke
DESCRIPTION:The award winning Boycott bar\, and MaddHatter. The most incredible\, supportive crowds. This bar is a treat. Come out with KJ Zondo and not only see\, but FEEL the hype. Good vibes only! \n4301 N 7th Ave\, Phoenix\, AZ 85013 \n+16028256240
URL:https://www.maddhatterpro.com/event/boycott-bar-karaoke/2028-05-14/
LOCATION:Boycott Bar\, 4301 N 7th Ave\, Phoenix\, AZ\, 85013\, United States
CATEGORIES:Karaoke,KJ Zondo
ATTACH;FMTTYPE=image/jpeg:https://www.maddhatterpro.com/wp-content/uploads/2026/02/boycott-PHX.jpg
END:VEVENT
BEGIN:VEVENT
DTSTART;TZID=UTC:20280521T210000
DTEND;TZID=UTC:20280521T210000
DTSTAMP:20260424T014401
CREATED:20250703T234035Z
LAST-MODIFIED:20260206T144755Z
UID:10020824-1842555600-1842555600@www.maddhatterpro.com
SUMMARY:Boycott Bar Karaoke
DESCRIPTION:The award winning Boycott bar\, and MaddHatter. The most incredible\, supportive crowds. This bar is a treat. Come out with KJ Zondo and not only see\, but FEEL the hype. Good vibes only! \n4301 N 7th Ave\, Phoenix\, AZ 85013 \n+16028256240
URL:https://www.maddhatterpro.com/event/boycott-bar-karaoke/2028-05-21/
LOCATION:Boycott Bar\, 4301 N 7th Ave\, Phoenix\, AZ\, 85013\, United States
CATEGORIES:Karaoke,KJ Zondo
ATTACH;FMTTYPE=image/jpeg:https://www.maddhatterpro.com/wp-content/uploads/2026/02/boycott-PHX.jpg
END:VEVENT
BEGIN:VEVENT
DTSTART;TZID=UTC:20280528T210000
DTEND;TZID=UTC:20280528T210000
DTSTAMP:20260424T014401
CREATED:20250703T234035Z
LAST-MODIFIED:20260206T144755Z
UID:10020825-1843160400-1843160400@www.maddhatterpro.com
SUMMARY:Boycott Bar Karaoke
DESCRIPTION:The award winning Boycott bar\, and MaddHatter. The most incredible\, supportive crowds. This bar is a treat. Come out with KJ Zondo and not only see\, but FEEL the hype. Good vibes only! \n4301 N 7th Ave\, Phoenix\, AZ 85013 \n+16028256240
URL:https://www.maddhatterpro.com/event/boycott-bar-karaoke/2028-05-28/
LOCATION:Boycott Bar\, 4301 N 7th Ave\, Phoenix\, AZ\, 85013\, United States
CATEGORIES:Karaoke,KJ Zondo
ATTACH;FMTTYPE=image/jpeg:https://www.maddhatterpro.com/wp-content/uploads/2026/02/boycott-PHX.jpg
END:VEVENT
BEGIN:VEVENT
DTSTART;TZID=UTC:20280604T210000
DTEND;TZID=UTC:20280604T210000
DTSTAMP:20260424T014401
CREATED:20250703T234035Z
LAST-MODIFIED:20260206T144755Z
UID:10020826-1843765200-1843765200@www.maddhatterpro.com
SUMMARY:Boycott Bar Karaoke
DESCRIPTION:The award winning Boycott bar\, and MaddHatter. The most incredible\, supportive crowds. This bar is a treat. Come out with KJ Zondo and not only see\, but FEEL the hype. Good vibes only! \n4301 N 7th Ave\, Phoenix\, AZ 85013 \n+16028256240
URL:https://www.maddhatterpro.com/event/boycott-bar-karaoke/2028-06-04/
LOCATION:Boycott Bar\, 4301 N 7th Ave\, Phoenix\, AZ\, 85013\, United States
CATEGORIES:Karaoke,KJ Zondo
ATTACH;FMTTYPE=image/jpeg:https://www.maddhatterpro.com/wp-content/uploads/2026/02/boycott-PHX.jpg
END:VEVENT
BEGIN:VEVENT
DTSTART;TZID=UTC:20280611T210000
DTEND;TZID=UTC:20280611T210000
DTSTAMP:20260424T014401
CREATED:20250703T234035Z
LAST-MODIFIED:20260206T144755Z
UID:10020827-1844370000-1844370000@www.maddhatterpro.com
SUMMARY:Boycott Bar Karaoke
DESCRIPTION:The award winning Boycott bar\, and MaddHatter. The most incredible\, supportive crowds. This bar is a treat. Come out with KJ Zondo and not only see\, but FEEL the hype. Good vibes only! \n4301 N 7th Ave\, Phoenix\, AZ 85013 \n+16028256240
URL:https://www.maddhatterpro.com/event/boycott-bar-karaoke/2028-06-11/
LOCATION:Boycott Bar\, 4301 N 7th Ave\, Phoenix\, AZ\, 85013\, United States
CATEGORIES:Karaoke,KJ Zondo
ATTACH;FMTTYPE=image/jpeg:https://www.maddhatterpro.com/wp-content/uploads/2026/02/boycott-PHX.jpg
END:VEVENT
BEGIN:VEVENT
DTSTART;TZID=UTC:20280618T210000
DTEND;TZID=UTC:20280618T210000
DTSTAMP:20260424T014401
CREATED:20250703T234035Z
LAST-MODIFIED:20260206T144755Z
UID:10020828-1844974800-1844974800@www.maddhatterpro.com
SUMMARY:Boycott Bar Karaoke
DESCRIPTION:The award winning Boycott bar\, and MaddHatter. The most incredible\, supportive crowds. This bar is a treat. Come out with KJ Zondo and not only see\, but FEEL the hype. Good vibes only! \n4301 N 7th Ave\, Phoenix\, AZ 85013 \n+16028256240
URL:https://www.maddhatterpro.com/event/boycott-bar-karaoke/2028-06-18/
LOCATION:Boycott Bar\, 4301 N 7th Ave\, Phoenix\, AZ\, 85013\, United States
CATEGORIES:Karaoke,KJ Zondo
ATTACH;FMTTYPE=image/jpeg:https://www.maddhatterpro.com/wp-content/uploads/2026/02/boycott-PHX.jpg
END:VEVENT
BEGIN:VEVENT
DTSTART;TZID=UTC:20280625T210000
DTEND;TZID=UTC:20280625T210000
DTSTAMP:20260424T014401
CREATED:20250703T234035Z
LAST-MODIFIED:20260206T144755Z
UID:10020829-1845579600-1845579600@www.maddhatterpro.com
SUMMARY:Boycott Bar Karaoke
DESCRIPTION:The award winning Boycott bar\, and MaddHatter. The most incredible\, supportive crowds. This bar is a treat. Come out with KJ Zondo and not only see\, but FEEL the hype. Good vibes only! \n4301 N 7th Ave\, Phoenix\, AZ 85013 \n+16028256240
URL:https://www.maddhatterpro.com/event/boycott-bar-karaoke/2028-06-25/
LOCATION:Boycott Bar\, 4301 N 7th Ave\, Phoenix\, AZ\, 85013\, United States
CATEGORIES:Karaoke,KJ Zondo
ATTACH;FMTTYPE=image/jpeg:https://www.maddhatterpro.com/wp-content/uploads/2026/02/boycott-PHX.jpg
END:VEVENT
END:VCALENDAR