BEGIN:VCALENDAR
VERSION:2.0
PRODID:-//MaddHatterPro.com - ECPv6.15.20//NONSGML v1.0//EN
CALSCALE:GREGORIAN
METHOD:PUBLISH
X-ORIGINAL-URL:https://www.maddhatterpro.com
X-WR-CALDESC:Events for MaddHatterPro.com
REFRESH-INTERVAL;VALUE=DURATION:PT1H
X-Robots-Tag:noindex
X-PUBLISHED-TTL:PT1H
BEGIN:VTIMEZONE
TZID:UTC
BEGIN:STANDARD
TZOFFSETFROM:+0000
TZOFFSETTO:+0000
TZNAME:UTC
DTSTART:20260101T000000
END:STANDARD
END:VTIMEZONE
BEGIN:VEVENT
DTSTART;TZID=UTC:20270913T173000
DTEND;TZID=UTC:20270913T190000
DTSTAMP:20260424T033610
CREATED:20260206T145607Z
LAST-MODIFIED:20260206T145607Z
UID:10025450-1820856600-1820862000@www.maddhatterpro.com
SUMMARY:Headliners Sports Bar Trivia
DESCRIPTION:Arizona’s toughest comes to Ahwatukee! DJ Wonder in the house serving up those questions to make you think\, while Headliners serves up the wings! Starting at 5pm\, come out to play FAMILY FRIENDLY.
URL:https://www.maddhatterpro.com/event/headliners-sports-bar-trivia/2027-09-13/
LOCATION:Headliners\, 4142 E Chandler Blvd\, Phoenix\, AZ\, 85048\, United States
ATTACH;FMTTYPE=image/jpeg:https://www.maddhatterpro.com/wp-content/uploads/2026/02/Headliners-Ahwatukee.jpg
END:VEVENT
BEGIN:VEVENT
DTSTART;TZID=UTC:20270920T173000
DTEND;TZID=UTC:20270920T190000
DTSTAMP:20260424T033610
CREATED:20260206T145607Z
LAST-MODIFIED:20260206T145607Z
UID:10025451-1821461400-1821466800@www.maddhatterpro.com
SUMMARY:Headliners Sports Bar Trivia
DESCRIPTION:Arizona’s toughest comes to Ahwatukee! DJ Wonder in the house serving up those questions to make you think\, while Headliners serves up the wings! Starting at 5pm\, come out to play FAMILY FRIENDLY.
URL:https://www.maddhatterpro.com/event/headliners-sports-bar-trivia/2027-09-20/
LOCATION:Headliners\, 4142 E Chandler Blvd\, Phoenix\, AZ\, 85048\, United States
ATTACH;FMTTYPE=image/jpeg:https://www.maddhatterpro.com/wp-content/uploads/2026/02/Headliners-Ahwatukee.jpg
END:VEVENT
BEGIN:VEVENT
DTSTART;TZID=UTC:20270927T173000
DTEND;TZID=UTC:20270927T190000
DTSTAMP:20260424T033610
CREATED:20260206T145607Z
LAST-MODIFIED:20260206T145607Z
UID:10025452-1822066200-1822071600@www.maddhatterpro.com
SUMMARY:Headliners Sports Bar Trivia
DESCRIPTION:Arizona’s toughest comes to Ahwatukee! DJ Wonder in the house serving up those questions to make you think\, while Headliners serves up the wings! Starting at 5pm\, come out to play FAMILY FRIENDLY.
URL:https://www.maddhatterpro.com/event/headliners-sports-bar-trivia/2027-09-27/
LOCATION:Headliners\, 4142 E Chandler Blvd\, Phoenix\, AZ\, 85048\, United States
ATTACH;FMTTYPE=image/jpeg:https://www.maddhatterpro.com/wp-content/uploads/2026/02/Headliners-Ahwatukee.jpg
END:VEVENT
BEGIN:VEVENT
DTSTART;TZID=UTC:20271004T173000
DTEND;TZID=UTC:20271004T190000
DTSTAMP:20260424T033610
CREATED:20260206T145607Z
LAST-MODIFIED:20260206T145607Z
UID:10025453-1822671000-1822676400@www.maddhatterpro.com
SUMMARY:Headliners Sports Bar Trivia
DESCRIPTION:Arizona’s toughest comes to Ahwatukee! DJ Wonder in the house serving up those questions to make you think\, while Headliners serves up the wings! Starting at 5pm\, come out to play FAMILY FRIENDLY.
URL:https://www.maddhatterpro.com/event/headliners-sports-bar-trivia/2027-10-04/
LOCATION:Headliners\, 4142 E Chandler Blvd\, Phoenix\, AZ\, 85048\, United States
ATTACH;FMTTYPE=image/jpeg:https://www.maddhatterpro.com/wp-content/uploads/2026/02/Headliners-Ahwatukee.jpg
END:VEVENT
BEGIN:VEVENT
DTSTART;TZID=UTC:20271011T173000
DTEND;TZID=UTC:20271011T190000
DTSTAMP:20260424T033610
CREATED:20260206T145607Z
LAST-MODIFIED:20260206T145607Z
UID:10025454-1823275800-1823281200@www.maddhatterpro.com
SUMMARY:Headliners Sports Bar Trivia
DESCRIPTION:Arizona’s toughest comes to Ahwatukee! DJ Wonder in the house serving up those questions to make you think\, while Headliners serves up the wings! Starting at 5pm\, come out to play FAMILY FRIENDLY.
URL:https://www.maddhatterpro.com/event/headliners-sports-bar-trivia/2027-10-11/
LOCATION:Headliners\, 4142 E Chandler Blvd\, Phoenix\, AZ\, 85048\, United States
ATTACH;FMTTYPE=image/jpeg:https://www.maddhatterpro.com/wp-content/uploads/2026/02/Headliners-Ahwatukee.jpg
END:VEVENT
BEGIN:VEVENT
DTSTART;TZID=UTC:20271018T173000
DTEND;TZID=UTC:20271018T190000
DTSTAMP:20260424T033610
CREATED:20260206T145607Z
LAST-MODIFIED:20260206T145607Z
UID:10025455-1823880600-1823886000@www.maddhatterpro.com
SUMMARY:Headliners Sports Bar Trivia
DESCRIPTION:Arizona’s toughest comes to Ahwatukee! DJ Wonder in the house serving up those questions to make you think\, while Headliners serves up the wings! Starting at 5pm\, come out to play FAMILY FRIENDLY.
URL:https://www.maddhatterpro.com/event/headliners-sports-bar-trivia/2027-10-18/
LOCATION:Headliners\, 4142 E Chandler Blvd\, Phoenix\, AZ\, 85048\, United States
ATTACH;FMTTYPE=image/jpeg:https://www.maddhatterpro.com/wp-content/uploads/2026/02/Headliners-Ahwatukee.jpg
END:VEVENT
BEGIN:VEVENT
DTSTART;TZID=UTC:20271025T173000
DTEND;TZID=UTC:20271025T190000
DTSTAMP:20260424T033610
CREATED:20260206T145607Z
LAST-MODIFIED:20260206T145607Z
UID:10025456-1824485400-1824490800@www.maddhatterpro.com
SUMMARY:Headliners Sports Bar Trivia
DESCRIPTION:Arizona’s toughest comes to Ahwatukee! DJ Wonder in the house serving up those questions to make you think\, while Headliners serves up the wings! Starting at 5pm\, come out to play FAMILY FRIENDLY.
URL:https://www.maddhatterpro.com/event/headliners-sports-bar-trivia/2027-10-25/
LOCATION:Headliners\, 4142 E Chandler Blvd\, Phoenix\, AZ\, 85048\, United States
ATTACH;FMTTYPE=image/jpeg:https://www.maddhatterpro.com/wp-content/uploads/2026/02/Headliners-Ahwatukee.jpg
END:VEVENT
BEGIN:VEVENT
DTSTART;TZID=UTC:20271101T173000
DTEND;TZID=UTC:20271101T190000
DTSTAMP:20260424T033610
CREATED:20260206T145607Z
LAST-MODIFIED:20260206T145607Z
UID:10025457-1825090200-1825095600@www.maddhatterpro.com
SUMMARY:Headliners Sports Bar Trivia
DESCRIPTION:Arizona’s toughest comes to Ahwatukee! DJ Wonder in the house serving up those questions to make you think\, while Headliners serves up the wings! Starting at 5pm\, come out to play FAMILY FRIENDLY.
URL:https://www.maddhatterpro.com/event/headliners-sports-bar-trivia/2027-11-01/
LOCATION:Headliners\, 4142 E Chandler Blvd\, Phoenix\, AZ\, 85048\, United States
ATTACH;FMTTYPE=image/jpeg:https://www.maddhatterpro.com/wp-content/uploads/2026/02/Headliners-Ahwatukee.jpg
END:VEVENT
BEGIN:VEVENT
DTSTART;TZID=UTC:20271108T173000
DTEND;TZID=UTC:20271108T190000
DTSTAMP:20260424T033610
CREATED:20260206T145607Z
LAST-MODIFIED:20260206T145607Z
UID:10025458-1825695000-1825700400@www.maddhatterpro.com
SUMMARY:Headliners Sports Bar Trivia
DESCRIPTION:Arizona’s toughest comes to Ahwatukee! DJ Wonder in the house serving up those questions to make you think\, while Headliners serves up the wings! Starting at 5pm\, come out to play FAMILY FRIENDLY.
URL:https://www.maddhatterpro.com/event/headliners-sports-bar-trivia/2027-11-08/
LOCATION:Headliners\, 4142 E Chandler Blvd\, Phoenix\, AZ\, 85048\, United States
ATTACH;FMTTYPE=image/jpeg:https://www.maddhatterpro.com/wp-content/uploads/2026/02/Headliners-Ahwatukee.jpg
END:VEVENT
BEGIN:VEVENT
DTSTART;TZID=UTC:20271115T173000
DTEND;TZID=UTC:20271115T190000
DTSTAMP:20260424T033610
CREATED:20260206T145607Z
LAST-MODIFIED:20260206T145607Z
UID:10025459-1826299800-1826305200@www.maddhatterpro.com
SUMMARY:Headliners Sports Bar Trivia
DESCRIPTION:Arizona’s toughest comes to Ahwatukee! DJ Wonder in the house serving up those questions to make you think\, while Headliners serves up the wings! Starting at 5pm\, come out to play FAMILY FRIENDLY.
URL:https://www.maddhatterpro.com/event/headliners-sports-bar-trivia/2027-11-15/
LOCATION:Headliners\, 4142 E Chandler Blvd\, Phoenix\, AZ\, 85048\, United States
ATTACH;FMTTYPE=image/jpeg:https://www.maddhatterpro.com/wp-content/uploads/2026/02/Headliners-Ahwatukee.jpg
END:VEVENT
BEGIN:VEVENT
DTSTART;TZID=UTC:20271122T173000
DTEND;TZID=UTC:20271122T190000
DTSTAMP:20260424T033610
CREATED:20260206T145607Z
LAST-MODIFIED:20260206T145607Z
UID:10025460-1826904600-1826910000@www.maddhatterpro.com
SUMMARY:Headliners Sports Bar Trivia
DESCRIPTION:Arizona’s toughest comes to Ahwatukee! DJ Wonder in the house serving up those questions to make you think\, while Headliners serves up the wings! Starting at 5pm\, come out to play FAMILY FRIENDLY.
URL:https://www.maddhatterpro.com/event/headliners-sports-bar-trivia/2027-11-22/
LOCATION:Headliners\, 4142 E Chandler Blvd\, Phoenix\, AZ\, 85048\, United States
ATTACH;FMTTYPE=image/jpeg:https://www.maddhatterpro.com/wp-content/uploads/2026/02/Headliners-Ahwatukee.jpg
END:VEVENT
BEGIN:VEVENT
DTSTART;TZID=UTC:20271129T173000
DTEND;TZID=UTC:20271129T190000
DTSTAMP:20260424T033610
CREATED:20260206T145607Z
LAST-MODIFIED:20260206T145607Z
UID:10025461-1827509400-1827514800@www.maddhatterpro.com
SUMMARY:Headliners Sports Bar Trivia
DESCRIPTION:Arizona’s toughest comes to Ahwatukee! DJ Wonder in the house serving up those questions to make you think\, while Headliners serves up the wings! Starting at 5pm\, come out to play FAMILY FRIENDLY.
URL:https://www.maddhatterpro.com/event/headliners-sports-bar-trivia/2027-11-29/
LOCATION:Headliners\, 4142 E Chandler Blvd\, Phoenix\, AZ\, 85048\, United States
ATTACH;FMTTYPE=image/jpeg:https://www.maddhatterpro.com/wp-content/uploads/2026/02/Headliners-Ahwatukee.jpg
END:VEVENT
BEGIN:VEVENT
DTSTART;TZID=UTC:20271206T173000
DTEND;TZID=UTC:20271206T190000
DTSTAMP:20260424T033610
CREATED:20260206T145607Z
LAST-MODIFIED:20260206T145607Z
UID:10025462-1828114200-1828119600@www.maddhatterpro.com
SUMMARY:Headliners Sports Bar Trivia
DESCRIPTION:Arizona’s toughest comes to Ahwatukee! DJ Wonder in the house serving up those questions to make you think\, while Headliners serves up the wings! Starting at 5pm\, come out to play FAMILY FRIENDLY.
URL:https://www.maddhatterpro.com/event/headliners-sports-bar-trivia/2027-12-06/
LOCATION:Headliners\, 4142 E Chandler Blvd\, Phoenix\, AZ\, 85048\, United States
ATTACH;FMTTYPE=image/jpeg:https://www.maddhatterpro.com/wp-content/uploads/2026/02/Headliners-Ahwatukee.jpg
END:VEVENT
BEGIN:VEVENT
DTSTART;TZID=UTC:20271213T173000
DTEND;TZID=UTC:20271213T190000
DTSTAMP:20260424T033610
CREATED:20260206T145607Z
LAST-MODIFIED:20260206T145607Z
UID:10025463-1828719000-1828724400@www.maddhatterpro.com
SUMMARY:Headliners Sports Bar Trivia
DESCRIPTION:Arizona’s toughest comes to Ahwatukee! DJ Wonder in the house serving up those questions to make you think\, while Headliners serves up the wings! Starting at 5pm\, come out to play FAMILY FRIENDLY.
URL:https://www.maddhatterpro.com/event/headliners-sports-bar-trivia/2027-12-13/
LOCATION:Headliners\, 4142 E Chandler Blvd\, Phoenix\, AZ\, 85048\, United States
ATTACH;FMTTYPE=image/jpeg:https://www.maddhatterpro.com/wp-content/uploads/2026/02/Headliners-Ahwatukee.jpg
END:VEVENT
BEGIN:VEVENT
DTSTART;TZID=UTC:20271220T173000
DTEND;TZID=UTC:20271220T190000
DTSTAMP:20260424T033610
CREATED:20260206T145607Z
LAST-MODIFIED:20260206T145607Z
UID:10025464-1829323800-1829329200@www.maddhatterpro.com
SUMMARY:Headliners Sports Bar Trivia
DESCRIPTION:Arizona’s toughest comes to Ahwatukee! DJ Wonder in the house serving up those questions to make you think\, while Headliners serves up the wings! Starting at 5pm\, come out to play FAMILY FRIENDLY.
URL:https://www.maddhatterpro.com/event/headliners-sports-bar-trivia/2027-12-20/
LOCATION:Headliners\, 4142 E Chandler Blvd\, Phoenix\, AZ\, 85048\, United States
ATTACH;FMTTYPE=image/jpeg:https://www.maddhatterpro.com/wp-content/uploads/2026/02/Headliners-Ahwatukee.jpg
END:VEVENT
BEGIN:VEVENT
DTSTART;TZID=UTC:20271227T173000
DTEND;TZID=UTC:20271227T190000
DTSTAMP:20260424T033610
CREATED:20260206T145607Z
LAST-MODIFIED:20260206T145607Z
UID:10025465-1829928600-1829934000@www.maddhatterpro.com
SUMMARY:Headliners Sports Bar Trivia
DESCRIPTION:Arizona’s toughest comes to Ahwatukee! DJ Wonder in the house serving up those questions to make you think\, while Headliners serves up the wings! Starting at 5pm\, come out to play FAMILY FRIENDLY.
URL:https://www.maddhatterpro.com/event/headliners-sports-bar-trivia/2027-12-27/
LOCATION:Headliners\, 4142 E Chandler Blvd\, Phoenix\, AZ\, 85048\, United States
ATTACH;FMTTYPE=image/jpeg:https://www.maddhatterpro.com/wp-content/uploads/2026/02/Headliners-Ahwatukee.jpg
END:VEVENT
BEGIN:VEVENT
DTSTART;TZID=UTC:20280103T173000
DTEND;TZID=UTC:20280103T190000
DTSTAMP:20260424T033610
CREATED:20260206T145607Z
LAST-MODIFIED:20260206T145607Z
UID:10025466-1830533400-1830538800@www.maddhatterpro.com
SUMMARY:Headliners Sports Bar Trivia
DESCRIPTION:Arizona’s toughest comes to Ahwatukee! DJ Wonder in the house serving up those questions to make you think\, while Headliners serves up the wings! Starting at 5pm\, come out to play FAMILY FRIENDLY.
URL:https://www.maddhatterpro.com/event/headliners-sports-bar-trivia/2028-01-03/
LOCATION:Headliners\, 4142 E Chandler Blvd\, Phoenix\, AZ\, 85048\, United States
ATTACH;FMTTYPE=image/jpeg:https://www.maddhatterpro.com/wp-content/uploads/2026/02/Headliners-Ahwatukee.jpg
END:VEVENT
BEGIN:VEVENT
DTSTART;TZID=UTC:20280110T173000
DTEND;TZID=UTC:20280110T190000
DTSTAMP:20260424T033610
CREATED:20260206T145607Z
LAST-MODIFIED:20260206T145607Z
UID:10025467-1831138200-1831143600@www.maddhatterpro.com
SUMMARY:Headliners Sports Bar Trivia
DESCRIPTION:Arizona’s toughest comes to Ahwatukee! DJ Wonder in the house serving up those questions to make you think\, while Headliners serves up the wings! Starting at 5pm\, come out to play FAMILY FRIENDLY.
URL:https://www.maddhatterpro.com/event/headliners-sports-bar-trivia/2028-01-10/
LOCATION:Headliners\, 4142 E Chandler Blvd\, Phoenix\, AZ\, 85048\, United States
ATTACH;FMTTYPE=image/jpeg:https://www.maddhatterpro.com/wp-content/uploads/2026/02/Headliners-Ahwatukee.jpg
END:VEVENT
BEGIN:VEVENT
DTSTART;TZID=UTC:20280117T173000
DTEND;TZID=UTC:20280117T190000
DTSTAMP:20260424T033610
CREATED:20260206T145607Z
LAST-MODIFIED:20260206T145607Z
UID:10025468-1831743000-1831748400@www.maddhatterpro.com
SUMMARY:Headliners Sports Bar Trivia
DESCRIPTION:Arizona’s toughest comes to Ahwatukee! DJ Wonder in the house serving up those questions to make you think\, while Headliners serves up the wings! Starting at 5pm\, come out to play FAMILY FRIENDLY.
URL:https://www.maddhatterpro.com/event/headliners-sports-bar-trivia/2028-01-17/
LOCATION:Headliners\, 4142 E Chandler Blvd\, Phoenix\, AZ\, 85048\, United States
ATTACH;FMTTYPE=image/jpeg:https://www.maddhatterpro.com/wp-content/uploads/2026/02/Headliners-Ahwatukee.jpg
END:VEVENT
BEGIN:VEVENT
DTSTART;TZID=UTC:20280124T173000
DTEND;TZID=UTC:20280124T190000
DTSTAMP:20260424T033610
CREATED:20260206T145607Z
LAST-MODIFIED:20260206T145607Z
UID:10025469-1832347800-1832353200@www.maddhatterpro.com
SUMMARY:Headliners Sports Bar Trivia
DESCRIPTION:Arizona’s toughest comes to Ahwatukee! DJ Wonder in the house serving up those questions to make you think\, while Headliners serves up the wings! Starting at 5pm\, come out to play FAMILY FRIENDLY.
URL:https://www.maddhatterpro.com/event/headliners-sports-bar-trivia/2028-01-24/
LOCATION:Headliners\, 4142 E Chandler Blvd\, Phoenix\, AZ\, 85048\, United States
ATTACH;FMTTYPE=image/jpeg:https://www.maddhatterpro.com/wp-content/uploads/2026/02/Headliners-Ahwatukee.jpg
END:VEVENT
BEGIN:VEVENT
DTSTART;TZID=UTC:20280131T173000
DTEND;TZID=UTC:20280131T190000
DTSTAMP:20260424T033610
CREATED:20260206T145607Z
LAST-MODIFIED:20260206T145607Z
UID:10025470-1832952600-1832958000@www.maddhatterpro.com
SUMMARY:Headliners Sports Bar Trivia
DESCRIPTION:Arizona’s toughest comes to Ahwatukee! DJ Wonder in the house serving up those questions to make you think\, while Headliners serves up the wings! Starting at 5pm\, come out to play FAMILY FRIENDLY.
URL:https://www.maddhatterpro.com/event/headliners-sports-bar-trivia/2028-01-31/
LOCATION:Headliners\, 4142 E Chandler Blvd\, Phoenix\, AZ\, 85048\, United States
ATTACH;FMTTYPE=image/jpeg:https://www.maddhatterpro.com/wp-content/uploads/2026/02/Headliners-Ahwatukee.jpg
END:VEVENT
BEGIN:VEVENT
DTSTART;TZID=UTC:20280207T173000
DTEND;TZID=UTC:20280207T190000
DTSTAMP:20260424T033610
CREATED:20260206T145607Z
LAST-MODIFIED:20260206T145607Z
UID:10025471-1833557400-1833562800@www.maddhatterpro.com
SUMMARY:Headliners Sports Bar Trivia
DESCRIPTION:Arizona’s toughest comes to Ahwatukee! DJ Wonder in the house serving up those questions to make you think\, while Headliners serves up the wings! Starting at 5pm\, come out to play FAMILY FRIENDLY.
URL:https://www.maddhatterpro.com/event/headliners-sports-bar-trivia/2028-02-07/
LOCATION:Headliners\, 4142 E Chandler Blvd\, Phoenix\, AZ\, 85048\, United States
ATTACH;FMTTYPE=image/jpeg:https://www.maddhatterpro.com/wp-content/uploads/2026/02/Headliners-Ahwatukee.jpg
END:VEVENT
BEGIN:VEVENT
DTSTART;TZID=UTC:20280214T173000
DTEND;TZID=UTC:20280214T190000
DTSTAMP:20260424T033610
CREATED:20260206T145607Z
LAST-MODIFIED:20260206T145607Z
UID:10025472-1834162200-1834167600@www.maddhatterpro.com
SUMMARY:Headliners Sports Bar Trivia
DESCRIPTION:Arizona’s toughest comes to Ahwatukee! DJ Wonder in the house serving up those questions to make you think\, while Headliners serves up the wings! Starting at 5pm\, come out to play FAMILY FRIENDLY.
URL:https://www.maddhatterpro.com/event/headliners-sports-bar-trivia/2028-02-14/
LOCATION:Headliners\, 4142 E Chandler Blvd\, Phoenix\, AZ\, 85048\, United States
ATTACH;FMTTYPE=image/jpeg:https://www.maddhatterpro.com/wp-content/uploads/2026/02/Headliners-Ahwatukee.jpg
END:VEVENT
BEGIN:VEVENT
DTSTART;TZID=UTC:20280221T173000
DTEND;TZID=UTC:20280221T190000
DTSTAMP:20260424T033610
CREATED:20260206T145607Z
LAST-MODIFIED:20260206T145607Z
UID:10025473-1834767000-1834772400@www.maddhatterpro.com
SUMMARY:Headliners Sports Bar Trivia
DESCRIPTION:Arizona’s toughest comes to Ahwatukee! DJ Wonder in the house serving up those questions to make you think\, while Headliners serves up the wings! Starting at 5pm\, come out to play FAMILY FRIENDLY.
URL:https://www.maddhatterpro.com/event/headliners-sports-bar-trivia/2028-02-21/
LOCATION:Headliners\, 4142 E Chandler Blvd\, Phoenix\, AZ\, 85048\, United States
ATTACH;FMTTYPE=image/jpeg:https://www.maddhatterpro.com/wp-content/uploads/2026/02/Headliners-Ahwatukee.jpg
END:VEVENT
BEGIN:VEVENT
DTSTART;TZID=UTC:20280228T173000
DTEND;TZID=UTC:20280228T190000
DTSTAMP:20260424T033610
CREATED:20260206T145607Z
LAST-MODIFIED:20260206T145607Z
UID:10025474-1835371800-1835377200@www.maddhatterpro.com
SUMMARY:Headliners Sports Bar Trivia
DESCRIPTION:Arizona’s toughest comes to Ahwatukee! DJ Wonder in the house serving up those questions to make you think\, while Headliners serves up the wings! Starting at 5pm\, come out to play FAMILY FRIENDLY.
URL:https://www.maddhatterpro.com/event/headliners-sports-bar-trivia/2028-02-28/
LOCATION:Headliners\, 4142 E Chandler Blvd\, Phoenix\, AZ\, 85048\, United States
ATTACH;FMTTYPE=image/jpeg:https://www.maddhatterpro.com/wp-content/uploads/2026/02/Headliners-Ahwatukee.jpg
END:VEVENT
BEGIN:VEVENT
DTSTART;TZID=UTC:20280306T173000
DTEND;TZID=UTC:20280306T190000
DTSTAMP:20260424T033610
CREATED:20260206T145607Z
LAST-MODIFIED:20260206T145607Z
UID:10025475-1835976600-1835982000@www.maddhatterpro.com
SUMMARY:Headliners Sports Bar Trivia
DESCRIPTION:Arizona’s toughest comes to Ahwatukee! DJ Wonder in the house serving up those questions to make you think\, while Headliners serves up the wings! Starting at 5pm\, come out to play FAMILY FRIENDLY.
URL:https://www.maddhatterpro.com/event/headliners-sports-bar-trivia/2028-03-06/
LOCATION:Headliners\, 4142 E Chandler Blvd\, Phoenix\, AZ\, 85048\, United States
ATTACH;FMTTYPE=image/jpeg:https://www.maddhatterpro.com/wp-content/uploads/2026/02/Headliners-Ahwatukee.jpg
END:VEVENT
BEGIN:VEVENT
DTSTART;TZID=UTC:20280313T173000
DTEND;TZID=UTC:20280313T190000
DTSTAMP:20260424T033610
CREATED:20260206T145607Z
LAST-MODIFIED:20260206T145607Z
UID:10025476-1836581400-1836586800@www.maddhatterpro.com
SUMMARY:Headliners Sports Bar Trivia
DESCRIPTION:Arizona’s toughest comes to Ahwatukee! DJ Wonder in the house serving up those questions to make you think\, while Headliners serves up the wings! Starting at 5pm\, come out to play FAMILY FRIENDLY.
URL:https://www.maddhatterpro.com/event/headliners-sports-bar-trivia/2028-03-13/
LOCATION:Headliners\, 4142 E Chandler Blvd\, Phoenix\, AZ\, 85048\, United States
ATTACH;FMTTYPE=image/jpeg:https://www.maddhatterpro.com/wp-content/uploads/2026/02/Headliners-Ahwatukee.jpg
END:VEVENT
BEGIN:VEVENT
DTSTART;TZID=UTC:20280320T173000
DTEND;TZID=UTC:20280320T190000
DTSTAMP:20260424T033610
CREATED:20260206T145607Z
LAST-MODIFIED:20260206T145607Z
UID:10025477-1837186200-1837191600@www.maddhatterpro.com
SUMMARY:Headliners Sports Bar Trivia
DESCRIPTION:Arizona’s toughest comes to Ahwatukee! DJ Wonder in the house serving up those questions to make you think\, while Headliners serves up the wings! Starting at 5pm\, come out to play FAMILY FRIENDLY.
URL:https://www.maddhatterpro.com/event/headliners-sports-bar-trivia/2028-03-20/
LOCATION:Headliners\, 4142 E Chandler Blvd\, Phoenix\, AZ\, 85048\, United States
ATTACH;FMTTYPE=image/jpeg:https://www.maddhatterpro.com/wp-content/uploads/2026/02/Headliners-Ahwatukee.jpg
END:VEVENT
BEGIN:VEVENT
DTSTART;TZID=UTC:20280327T173000
DTEND;TZID=UTC:20280327T190000
DTSTAMP:20260424T033610
CREATED:20260206T145607Z
LAST-MODIFIED:20260206T145607Z
UID:10025478-1837791000-1837796400@www.maddhatterpro.com
SUMMARY:Headliners Sports Bar Trivia
DESCRIPTION:Arizona’s toughest comes to Ahwatukee! DJ Wonder in the house serving up those questions to make you think\, while Headliners serves up the wings! Starting at 5pm\, come out to play FAMILY FRIENDLY.
URL:https://www.maddhatterpro.com/event/headliners-sports-bar-trivia/2028-03-27/
LOCATION:Headliners\, 4142 E Chandler Blvd\, Phoenix\, AZ\, 85048\, United States
ATTACH;FMTTYPE=image/jpeg:https://www.maddhatterpro.com/wp-content/uploads/2026/02/Headliners-Ahwatukee.jpg
END:VEVENT
BEGIN:VEVENT
DTSTART;TZID=UTC:20280403T173000
DTEND;TZID=UTC:20280403T190000
DTSTAMP:20260424T033610
CREATED:20260206T145607Z
LAST-MODIFIED:20260206T145607Z
UID:10025479-1838395800-1838401200@www.maddhatterpro.com
SUMMARY:Headliners Sports Bar Trivia
DESCRIPTION:Arizona’s toughest comes to Ahwatukee! DJ Wonder in the house serving up those questions to make you think\, while Headliners serves up the wings! Starting at 5pm\, come out to play FAMILY FRIENDLY.
URL:https://www.maddhatterpro.com/event/headliners-sports-bar-trivia/2028-04-03/
LOCATION:Headliners\, 4142 E Chandler Blvd\, Phoenix\, AZ\, 85048\, United States
ATTACH;FMTTYPE=image/jpeg:https://www.maddhatterpro.com/wp-content/uploads/2026/02/Headliners-Ahwatukee.jpg
END:VEVENT
END:VCALENDAR