BEGIN:VCALENDAR
VERSION:2.0
PRODID:-//MaddHatterPro.com - ECPv6.15.20//NONSGML v1.0//EN
CALSCALE:GREGORIAN
METHOD:PUBLISH
X-WR-CALNAME:MaddHatterPro.com
X-ORIGINAL-URL:https://www.maddhatterpro.com
X-WR-CALDESC:Events for MaddHatterPro.com
REFRESH-INTERVAL;VALUE=DURATION:PT1H
X-Robots-Tag:noindex
X-PUBLISHED-TTL:PT1H
BEGIN:VTIMEZONE
TZID:UTC
BEGIN:STANDARD
TZOFFSETFROM:+0000
TZOFFSETTO:+0000
TZNAME:UTC
DTSTART:20260101T000000
END:STANDARD
END:VTIMEZONE
BEGIN:VEVENT
DTSTART;TZID=UTC:20270102T210000
DTEND;TZID=UTC:20270102T210000
DTSTAMP:20260423T232950
CREATED:20250703T233325Z
LAST-MODIFIED:20260206T144355Z
UID:10020309-1798923600-1798923600@www.maddhatterpro.com
SUMMARY:Pullanos Pizza
DESCRIPTION:Glendale’s best karaoke spot! The Amazing KJ Zondo in the house\, 9pm-1am. Amazing staff\, amazing foods\, and amazing singers –  but only when YOU take the stage. \n13848 N 51st Ave\, Glendale\, AZ 85306 \n+16029781234
URL:https://www.maddhatterpro.com/event/pullanos-pizza/2027-01-02/
LOCATION:Pullanos Pizza\, 13848 N 51st Ave\, Glendale\, AZ\, 85306\, United States
CATEGORIES:Karaoke,KJ Zondo
ATTACH;FMTTYPE=image/jpeg:https://www.maddhatterpro.com/wp-content/uploads/2026/02/Pullanos-Glendale.jpg
END:VEVENT
BEGIN:VEVENT
DTSTART;TZID=UTC:20270107T210000
DTEND;TZID=UTC:20270107T210000
DTSTAMP:20260423T232950
CREATED:20250703T233325Z
LAST-MODIFIED:20260206T144355Z
UID:10020310-1799355600-1799355600@www.maddhatterpro.com
SUMMARY:Pullanos Pizza
DESCRIPTION:Glendale’s best karaoke spot! The Amazing KJ Zondo in the house\, 9pm-1am. Amazing staff\, amazing foods\, and amazing singers –  but only when YOU take the stage. \n13848 N 51st Ave\, Glendale\, AZ 85306 \n+16029781234
URL:https://www.maddhatterpro.com/event/pullanos-pizza/2027-01-07/
LOCATION:Pullanos Pizza\, 13848 N 51st Ave\, Glendale\, AZ\, 85306\, United States
CATEGORIES:Karaoke,KJ Zondo
ATTACH;FMTTYPE=image/jpeg:https://www.maddhatterpro.com/wp-content/uploads/2026/02/Pullanos-Glendale.jpg
END:VEVENT
BEGIN:VEVENT
DTSTART;TZID=UTC:20270109T210000
DTEND;TZID=UTC:20270109T210000
DTSTAMP:20260423T232950
CREATED:20250703T233325Z
LAST-MODIFIED:20260206T144355Z
UID:10020311-1799528400-1799528400@www.maddhatterpro.com
SUMMARY:Pullanos Pizza
DESCRIPTION:Glendale’s best karaoke spot! The Amazing KJ Zondo in the house\, 9pm-1am. Amazing staff\, amazing foods\, and amazing singers –  but only when YOU take the stage. \n13848 N 51st Ave\, Glendale\, AZ 85306 \n+16029781234
URL:https://www.maddhatterpro.com/event/pullanos-pizza/2027-01-09/
LOCATION:Pullanos Pizza\, 13848 N 51st Ave\, Glendale\, AZ\, 85306\, United States
CATEGORIES:Karaoke,KJ Zondo
ATTACH;FMTTYPE=image/jpeg:https://www.maddhatterpro.com/wp-content/uploads/2026/02/Pullanos-Glendale.jpg
END:VEVENT
BEGIN:VEVENT
DTSTART;TZID=UTC:20270114T210000
DTEND;TZID=UTC:20270114T210000
DTSTAMP:20260423T232950
CREATED:20250703T233325Z
LAST-MODIFIED:20260206T144355Z
UID:10020312-1799960400-1799960400@www.maddhatterpro.com
SUMMARY:Pullanos Pizza
DESCRIPTION:Glendale’s best karaoke spot! The Amazing KJ Zondo in the house\, 9pm-1am. Amazing staff\, amazing foods\, and amazing singers –  but only when YOU take the stage. \n13848 N 51st Ave\, Glendale\, AZ 85306 \n+16029781234
URL:https://www.maddhatterpro.com/event/pullanos-pizza/2027-01-14/
LOCATION:Pullanos Pizza\, 13848 N 51st Ave\, Glendale\, AZ\, 85306\, United States
CATEGORIES:Karaoke,KJ Zondo
ATTACH;FMTTYPE=image/jpeg:https://www.maddhatterpro.com/wp-content/uploads/2026/02/Pullanos-Glendale.jpg
END:VEVENT
BEGIN:VEVENT
DTSTART;TZID=UTC:20270116T210000
DTEND;TZID=UTC:20270116T210000
DTSTAMP:20260423T232950
CREATED:20250703T233325Z
LAST-MODIFIED:20260206T144355Z
UID:10020313-1800133200-1800133200@www.maddhatterpro.com
SUMMARY:Pullanos Pizza
DESCRIPTION:Glendale’s best karaoke spot! The Amazing KJ Zondo in the house\, 9pm-1am. Amazing staff\, amazing foods\, and amazing singers –  but only when YOU take the stage. \n13848 N 51st Ave\, Glendale\, AZ 85306 \n+16029781234
URL:https://www.maddhatterpro.com/event/pullanos-pizza/2027-01-16/
LOCATION:Pullanos Pizza\, 13848 N 51st Ave\, Glendale\, AZ\, 85306\, United States
CATEGORIES:Karaoke,KJ Zondo
ATTACH;FMTTYPE=image/jpeg:https://www.maddhatterpro.com/wp-content/uploads/2026/02/Pullanos-Glendale.jpg
END:VEVENT
BEGIN:VEVENT
DTSTART;TZID=UTC:20270121T210000
DTEND;TZID=UTC:20270121T210000
DTSTAMP:20260423T232950
CREATED:20250703T233325Z
LAST-MODIFIED:20260206T144355Z
UID:10020314-1800565200-1800565200@www.maddhatterpro.com
SUMMARY:Pullanos Pizza
DESCRIPTION:Glendale’s best karaoke spot! The Amazing KJ Zondo in the house\, 9pm-1am. Amazing staff\, amazing foods\, and amazing singers –  but only when YOU take the stage. \n13848 N 51st Ave\, Glendale\, AZ 85306 \n+16029781234
URL:https://www.maddhatterpro.com/event/pullanos-pizza/2027-01-21/
LOCATION:Pullanos Pizza\, 13848 N 51st Ave\, Glendale\, AZ\, 85306\, United States
CATEGORIES:Karaoke,KJ Zondo
ATTACH;FMTTYPE=image/jpeg:https://www.maddhatterpro.com/wp-content/uploads/2026/02/Pullanos-Glendale.jpg
END:VEVENT
BEGIN:VEVENT
DTSTART;TZID=UTC:20270123T210000
DTEND;TZID=UTC:20270123T210000
DTSTAMP:20260423T232950
CREATED:20250703T233325Z
LAST-MODIFIED:20260206T144355Z
UID:10020315-1800738000-1800738000@www.maddhatterpro.com
SUMMARY:Pullanos Pizza
DESCRIPTION:Glendale’s best karaoke spot! The Amazing KJ Zondo in the house\, 9pm-1am. Amazing staff\, amazing foods\, and amazing singers –  but only when YOU take the stage. \n13848 N 51st Ave\, Glendale\, AZ 85306 \n+16029781234
URL:https://www.maddhatterpro.com/event/pullanos-pizza/2027-01-23/
LOCATION:Pullanos Pizza\, 13848 N 51st Ave\, Glendale\, AZ\, 85306\, United States
CATEGORIES:Karaoke,KJ Zondo
ATTACH;FMTTYPE=image/jpeg:https://www.maddhatterpro.com/wp-content/uploads/2026/02/Pullanos-Glendale.jpg
END:VEVENT
BEGIN:VEVENT
DTSTART;TZID=UTC:20270128T210000
DTEND;TZID=UTC:20270128T210000
DTSTAMP:20260423T232950
CREATED:20250703T233325Z
LAST-MODIFIED:20260206T144355Z
UID:10020316-1801170000-1801170000@www.maddhatterpro.com
SUMMARY:Pullanos Pizza
DESCRIPTION:Glendale’s best karaoke spot! The Amazing KJ Zondo in the house\, 9pm-1am. Amazing staff\, amazing foods\, and amazing singers –  but only when YOU take the stage. \n13848 N 51st Ave\, Glendale\, AZ 85306 \n+16029781234
URL:https://www.maddhatterpro.com/event/pullanos-pizza/2027-01-28/
LOCATION:Pullanos Pizza\, 13848 N 51st Ave\, Glendale\, AZ\, 85306\, United States
CATEGORIES:Karaoke,KJ Zondo
ATTACH;FMTTYPE=image/jpeg:https://www.maddhatterpro.com/wp-content/uploads/2026/02/Pullanos-Glendale.jpg
END:VEVENT
BEGIN:VEVENT
DTSTART;TZID=UTC:20270130T210000
DTEND;TZID=UTC:20270130T210000
DTSTAMP:20260423T232950
CREATED:20250703T233325Z
LAST-MODIFIED:20260206T144355Z
UID:10020317-1801342800-1801342800@www.maddhatterpro.com
SUMMARY:Pullanos Pizza
DESCRIPTION:Glendale’s best karaoke spot! The Amazing KJ Zondo in the house\, 9pm-1am. Amazing staff\, amazing foods\, and amazing singers –  but only when YOU take the stage. \n13848 N 51st Ave\, Glendale\, AZ 85306 \n+16029781234
URL:https://www.maddhatterpro.com/event/pullanos-pizza/2027-01-30/
LOCATION:Pullanos Pizza\, 13848 N 51st Ave\, Glendale\, AZ\, 85306\, United States
CATEGORIES:Karaoke,KJ Zondo
ATTACH;FMTTYPE=image/jpeg:https://www.maddhatterpro.com/wp-content/uploads/2026/02/Pullanos-Glendale.jpg
END:VEVENT
BEGIN:VEVENT
DTSTART;TZID=UTC:20270204T210000
DTEND;TZID=UTC:20270204T210000
DTSTAMP:20260423T232950
CREATED:20250703T233325Z
LAST-MODIFIED:20260206T144355Z
UID:10020318-1801774800-1801774800@www.maddhatterpro.com
SUMMARY:Pullanos Pizza
DESCRIPTION:Glendale’s best karaoke spot! The Amazing KJ Zondo in the house\, 9pm-1am. Amazing staff\, amazing foods\, and amazing singers –  but only when YOU take the stage. \n13848 N 51st Ave\, Glendale\, AZ 85306 \n+16029781234
URL:https://www.maddhatterpro.com/event/pullanos-pizza/2027-02-04/
LOCATION:Pullanos Pizza\, 13848 N 51st Ave\, Glendale\, AZ\, 85306\, United States
CATEGORIES:Karaoke,KJ Zondo
ATTACH;FMTTYPE=image/jpeg:https://www.maddhatterpro.com/wp-content/uploads/2026/02/Pullanos-Glendale.jpg
END:VEVENT
BEGIN:VEVENT
DTSTART;TZID=UTC:20270206T210000
DTEND;TZID=UTC:20270206T210000
DTSTAMP:20260423T232950
CREATED:20250703T233325Z
LAST-MODIFIED:20260206T144355Z
UID:10020319-1801947600-1801947600@www.maddhatterpro.com
SUMMARY:Pullanos Pizza
DESCRIPTION:Glendale’s best karaoke spot! The Amazing KJ Zondo in the house\, 9pm-1am. Amazing staff\, amazing foods\, and amazing singers –  but only when YOU take the stage. \n13848 N 51st Ave\, Glendale\, AZ 85306 \n+16029781234
URL:https://www.maddhatterpro.com/event/pullanos-pizza/2027-02-06/
LOCATION:Pullanos Pizza\, 13848 N 51st Ave\, Glendale\, AZ\, 85306\, United States
CATEGORIES:Karaoke,KJ Zondo
ATTACH;FMTTYPE=image/jpeg:https://www.maddhatterpro.com/wp-content/uploads/2026/02/Pullanos-Glendale.jpg
END:VEVENT
BEGIN:VEVENT
DTSTART;TZID=UTC:20270211T210000
DTEND;TZID=UTC:20270211T210000
DTSTAMP:20260423T232950
CREATED:20250703T233325Z
LAST-MODIFIED:20260206T144355Z
UID:10020320-1802379600-1802379600@www.maddhatterpro.com
SUMMARY:Pullanos Pizza
DESCRIPTION:Glendale’s best karaoke spot! The Amazing KJ Zondo in the house\, 9pm-1am. Amazing staff\, amazing foods\, and amazing singers –  but only when YOU take the stage. \n13848 N 51st Ave\, Glendale\, AZ 85306 \n+16029781234
URL:https://www.maddhatterpro.com/event/pullanos-pizza/2027-02-11/
LOCATION:Pullanos Pizza\, 13848 N 51st Ave\, Glendale\, AZ\, 85306\, United States
CATEGORIES:Karaoke,KJ Zondo
ATTACH;FMTTYPE=image/jpeg:https://www.maddhatterpro.com/wp-content/uploads/2026/02/Pullanos-Glendale.jpg
END:VEVENT
BEGIN:VEVENT
DTSTART;TZID=UTC:20270213T210000
DTEND;TZID=UTC:20270213T210000
DTSTAMP:20260423T232950
CREATED:20250703T233325Z
LAST-MODIFIED:20260206T144355Z
UID:10020321-1802552400-1802552400@www.maddhatterpro.com
SUMMARY:Pullanos Pizza
DESCRIPTION:Glendale’s best karaoke spot! The Amazing KJ Zondo in the house\, 9pm-1am. Amazing staff\, amazing foods\, and amazing singers –  but only when YOU take the stage. \n13848 N 51st Ave\, Glendale\, AZ 85306 \n+16029781234
URL:https://www.maddhatterpro.com/event/pullanos-pizza/2027-02-13/
LOCATION:Pullanos Pizza\, 13848 N 51st Ave\, Glendale\, AZ\, 85306\, United States
CATEGORIES:Karaoke,KJ Zondo
ATTACH;FMTTYPE=image/jpeg:https://www.maddhatterpro.com/wp-content/uploads/2026/02/Pullanos-Glendale.jpg
END:VEVENT
BEGIN:VEVENT
DTSTART;TZID=UTC:20270218T210000
DTEND;TZID=UTC:20270218T210000
DTSTAMP:20260423T232950
CREATED:20250703T233325Z
LAST-MODIFIED:20260206T144355Z
UID:10020322-1802984400-1802984400@www.maddhatterpro.com
SUMMARY:Pullanos Pizza
DESCRIPTION:Glendale’s best karaoke spot! The Amazing KJ Zondo in the house\, 9pm-1am. Amazing staff\, amazing foods\, and amazing singers –  but only when YOU take the stage. \n13848 N 51st Ave\, Glendale\, AZ 85306 \n+16029781234
URL:https://www.maddhatterpro.com/event/pullanos-pizza/2027-02-18/
LOCATION:Pullanos Pizza\, 13848 N 51st Ave\, Glendale\, AZ\, 85306\, United States
CATEGORIES:Karaoke,KJ Zondo
ATTACH;FMTTYPE=image/jpeg:https://www.maddhatterpro.com/wp-content/uploads/2026/02/Pullanos-Glendale.jpg
END:VEVENT
BEGIN:VEVENT
DTSTART;TZID=UTC:20270220T210000
DTEND;TZID=UTC:20270220T210000
DTSTAMP:20260423T232950
CREATED:20250703T233325Z
LAST-MODIFIED:20260206T144355Z
UID:10020323-1803157200-1803157200@www.maddhatterpro.com
SUMMARY:Pullanos Pizza
DESCRIPTION:Glendale’s best karaoke spot! The Amazing KJ Zondo in the house\, 9pm-1am. Amazing staff\, amazing foods\, and amazing singers –  but only when YOU take the stage. \n13848 N 51st Ave\, Glendale\, AZ 85306 \n+16029781234
URL:https://www.maddhatterpro.com/event/pullanos-pizza/2027-02-20/
LOCATION:Pullanos Pizza\, 13848 N 51st Ave\, Glendale\, AZ\, 85306\, United States
CATEGORIES:Karaoke,KJ Zondo
ATTACH;FMTTYPE=image/jpeg:https://www.maddhatterpro.com/wp-content/uploads/2026/02/Pullanos-Glendale.jpg
END:VEVENT
BEGIN:VEVENT
DTSTART;TZID=UTC:20270225T210000
DTEND;TZID=UTC:20270225T210000
DTSTAMP:20260423T232950
CREATED:20250703T233325Z
LAST-MODIFIED:20260206T144355Z
UID:10020324-1803589200-1803589200@www.maddhatterpro.com
SUMMARY:Pullanos Pizza
DESCRIPTION:Glendale’s best karaoke spot! The Amazing KJ Zondo in the house\, 9pm-1am. Amazing staff\, amazing foods\, and amazing singers –  but only when YOU take the stage. \n13848 N 51st Ave\, Glendale\, AZ 85306 \n+16029781234
URL:https://www.maddhatterpro.com/event/pullanos-pizza/2027-02-25/
LOCATION:Pullanos Pizza\, 13848 N 51st Ave\, Glendale\, AZ\, 85306\, United States
CATEGORIES:Karaoke,KJ Zondo
ATTACH;FMTTYPE=image/jpeg:https://www.maddhatterpro.com/wp-content/uploads/2026/02/Pullanos-Glendale.jpg
END:VEVENT
BEGIN:VEVENT
DTSTART;TZID=UTC:20270227T210000
DTEND;TZID=UTC:20270227T210000
DTSTAMP:20260423T232950
CREATED:20250703T233325Z
LAST-MODIFIED:20260206T144355Z
UID:10020325-1803762000-1803762000@www.maddhatterpro.com
SUMMARY:Pullanos Pizza
DESCRIPTION:Glendale’s best karaoke spot! The Amazing KJ Zondo in the house\, 9pm-1am. Amazing staff\, amazing foods\, and amazing singers –  but only when YOU take the stage. \n13848 N 51st Ave\, Glendale\, AZ 85306 \n+16029781234
URL:https://www.maddhatterpro.com/event/pullanos-pizza/2027-02-27/
LOCATION:Pullanos Pizza\, 13848 N 51st Ave\, Glendale\, AZ\, 85306\, United States
CATEGORIES:Karaoke,KJ Zondo
ATTACH;FMTTYPE=image/jpeg:https://www.maddhatterpro.com/wp-content/uploads/2026/02/Pullanos-Glendale.jpg
END:VEVENT
BEGIN:VEVENT
DTSTART;TZID=UTC:20270304T210000
DTEND;TZID=UTC:20270304T210000
DTSTAMP:20260423T232950
CREATED:20250703T233325Z
LAST-MODIFIED:20260206T144355Z
UID:10020326-1804194000-1804194000@www.maddhatterpro.com
SUMMARY:Pullanos Pizza
DESCRIPTION:Glendale’s best karaoke spot! The Amazing KJ Zondo in the house\, 9pm-1am. Amazing staff\, amazing foods\, and amazing singers –  but only when YOU take the stage. \n13848 N 51st Ave\, Glendale\, AZ 85306 \n+16029781234
URL:https://www.maddhatterpro.com/event/pullanos-pizza/2027-03-04/
LOCATION:Pullanos Pizza\, 13848 N 51st Ave\, Glendale\, AZ\, 85306\, United States
CATEGORIES:Karaoke,KJ Zondo
ATTACH;FMTTYPE=image/jpeg:https://www.maddhatterpro.com/wp-content/uploads/2026/02/Pullanos-Glendale.jpg
END:VEVENT
BEGIN:VEVENT
DTSTART;TZID=UTC:20270306T210000
DTEND;TZID=UTC:20270306T210000
DTSTAMP:20260423T232950
CREATED:20250703T233325Z
LAST-MODIFIED:20260206T144355Z
UID:10020327-1804366800-1804366800@www.maddhatterpro.com
SUMMARY:Pullanos Pizza
DESCRIPTION:Glendale’s best karaoke spot! The Amazing KJ Zondo in the house\, 9pm-1am. Amazing staff\, amazing foods\, and amazing singers –  but only when YOU take the stage. \n13848 N 51st Ave\, Glendale\, AZ 85306 \n+16029781234
URL:https://www.maddhatterpro.com/event/pullanos-pizza/2027-03-06/
LOCATION:Pullanos Pizza\, 13848 N 51st Ave\, Glendale\, AZ\, 85306\, United States
CATEGORIES:Karaoke,KJ Zondo
ATTACH;FMTTYPE=image/jpeg:https://www.maddhatterpro.com/wp-content/uploads/2026/02/Pullanos-Glendale.jpg
END:VEVENT
BEGIN:VEVENT
DTSTART;TZID=UTC:20270311T210000
DTEND;TZID=UTC:20270311T210000
DTSTAMP:20260423T232950
CREATED:20250703T233325Z
LAST-MODIFIED:20260206T144355Z
UID:10020328-1804798800-1804798800@www.maddhatterpro.com
SUMMARY:Pullanos Pizza
DESCRIPTION:Glendale’s best karaoke spot! The Amazing KJ Zondo in the house\, 9pm-1am. Amazing staff\, amazing foods\, and amazing singers –  but only when YOU take the stage. \n13848 N 51st Ave\, Glendale\, AZ 85306 \n+16029781234
URL:https://www.maddhatterpro.com/event/pullanos-pizza/2027-03-11/
LOCATION:Pullanos Pizza\, 13848 N 51st Ave\, Glendale\, AZ\, 85306\, United States
CATEGORIES:Karaoke,KJ Zondo
ATTACH;FMTTYPE=image/jpeg:https://www.maddhatterpro.com/wp-content/uploads/2026/02/Pullanos-Glendale.jpg
END:VEVENT
BEGIN:VEVENT
DTSTART;TZID=UTC:20270313T210000
DTEND;TZID=UTC:20270313T210000
DTSTAMP:20260423T232950
CREATED:20250703T233325Z
LAST-MODIFIED:20260206T144355Z
UID:10020329-1804971600-1804971600@www.maddhatterpro.com
SUMMARY:Pullanos Pizza
DESCRIPTION:Glendale’s best karaoke spot! The Amazing KJ Zondo in the house\, 9pm-1am. Amazing staff\, amazing foods\, and amazing singers –  but only when YOU take the stage. \n13848 N 51st Ave\, Glendale\, AZ 85306 \n+16029781234
URL:https://www.maddhatterpro.com/event/pullanos-pizza/2027-03-13/
LOCATION:Pullanos Pizza\, 13848 N 51st Ave\, Glendale\, AZ\, 85306\, United States
CATEGORIES:Karaoke,KJ Zondo
ATTACH;FMTTYPE=image/jpeg:https://www.maddhatterpro.com/wp-content/uploads/2026/02/Pullanos-Glendale.jpg
END:VEVENT
BEGIN:VEVENT
DTSTART;TZID=UTC:20270318T210000
DTEND;TZID=UTC:20270318T210000
DTSTAMP:20260423T232950
CREATED:20250703T233325Z
LAST-MODIFIED:20260206T144355Z
UID:10020330-1805403600-1805403600@www.maddhatterpro.com
SUMMARY:Pullanos Pizza
DESCRIPTION:Glendale’s best karaoke spot! The Amazing KJ Zondo in the house\, 9pm-1am. Amazing staff\, amazing foods\, and amazing singers –  but only when YOU take the stage. \n13848 N 51st Ave\, Glendale\, AZ 85306 \n+16029781234
URL:https://www.maddhatterpro.com/event/pullanos-pizza/2027-03-18/
LOCATION:Pullanos Pizza\, 13848 N 51st Ave\, Glendale\, AZ\, 85306\, United States
CATEGORIES:Karaoke,KJ Zondo
ATTACH;FMTTYPE=image/jpeg:https://www.maddhatterpro.com/wp-content/uploads/2026/02/Pullanos-Glendale.jpg
END:VEVENT
BEGIN:VEVENT
DTSTART;TZID=UTC:20270320T210000
DTEND;TZID=UTC:20270320T210000
DTSTAMP:20260423T232950
CREATED:20250703T233325Z
LAST-MODIFIED:20260206T144355Z
UID:10020331-1805576400-1805576400@www.maddhatterpro.com
SUMMARY:Pullanos Pizza
DESCRIPTION:Glendale’s best karaoke spot! The Amazing KJ Zondo in the house\, 9pm-1am. Amazing staff\, amazing foods\, and amazing singers –  but only when YOU take the stage. \n13848 N 51st Ave\, Glendale\, AZ 85306 \n+16029781234
URL:https://www.maddhatterpro.com/event/pullanos-pizza/2027-03-20/
LOCATION:Pullanos Pizza\, 13848 N 51st Ave\, Glendale\, AZ\, 85306\, United States
CATEGORIES:Karaoke,KJ Zondo
ATTACH;FMTTYPE=image/jpeg:https://www.maddhatterpro.com/wp-content/uploads/2026/02/Pullanos-Glendale.jpg
END:VEVENT
BEGIN:VEVENT
DTSTART;TZID=UTC:20270325T210000
DTEND;TZID=UTC:20270325T210000
DTSTAMP:20260423T232950
CREATED:20250703T233325Z
LAST-MODIFIED:20260206T144355Z
UID:10020332-1806008400-1806008400@www.maddhatterpro.com
SUMMARY:Pullanos Pizza
DESCRIPTION:Glendale’s best karaoke spot! The Amazing KJ Zondo in the house\, 9pm-1am. Amazing staff\, amazing foods\, and amazing singers –  but only when YOU take the stage. \n13848 N 51st Ave\, Glendale\, AZ 85306 \n+16029781234
URL:https://www.maddhatterpro.com/event/pullanos-pizza/2027-03-25/
LOCATION:Pullanos Pizza\, 13848 N 51st Ave\, Glendale\, AZ\, 85306\, United States
CATEGORIES:Karaoke,KJ Zondo
ATTACH;FMTTYPE=image/jpeg:https://www.maddhatterpro.com/wp-content/uploads/2026/02/Pullanos-Glendale.jpg
END:VEVENT
BEGIN:VEVENT
DTSTART;TZID=UTC:20270327T210000
DTEND;TZID=UTC:20270327T210000
DTSTAMP:20260423T232950
CREATED:20250703T233325Z
LAST-MODIFIED:20260206T144355Z
UID:10020333-1806181200-1806181200@www.maddhatterpro.com
SUMMARY:Pullanos Pizza
DESCRIPTION:Glendale’s best karaoke spot! The Amazing KJ Zondo in the house\, 9pm-1am. Amazing staff\, amazing foods\, and amazing singers –  but only when YOU take the stage. \n13848 N 51st Ave\, Glendale\, AZ 85306 \n+16029781234
URL:https://www.maddhatterpro.com/event/pullanos-pizza/2027-03-27/
LOCATION:Pullanos Pizza\, 13848 N 51st Ave\, Glendale\, AZ\, 85306\, United States
CATEGORIES:Karaoke,KJ Zondo
ATTACH;FMTTYPE=image/jpeg:https://www.maddhatterpro.com/wp-content/uploads/2026/02/Pullanos-Glendale.jpg
END:VEVENT
BEGIN:VEVENT
DTSTART;TZID=UTC:20270401T210000
DTEND;TZID=UTC:20270401T210000
DTSTAMP:20260423T232950
CREATED:20250703T233325Z
LAST-MODIFIED:20260206T144355Z
UID:10020334-1806613200-1806613200@www.maddhatterpro.com
SUMMARY:Pullanos Pizza
DESCRIPTION:Glendale’s best karaoke spot! The Amazing KJ Zondo in the house\, 9pm-1am. Amazing staff\, amazing foods\, and amazing singers –  but only when YOU take the stage. \n13848 N 51st Ave\, Glendale\, AZ 85306 \n+16029781234
URL:https://www.maddhatterpro.com/event/pullanos-pizza/2027-04-01/
LOCATION:Pullanos Pizza\, 13848 N 51st Ave\, Glendale\, AZ\, 85306\, United States
CATEGORIES:Karaoke,KJ Zondo
ATTACH;FMTTYPE=image/jpeg:https://www.maddhatterpro.com/wp-content/uploads/2026/02/Pullanos-Glendale.jpg
END:VEVENT
BEGIN:VEVENT
DTSTART;TZID=UTC:20270403T210000
DTEND;TZID=UTC:20270403T210000
DTSTAMP:20260423T232950
CREATED:20250703T233325Z
LAST-MODIFIED:20260206T144355Z
UID:10020335-1806786000-1806786000@www.maddhatterpro.com
SUMMARY:Pullanos Pizza
DESCRIPTION:Glendale’s best karaoke spot! The Amazing KJ Zondo in the house\, 9pm-1am. Amazing staff\, amazing foods\, and amazing singers –  but only when YOU take the stage. \n13848 N 51st Ave\, Glendale\, AZ 85306 \n+16029781234
URL:https://www.maddhatterpro.com/event/pullanos-pizza/2027-04-03/
LOCATION:Pullanos Pizza\, 13848 N 51st Ave\, Glendale\, AZ\, 85306\, United States
CATEGORIES:Karaoke,KJ Zondo
ATTACH;FMTTYPE=image/jpeg:https://www.maddhatterpro.com/wp-content/uploads/2026/02/Pullanos-Glendale.jpg
END:VEVENT
BEGIN:VEVENT
DTSTART;TZID=UTC:20270408T210000
DTEND;TZID=UTC:20270408T210000
DTSTAMP:20260423T232950
CREATED:20250703T233325Z
LAST-MODIFIED:20260206T144355Z
UID:10020336-1807218000-1807218000@www.maddhatterpro.com
SUMMARY:Pullanos Pizza
DESCRIPTION:Glendale’s best karaoke spot! The Amazing KJ Zondo in the house\, 9pm-1am. Amazing staff\, amazing foods\, and amazing singers –  but only when YOU take the stage. \n13848 N 51st Ave\, Glendale\, AZ 85306 \n+16029781234
URL:https://www.maddhatterpro.com/event/pullanos-pizza/2027-04-08/
LOCATION:Pullanos Pizza\, 13848 N 51st Ave\, Glendale\, AZ\, 85306\, United States
CATEGORIES:Karaoke,KJ Zondo
ATTACH;FMTTYPE=image/jpeg:https://www.maddhatterpro.com/wp-content/uploads/2026/02/Pullanos-Glendale.jpg
END:VEVENT
BEGIN:VEVENT
DTSTART;TZID=UTC:20270410T210000
DTEND;TZID=UTC:20270410T210000
DTSTAMP:20260423T232950
CREATED:20250703T233325Z
LAST-MODIFIED:20260206T144355Z
UID:10020337-1807390800-1807390800@www.maddhatterpro.com
SUMMARY:Pullanos Pizza
DESCRIPTION:Glendale’s best karaoke spot! The Amazing KJ Zondo in the house\, 9pm-1am. Amazing staff\, amazing foods\, and amazing singers –  but only when YOU take the stage. \n13848 N 51st Ave\, Glendale\, AZ 85306 \n+16029781234
URL:https://www.maddhatterpro.com/event/pullanos-pizza/2027-04-10/
LOCATION:Pullanos Pizza\, 13848 N 51st Ave\, Glendale\, AZ\, 85306\, United States
CATEGORIES:Karaoke,KJ Zondo
ATTACH;FMTTYPE=image/jpeg:https://www.maddhatterpro.com/wp-content/uploads/2026/02/Pullanos-Glendale.jpg
END:VEVENT
BEGIN:VEVENT
DTSTART;TZID=UTC:20270415T210000
DTEND;TZID=UTC:20270415T210000
DTSTAMP:20260423T232950
CREATED:20250703T233325Z
LAST-MODIFIED:20260206T144355Z
UID:10020338-1807822800-1807822800@www.maddhatterpro.com
SUMMARY:Pullanos Pizza
DESCRIPTION:Glendale’s best karaoke spot! The Amazing KJ Zondo in the house\, 9pm-1am. Amazing staff\, amazing foods\, and amazing singers –  but only when YOU take the stage. \n13848 N 51st Ave\, Glendale\, AZ 85306 \n+16029781234
URL:https://www.maddhatterpro.com/event/pullanos-pizza/2027-04-15/
LOCATION:Pullanos Pizza\, 13848 N 51st Ave\, Glendale\, AZ\, 85306\, United States
CATEGORIES:Karaoke,KJ Zondo
ATTACH;FMTTYPE=image/jpeg:https://www.maddhatterpro.com/wp-content/uploads/2026/02/Pullanos-Glendale.jpg
END:VEVENT
END:VCALENDAR