BEGIN:VCALENDAR
VERSION:2.0
PRODID:-//MaddHatterPro.com - ECPv6.15.20//NONSGML v1.0//EN
CALSCALE:GREGORIAN
METHOD:PUBLISH
X-ORIGINAL-URL:https://www.maddhatterpro.com
X-WR-CALDESC:Events for MaddHatterPro.com
REFRESH-INTERVAL;VALUE=DURATION:PT1H
X-Robots-Tag:noindex
X-PUBLISHED-TTL:PT1H
BEGIN:VTIMEZONE
TZID:UTC
BEGIN:STANDARD
TZOFFSETFROM:+0000
TZOFFSETTO:+0000
TZNAME:UTC
DTSTART:20260101T000000
END:STANDARD
END:VTIMEZONE
BEGIN:VEVENT
DTSTART;TZID=UTC:20270622T210000
DTEND;TZID=UTC:20270622T210000
DTSTAMP:20260423T232956
CREATED:20250703T231700Z
LAST-MODIFIED:20260206T143948Z
UID:10019993-1813698000-1813698000@www.maddhatterpro.com
SUMMARY:Pub Rock Live Karaoke
DESCRIPTION:Karaoke in South Scottsdale’s prime spot! The amazing KJ Zondo in the house\, 9pm to 1am. Come keep me busy and I will stay till you’re done! \n8005 E Roosevelt St\, Scottsdale\, AZ 85257 \n+14809454985
URL:https://www.maddhatterpro.com/event/pub-rock-live-karaoke/2027-06-22/
LOCATION:Pub Rock Live\, 8005 E Roosevelt St\, Scottsdale\, AZ\, 85257\, United States
CATEGORIES:Karaoke,KJ Zondo
ATTACH;FMTTYPE=image/jpeg:https://www.maddhatterpro.com/wp-content/uploads/2026/02/PubRock-Scottsdale.jpg
END:VEVENT
BEGIN:VEVENT
DTSTART;TZID=UTC:20270629T210000
DTEND;TZID=UTC:20270629T210000
DTSTAMP:20260423T232956
CREATED:20250703T231700Z
LAST-MODIFIED:20260206T143948Z
UID:10019994-1814302800-1814302800@www.maddhatterpro.com
SUMMARY:Pub Rock Live Karaoke
DESCRIPTION:Karaoke in South Scottsdale’s prime spot! The amazing KJ Zondo in the house\, 9pm to 1am. Come keep me busy and I will stay till you’re done! \n8005 E Roosevelt St\, Scottsdale\, AZ 85257 \n+14809454985
URL:https://www.maddhatterpro.com/event/pub-rock-live-karaoke/2027-06-29/
LOCATION:Pub Rock Live\, 8005 E Roosevelt St\, Scottsdale\, AZ\, 85257\, United States
CATEGORIES:Karaoke,KJ Zondo
ATTACH;FMTTYPE=image/jpeg:https://www.maddhatterpro.com/wp-content/uploads/2026/02/PubRock-Scottsdale.jpg
END:VEVENT
BEGIN:VEVENT
DTSTART;TZID=UTC:20270706T210000
DTEND;TZID=UTC:20270706T210000
DTSTAMP:20260423T232956
CREATED:20250703T231700Z
LAST-MODIFIED:20260206T143948Z
UID:10019995-1814907600-1814907600@www.maddhatterpro.com
SUMMARY:Pub Rock Live Karaoke
DESCRIPTION:Karaoke in South Scottsdale’s prime spot! The amazing KJ Zondo in the house\, 9pm to 1am. Come keep me busy and I will stay till you’re done! \n8005 E Roosevelt St\, Scottsdale\, AZ 85257 \n+14809454985
URL:https://www.maddhatterpro.com/event/pub-rock-live-karaoke/2027-07-06/
LOCATION:Pub Rock Live\, 8005 E Roosevelt St\, Scottsdale\, AZ\, 85257\, United States
CATEGORIES:Karaoke,KJ Zondo
ATTACH;FMTTYPE=image/jpeg:https://www.maddhatterpro.com/wp-content/uploads/2026/02/PubRock-Scottsdale.jpg
END:VEVENT
BEGIN:VEVENT
DTSTART;TZID=UTC:20270713T210000
DTEND;TZID=UTC:20270713T210000
DTSTAMP:20260423T232956
CREATED:20250703T231700Z
LAST-MODIFIED:20260206T143948Z
UID:10019996-1815512400-1815512400@www.maddhatterpro.com
SUMMARY:Pub Rock Live Karaoke
DESCRIPTION:Karaoke in South Scottsdale’s prime spot! The amazing KJ Zondo in the house\, 9pm to 1am. Come keep me busy and I will stay till you’re done! \n8005 E Roosevelt St\, Scottsdale\, AZ 85257 \n+14809454985
URL:https://www.maddhatterpro.com/event/pub-rock-live-karaoke/2027-07-13/
LOCATION:Pub Rock Live\, 8005 E Roosevelt St\, Scottsdale\, AZ\, 85257\, United States
CATEGORIES:Karaoke,KJ Zondo
ATTACH;FMTTYPE=image/jpeg:https://www.maddhatterpro.com/wp-content/uploads/2026/02/PubRock-Scottsdale.jpg
END:VEVENT
BEGIN:VEVENT
DTSTART;TZID=UTC:20270720T210000
DTEND;TZID=UTC:20270720T210000
DTSTAMP:20260423T232956
CREATED:20250703T231700Z
LAST-MODIFIED:20260206T143948Z
UID:10019997-1816117200-1816117200@www.maddhatterpro.com
SUMMARY:Pub Rock Live Karaoke
DESCRIPTION:Karaoke in South Scottsdale’s prime spot! The amazing KJ Zondo in the house\, 9pm to 1am. Come keep me busy and I will stay till you’re done! \n8005 E Roosevelt St\, Scottsdale\, AZ 85257 \n+14809454985
URL:https://www.maddhatterpro.com/event/pub-rock-live-karaoke/2027-07-20/
LOCATION:Pub Rock Live\, 8005 E Roosevelt St\, Scottsdale\, AZ\, 85257\, United States
CATEGORIES:Karaoke,KJ Zondo
ATTACH;FMTTYPE=image/jpeg:https://www.maddhatterpro.com/wp-content/uploads/2026/02/PubRock-Scottsdale.jpg
END:VEVENT
BEGIN:VEVENT
DTSTART;TZID=UTC:20270727T210000
DTEND;TZID=UTC:20270727T210000
DTSTAMP:20260423T232956
CREATED:20250703T231700Z
LAST-MODIFIED:20260206T143948Z
UID:10019998-1816722000-1816722000@www.maddhatterpro.com
SUMMARY:Pub Rock Live Karaoke
DESCRIPTION:Karaoke in South Scottsdale’s prime spot! The amazing KJ Zondo in the house\, 9pm to 1am. Come keep me busy and I will stay till you’re done! \n8005 E Roosevelt St\, Scottsdale\, AZ 85257 \n+14809454985
URL:https://www.maddhatterpro.com/event/pub-rock-live-karaoke/2027-07-27/
LOCATION:Pub Rock Live\, 8005 E Roosevelt St\, Scottsdale\, AZ\, 85257\, United States
CATEGORIES:Karaoke,KJ Zondo
ATTACH;FMTTYPE=image/jpeg:https://www.maddhatterpro.com/wp-content/uploads/2026/02/PubRock-Scottsdale.jpg
END:VEVENT
BEGIN:VEVENT
DTSTART;TZID=UTC:20270803T210000
DTEND;TZID=UTC:20270803T210000
DTSTAMP:20260423T232956
CREATED:20250703T231700Z
LAST-MODIFIED:20260206T143948Z
UID:10019999-1817326800-1817326800@www.maddhatterpro.com
SUMMARY:Pub Rock Live Karaoke
DESCRIPTION:Karaoke in South Scottsdale’s prime spot! The amazing KJ Zondo in the house\, 9pm to 1am. Come keep me busy and I will stay till you’re done! \n8005 E Roosevelt St\, Scottsdale\, AZ 85257 \n+14809454985
URL:https://www.maddhatterpro.com/event/pub-rock-live-karaoke/2027-08-03/
LOCATION:Pub Rock Live\, 8005 E Roosevelt St\, Scottsdale\, AZ\, 85257\, United States
CATEGORIES:Karaoke,KJ Zondo
ATTACH;FMTTYPE=image/jpeg:https://www.maddhatterpro.com/wp-content/uploads/2026/02/PubRock-Scottsdale.jpg
END:VEVENT
BEGIN:VEVENT
DTSTART;TZID=UTC:20270810T210000
DTEND;TZID=UTC:20270810T210000
DTSTAMP:20260423T232956
CREATED:20250703T231700Z
LAST-MODIFIED:20260206T143948Z
UID:10020000-1817931600-1817931600@www.maddhatterpro.com
SUMMARY:Pub Rock Live Karaoke
DESCRIPTION:Karaoke in South Scottsdale’s prime spot! The amazing KJ Zondo in the house\, 9pm to 1am. Come keep me busy and I will stay till you’re done! \n8005 E Roosevelt St\, Scottsdale\, AZ 85257 \n+14809454985
URL:https://www.maddhatterpro.com/event/pub-rock-live-karaoke/2027-08-10/
LOCATION:Pub Rock Live\, 8005 E Roosevelt St\, Scottsdale\, AZ\, 85257\, United States
CATEGORIES:Karaoke,KJ Zondo
ATTACH;FMTTYPE=image/jpeg:https://www.maddhatterpro.com/wp-content/uploads/2026/02/PubRock-Scottsdale.jpg
END:VEVENT
BEGIN:VEVENT
DTSTART;TZID=UTC:20270817T210000
DTEND;TZID=UTC:20270817T210000
DTSTAMP:20260423T232956
CREATED:20250703T231700Z
LAST-MODIFIED:20260206T143948Z
UID:10020001-1818536400-1818536400@www.maddhatterpro.com
SUMMARY:Pub Rock Live Karaoke
DESCRIPTION:Karaoke in South Scottsdale’s prime spot! The amazing KJ Zondo in the house\, 9pm to 1am. Come keep me busy and I will stay till you’re done! \n8005 E Roosevelt St\, Scottsdale\, AZ 85257 \n+14809454985
URL:https://www.maddhatterpro.com/event/pub-rock-live-karaoke/2027-08-17/
LOCATION:Pub Rock Live\, 8005 E Roosevelt St\, Scottsdale\, AZ\, 85257\, United States
CATEGORIES:Karaoke,KJ Zondo
ATTACH;FMTTYPE=image/jpeg:https://www.maddhatterpro.com/wp-content/uploads/2026/02/PubRock-Scottsdale.jpg
END:VEVENT
BEGIN:VEVENT
DTSTART;TZID=UTC:20270824T210000
DTEND;TZID=UTC:20270824T210000
DTSTAMP:20260423T232956
CREATED:20250703T231700Z
LAST-MODIFIED:20260206T143948Z
UID:10020002-1819141200-1819141200@www.maddhatterpro.com
SUMMARY:Pub Rock Live Karaoke
DESCRIPTION:Karaoke in South Scottsdale’s prime spot! The amazing KJ Zondo in the house\, 9pm to 1am. Come keep me busy and I will stay till you’re done! \n8005 E Roosevelt St\, Scottsdale\, AZ 85257 \n+14809454985
URL:https://www.maddhatterpro.com/event/pub-rock-live-karaoke/2027-08-24/
LOCATION:Pub Rock Live\, 8005 E Roosevelt St\, Scottsdale\, AZ\, 85257\, United States
CATEGORIES:Karaoke,KJ Zondo
ATTACH;FMTTYPE=image/jpeg:https://www.maddhatterpro.com/wp-content/uploads/2026/02/PubRock-Scottsdale.jpg
END:VEVENT
BEGIN:VEVENT
DTSTART;TZID=UTC:20270831T210000
DTEND;TZID=UTC:20270831T210000
DTSTAMP:20260423T232956
CREATED:20250703T231700Z
LAST-MODIFIED:20260206T143948Z
UID:10020003-1819746000-1819746000@www.maddhatterpro.com
SUMMARY:Pub Rock Live Karaoke
DESCRIPTION:Karaoke in South Scottsdale’s prime spot! The amazing KJ Zondo in the house\, 9pm to 1am. Come keep me busy and I will stay till you’re done! \n8005 E Roosevelt St\, Scottsdale\, AZ 85257 \n+14809454985
URL:https://www.maddhatterpro.com/event/pub-rock-live-karaoke/2027-08-31/
LOCATION:Pub Rock Live\, 8005 E Roosevelt St\, Scottsdale\, AZ\, 85257\, United States
CATEGORIES:Karaoke,KJ Zondo
ATTACH;FMTTYPE=image/jpeg:https://www.maddhatterpro.com/wp-content/uploads/2026/02/PubRock-Scottsdale.jpg
END:VEVENT
BEGIN:VEVENT
DTSTART;TZID=UTC:20270907T210000
DTEND;TZID=UTC:20270907T210000
DTSTAMP:20260423T232956
CREATED:20250703T231700Z
LAST-MODIFIED:20260206T143948Z
UID:10020004-1820350800-1820350800@www.maddhatterpro.com
SUMMARY:Pub Rock Live Karaoke
DESCRIPTION:Karaoke in South Scottsdale’s prime spot! The amazing KJ Zondo in the house\, 9pm to 1am. Come keep me busy and I will stay till you’re done! \n8005 E Roosevelt St\, Scottsdale\, AZ 85257 \n+14809454985
URL:https://www.maddhatterpro.com/event/pub-rock-live-karaoke/2027-09-07/
LOCATION:Pub Rock Live\, 8005 E Roosevelt St\, Scottsdale\, AZ\, 85257\, United States
CATEGORIES:Karaoke,KJ Zondo
ATTACH;FMTTYPE=image/jpeg:https://www.maddhatterpro.com/wp-content/uploads/2026/02/PubRock-Scottsdale.jpg
END:VEVENT
BEGIN:VEVENT
DTSTART;TZID=UTC:20270914T210000
DTEND;TZID=UTC:20270914T210000
DTSTAMP:20260423T232956
CREATED:20250703T231700Z
LAST-MODIFIED:20260206T143948Z
UID:10020005-1820955600-1820955600@www.maddhatterpro.com
SUMMARY:Pub Rock Live Karaoke
DESCRIPTION:Karaoke in South Scottsdale’s prime spot! The amazing KJ Zondo in the house\, 9pm to 1am. Come keep me busy and I will stay till you’re done! \n8005 E Roosevelt St\, Scottsdale\, AZ 85257 \n+14809454985
URL:https://www.maddhatterpro.com/event/pub-rock-live-karaoke/2027-09-14/
LOCATION:Pub Rock Live\, 8005 E Roosevelt St\, Scottsdale\, AZ\, 85257\, United States
CATEGORIES:Karaoke,KJ Zondo
ATTACH;FMTTYPE=image/jpeg:https://www.maddhatterpro.com/wp-content/uploads/2026/02/PubRock-Scottsdale.jpg
END:VEVENT
BEGIN:VEVENT
DTSTART;TZID=UTC:20270921T210000
DTEND;TZID=UTC:20270921T210000
DTSTAMP:20260423T232956
CREATED:20250703T231700Z
LAST-MODIFIED:20260206T143948Z
UID:10020006-1821560400-1821560400@www.maddhatterpro.com
SUMMARY:Pub Rock Live Karaoke
DESCRIPTION:Karaoke in South Scottsdale’s prime spot! The amazing KJ Zondo in the house\, 9pm to 1am. Come keep me busy and I will stay till you’re done! \n8005 E Roosevelt St\, Scottsdale\, AZ 85257 \n+14809454985
URL:https://www.maddhatterpro.com/event/pub-rock-live-karaoke/2027-09-21/
LOCATION:Pub Rock Live\, 8005 E Roosevelt St\, Scottsdale\, AZ\, 85257\, United States
CATEGORIES:Karaoke,KJ Zondo
ATTACH;FMTTYPE=image/jpeg:https://www.maddhatterpro.com/wp-content/uploads/2026/02/PubRock-Scottsdale.jpg
END:VEVENT
BEGIN:VEVENT
DTSTART;TZID=UTC:20270928T210000
DTEND;TZID=UTC:20270928T210000
DTSTAMP:20260423T232956
CREATED:20250703T231700Z
LAST-MODIFIED:20260206T143948Z
UID:10020007-1822165200-1822165200@www.maddhatterpro.com
SUMMARY:Pub Rock Live Karaoke
DESCRIPTION:Karaoke in South Scottsdale’s prime spot! The amazing KJ Zondo in the house\, 9pm to 1am. Come keep me busy and I will stay till you’re done! \n8005 E Roosevelt St\, Scottsdale\, AZ 85257 \n+14809454985
URL:https://www.maddhatterpro.com/event/pub-rock-live-karaoke/2027-09-28/
LOCATION:Pub Rock Live\, 8005 E Roosevelt St\, Scottsdale\, AZ\, 85257\, United States
CATEGORIES:Karaoke,KJ Zondo
ATTACH;FMTTYPE=image/jpeg:https://www.maddhatterpro.com/wp-content/uploads/2026/02/PubRock-Scottsdale.jpg
END:VEVENT
BEGIN:VEVENT
DTSTART;TZID=UTC:20271005T210000
DTEND;TZID=UTC:20271005T210000
DTSTAMP:20260423T232956
CREATED:20250703T231700Z
LAST-MODIFIED:20260206T143948Z
UID:10020008-1822770000-1822770000@www.maddhatterpro.com
SUMMARY:Pub Rock Live Karaoke
DESCRIPTION:Karaoke in South Scottsdale’s prime spot! The amazing KJ Zondo in the house\, 9pm to 1am. Come keep me busy and I will stay till you’re done! \n8005 E Roosevelt St\, Scottsdale\, AZ 85257 \n+14809454985
URL:https://www.maddhatterpro.com/event/pub-rock-live-karaoke/2027-10-05/
LOCATION:Pub Rock Live\, 8005 E Roosevelt St\, Scottsdale\, AZ\, 85257\, United States
CATEGORIES:Karaoke,KJ Zondo
ATTACH;FMTTYPE=image/jpeg:https://www.maddhatterpro.com/wp-content/uploads/2026/02/PubRock-Scottsdale.jpg
END:VEVENT
BEGIN:VEVENT
DTSTART;TZID=UTC:20271012T210000
DTEND;TZID=UTC:20271012T210000
DTSTAMP:20260423T232956
CREATED:20250703T231700Z
LAST-MODIFIED:20260206T143948Z
UID:10020009-1823374800-1823374800@www.maddhatterpro.com
SUMMARY:Pub Rock Live Karaoke
DESCRIPTION:Karaoke in South Scottsdale’s prime spot! The amazing KJ Zondo in the house\, 9pm to 1am. Come keep me busy and I will stay till you’re done! \n8005 E Roosevelt St\, Scottsdale\, AZ 85257 \n+14809454985
URL:https://www.maddhatterpro.com/event/pub-rock-live-karaoke/2027-10-12/
LOCATION:Pub Rock Live\, 8005 E Roosevelt St\, Scottsdale\, AZ\, 85257\, United States
CATEGORIES:Karaoke,KJ Zondo
ATTACH;FMTTYPE=image/jpeg:https://www.maddhatterpro.com/wp-content/uploads/2026/02/PubRock-Scottsdale.jpg
END:VEVENT
BEGIN:VEVENT
DTSTART;TZID=UTC:20271019T210000
DTEND;TZID=UTC:20271019T210000
DTSTAMP:20260423T232956
CREATED:20250703T231700Z
LAST-MODIFIED:20260206T143948Z
UID:10020010-1823979600-1823979600@www.maddhatterpro.com
SUMMARY:Pub Rock Live Karaoke
DESCRIPTION:Karaoke in South Scottsdale’s prime spot! The amazing KJ Zondo in the house\, 9pm to 1am. Come keep me busy and I will stay till you’re done! \n8005 E Roosevelt St\, Scottsdale\, AZ 85257 \n+14809454985
URL:https://www.maddhatterpro.com/event/pub-rock-live-karaoke/2027-10-19/
LOCATION:Pub Rock Live\, 8005 E Roosevelt St\, Scottsdale\, AZ\, 85257\, United States
CATEGORIES:Karaoke,KJ Zondo
ATTACH;FMTTYPE=image/jpeg:https://www.maddhatterpro.com/wp-content/uploads/2026/02/PubRock-Scottsdale.jpg
END:VEVENT
BEGIN:VEVENT
DTSTART;TZID=UTC:20271026T210000
DTEND;TZID=UTC:20271026T210000
DTSTAMP:20260423T232956
CREATED:20250703T231700Z
LAST-MODIFIED:20260206T143948Z
UID:10020011-1824584400-1824584400@www.maddhatterpro.com
SUMMARY:Pub Rock Live Karaoke
DESCRIPTION:Karaoke in South Scottsdale’s prime spot! The amazing KJ Zondo in the house\, 9pm to 1am. Come keep me busy and I will stay till you’re done! \n8005 E Roosevelt St\, Scottsdale\, AZ 85257 \n+14809454985
URL:https://www.maddhatterpro.com/event/pub-rock-live-karaoke/2027-10-26/
LOCATION:Pub Rock Live\, 8005 E Roosevelt St\, Scottsdale\, AZ\, 85257\, United States
CATEGORIES:Karaoke,KJ Zondo
ATTACH;FMTTYPE=image/jpeg:https://www.maddhatterpro.com/wp-content/uploads/2026/02/PubRock-Scottsdale.jpg
END:VEVENT
BEGIN:VEVENT
DTSTART;TZID=UTC:20271102T210000
DTEND;TZID=UTC:20271102T210000
DTSTAMP:20260423T232956
CREATED:20250703T231700Z
LAST-MODIFIED:20260206T143948Z
UID:10020012-1825189200-1825189200@www.maddhatterpro.com
SUMMARY:Pub Rock Live Karaoke
DESCRIPTION:Karaoke in South Scottsdale’s prime spot! The amazing KJ Zondo in the house\, 9pm to 1am. Come keep me busy and I will stay till you’re done! \n8005 E Roosevelt St\, Scottsdale\, AZ 85257 \n+14809454985
URL:https://www.maddhatterpro.com/event/pub-rock-live-karaoke/2027-11-02/
LOCATION:Pub Rock Live\, 8005 E Roosevelt St\, Scottsdale\, AZ\, 85257\, United States
CATEGORIES:Karaoke,KJ Zondo
ATTACH;FMTTYPE=image/jpeg:https://www.maddhatterpro.com/wp-content/uploads/2026/02/PubRock-Scottsdale.jpg
END:VEVENT
BEGIN:VEVENT
DTSTART;TZID=UTC:20271109T210000
DTEND;TZID=UTC:20271109T210000
DTSTAMP:20260423T232956
CREATED:20250703T231700Z
LAST-MODIFIED:20260206T143948Z
UID:10020013-1825794000-1825794000@www.maddhatterpro.com
SUMMARY:Pub Rock Live Karaoke
DESCRIPTION:Karaoke in South Scottsdale’s prime spot! The amazing KJ Zondo in the house\, 9pm to 1am. Come keep me busy and I will stay till you’re done! \n8005 E Roosevelt St\, Scottsdale\, AZ 85257 \n+14809454985
URL:https://www.maddhatterpro.com/event/pub-rock-live-karaoke/2027-11-09/
LOCATION:Pub Rock Live\, 8005 E Roosevelt St\, Scottsdale\, AZ\, 85257\, United States
CATEGORIES:Karaoke,KJ Zondo
ATTACH;FMTTYPE=image/jpeg:https://www.maddhatterpro.com/wp-content/uploads/2026/02/PubRock-Scottsdale.jpg
END:VEVENT
BEGIN:VEVENT
DTSTART;TZID=UTC:20271116T210000
DTEND;TZID=UTC:20271116T210000
DTSTAMP:20260423T232956
CREATED:20250703T231700Z
LAST-MODIFIED:20260206T143948Z
UID:10020014-1826398800-1826398800@www.maddhatterpro.com
SUMMARY:Pub Rock Live Karaoke
DESCRIPTION:Karaoke in South Scottsdale’s prime spot! The amazing KJ Zondo in the house\, 9pm to 1am. Come keep me busy and I will stay till you’re done! \n8005 E Roosevelt St\, Scottsdale\, AZ 85257 \n+14809454985
URL:https://www.maddhatterpro.com/event/pub-rock-live-karaoke/2027-11-16/
LOCATION:Pub Rock Live\, 8005 E Roosevelt St\, Scottsdale\, AZ\, 85257\, United States
CATEGORIES:Karaoke,KJ Zondo
ATTACH;FMTTYPE=image/jpeg:https://www.maddhatterpro.com/wp-content/uploads/2026/02/PubRock-Scottsdale.jpg
END:VEVENT
BEGIN:VEVENT
DTSTART;TZID=UTC:20271123T210000
DTEND;TZID=UTC:20271123T210000
DTSTAMP:20260423T232956
CREATED:20250703T231700Z
LAST-MODIFIED:20260206T143948Z
UID:10020015-1827003600-1827003600@www.maddhatterpro.com
SUMMARY:Pub Rock Live Karaoke
DESCRIPTION:Karaoke in South Scottsdale’s prime spot! The amazing KJ Zondo in the house\, 9pm to 1am. Come keep me busy and I will stay till you’re done! \n8005 E Roosevelt St\, Scottsdale\, AZ 85257 \n+14809454985
URL:https://www.maddhatterpro.com/event/pub-rock-live-karaoke/2027-11-23/
LOCATION:Pub Rock Live\, 8005 E Roosevelt St\, Scottsdale\, AZ\, 85257\, United States
CATEGORIES:Karaoke,KJ Zondo
ATTACH;FMTTYPE=image/jpeg:https://www.maddhatterpro.com/wp-content/uploads/2026/02/PubRock-Scottsdale.jpg
END:VEVENT
BEGIN:VEVENT
DTSTART;TZID=UTC:20271130T210000
DTEND;TZID=UTC:20271130T210000
DTSTAMP:20260423T232956
CREATED:20250703T231700Z
LAST-MODIFIED:20260206T143948Z
UID:10020016-1827608400-1827608400@www.maddhatterpro.com
SUMMARY:Pub Rock Live Karaoke
DESCRIPTION:Karaoke in South Scottsdale’s prime spot! The amazing KJ Zondo in the house\, 9pm to 1am. Come keep me busy and I will stay till you’re done! \n8005 E Roosevelt St\, Scottsdale\, AZ 85257 \n+14809454985
URL:https://www.maddhatterpro.com/event/pub-rock-live-karaoke/2027-11-30/
LOCATION:Pub Rock Live\, 8005 E Roosevelt St\, Scottsdale\, AZ\, 85257\, United States
CATEGORIES:Karaoke,KJ Zondo
ATTACH;FMTTYPE=image/jpeg:https://www.maddhatterpro.com/wp-content/uploads/2026/02/PubRock-Scottsdale.jpg
END:VEVENT
BEGIN:VEVENT
DTSTART;TZID=UTC:20271207T210000
DTEND;TZID=UTC:20271207T210000
DTSTAMP:20260423T232956
CREATED:20250703T231700Z
LAST-MODIFIED:20260206T143948Z
UID:10020017-1828213200-1828213200@www.maddhatterpro.com
SUMMARY:Pub Rock Live Karaoke
DESCRIPTION:Karaoke in South Scottsdale’s prime spot! The amazing KJ Zondo in the house\, 9pm to 1am. Come keep me busy and I will stay till you’re done! \n8005 E Roosevelt St\, Scottsdale\, AZ 85257 \n+14809454985
URL:https://www.maddhatterpro.com/event/pub-rock-live-karaoke/2027-12-07/
LOCATION:Pub Rock Live\, 8005 E Roosevelt St\, Scottsdale\, AZ\, 85257\, United States
CATEGORIES:Karaoke,KJ Zondo
ATTACH;FMTTYPE=image/jpeg:https://www.maddhatterpro.com/wp-content/uploads/2026/02/PubRock-Scottsdale.jpg
END:VEVENT
BEGIN:VEVENT
DTSTART;TZID=UTC:20271214T210000
DTEND;TZID=UTC:20271214T210000
DTSTAMP:20260423T232956
CREATED:20250703T231700Z
LAST-MODIFIED:20260206T143948Z
UID:10020018-1828818000-1828818000@www.maddhatterpro.com
SUMMARY:Pub Rock Live Karaoke
DESCRIPTION:Karaoke in South Scottsdale’s prime spot! The amazing KJ Zondo in the house\, 9pm to 1am. Come keep me busy and I will stay till you’re done! \n8005 E Roosevelt St\, Scottsdale\, AZ 85257 \n+14809454985
URL:https://www.maddhatterpro.com/event/pub-rock-live-karaoke/2027-12-14/
LOCATION:Pub Rock Live\, 8005 E Roosevelt St\, Scottsdale\, AZ\, 85257\, United States
CATEGORIES:Karaoke,KJ Zondo
ATTACH;FMTTYPE=image/jpeg:https://www.maddhatterpro.com/wp-content/uploads/2026/02/PubRock-Scottsdale.jpg
END:VEVENT
BEGIN:VEVENT
DTSTART;TZID=UTC:20271221T210000
DTEND;TZID=UTC:20271221T210000
DTSTAMP:20260423T232956
CREATED:20250703T231700Z
LAST-MODIFIED:20260206T143948Z
UID:10020019-1829422800-1829422800@www.maddhatterpro.com
SUMMARY:Pub Rock Live Karaoke
DESCRIPTION:Karaoke in South Scottsdale’s prime spot! The amazing KJ Zondo in the house\, 9pm to 1am. Come keep me busy and I will stay till you’re done! \n8005 E Roosevelt St\, Scottsdale\, AZ 85257 \n+14809454985
URL:https://www.maddhatterpro.com/event/pub-rock-live-karaoke/2027-12-21/
LOCATION:Pub Rock Live\, 8005 E Roosevelt St\, Scottsdale\, AZ\, 85257\, United States
CATEGORIES:Karaoke,KJ Zondo
ATTACH;FMTTYPE=image/jpeg:https://www.maddhatterpro.com/wp-content/uploads/2026/02/PubRock-Scottsdale.jpg
END:VEVENT
BEGIN:VEVENT
DTSTART;TZID=UTC:20271228T210000
DTEND;TZID=UTC:20271228T210000
DTSTAMP:20260423T232956
CREATED:20250703T231700Z
LAST-MODIFIED:20260206T143948Z
UID:10020020-1830027600-1830027600@www.maddhatterpro.com
SUMMARY:Pub Rock Live Karaoke
DESCRIPTION:Karaoke in South Scottsdale’s prime spot! The amazing KJ Zondo in the house\, 9pm to 1am. Come keep me busy and I will stay till you’re done! \n8005 E Roosevelt St\, Scottsdale\, AZ 85257 \n+14809454985
URL:https://www.maddhatterpro.com/event/pub-rock-live-karaoke/2027-12-28/
LOCATION:Pub Rock Live\, 8005 E Roosevelt St\, Scottsdale\, AZ\, 85257\, United States
CATEGORIES:Karaoke,KJ Zondo
ATTACH;FMTTYPE=image/jpeg:https://www.maddhatterpro.com/wp-content/uploads/2026/02/PubRock-Scottsdale.jpg
END:VEVENT
BEGIN:VEVENT
DTSTART;TZID=UTC:20280104T210000
DTEND;TZID=UTC:20280104T210000
DTSTAMP:20260423T232956
CREATED:20250703T231700Z
LAST-MODIFIED:20260206T143948Z
UID:10020021-1830632400-1830632400@www.maddhatterpro.com
SUMMARY:Pub Rock Live Karaoke
DESCRIPTION:Karaoke in South Scottsdale’s prime spot! The amazing KJ Zondo in the house\, 9pm to 1am. Come keep me busy and I will stay till you’re done! \n8005 E Roosevelt St\, Scottsdale\, AZ 85257 \n+14809454985
URL:https://www.maddhatterpro.com/event/pub-rock-live-karaoke/2028-01-04/
LOCATION:Pub Rock Live\, 8005 E Roosevelt St\, Scottsdale\, AZ\, 85257\, United States
CATEGORIES:Karaoke,KJ Zondo
ATTACH;FMTTYPE=image/jpeg:https://www.maddhatterpro.com/wp-content/uploads/2026/02/PubRock-Scottsdale.jpg
END:VEVENT
BEGIN:VEVENT
DTSTART;TZID=UTC:20280111T210000
DTEND;TZID=UTC:20280111T210000
DTSTAMP:20260423T232956
CREATED:20250703T231700Z
LAST-MODIFIED:20260206T143948Z
UID:10020022-1831237200-1831237200@www.maddhatterpro.com
SUMMARY:Pub Rock Live Karaoke
DESCRIPTION:Karaoke in South Scottsdale’s prime spot! The amazing KJ Zondo in the house\, 9pm to 1am. Come keep me busy and I will stay till you’re done! \n8005 E Roosevelt St\, Scottsdale\, AZ 85257 \n+14809454985
URL:https://www.maddhatterpro.com/event/pub-rock-live-karaoke/2028-01-11/
LOCATION:Pub Rock Live\, 8005 E Roosevelt St\, Scottsdale\, AZ\, 85257\, United States
CATEGORIES:Karaoke,KJ Zondo
ATTACH;FMTTYPE=image/jpeg:https://www.maddhatterpro.com/wp-content/uploads/2026/02/PubRock-Scottsdale.jpg
END:VEVENT
END:VCALENDAR