BEGIN:VCALENDAR
VERSION:2.0
PRODID:-//MaddHatterPro.com - ECPv6.15.20//NONSGML v1.0//EN
CALSCALE:GREGORIAN
METHOD:PUBLISH
X-ORIGINAL-URL:https://www.maddhatterpro.com
X-WR-CALDESC:Events for MaddHatterPro.com
REFRESH-INTERVAL;VALUE=DURATION:PT1H
X-Robots-Tag:noindex
X-PUBLISHED-TTL:PT1H
BEGIN:VTIMEZONE
TZID:UTC
BEGIN:STANDARD
TZOFFSETFROM:+0000
TZOFFSETTO:+0000
TZNAME:UTC
DTSTART:20260101T000000
END:STANDARD
END:VTIMEZONE
BEGIN:VEVENT
DTSTART;TZID=UTC:20270401T183000
DTEND;TZID=UTC:20270401T183000
DTSTAMP:20260423T210432
CREATED:20250704T002812Z
LAST-MODIFIED:20260206T144210Z
UID:10022857-1806604200-1806604200@www.maddhatterpro.com
SUMMARY:Pho Cao Karaoke
DESCRIPTION:Homey atmosphere\, and the perfect Thursday evening dinner. Come out and see what Pho Cao has to offer with great Vietnamese cuisine. KJ Skribbz in the house\, 6:30pm-10:30pm yet another early show! \n7436 E McDowell Rd\, Scottsdale\, AZ 85257 \n+16234282173
URL:https://www.maddhatterpro.com/event/pho-cao-karaoke/2027-04-01/
LOCATION:Pho Cao\, 7436 E McDowell Rd\, Scottsdale\, AZ\, 85257\, United States
CATEGORIES:Karaoke,KJ Skribbz
ATTACH;FMTTYPE=image/jpeg:https://www.maddhatterpro.com/wp-content/uploads/2026/02/Pho-Scottsdale.jpg
END:VEVENT
BEGIN:VEVENT
DTSTART;TZID=UTC:20270408T183000
DTEND;TZID=UTC:20270408T183000
DTSTAMP:20260423T210432
CREATED:20250704T002812Z
LAST-MODIFIED:20260206T144210Z
UID:10022858-1807209000-1807209000@www.maddhatterpro.com
SUMMARY:Pho Cao Karaoke
DESCRIPTION:Homey atmosphere\, and the perfect Thursday evening dinner. Come out and see what Pho Cao has to offer with great Vietnamese cuisine. KJ Skribbz in the house\, 6:30pm-10:30pm yet another early show! \n7436 E McDowell Rd\, Scottsdale\, AZ 85257 \n+16234282173
URL:https://www.maddhatterpro.com/event/pho-cao-karaoke/2027-04-08/
LOCATION:Pho Cao\, 7436 E McDowell Rd\, Scottsdale\, AZ\, 85257\, United States
CATEGORIES:Karaoke,KJ Skribbz
ATTACH;FMTTYPE=image/jpeg:https://www.maddhatterpro.com/wp-content/uploads/2026/02/Pho-Scottsdale.jpg
END:VEVENT
BEGIN:VEVENT
DTSTART;TZID=UTC:20270415T183000
DTEND;TZID=UTC:20270415T183000
DTSTAMP:20260423T210432
CREATED:20250704T002812Z
LAST-MODIFIED:20260206T144210Z
UID:10022859-1807813800-1807813800@www.maddhatterpro.com
SUMMARY:Pho Cao Karaoke
DESCRIPTION:Homey atmosphere\, and the perfect Thursday evening dinner. Come out and see what Pho Cao has to offer with great Vietnamese cuisine. KJ Skribbz in the house\, 6:30pm-10:30pm yet another early show! \n7436 E McDowell Rd\, Scottsdale\, AZ 85257 \n+16234282173
URL:https://www.maddhatterpro.com/event/pho-cao-karaoke/2027-04-15/
LOCATION:Pho Cao\, 7436 E McDowell Rd\, Scottsdale\, AZ\, 85257\, United States
CATEGORIES:Karaoke,KJ Skribbz
ATTACH;FMTTYPE=image/jpeg:https://www.maddhatterpro.com/wp-content/uploads/2026/02/Pho-Scottsdale.jpg
END:VEVENT
BEGIN:VEVENT
DTSTART;TZID=UTC:20270422T183000
DTEND;TZID=UTC:20270422T183000
DTSTAMP:20260423T210432
CREATED:20250704T002812Z
LAST-MODIFIED:20260206T144210Z
UID:10022860-1808418600-1808418600@www.maddhatterpro.com
SUMMARY:Pho Cao Karaoke
DESCRIPTION:Homey atmosphere\, and the perfect Thursday evening dinner. Come out and see what Pho Cao has to offer with great Vietnamese cuisine. KJ Skribbz in the house\, 6:30pm-10:30pm yet another early show! \n7436 E McDowell Rd\, Scottsdale\, AZ 85257 \n+16234282173
URL:https://www.maddhatterpro.com/event/pho-cao-karaoke/2027-04-22/
LOCATION:Pho Cao\, 7436 E McDowell Rd\, Scottsdale\, AZ\, 85257\, United States
CATEGORIES:Karaoke,KJ Skribbz
ATTACH;FMTTYPE=image/jpeg:https://www.maddhatterpro.com/wp-content/uploads/2026/02/Pho-Scottsdale.jpg
END:VEVENT
BEGIN:VEVENT
DTSTART;TZID=UTC:20270429T183000
DTEND;TZID=UTC:20270429T183000
DTSTAMP:20260423T210432
CREATED:20250704T002812Z
LAST-MODIFIED:20260206T144210Z
UID:10022861-1809023400-1809023400@www.maddhatterpro.com
SUMMARY:Pho Cao Karaoke
DESCRIPTION:Homey atmosphere\, and the perfect Thursday evening dinner. Come out and see what Pho Cao has to offer with great Vietnamese cuisine. KJ Skribbz in the house\, 6:30pm-10:30pm yet another early show! \n7436 E McDowell Rd\, Scottsdale\, AZ 85257 \n+16234282173
URL:https://www.maddhatterpro.com/event/pho-cao-karaoke/2027-04-29/
LOCATION:Pho Cao\, 7436 E McDowell Rd\, Scottsdale\, AZ\, 85257\, United States
CATEGORIES:Karaoke,KJ Skribbz
ATTACH;FMTTYPE=image/jpeg:https://www.maddhatterpro.com/wp-content/uploads/2026/02/Pho-Scottsdale.jpg
END:VEVENT
BEGIN:VEVENT
DTSTART;TZID=UTC:20270506T183000
DTEND;TZID=UTC:20270506T183000
DTSTAMP:20260423T210432
CREATED:20250704T002812Z
LAST-MODIFIED:20260206T144210Z
UID:10022862-1809628200-1809628200@www.maddhatterpro.com
SUMMARY:Pho Cao Karaoke
DESCRIPTION:Homey atmosphere\, and the perfect Thursday evening dinner. Come out and see what Pho Cao has to offer with great Vietnamese cuisine. KJ Skribbz in the house\, 6:30pm-10:30pm yet another early show! \n7436 E McDowell Rd\, Scottsdale\, AZ 85257 \n+16234282173
URL:https://www.maddhatterpro.com/event/pho-cao-karaoke/2027-05-06/
LOCATION:Pho Cao\, 7436 E McDowell Rd\, Scottsdale\, AZ\, 85257\, United States
CATEGORIES:Karaoke,KJ Skribbz
ATTACH;FMTTYPE=image/jpeg:https://www.maddhatterpro.com/wp-content/uploads/2026/02/Pho-Scottsdale.jpg
END:VEVENT
BEGIN:VEVENT
DTSTART;TZID=UTC:20270513T183000
DTEND;TZID=UTC:20270513T183000
DTSTAMP:20260423T210432
CREATED:20250704T002812Z
LAST-MODIFIED:20260206T144210Z
UID:10022863-1810233000-1810233000@www.maddhatterpro.com
SUMMARY:Pho Cao Karaoke
DESCRIPTION:Homey atmosphere\, and the perfect Thursday evening dinner. Come out and see what Pho Cao has to offer with great Vietnamese cuisine. KJ Skribbz in the house\, 6:30pm-10:30pm yet another early show! \n7436 E McDowell Rd\, Scottsdale\, AZ 85257 \n+16234282173
URL:https://www.maddhatterpro.com/event/pho-cao-karaoke/2027-05-13/
LOCATION:Pho Cao\, 7436 E McDowell Rd\, Scottsdale\, AZ\, 85257\, United States
CATEGORIES:Karaoke,KJ Skribbz
ATTACH;FMTTYPE=image/jpeg:https://www.maddhatterpro.com/wp-content/uploads/2026/02/Pho-Scottsdale.jpg
END:VEVENT
BEGIN:VEVENT
DTSTART;TZID=UTC:20270520T183000
DTEND;TZID=UTC:20270520T183000
DTSTAMP:20260423T210432
CREATED:20250704T002812Z
LAST-MODIFIED:20260206T144210Z
UID:10022864-1810837800-1810837800@www.maddhatterpro.com
SUMMARY:Pho Cao Karaoke
DESCRIPTION:Homey atmosphere\, and the perfect Thursday evening dinner. Come out and see what Pho Cao has to offer with great Vietnamese cuisine. KJ Skribbz in the house\, 6:30pm-10:30pm yet another early show! \n7436 E McDowell Rd\, Scottsdale\, AZ 85257 \n+16234282173
URL:https://www.maddhatterpro.com/event/pho-cao-karaoke/2027-05-20/
LOCATION:Pho Cao\, 7436 E McDowell Rd\, Scottsdale\, AZ\, 85257\, United States
CATEGORIES:Karaoke,KJ Skribbz
ATTACH;FMTTYPE=image/jpeg:https://www.maddhatterpro.com/wp-content/uploads/2026/02/Pho-Scottsdale.jpg
END:VEVENT
BEGIN:VEVENT
DTSTART;TZID=UTC:20270527T183000
DTEND;TZID=UTC:20270527T183000
DTSTAMP:20260423T210432
CREATED:20250704T002812Z
LAST-MODIFIED:20260206T144210Z
UID:10022865-1811442600-1811442600@www.maddhatterpro.com
SUMMARY:Pho Cao Karaoke
DESCRIPTION:Homey atmosphere\, and the perfect Thursday evening dinner. Come out and see what Pho Cao has to offer with great Vietnamese cuisine. KJ Skribbz in the house\, 6:30pm-10:30pm yet another early show! \n7436 E McDowell Rd\, Scottsdale\, AZ 85257 \n+16234282173
URL:https://www.maddhatterpro.com/event/pho-cao-karaoke/2027-05-27/
LOCATION:Pho Cao\, 7436 E McDowell Rd\, Scottsdale\, AZ\, 85257\, United States
CATEGORIES:Karaoke,KJ Skribbz
ATTACH;FMTTYPE=image/jpeg:https://www.maddhatterpro.com/wp-content/uploads/2026/02/Pho-Scottsdale.jpg
END:VEVENT
BEGIN:VEVENT
DTSTART;TZID=UTC:20270603T183000
DTEND;TZID=UTC:20270603T183000
DTSTAMP:20260423T210432
CREATED:20250704T002812Z
LAST-MODIFIED:20260206T144210Z
UID:10022866-1812047400-1812047400@www.maddhatterpro.com
SUMMARY:Pho Cao Karaoke
DESCRIPTION:Homey atmosphere\, and the perfect Thursday evening dinner. Come out and see what Pho Cao has to offer with great Vietnamese cuisine. KJ Skribbz in the house\, 6:30pm-10:30pm yet another early show! \n7436 E McDowell Rd\, Scottsdale\, AZ 85257 \n+16234282173
URL:https://www.maddhatterpro.com/event/pho-cao-karaoke/2027-06-03/
LOCATION:Pho Cao\, 7436 E McDowell Rd\, Scottsdale\, AZ\, 85257\, United States
CATEGORIES:Karaoke,KJ Skribbz
ATTACH;FMTTYPE=image/jpeg:https://www.maddhatterpro.com/wp-content/uploads/2026/02/Pho-Scottsdale.jpg
END:VEVENT
BEGIN:VEVENT
DTSTART;TZID=UTC:20270610T183000
DTEND;TZID=UTC:20270610T183000
DTSTAMP:20260423T210432
CREATED:20250704T002812Z
LAST-MODIFIED:20260206T144210Z
UID:10022867-1812652200-1812652200@www.maddhatterpro.com
SUMMARY:Pho Cao Karaoke
DESCRIPTION:Homey atmosphere\, and the perfect Thursday evening dinner. Come out and see what Pho Cao has to offer with great Vietnamese cuisine. KJ Skribbz in the house\, 6:30pm-10:30pm yet another early show! \n7436 E McDowell Rd\, Scottsdale\, AZ 85257 \n+16234282173
URL:https://www.maddhatterpro.com/event/pho-cao-karaoke/2027-06-10/
LOCATION:Pho Cao\, 7436 E McDowell Rd\, Scottsdale\, AZ\, 85257\, United States
CATEGORIES:Karaoke,KJ Skribbz
ATTACH;FMTTYPE=image/jpeg:https://www.maddhatterpro.com/wp-content/uploads/2026/02/Pho-Scottsdale.jpg
END:VEVENT
BEGIN:VEVENT
DTSTART;TZID=UTC:20270617T183000
DTEND;TZID=UTC:20270617T183000
DTSTAMP:20260423T210432
CREATED:20250704T002812Z
LAST-MODIFIED:20260206T144210Z
UID:10022868-1813257000-1813257000@www.maddhatterpro.com
SUMMARY:Pho Cao Karaoke
DESCRIPTION:Homey atmosphere\, and the perfect Thursday evening dinner. Come out and see what Pho Cao has to offer with great Vietnamese cuisine. KJ Skribbz in the house\, 6:30pm-10:30pm yet another early show! \n7436 E McDowell Rd\, Scottsdale\, AZ 85257 \n+16234282173
URL:https://www.maddhatterpro.com/event/pho-cao-karaoke/2027-06-17/
LOCATION:Pho Cao\, 7436 E McDowell Rd\, Scottsdale\, AZ\, 85257\, United States
CATEGORIES:Karaoke,KJ Skribbz
ATTACH;FMTTYPE=image/jpeg:https://www.maddhatterpro.com/wp-content/uploads/2026/02/Pho-Scottsdale.jpg
END:VEVENT
BEGIN:VEVENT
DTSTART;TZID=UTC:20270624T183000
DTEND;TZID=UTC:20270624T183000
DTSTAMP:20260423T210432
CREATED:20250704T002812Z
LAST-MODIFIED:20260206T144210Z
UID:10022869-1813861800-1813861800@www.maddhatterpro.com
SUMMARY:Pho Cao Karaoke
DESCRIPTION:Homey atmosphere\, and the perfect Thursday evening dinner. Come out and see what Pho Cao has to offer with great Vietnamese cuisine. KJ Skribbz in the house\, 6:30pm-10:30pm yet another early show! \n7436 E McDowell Rd\, Scottsdale\, AZ 85257 \n+16234282173
URL:https://www.maddhatterpro.com/event/pho-cao-karaoke/2027-06-24/
LOCATION:Pho Cao\, 7436 E McDowell Rd\, Scottsdale\, AZ\, 85257\, United States
CATEGORIES:Karaoke,KJ Skribbz
ATTACH;FMTTYPE=image/jpeg:https://www.maddhatterpro.com/wp-content/uploads/2026/02/Pho-Scottsdale.jpg
END:VEVENT
BEGIN:VEVENT
DTSTART;TZID=UTC:20270701T183000
DTEND;TZID=UTC:20270701T183000
DTSTAMP:20260423T210432
CREATED:20250704T002812Z
LAST-MODIFIED:20260206T144210Z
UID:10022870-1814466600-1814466600@www.maddhatterpro.com
SUMMARY:Pho Cao Karaoke
DESCRIPTION:Homey atmosphere\, and the perfect Thursday evening dinner. Come out and see what Pho Cao has to offer with great Vietnamese cuisine. KJ Skribbz in the house\, 6:30pm-10:30pm yet another early show! \n7436 E McDowell Rd\, Scottsdale\, AZ 85257 \n+16234282173
URL:https://www.maddhatterpro.com/event/pho-cao-karaoke/2027-07-01/
LOCATION:Pho Cao\, 7436 E McDowell Rd\, Scottsdale\, AZ\, 85257\, United States
CATEGORIES:Karaoke,KJ Skribbz
ATTACH;FMTTYPE=image/jpeg:https://www.maddhatterpro.com/wp-content/uploads/2026/02/Pho-Scottsdale.jpg
END:VEVENT
BEGIN:VEVENT
DTSTART;TZID=UTC:20270708T183000
DTEND;TZID=UTC:20270708T183000
DTSTAMP:20260423T210432
CREATED:20250704T002812Z
LAST-MODIFIED:20260206T144210Z
UID:10022871-1815071400-1815071400@www.maddhatterpro.com
SUMMARY:Pho Cao Karaoke
DESCRIPTION:Homey atmosphere\, and the perfect Thursday evening dinner. Come out and see what Pho Cao has to offer with great Vietnamese cuisine. KJ Skribbz in the house\, 6:30pm-10:30pm yet another early show! \n7436 E McDowell Rd\, Scottsdale\, AZ 85257 \n+16234282173
URL:https://www.maddhatterpro.com/event/pho-cao-karaoke/2027-07-08/
LOCATION:Pho Cao\, 7436 E McDowell Rd\, Scottsdale\, AZ\, 85257\, United States
CATEGORIES:Karaoke,KJ Skribbz
ATTACH;FMTTYPE=image/jpeg:https://www.maddhatterpro.com/wp-content/uploads/2026/02/Pho-Scottsdale.jpg
END:VEVENT
BEGIN:VEVENT
DTSTART;TZID=UTC:20270715T183000
DTEND;TZID=UTC:20270715T183000
DTSTAMP:20260423T210432
CREATED:20250704T002812Z
LAST-MODIFIED:20260206T144210Z
UID:10022872-1815676200-1815676200@www.maddhatterpro.com
SUMMARY:Pho Cao Karaoke
DESCRIPTION:Homey atmosphere\, and the perfect Thursday evening dinner. Come out and see what Pho Cao has to offer with great Vietnamese cuisine. KJ Skribbz in the house\, 6:30pm-10:30pm yet another early show! \n7436 E McDowell Rd\, Scottsdale\, AZ 85257 \n+16234282173
URL:https://www.maddhatterpro.com/event/pho-cao-karaoke/2027-07-15/
LOCATION:Pho Cao\, 7436 E McDowell Rd\, Scottsdale\, AZ\, 85257\, United States
CATEGORIES:Karaoke,KJ Skribbz
ATTACH;FMTTYPE=image/jpeg:https://www.maddhatterpro.com/wp-content/uploads/2026/02/Pho-Scottsdale.jpg
END:VEVENT
BEGIN:VEVENT
DTSTART;TZID=UTC:20270722T183000
DTEND;TZID=UTC:20270722T183000
DTSTAMP:20260423T210432
CREATED:20250704T002812Z
LAST-MODIFIED:20260206T144210Z
UID:10022873-1816281000-1816281000@www.maddhatterpro.com
SUMMARY:Pho Cao Karaoke
DESCRIPTION:Homey atmosphere\, and the perfect Thursday evening dinner. Come out and see what Pho Cao has to offer with great Vietnamese cuisine. KJ Skribbz in the house\, 6:30pm-10:30pm yet another early show! \n7436 E McDowell Rd\, Scottsdale\, AZ 85257 \n+16234282173
URL:https://www.maddhatterpro.com/event/pho-cao-karaoke/2027-07-22/
LOCATION:Pho Cao\, 7436 E McDowell Rd\, Scottsdale\, AZ\, 85257\, United States
CATEGORIES:Karaoke,KJ Skribbz
ATTACH;FMTTYPE=image/jpeg:https://www.maddhatterpro.com/wp-content/uploads/2026/02/Pho-Scottsdale.jpg
END:VEVENT
BEGIN:VEVENT
DTSTART;TZID=UTC:20270729T183000
DTEND;TZID=UTC:20270729T183000
DTSTAMP:20260423T210432
CREATED:20250704T002812Z
LAST-MODIFIED:20260206T144210Z
UID:10022874-1816885800-1816885800@www.maddhatterpro.com
SUMMARY:Pho Cao Karaoke
DESCRIPTION:Homey atmosphere\, and the perfect Thursday evening dinner. Come out and see what Pho Cao has to offer with great Vietnamese cuisine. KJ Skribbz in the house\, 6:30pm-10:30pm yet another early show! \n7436 E McDowell Rd\, Scottsdale\, AZ 85257 \n+16234282173
URL:https://www.maddhatterpro.com/event/pho-cao-karaoke/2027-07-29/
LOCATION:Pho Cao\, 7436 E McDowell Rd\, Scottsdale\, AZ\, 85257\, United States
CATEGORIES:Karaoke,KJ Skribbz
ATTACH;FMTTYPE=image/jpeg:https://www.maddhatterpro.com/wp-content/uploads/2026/02/Pho-Scottsdale.jpg
END:VEVENT
BEGIN:VEVENT
DTSTART;TZID=UTC:20270805T183000
DTEND;TZID=UTC:20270805T183000
DTSTAMP:20260423T210432
CREATED:20250704T002812Z
LAST-MODIFIED:20260206T144210Z
UID:10022875-1817490600-1817490600@www.maddhatterpro.com
SUMMARY:Pho Cao Karaoke
DESCRIPTION:Homey atmosphere\, and the perfect Thursday evening dinner. Come out and see what Pho Cao has to offer with great Vietnamese cuisine. KJ Skribbz in the house\, 6:30pm-10:30pm yet another early show! \n7436 E McDowell Rd\, Scottsdale\, AZ 85257 \n+16234282173
URL:https://www.maddhatterpro.com/event/pho-cao-karaoke/2027-08-05/
LOCATION:Pho Cao\, 7436 E McDowell Rd\, Scottsdale\, AZ\, 85257\, United States
CATEGORIES:Karaoke,KJ Skribbz
ATTACH;FMTTYPE=image/jpeg:https://www.maddhatterpro.com/wp-content/uploads/2026/02/Pho-Scottsdale.jpg
END:VEVENT
BEGIN:VEVENT
DTSTART;TZID=UTC:20270812T183000
DTEND;TZID=UTC:20270812T183000
DTSTAMP:20260423T210432
CREATED:20250704T002812Z
LAST-MODIFIED:20260206T144210Z
UID:10022876-1818095400-1818095400@www.maddhatterpro.com
SUMMARY:Pho Cao Karaoke
DESCRIPTION:Homey atmosphere\, and the perfect Thursday evening dinner. Come out and see what Pho Cao has to offer with great Vietnamese cuisine. KJ Skribbz in the house\, 6:30pm-10:30pm yet another early show! \n7436 E McDowell Rd\, Scottsdale\, AZ 85257 \n+16234282173
URL:https://www.maddhatterpro.com/event/pho-cao-karaoke/2027-08-12/
LOCATION:Pho Cao\, 7436 E McDowell Rd\, Scottsdale\, AZ\, 85257\, United States
CATEGORIES:Karaoke,KJ Skribbz
ATTACH;FMTTYPE=image/jpeg:https://www.maddhatterpro.com/wp-content/uploads/2026/02/Pho-Scottsdale.jpg
END:VEVENT
BEGIN:VEVENT
DTSTART;TZID=UTC:20270819T183000
DTEND;TZID=UTC:20270819T183000
DTSTAMP:20260423T210432
CREATED:20250704T002812Z
LAST-MODIFIED:20260206T144210Z
UID:10022877-1818700200-1818700200@www.maddhatterpro.com
SUMMARY:Pho Cao Karaoke
DESCRIPTION:Homey atmosphere\, and the perfect Thursday evening dinner. Come out and see what Pho Cao has to offer with great Vietnamese cuisine. KJ Skribbz in the house\, 6:30pm-10:30pm yet another early show! \n7436 E McDowell Rd\, Scottsdale\, AZ 85257 \n+16234282173
URL:https://www.maddhatterpro.com/event/pho-cao-karaoke/2027-08-19/
LOCATION:Pho Cao\, 7436 E McDowell Rd\, Scottsdale\, AZ\, 85257\, United States
CATEGORIES:Karaoke,KJ Skribbz
ATTACH;FMTTYPE=image/jpeg:https://www.maddhatterpro.com/wp-content/uploads/2026/02/Pho-Scottsdale.jpg
END:VEVENT
BEGIN:VEVENT
DTSTART;TZID=UTC:20270826T183000
DTEND;TZID=UTC:20270826T183000
DTSTAMP:20260423T210432
CREATED:20250704T002812Z
LAST-MODIFIED:20260206T144210Z
UID:10022878-1819305000-1819305000@www.maddhatterpro.com
SUMMARY:Pho Cao Karaoke
DESCRIPTION:Homey atmosphere\, and the perfect Thursday evening dinner. Come out and see what Pho Cao has to offer with great Vietnamese cuisine. KJ Skribbz in the house\, 6:30pm-10:30pm yet another early show! \n7436 E McDowell Rd\, Scottsdale\, AZ 85257 \n+16234282173
URL:https://www.maddhatterpro.com/event/pho-cao-karaoke/2027-08-26/
LOCATION:Pho Cao\, 7436 E McDowell Rd\, Scottsdale\, AZ\, 85257\, United States
CATEGORIES:Karaoke,KJ Skribbz
ATTACH;FMTTYPE=image/jpeg:https://www.maddhatterpro.com/wp-content/uploads/2026/02/Pho-Scottsdale.jpg
END:VEVENT
BEGIN:VEVENT
DTSTART;TZID=UTC:20270902T183000
DTEND;TZID=UTC:20270902T183000
DTSTAMP:20260423T210432
CREATED:20250704T002812Z
LAST-MODIFIED:20260206T144210Z
UID:10022879-1819909800-1819909800@www.maddhatterpro.com
SUMMARY:Pho Cao Karaoke
DESCRIPTION:Homey atmosphere\, and the perfect Thursday evening dinner. Come out and see what Pho Cao has to offer with great Vietnamese cuisine. KJ Skribbz in the house\, 6:30pm-10:30pm yet another early show! \n7436 E McDowell Rd\, Scottsdale\, AZ 85257 \n+16234282173
URL:https://www.maddhatterpro.com/event/pho-cao-karaoke/2027-09-02/
LOCATION:Pho Cao\, 7436 E McDowell Rd\, Scottsdale\, AZ\, 85257\, United States
CATEGORIES:Karaoke,KJ Skribbz
ATTACH;FMTTYPE=image/jpeg:https://www.maddhatterpro.com/wp-content/uploads/2026/02/Pho-Scottsdale.jpg
END:VEVENT
BEGIN:VEVENT
DTSTART;TZID=UTC:20270909T183000
DTEND;TZID=UTC:20270909T183000
DTSTAMP:20260423T210432
CREATED:20250704T002812Z
LAST-MODIFIED:20260206T144210Z
UID:10022880-1820514600-1820514600@www.maddhatterpro.com
SUMMARY:Pho Cao Karaoke
DESCRIPTION:Homey atmosphere\, and the perfect Thursday evening dinner. Come out and see what Pho Cao has to offer with great Vietnamese cuisine. KJ Skribbz in the house\, 6:30pm-10:30pm yet another early show! \n7436 E McDowell Rd\, Scottsdale\, AZ 85257 \n+16234282173
URL:https://www.maddhatterpro.com/event/pho-cao-karaoke/2027-09-09/
LOCATION:Pho Cao\, 7436 E McDowell Rd\, Scottsdale\, AZ\, 85257\, United States
CATEGORIES:Karaoke,KJ Skribbz
ATTACH;FMTTYPE=image/jpeg:https://www.maddhatterpro.com/wp-content/uploads/2026/02/Pho-Scottsdale.jpg
END:VEVENT
BEGIN:VEVENT
DTSTART;TZID=UTC:20270916T183000
DTEND;TZID=UTC:20270916T183000
DTSTAMP:20260423T210432
CREATED:20250704T002812Z
LAST-MODIFIED:20260206T144210Z
UID:10022881-1821119400-1821119400@www.maddhatterpro.com
SUMMARY:Pho Cao Karaoke
DESCRIPTION:Homey atmosphere\, and the perfect Thursday evening dinner. Come out and see what Pho Cao has to offer with great Vietnamese cuisine. KJ Skribbz in the house\, 6:30pm-10:30pm yet another early show! \n7436 E McDowell Rd\, Scottsdale\, AZ 85257 \n+16234282173
URL:https://www.maddhatterpro.com/event/pho-cao-karaoke/2027-09-16/
LOCATION:Pho Cao\, 7436 E McDowell Rd\, Scottsdale\, AZ\, 85257\, United States
CATEGORIES:Karaoke,KJ Skribbz
ATTACH;FMTTYPE=image/jpeg:https://www.maddhatterpro.com/wp-content/uploads/2026/02/Pho-Scottsdale.jpg
END:VEVENT
BEGIN:VEVENT
DTSTART;TZID=UTC:20270923T183000
DTEND;TZID=UTC:20270923T183000
DTSTAMP:20260423T210432
CREATED:20250704T002812Z
LAST-MODIFIED:20260206T144210Z
UID:10022882-1821724200-1821724200@www.maddhatterpro.com
SUMMARY:Pho Cao Karaoke
DESCRIPTION:Homey atmosphere\, and the perfect Thursday evening dinner. Come out and see what Pho Cao has to offer with great Vietnamese cuisine. KJ Skribbz in the house\, 6:30pm-10:30pm yet another early show! \n7436 E McDowell Rd\, Scottsdale\, AZ 85257 \n+16234282173
URL:https://www.maddhatterpro.com/event/pho-cao-karaoke/2027-09-23/
LOCATION:Pho Cao\, 7436 E McDowell Rd\, Scottsdale\, AZ\, 85257\, United States
CATEGORIES:Karaoke,KJ Skribbz
ATTACH;FMTTYPE=image/jpeg:https://www.maddhatterpro.com/wp-content/uploads/2026/02/Pho-Scottsdale.jpg
END:VEVENT
BEGIN:VEVENT
DTSTART;TZID=UTC:20270930T183000
DTEND;TZID=UTC:20270930T183000
DTSTAMP:20260423T210432
CREATED:20250704T002812Z
LAST-MODIFIED:20260206T144210Z
UID:10022883-1822329000-1822329000@www.maddhatterpro.com
SUMMARY:Pho Cao Karaoke
DESCRIPTION:Homey atmosphere\, and the perfect Thursday evening dinner. Come out and see what Pho Cao has to offer with great Vietnamese cuisine. KJ Skribbz in the house\, 6:30pm-10:30pm yet another early show! \n7436 E McDowell Rd\, Scottsdale\, AZ 85257 \n+16234282173
URL:https://www.maddhatterpro.com/event/pho-cao-karaoke/2027-09-30/
LOCATION:Pho Cao\, 7436 E McDowell Rd\, Scottsdale\, AZ\, 85257\, United States
CATEGORIES:Karaoke,KJ Skribbz
ATTACH;FMTTYPE=image/jpeg:https://www.maddhatterpro.com/wp-content/uploads/2026/02/Pho-Scottsdale.jpg
END:VEVENT
BEGIN:VEVENT
DTSTART;TZID=UTC:20271007T183000
DTEND;TZID=UTC:20271007T183000
DTSTAMP:20260423T210432
CREATED:20250704T002812Z
LAST-MODIFIED:20260206T144210Z
UID:10022884-1822933800-1822933800@www.maddhatterpro.com
SUMMARY:Pho Cao Karaoke
DESCRIPTION:Homey atmosphere\, and the perfect Thursday evening dinner. Come out and see what Pho Cao has to offer with great Vietnamese cuisine. KJ Skribbz in the house\, 6:30pm-10:30pm yet another early show! \n7436 E McDowell Rd\, Scottsdale\, AZ 85257 \n+16234282173
URL:https://www.maddhatterpro.com/event/pho-cao-karaoke/2027-10-07/
LOCATION:Pho Cao\, 7436 E McDowell Rd\, Scottsdale\, AZ\, 85257\, United States
CATEGORIES:Karaoke,KJ Skribbz
ATTACH;FMTTYPE=image/jpeg:https://www.maddhatterpro.com/wp-content/uploads/2026/02/Pho-Scottsdale.jpg
END:VEVENT
BEGIN:VEVENT
DTSTART;TZID=UTC:20271014T183000
DTEND;TZID=UTC:20271014T183000
DTSTAMP:20260423T210432
CREATED:20250704T002812Z
LAST-MODIFIED:20260206T144210Z
UID:10022885-1823538600-1823538600@www.maddhatterpro.com
SUMMARY:Pho Cao Karaoke
DESCRIPTION:Homey atmosphere\, and the perfect Thursday evening dinner. Come out and see what Pho Cao has to offer with great Vietnamese cuisine. KJ Skribbz in the house\, 6:30pm-10:30pm yet another early show! \n7436 E McDowell Rd\, Scottsdale\, AZ 85257 \n+16234282173
URL:https://www.maddhatterpro.com/event/pho-cao-karaoke/2027-10-14/
LOCATION:Pho Cao\, 7436 E McDowell Rd\, Scottsdale\, AZ\, 85257\, United States
CATEGORIES:Karaoke,KJ Skribbz
ATTACH;FMTTYPE=image/jpeg:https://www.maddhatterpro.com/wp-content/uploads/2026/02/Pho-Scottsdale.jpg
END:VEVENT
BEGIN:VEVENT
DTSTART;TZID=UTC:20271021T183000
DTEND;TZID=UTC:20271021T183000
DTSTAMP:20260423T210432
CREATED:20250704T002812Z
LAST-MODIFIED:20260206T144210Z
UID:10022886-1824143400-1824143400@www.maddhatterpro.com
SUMMARY:Pho Cao Karaoke
DESCRIPTION:Homey atmosphere\, and the perfect Thursday evening dinner. Come out and see what Pho Cao has to offer with great Vietnamese cuisine. KJ Skribbz in the house\, 6:30pm-10:30pm yet another early show! \n7436 E McDowell Rd\, Scottsdale\, AZ 85257 \n+16234282173
URL:https://www.maddhatterpro.com/event/pho-cao-karaoke/2027-10-21/
LOCATION:Pho Cao\, 7436 E McDowell Rd\, Scottsdale\, AZ\, 85257\, United States
CATEGORIES:Karaoke,KJ Skribbz
ATTACH;FMTTYPE=image/jpeg:https://www.maddhatterpro.com/wp-content/uploads/2026/02/Pho-Scottsdale.jpg
END:VEVENT
END:VCALENDAR