BEGIN:VCALENDAR
VERSION:2.0
PRODID:-//MaddHatterPro.com - ECPv6.15.20//NONSGML v1.0//EN
CALSCALE:GREGORIAN
METHOD:PUBLISH
X-ORIGINAL-URL:https://www.maddhatterpro.com
X-WR-CALDESC:Events for MaddHatterPro.com
REFRESH-INTERVAL;VALUE=DURATION:PT1H
X-Robots-Tag:noindex
X-PUBLISHED-TTL:PT1H
BEGIN:VTIMEZONE
TZID:UTC
BEGIN:STANDARD
TZOFFSETFROM:+0000
TZOFFSETTO:+0000
TZNAME:UTC
DTSTART:20260101T000000
END:STANDARD
END:VTIMEZONE
BEGIN:VEVENT
DTSTART;TZID=UTC:20270328T210000
DTEND;TZID=UTC:20270328T210000
DTSTAMP:20260423T214531
CREATED:20250703T234035Z
LAST-MODIFIED:20260206T144755Z
UID:10020764-1806267600-1806267600@www.maddhatterpro.com
SUMMARY:Boycott Bar Karaoke
DESCRIPTION:The award winning Boycott bar\, and MaddHatter. The most incredible\, supportive crowds. This bar is a treat. Come out with KJ Zondo and not only see\, but FEEL the hype. Good vibes only! \n4301 N 7th Ave\, Phoenix\, AZ 85013 \n+16028256240
URL:https://www.maddhatterpro.com/event/boycott-bar-karaoke/2027-03-28/
LOCATION:Boycott Bar\, 4301 N 7th Ave\, Phoenix\, AZ\, 85013\, United States
CATEGORIES:Karaoke,KJ Zondo
ATTACH;FMTTYPE=image/jpeg:https://www.maddhatterpro.com/wp-content/uploads/2026/02/boycott-PHX.jpg
END:VEVENT
BEGIN:VEVENT
DTSTART;TZID=UTC:20270404T210000
DTEND;TZID=UTC:20270404T210000
DTSTAMP:20260423T214531
CREATED:20250703T234035Z
LAST-MODIFIED:20260206T144755Z
UID:10020765-1806872400-1806872400@www.maddhatterpro.com
SUMMARY:Boycott Bar Karaoke
DESCRIPTION:The award winning Boycott bar\, and MaddHatter. The most incredible\, supportive crowds. This bar is a treat. Come out with KJ Zondo and not only see\, but FEEL the hype. Good vibes only! \n4301 N 7th Ave\, Phoenix\, AZ 85013 \n+16028256240
URL:https://www.maddhatterpro.com/event/boycott-bar-karaoke/2027-04-04/
LOCATION:Boycott Bar\, 4301 N 7th Ave\, Phoenix\, AZ\, 85013\, United States
CATEGORIES:Karaoke,KJ Zondo
ATTACH;FMTTYPE=image/jpeg:https://www.maddhatterpro.com/wp-content/uploads/2026/02/boycott-PHX.jpg
END:VEVENT
BEGIN:VEVENT
DTSTART;TZID=UTC:20270411T210000
DTEND;TZID=UTC:20270411T210000
DTSTAMP:20260423T214531
CREATED:20250703T234035Z
LAST-MODIFIED:20260206T144755Z
UID:10020766-1807477200-1807477200@www.maddhatterpro.com
SUMMARY:Boycott Bar Karaoke
DESCRIPTION:The award winning Boycott bar\, and MaddHatter. The most incredible\, supportive crowds. This bar is a treat. Come out with KJ Zondo and not only see\, but FEEL the hype. Good vibes only! \n4301 N 7th Ave\, Phoenix\, AZ 85013 \n+16028256240
URL:https://www.maddhatterpro.com/event/boycott-bar-karaoke/2027-04-11/
LOCATION:Boycott Bar\, 4301 N 7th Ave\, Phoenix\, AZ\, 85013\, United States
CATEGORIES:Karaoke,KJ Zondo
ATTACH;FMTTYPE=image/jpeg:https://www.maddhatterpro.com/wp-content/uploads/2026/02/boycott-PHX.jpg
END:VEVENT
BEGIN:VEVENT
DTSTART;TZID=UTC:20270418T210000
DTEND;TZID=UTC:20270418T210000
DTSTAMP:20260423T214531
CREATED:20250703T234035Z
LAST-MODIFIED:20260206T144755Z
UID:10020767-1808082000-1808082000@www.maddhatterpro.com
SUMMARY:Boycott Bar Karaoke
DESCRIPTION:The award winning Boycott bar\, and MaddHatter. The most incredible\, supportive crowds. This bar is a treat. Come out with KJ Zondo and not only see\, but FEEL the hype. Good vibes only! \n4301 N 7th Ave\, Phoenix\, AZ 85013 \n+16028256240
URL:https://www.maddhatterpro.com/event/boycott-bar-karaoke/2027-04-18/
LOCATION:Boycott Bar\, 4301 N 7th Ave\, Phoenix\, AZ\, 85013\, United States
CATEGORIES:Karaoke,KJ Zondo
ATTACH;FMTTYPE=image/jpeg:https://www.maddhatterpro.com/wp-content/uploads/2026/02/boycott-PHX.jpg
END:VEVENT
BEGIN:VEVENT
DTSTART;TZID=UTC:20270425T210000
DTEND;TZID=UTC:20270425T210000
DTSTAMP:20260423T214531
CREATED:20250703T234035Z
LAST-MODIFIED:20260206T144755Z
UID:10020768-1808686800-1808686800@www.maddhatterpro.com
SUMMARY:Boycott Bar Karaoke
DESCRIPTION:The award winning Boycott bar\, and MaddHatter. The most incredible\, supportive crowds. This bar is a treat. Come out with KJ Zondo and not only see\, but FEEL the hype. Good vibes only! \n4301 N 7th Ave\, Phoenix\, AZ 85013 \n+16028256240
URL:https://www.maddhatterpro.com/event/boycott-bar-karaoke/2027-04-25/
LOCATION:Boycott Bar\, 4301 N 7th Ave\, Phoenix\, AZ\, 85013\, United States
CATEGORIES:Karaoke,KJ Zondo
ATTACH;FMTTYPE=image/jpeg:https://www.maddhatterpro.com/wp-content/uploads/2026/02/boycott-PHX.jpg
END:VEVENT
BEGIN:VEVENT
DTSTART;TZID=UTC:20270502T210000
DTEND;TZID=UTC:20270502T210000
DTSTAMP:20260423T214531
CREATED:20250703T234035Z
LAST-MODIFIED:20260206T144755Z
UID:10020769-1809291600-1809291600@www.maddhatterpro.com
SUMMARY:Boycott Bar Karaoke
DESCRIPTION:The award winning Boycott bar\, and MaddHatter. The most incredible\, supportive crowds. This bar is a treat. Come out with KJ Zondo and not only see\, but FEEL the hype. Good vibes only! \n4301 N 7th Ave\, Phoenix\, AZ 85013 \n+16028256240
URL:https://www.maddhatterpro.com/event/boycott-bar-karaoke/2027-05-02/
LOCATION:Boycott Bar\, 4301 N 7th Ave\, Phoenix\, AZ\, 85013\, United States
CATEGORIES:Karaoke,KJ Zondo
ATTACH;FMTTYPE=image/jpeg:https://www.maddhatterpro.com/wp-content/uploads/2026/02/boycott-PHX.jpg
END:VEVENT
BEGIN:VEVENT
DTSTART;TZID=UTC:20270509T210000
DTEND;TZID=UTC:20270509T210000
DTSTAMP:20260423T214531
CREATED:20250703T234035Z
LAST-MODIFIED:20260206T144755Z
UID:10020770-1809896400-1809896400@www.maddhatterpro.com
SUMMARY:Boycott Bar Karaoke
DESCRIPTION:The award winning Boycott bar\, and MaddHatter. The most incredible\, supportive crowds. This bar is a treat. Come out with KJ Zondo and not only see\, but FEEL the hype. Good vibes only! \n4301 N 7th Ave\, Phoenix\, AZ 85013 \n+16028256240
URL:https://www.maddhatterpro.com/event/boycott-bar-karaoke/2027-05-09/
LOCATION:Boycott Bar\, 4301 N 7th Ave\, Phoenix\, AZ\, 85013\, United States
CATEGORIES:Karaoke,KJ Zondo
ATTACH;FMTTYPE=image/jpeg:https://www.maddhatterpro.com/wp-content/uploads/2026/02/boycott-PHX.jpg
END:VEVENT
BEGIN:VEVENT
DTSTART;TZID=UTC:20270516T210000
DTEND;TZID=UTC:20270516T210000
DTSTAMP:20260423T214531
CREATED:20250703T234035Z
LAST-MODIFIED:20260206T144755Z
UID:10020771-1810501200-1810501200@www.maddhatterpro.com
SUMMARY:Boycott Bar Karaoke
DESCRIPTION:The award winning Boycott bar\, and MaddHatter. The most incredible\, supportive crowds. This bar is a treat. Come out with KJ Zondo and not only see\, but FEEL the hype. Good vibes only! \n4301 N 7th Ave\, Phoenix\, AZ 85013 \n+16028256240
URL:https://www.maddhatterpro.com/event/boycott-bar-karaoke/2027-05-16/
LOCATION:Boycott Bar\, 4301 N 7th Ave\, Phoenix\, AZ\, 85013\, United States
CATEGORIES:Karaoke,KJ Zondo
ATTACH;FMTTYPE=image/jpeg:https://www.maddhatterpro.com/wp-content/uploads/2026/02/boycott-PHX.jpg
END:VEVENT
BEGIN:VEVENT
DTSTART;TZID=UTC:20270523T210000
DTEND;TZID=UTC:20270523T210000
DTSTAMP:20260423T214531
CREATED:20250703T234035Z
LAST-MODIFIED:20260206T144755Z
UID:10020772-1811106000-1811106000@www.maddhatterpro.com
SUMMARY:Boycott Bar Karaoke
DESCRIPTION:The award winning Boycott bar\, and MaddHatter. The most incredible\, supportive crowds. This bar is a treat. Come out with KJ Zondo and not only see\, but FEEL the hype. Good vibes only! \n4301 N 7th Ave\, Phoenix\, AZ 85013 \n+16028256240
URL:https://www.maddhatterpro.com/event/boycott-bar-karaoke/2027-05-23/
LOCATION:Boycott Bar\, 4301 N 7th Ave\, Phoenix\, AZ\, 85013\, United States
CATEGORIES:Karaoke,KJ Zondo
ATTACH;FMTTYPE=image/jpeg:https://www.maddhatterpro.com/wp-content/uploads/2026/02/boycott-PHX.jpg
END:VEVENT
BEGIN:VEVENT
DTSTART;TZID=UTC:20270530T210000
DTEND;TZID=UTC:20270530T210000
DTSTAMP:20260423T214531
CREATED:20250703T234035Z
LAST-MODIFIED:20260206T144755Z
UID:10020773-1811710800-1811710800@www.maddhatterpro.com
SUMMARY:Boycott Bar Karaoke
DESCRIPTION:The award winning Boycott bar\, and MaddHatter. The most incredible\, supportive crowds. This bar is a treat. Come out with KJ Zondo and not only see\, but FEEL the hype. Good vibes only! \n4301 N 7th Ave\, Phoenix\, AZ 85013 \n+16028256240
URL:https://www.maddhatterpro.com/event/boycott-bar-karaoke/2027-05-30/
LOCATION:Boycott Bar\, 4301 N 7th Ave\, Phoenix\, AZ\, 85013\, United States
CATEGORIES:Karaoke,KJ Zondo
ATTACH;FMTTYPE=image/jpeg:https://www.maddhatterpro.com/wp-content/uploads/2026/02/boycott-PHX.jpg
END:VEVENT
BEGIN:VEVENT
DTSTART;TZID=UTC:20270606T210000
DTEND;TZID=UTC:20270606T210000
DTSTAMP:20260423T214531
CREATED:20250703T234035Z
LAST-MODIFIED:20260206T144755Z
UID:10020774-1812315600-1812315600@www.maddhatterpro.com
SUMMARY:Boycott Bar Karaoke
DESCRIPTION:The award winning Boycott bar\, and MaddHatter. The most incredible\, supportive crowds. This bar is a treat. Come out with KJ Zondo and not only see\, but FEEL the hype. Good vibes only! \n4301 N 7th Ave\, Phoenix\, AZ 85013 \n+16028256240
URL:https://www.maddhatterpro.com/event/boycott-bar-karaoke/2027-06-06/
LOCATION:Boycott Bar\, 4301 N 7th Ave\, Phoenix\, AZ\, 85013\, United States
CATEGORIES:Karaoke,KJ Zondo
ATTACH;FMTTYPE=image/jpeg:https://www.maddhatterpro.com/wp-content/uploads/2026/02/boycott-PHX.jpg
END:VEVENT
BEGIN:VEVENT
DTSTART;TZID=UTC:20270613T210000
DTEND;TZID=UTC:20270613T210000
DTSTAMP:20260423T214531
CREATED:20250703T234035Z
LAST-MODIFIED:20260206T144755Z
UID:10020775-1812920400-1812920400@www.maddhatterpro.com
SUMMARY:Boycott Bar Karaoke
DESCRIPTION:The award winning Boycott bar\, and MaddHatter. The most incredible\, supportive crowds. This bar is a treat. Come out with KJ Zondo and not only see\, but FEEL the hype. Good vibes only! \n4301 N 7th Ave\, Phoenix\, AZ 85013 \n+16028256240
URL:https://www.maddhatterpro.com/event/boycott-bar-karaoke/2027-06-13/
LOCATION:Boycott Bar\, 4301 N 7th Ave\, Phoenix\, AZ\, 85013\, United States
CATEGORIES:Karaoke,KJ Zondo
ATTACH;FMTTYPE=image/jpeg:https://www.maddhatterpro.com/wp-content/uploads/2026/02/boycott-PHX.jpg
END:VEVENT
BEGIN:VEVENT
DTSTART;TZID=UTC:20270620T210000
DTEND;TZID=UTC:20270620T210000
DTSTAMP:20260423T214531
CREATED:20250703T234035Z
LAST-MODIFIED:20260206T144755Z
UID:10020776-1813525200-1813525200@www.maddhatterpro.com
SUMMARY:Boycott Bar Karaoke
DESCRIPTION:The award winning Boycott bar\, and MaddHatter. The most incredible\, supportive crowds. This bar is a treat. Come out with KJ Zondo and not only see\, but FEEL the hype. Good vibes only! \n4301 N 7th Ave\, Phoenix\, AZ 85013 \n+16028256240
URL:https://www.maddhatterpro.com/event/boycott-bar-karaoke/2027-06-20/
LOCATION:Boycott Bar\, 4301 N 7th Ave\, Phoenix\, AZ\, 85013\, United States
CATEGORIES:Karaoke,KJ Zondo
ATTACH;FMTTYPE=image/jpeg:https://www.maddhatterpro.com/wp-content/uploads/2026/02/boycott-PHX.jpg
END:VEVENT
BEGIN:VEVENT
DTSTART;TZID=UTC:20270627T210000
DTEND;TZID=UTC:20270627T210000
DTSTAMP:20260423T214531
CREATED:20250703T234035Z
LAST-MODIFIED:20260206T144755Z
UID:10020777-1814130000-1814130000@www.maddhatterpro.com
SUMMARY:Boycott Bar Karaoke
DESCRIPTION:The award winning Boycott bar\, and MaddHatter. The most incredible\, supportive crowds. This bar is a treat. Come out with KJ Zondo and not only see\, but FEEL the hype. Good vibes only! \n4301 N 7th Ave\, Phoenix\, AZ 85013 \n+16028256240
URL:https://www.maddhatterpro.com/event/boycott-bar-karaoke/2027-06-27/
LOCATION:Boycott Bar\, 4301 N 7th Ave\, Phoenix\, AZ\, 85013\, United States
CATEGORIES:Karaoke,KJ Zondo
ATTACH;FMTTYPE=image/jpeg:https://www.maddhatterpro.com/wp-content/uploads/2026/02/boycott-PHX.jpg
END:VEVENT
BEGIN:VEVENT
DTSTART;TZID=UTC:20270704T210000
DTEND;TZID=UTC:20270704T210000
DTSTAMP:20260423T214531
CREATED:20250703T234035Z
LAST-MODIFIED:20260206T144755Z
UID:10020778-1814734800-1814734800@www.maddhatterpro.com
SUMMARY:Boycott Bar Karaoke
DESCRIPTION:The award winning Boycott bar\, and MaddHatter. The most incredible\, supportive crowds. This bar is a treat. Come out with KJ Zondo and not only see\, but FEEL the hype. Good vibes only! \n4301 N 7th Ave\, Phoenix\, AZ 85013 \n+16028256240
URL:https://www.maddhatterpro.com/event/boycott-bar-karaoke/2027-07-04/
LOCATION:Boycott Bar\, 4301 N 7th Ave\, Phoenix\, AZ\, 85013\, United States
CATEGORIES:Karaoke,KJ Zondo
ATTACH;FMTTYPE=image/jpeg:https://www.maddhatterpro.com/wp-content/uploads/2026/02/boycott-PHX.jpg
END:VEVENT
BEGIN:VEVENT
DTSTART;TZID=UTC:20270711T210000
DTEND;TZID=UTC:20270711T210000
DTSTAMP:20260423T214531
CREATED:20250703T234035Z
LAST-MODIFIED:20260206T144755Z
UID:10020779-1815339600-1815339600@www.maddhatterpro.com
SUMMARY:Boycott Bar Karaoke
DESCRIPTION:The award winning Boycott bar\, and MaddHatter. The most incredible\, supportive crowds. This bar is a treat. Come out with KJ Zondo and not only see\, but FEEL the hype. Good vibes only! \n4301 N 7th Ave\, Phoenix\, AZ 85013 \n+16028256240
URL:https://www.maddhatterpro.com/event/boycott-bar-karaoke/2027-07-11/
LOCATION:Boycott Bar\, 4301 N 7th Ave\, Phoenix\, AZ\, 85013\, United States
CATEGORIES:Karaoke,KJ Zondo
ATTACH;FMTTYPE=image/jpeg:https://www.maddhatterpro.com/wp-content/uploads/2026/02/boycott-PHX.jpg
END:VEVENT
BEGIN:VEVENT
DTSTART;TZID=UTC:20270718T210000
DTEND;TZID=UTC:20270718T210000
DTSTAMP:20260423T214531
CREATED:20250703T234035Z
LAST-MODIFIED:20260206T144755Z
UID:10020780-1815944400-1815944400@www.maddhatterpro.com
SUMMARY:Boycott Bar Karaoke
DESCRIPTION:The award winning Boycott bar\, and MaddHatter. The most incredible\, supportive crowds. This bar is a treat. Come out with KJ Zondo and not only see\, but FEEL the hype. Good vibes only! \n4301 N 7th Ave\, Phoenix\, AZ 85013 \n+16028256240
URL:https://www.maddhatterpro.com/event/boycott-bar-karaoke/2027-07-18/
LOCATION:Boycott Bar\, 4301 N 7th Ave\, Phoenix\, AZ\, 85013\, United States
CATEGORIES:Karaoke,KJ Zondo
ATTACH;FMTTYPE=image/jpeg:https://www.maddhatterpro.com/wp-content/uploads/2026/02/boycott-PHX.jpg
END:VEVENT
BEGIN:VEVENT
DTSTART;TZID=UTC:20270725T210000
DTEND;TZID=UTC:20270725T210000
DTSTAMP:20260423T214531
CREATED:20250703T234035Z
LAST-MODIFIED:20260206T144755Z
UID:10020781-1816549200-1816549200@www.maddhatterpro.com
SUMMARY:Boycott Bar Karaoke
DESCRIPTION:The award winning Boycott bar\, and MaddHatter. The most incredible\, supportive crowds. This bar is a treat. Come out with KJ Zondo and not only see\, but FEEL the hype. Good vibes only! \n4301 N 7th Ave\, Phoenix\, AZ 85013 \n+16028256240
URL:https://www.maddhatterpro.com/event/boycott-bar-karaoke/2027-07-25/
LOCATION:Boycott Bar\, 4301 N 7th Ave\, Phoenix\, AZ\, 85013\, United States
CATEGORIES:Karaoke,KJ Zondo
ATTACH;FMTTYPE=image/jpeg:https://www.maddhatterpro.com/wp-content/uploads/2026/02/boycott-PHX.jpg
END:VEVENT
BEGIN:VEVENT
DTSTART;TZID=UTC:20270801T210000
DTEND;TZID=UTC:20270801T210000
DTSTAMP:20260423T214531
CREATED:20250703T234035Z
LAST-MODIFIED:20260206T144755Z
UID:10020782-1817154000-1817154000@www.maddhatterpro.com
SUMMARY:Boycott Bar Karaoke
DESCRIPTION:The award winning Boycott bar\, and MaddHatter. The most incredible\, supportive crowds. This bar is a treat. Come out with KJ Zondo and not only see\, but FEEL the hype. Good vibes only! \n4301 N 7th Ave\, Phoenix\, AZ 85013 \n+16028256240
URL:https://www.maddhatterpro.com/event/boycott-bar-karaoke/2027-08-01/
LOCATION:Boycott Bar\, 4301 N 7th Ave\, Phoenix\, AZ\, 85013\, United States
CATEGORIES:Karaoke,KJ Zondo
ATTACH;FMTTYPE=image/jpeg:https://www.maddhatterpro.com/wp-content/uploads/2026/02/boycott-PHX.jpg
END:VEVENT
BEGIN:VEVENT
DTSTART;TZID=UTC:20270808T210000
DTEND;TZID=UTC:20270808T210000
DTSTAMP:20260423T214531
CREATED:20250703T234035Z
LAST-MODIFIED:20260206T144755Z
UID:10020783-1817758800-1817758800@www.maddhatterpro.com
SUMMARY:Boycott Bar Karaoke
DESCRIPTION:The award winning Boycott bar\, and MaddHatter. The most incredible\, supportive crowds. This bar is a treat. Come out with KJ Zondo and not only see\, but FEEL the hype. Good vibes only! \n4301 N 7th Ave\, Phoenix\, AZ 85013 \n+16028256240
URL:https://www.maddhatterpro.com/event/boycott-bar-karaoke/2027-08-08/
LOCATION:Boycott Bar\, 4301 N 7th Ave\, Phoenix\, AZ\, 85013\, United States
CATEGORIES:Karaoke,KJ Zondo
ATTACH;FMTTYPE=image/jpeg:https://www.maddhatterpro.com/wp-content/uploads/2026/02/boycott-PHX.jpg
END:VEVENT
BEGIN:VEVENT
DTSTART;TZID=UTC:20270815T210000
DTEND;TZID=UTC:20270815T210000
DTSTAMP:20260423T214531
CREATED:20250703T234035Z
LAST-MODIFIED:20260206T144755Z
UID:10020784-1818363600-1818363600@www.maddhatterpro.com
SUMMARY:Boycott Bar Karaoke
DESCRIPTION:The award winning Boycott bar\, and MaddHatter. The most incredible\, supportive crowds. This bar is a treat. Come out with KJ Zondo and not only see\, but FEEL the hype. Good vibes only! \n4301 N 7th Ave\, Phoenix\, AZ 85013 \n+16028256240
URL:https://www.maddhatterpro.com/event/boycott-bar-karaoke/2027-08-15/
LOCATION:Boycott Bar\, 4301 N 7th Ave\, Phoenix\, AZ\, 85013\, United States
CATEGORIES:Karaoke,KJ Zondo
ATTACH;FMTTYPE=image/jpeg:https://www.maddhatterpro.com/wp-content/uploads/2026/02/boycott-PHX.jpg
END:VEVENT
BEGIN:VEVENT
DTSTART;TZID=UTC:20270822T210000
DTEND;TZID=UTC:20270822T210000
DTSTAMP:20260423T214531
CREATED:20250703T234035Z
LAST-MODIFIED:20260206T144755Z
UID:10020785-1818968400-1818968400@www.maddhatterpro.com
SUMMARY:Boycott Bar Karaoke
DESCRIPTION:The award winning Boycott bar\, and MaddHatter. The most incredible\, supportive crowds. This bar is a treat. Come out with KJ Zondo and not only see\, but FEEL the hype. Good vibes only! \n4301 N 7th Ave\, Phoenix\, AZ 85013 \n+16028256240
URL:https://www.maddhatterpro.com/event/boycott-bar-karaoke/2027-08-22/
LOCATION:Boycott Bar\, 4301 N 7th Ave\, Phoenix\, AZ\, 85013\, United States
CATEGORIES:Karaoke,KJ Zondo
ATTACH;FMTTYPE=image/jpeg:https://www.maddhatterpro.com/wp-content/uploads/2026/02/boycott-PHX.jpg
END:VEVENT
BEGIN:VEVENT
DTSTART;TZID=UTC:20270829T210000
DTEND;TZID=UTC:20270829T210000
DTSTAMP:20260423T214531
CREATED:20250703T234035Z
LAST-MODIFIED:20260206T144755Z
UID:10020786-1819573200-1819573200@www.maddhatterpro.com
SUMMARY:Boycott Bar Karaoke
DESCRIPTION:The award winning Boycott bar\, and MaddHatter. The most incredible\, supportive crowds. This bar is a treat. Come out with KJ Zondo and not only see\, but FEEL the hype. Good vibes only! \n4301 N 7th Ave\, Phoenix\, AZ 85013 \n+16028256240
URL:https://www.maddhatterpro.com/event/boycott-bar-karaoke/2027-08-29/
LOCATION:Boycott Bar\, 4301 N 7th Ave\, Phoenix\, AZ\, 85013\, United States
CATEGORIES:Karaoke,KJ Zondo
ATTACH;FMTTYPE=image/jpeg:https://www.maddhatterpro.com/wp-content/uploads/2026/02/boycott-PHX.jpg
END:VEVENT
BEGIN:VEVENT
DTSTART;TZID=UTC:20270905T210000
DTEND;TZID=UTC:20270905T210000
DTSTAMP:20260423T214531
CREATED:20250703T234035Z
LAST-MODIFIED:20260206T144755Z
UID:10020787-1820178000-1820178000@www.maddhatterpro.com
SUMMARY:Boycott Bar Karaoke
DESCRIPTION:The award winning Boycott bar\, and MaddHatter. The most incredible\, supportive crowds. This bar is a treat. Come out with KJ Zondo and not only see\, but FEEL the hype. Good vibes only! \n4301 N 7th Ave\, Phoenix\, AZ 85013 \n+16028256240
URL:https://www.maddhatterpro.com/event/boycott-bar-karaoke/2027-09-05/
LOCATION:Boycott Bar\, 4301 N 7th Ave\, Phoenix\, AZ\, 85013\, United States
CATEGORIES:Karaoke,KJ Zondo
ATTACH;FMTTYPE=image/jpeg:https://www.maddhatterpro.com/wp-content/uploads/2026/02/boycott-PHX.jpg
END:VEVENT
BEGIN:VEVENT
DTSTART;TZID=UTC:20270912T210000
DTEND;TZID=UTC:20270912T210000
DTSTAMP:20260423T214531
CREATED:20250703T234035Z
LAST-MODIFIED:20260206T144755Z
UID:10020788-1820782800-1820782800@www.maddhatterpro.com
SUMMARY:Boycott Bar Karaoke
DESCRIPTION:The award winning Boycott bar\, and MaddHatter. The most incredible\, supportive crowds. This bar is a treat. Come out with KJ Zondo and not only see\, but FEEL the hype. Good vibes only! \n4301 N 7th Ave\, Phoenix\, AZ 85013 \n+16028256240
URL:https://www.maddhatterpro.com/event/boycott-bar-karaoke/2027-09-12/
LOCATION:Boycott Bar\, 4301 N 7th Ave\, Phoenix\, AZ\, 85013\, United States
CATEGORIES:Karaoke,KJ Zondo
ATTACH;FMTTYPE=image/jpeg:https://www.maddhatterpro.com/wp-content/uploads/2026/02/boycott-PHX.jpg
END:VEVENT
BEGIN:VEVENT
DTSTART;TZID=UTC:20270919T210000
DTEND;TZID=UTC:20270919T210000
DTSTAMP:20260423T214531
CREATED:20250703T234035Z
LAST-MODIFIED:20260206T144755Z
UID:10020789-1821387600-1821387600@www.maddhatterpro.com
SUMMARY:Boycott Bar Karaoke
DESCRIPTION:The award winning Boycott bar\, and MaddHatter. The most incredible\, supportive crowds. This bar is a treat. Come out with KJ Zondo and not only see\, but FEEL the hype. Good vibes only! \n4301 N 7th Ave\, Phoenix\, AZ 85013 \n+16028256240
URL:https://www.maddhatterpro.com/event/boycott-bar-karaoke/2027-09-19/
LOCATION:Boycott Bar\, 4301 N 7th Ave\, Phoenix\, AZ\, 85013\, United States
CATEGORIES:Karaoke,KJ Zondo
ATTACH;FMTTYPE=image/jpeg:https://www.maddhatterpro.com/wp-content/uploads/2026/02/boycott-PHX.jpg
END:VEVENT
BEGIN:VEVENT
DTSTART;TZID=UTC:20270926T210000
DTEND;TZID=UTC:20270926T210000
DTSTAMP:20260423T214531
CREATED:20250703T234035Z
LAST-MODIFIED:20260206T144755Z
UID:10020790-1821992400-1821992400@www.maddhatterpro.com
SUMMARY:Boycott Bar Karaoke
DESCRIPTION:The award winning Boycott bar\, and MaddHatter. The most incredible\, supportive crowds. This bar is a treat. Come out with KJ Zondo and not only see\, but FEEL the hype. Good vibes only! \n4301 N 7th Ave\, Phoenix\, AZ 85013 \n+16028256240
URL:https://www.maddhatterpro.com/event/boycott-bar-karaoke/2027-09-26/
LOCATION:Boycott Bar\, 4301 N 7th Ave\, Phoenix\, AZ\, 85013\, United States
CATEGORIES:Karaoke,KJ Zondo
ATTACH;FMTTYPE=image/jpeg:https://www.maddhatterpro.com/wp-content/uploads/2026/02/boycott-PHX.jpg
END:VEVENT
BEGIN:VEVENT
DTSTART;TZID=UTC:20271003T210000
DTEND;TZID=UTC:20271003T210000
DTSTAMP:20260423T214531
CREATED:20250703T234035Z
LAST-MODIFIED:20260206T144755Z
UID:10020791-1822597200-1822597200@www.maddhatterpro.com
SUMMARY:Boycott Bar Karaoke
DESCRIPTION:The award winning Boycott bar\, and MaddHatter. The most incredible\, supportive crowds. This bar is a treat. Come out with KJ Zondo and not only see\, but FEEL the hype. Good vibes only! \n4301 N 7th Ave\, Phoenix\, AZ 85013 \n+16028256240
URL:https://www.maddhatterpro.com/event/boycott-bar-karaoke/2027-10-03/
LOCATION:Boycott Bar\, 4301 N 7th Ave\, Phoenix\, AZ\, 85013\, United States
CATEGORIES:Karaoke,KJ Zondo
ATTACH;FMTTYPE=image/jpeg:https://www.maddhatterpro.com/wp-content/uploads/2026/02/boycott-PHX.jpg
END:VEVENT
BEGIN:VEVENT
DTSTART;TZID=UTC:20271010T210000
DTEND;TZID=UTC:20271010T210000
DTSTAMP:20260423T214531
CREATED:20250703T234035Z
LAST-MODIFIED:20260206T144755Z
UID:10020792-1823202000-1823202000@www.maddhatterpro.com
SUMMARY:Boycott Bar Karaoke
DESCRIPTION:The award winning Boycott bar\, and MaddHatter. The most incredible\, supportive crowds. This bar is a treat. Come out with KJ Zondo and not only see\, but FEEL the hype. Good vibes only! \n4301 N 7th Ave\, Phoenix\, AZ 85013 \n+16028256240
URL:https://www.maddhatterpro.com/event/boycott-bar-karaoke/2027-10-10/
LOCATION:Boycott Bar\, 4301 N 7th Ave\, Phoenix\, AZ\, 85013\, United States
CATEGORIES:Karaoke,KJ Zondo
ATTACH;FMTTYPE=image/jpeg:https://www.maddhatterpro.com/wp-content/uploads/2026/02/boycott-PHX.jpg
END:VEVENT
BEGIN:VEVENT
DTSTART;TZID=UTC:20271017T210000
DTEND;TZID=UTC:20271017T210000
DTSTAMP:20260423T214531
CREATED:20250703T234035Z
LAST-MODIFIED:20260206T144755Z
UID:10020793-1823806800-1823806800@www.maddhatterpro.com
SUMMARY:Boycott Bar Karaoke
DESCRIPTION:The award winning Boycott bar\, and MaddHatter. The most incredible\, supportive crowds. This bar is a treat. Come out with KJ Zondo and not only see\, but FEEL the hype. Good vibes only! \n4301 N 7th Ave\, Phoenix\, AZ 85013 \n+16028256240
URL:https://www.maddhatterpro.com/event/boycott-bar-karaoke/2027-10-17/
LOCATION:Boycott Bar\, 4301 N 7th Ave\, Phoenix\, AZ\, 85013\, United States
CATEGORIES:Karaoke,KJ Zondo
ATTACH;FMTTYPE=image/jpeg:https://www.maddhatterpro.com/wp-content/uploads/2026/02/boycott-PHX.jpg
END:VEVENT
END:VCALENDAR