BEGIN:VCALENDAR
VERSION:2.0
PRODID:-//MaddHatterPro.com - ECPv6.15.20//NONSGML v1.0//EN
CALSCALE:GREGORIAN
METHOD:PUBLISH
X-WR-CALNAME:MaddHatterPro.com
X-ORIGINAL-URL:https://www.maddhatterpro.com
X-WR-CALDESC:Events for MaddHatterPro.com
REFRESH-INTERVAL;VALUE=DURATION:PT1H
X-Robots-Tag:noindex
X-PUBLISHED-TTL:PT1H
BEGIN:VTIMEZONE
TZID:UTC
BEGIN:STANDARD
TZOFFSETFROM:+0000
TZOFFSETTO:+0000
TZNAME:UTC
DTSTART:20250101T000000
END:STANDARD
END:VTIMEZONE
BEGIN:VEVENT
DTSTART;TZID=UTC:20260716T200000
DTEND;TZID=UTC:20260716T200000
DTSTAMP:20260423T185938
CREATED:20250703T235739Z
LAST-MODIFIED:20260206T144305Z
UID:10021251-1784232000-1784232000@www.maddhatterpro.com
SUMMARY:The480Bar Karaoke
DESCRIPTION:Everyone’s favorite neighborhood bar in chandler! Always a great time with Wilde in the house. Come see what the big deal is. Thursdays 8pm-midnight\, Friday/Saturday 9pm-1am \n480 N Arizona Ave\, Chandler\, AZ 85225 \n+14808992268
URL:https://www.maddhatterpro.com/event/the480bar-karaoke/2026-07-16/
LOCATION:the480bar\, 480 N Arizona Ave\, Chandler\, AZ\, 85225\, United States
CATEGORIES:Karaoke,KJ Wilde
ATTACH;FMTTYPE=image/jpeg:https://www.maddhatterpro.com/wp-content/uploads/2026/02/480-Chandler.jpg
END:VEVENT
BEGIN:VEVENT
DTSTART;TZID=UTC:20260717T210000
DTEND;TZID=UTC:20260717T210000
DTSTAMP:20260423T185938
CREATED:20250703T235929Z
LAST-MODIFIED:20260206T145047Z
UID:10021774-1784322000-1784322000@www.maddhatterpro.com
SUMMARY:The480Bar Karaoke
DESCRIPTION:Everyone’s favorite neighborhood bar in chandler! Always a great time with Wilde in the house. Come see what the big deal is. Thursdays 8pm-midnight\, Friday/Saturday 9pm-1am \n480 N Arizona Ave\, Chandler\, AZ 85225 \n+14808992268
URL:https://www.maddhatterpro.com/event/the480bar-karaoke-2/2026-07-17/
LOCATION:the480bar\, 480 N Arizona Ave\, Chandler\, AZ\, 85225\, United States
CATEGORIES:Karaoke,KJ Wilde
ATTACH;FMTTYPE=image/jpeg:https://www.maddhatterpro.com/wp-content/uploads/2026/02/480-Chandler.jpg
END:VEVENT
BEGIN:VEVENT
DTSTART;TZID=UTC:20260718T210000
DTEND;TZID=UTC:20260718T210000
DTSTAMP:20260423T185938
CREATED:20250703T235929Z
LAST-MODIFIED:20260206T145047Z
UID:10025127-1784408400-1784408400@www.maddhatterpro.com
SUMMARY:The480Bar Karaoke
DESCRIPTION:Everyone’s favorite neighborhood bar in chandler! Always a great time with Wilde in the house. Come see what the big deal is. Thursdays 8pm-midnight\, Friday/Saturday 9pm-1am \n480 N Arizona Ave\, Chandler\, AZ 85225 \n+14808992268
URL:https://www.maddhatterpro.com/event/the480bar-karaoke-2/2026-07-18/
LOCATION:the480bar\, 480 N Arizona Ave\, Chandler\, AZ\, 85225\, United States
CATEGORIES:Karaoke,KJ Wilde
ATTACH;FMTTYPE=image/jpeg:https://www.maddhatterpro.com/wp-content/uploads/2026/02/480-Chandler.jpg
END:VEVENT
BEGIN:VEVENT
DTSTART;TZID=UTC:20260723T200000
DTEND;TZID=UTC:20260723T200000
DTSTAMP:20260423T185938
CREATED:20250703T235739Z
LAST-MODIFIED:20260206T144305Z
UID:10021252-1784836800-1784836800@www.maddhatterpro.com
SUMMARY:The480Bar Karaoke
DESCRIPTION:Everyone’s favorite neighborhood bar in chandler! Always a great time with Wilde in the house. Come see what the big deal is. Thursdays 8pm-midnight\, Friday/Saturday 9pm-1am \n480 N Arizona Ave\, Chandler\, AZ 85225 \n+14808992268
URL:https://www.maddhatterpro.com/event/the480bar-karaoke/2026-07-23/
LOCATION:the480bar\, 480 N Arizona Ave\, Chandler\, AZ\, 85225\, United States
CATEGORIES:Karaoke,KJ Wilde
ATTACH;FMTTYPE=image/jpeg:https://www.maddhatterpro.com/wp-content/uploads/2026/02/480-Chandler.jpg
END:VEVENT
BEGIN:VEVENT
DTSTART;TZID=UTC:20260724T210000
DTEND;TZID=UTC:20260724T210000
DTSTAMP:20260423T185938
CREATED:20250703T235929Z
LAST-MODIFIED:20260206T145047Z
UID:10021775-1784926800-1784926800@www.maddhatterpro.com
SUMMARY:The480Bar Karaoke
DESCRIPTION:Everyone’s favorite neighborhood bar in chandler! Always a great time with Wilde in the house. Come see what the big deal is. Thursdays 8pm-midnight\, Friday/Saturday 9pm-1am \n480 N Arizona Ave\, Chandler\, AZ 85225 \n+14808992268
URL:https://www.maddhatterpro.com/event/the480bar-karaoke-2/2026-07-24/
LOCATION:the480bar\, 480 N Arizona Ave\, Chandler\, AZ\, 85225\, United States
CATEGORIES:Karaoke,KJ Wilde
ATTACH;FMTTYPE=image/jpeg:https://www.maddhatterpro.com/wp-content/uploads/2026/02/480-Chandler.jpg
END:VEVENT
BEGIN:VEVENT
DTSTART;TZID=UTC:20260725T210000
DTEND;TZID=UTC:20260725T210000
DTSTAMP:20260423T185938
CREATED:20250703T235929Z
LAST-MODIFIED:20260206T145047Z
UID:10025128-1785013200-1785013200@www.maddhatterpro.com
SUMMARY:The480Bar Karaoke
DESCRIPTION:Everyone’s favorite neighborhood bar in chandler! Always a great time with Wilde in the house. Come see what the big deal is. Thursdays 8pm-midnight\, Friday/Saturday 9pm-1am \n480 N Arizona Ave\, Chandler\, AZ 85225 \n+14808992268
URL:https://www.maddhatterpro.com/event/the480bar-karaoke-2/2026-07-25/
LOCATION:the480bar\, 480 N Arizona Ave\, Chandler\, AZ\, 85225\, United States
CATEGORIES:Karaoke,KJ Wilde
ATTACH;FMTTYPE=image/jpeg:https://www.maddhatterpro.com/wp-content/uploads/2026/02/480-Chandler.jpg
END:VEVENT
BEGIN:VEVENT
DTSTART;TZID=UTC:20260730T200000
DTEND;TZID=UTC:20260730T200000
DTSTAMP:20260423T185938
CREATED:20250703T235739Z
LAST-MODIFIED:20260206T144305Z
UID:10021253-1785441600-1785441600@www.maddhatterpro.com
SUMMARY:The480Bar Karaoke
DESCRIPTION:Everyone’s favorite neighborhood bar in chandler! Always a great time with Wilde in the house. Come see what the big deal is. Thursdays 8pm-midnight\, Friday/Saturday 9pm-1am \n480 N Arizona Ave\, Chandler\, AZ 85225 \n+14808992268
URL:https://www.maddhatterpro.com/event/the480bar-karaoke/2026-07-30/
LOCATION:the480bar\, 480 N Arizona Ave\, Chandler\, AZ\, 85225\, United States
CATEGORIES:Karaoke,KJ Wilde
ATTACH;FMTTYPE=image/jpeg:https://www.maddhatterpro.com/wp-content/uploads/2026/02/480-Chandler.jpg
END:VEVENT
BEGIN:VEVENT
DTSTART;TZID=UTC:20260731T210000
DTEND;TZID=UTC:20260731T210000
DTSTAMP:20260423T185938
CREATED:20250703T235929Z
LAST-MODIFIED:20260206T145047Z
UID:10021776-1785531600-1785531600@www.maddhatterpro.com
SUMMARY:The480Bar Karaoke
DESCRIPTION:Everyone’s favorite neighborhood bar in chandler! Always a great time with Wilde in the house. Come see what the big deal is. Thursdays 8pm-midnight\, Friday/Saturday 9pm-1am \n480 N Arizona Ave\, Chandler\, AZ 85225 \n+14808992268
URL:https://www.maddhatterpro.com/event/the480bar-karaoke-2/2026-07-31/
LOCATION:the480bar\, 480 N Arizona Ave\, Chandler\, AZ\, 85225\, United States
CATEGORIES:Karaoke,KJ Wilde
ATTACH;FMTTYPE=image/jpeg:https://www.maddhatterpro.com/wp-content/uploads/2026/02/480-Chandler.jpg
END:VEVENT
BEGIN:VEVENT
DTSTART;TZID=UTC:20260801T210000
DTEND;TZID=UTC:20260801T210000
DTSTAMP:20260423T185938
CREATED:20250703T235929Z
LAST-MODIFIED:20260206T145047Z
UID:10025129-1785618000-1785618000@www.maddhatterpro.com
SUMMARY:The480Bar Karaoke
DESCRIPTION:Everyone’s favorite neighborhood bar in chandler! Always a great time with Wilde in the house. Come see what the big deal is. Thursdays 8pm-midnight\, Friday/Saturday 9pm-1am \n480 N Arizona Ave\, Chandler\, AZ 85225 \n+14808992268
URL:https://www.maddhatterpro.com/event/the480bar-karaoke-2/2026-08-01/
LOCATION:the480bar\, 480 N Arizona Ave\, Chandler\, AZ\, 85225\, United States
CATEGORIES:Karaoke,KJ Wilde
ATTACH;FMTTYPE=image/jpeg:https://www.maddhatterpro.com/wp-content/uploads/2026/02/480-Chandler.jpg
END:VEVENT
BEGIN:VEVENT
DTSTART;TZID=UTC:20260806T200000
DTEND;TZID=UTC:20260806T200000
DTSTAMP:20260423T185938
CREATED:20250703T235739Z
LAST-MODIFIED:20260206T144305Z
UID:10021254-1786046400-1786046400@www.maddhatterpro.com
SUMMARY:The480Bar Karaoke
DESCRIPTION:Everyone’s favorite neighborhood bar in chandler! Always a great time with Wilde in the house. Come see what the big deal is. Thursdays 8pm-midnight\, Friday/Saturday 9pm-1am \n480 N Arizona Ave\, Chandler\, AZ 85225 \n+14808992268
URL:https://www.maddhatterpro.com/event/the480bar-karaoke/2026-08-06/
LOCATION:the480bar\, 480 N Arizona Ave\, Chandler\, AZ\, 85225\, United States
CATEGORIES:Karaoke,KJ Wilde
ATTACH;FMTTYPE=image/jpeg:https://www.maddhatterpro.com/wp-content/uploads/2026/02/480-Chandler.jpg
END:VEVENT
BEGIN:VEVENT
DTSTART;TZID=UTC:20260807T210000
DTEND;TZID=UTC:20260807T210000
DTSTAMP:20260423T185938
CREATED:20250703T235929Z
LAST-MODIFIED:20260206T145047Z
UID:10021777-1786136400-1786136400@www.maddhatterpro.com
SUMMARY:The480Bar Karaoke
DESCRIPTION:Everyone’s favorite neighborhood bar in chandler! Always a great time with Wilde in the house. Come see what the big deal is. Thursdays 8pm-midnight\, Friday/Saturday 9pm-1am \n480 N Arizona Ave\, Chandler\, AZ 85225 \n+14808992268
URL:https://www.maddhatterpro.com/event/the480bar-karaoke-2/2026-08-07/
LOCATION:the480bar\, 480 N Arizona Ave\, Chandler\, AZ\, 85225\, United States
CATEGORIES:Karaoke,KJ Wilde
ATTACH;FMTTYPE=image/jpeg:https://www.maddhatterpro.com/wp-content/uploads/2026/02/480-Chandler.jpg
END:VEVENT
BEGIN:VEVENT
DTSTART;TZID=UTC:20260808T210000
DTEND;TZID=UTC:20260808T210000
DTSTAMP:20260423T185938
CREATED:20250703T235929Z
LAST-MODIFIED:20260206T145047Z
UID:10025130-1786222800-1786222800@www.maddhatterpro.com
SUMMARY:The480Bar Karaoke
DESCRIPTION:Everyone’s favorite neighborhood bar in chandler! Always a great time with Wilde in the house. Come see what the big deal is. Thursdays 8pm-midnight\, Friday/Saturday 9pm-1am \n480 N Arizona Ave\, Chandler\, AZ 85225 \n+14808992268
URL:https://www.maddhatterpro.com/event/the480bar-karaoke-2/2026-08-08/
LOCATION:the480bar\, 480 N Arizona Ave\, Chandler\, AZ\, 85225\, United States
CATEGORIES:Karaoke,KJ Wilde
ATTACH;FMTTYPE=image/jpeg:https://www.maddhatterpro.com/wp-content/uploads/2026/02/480-Chandler.jpg
END:VEVENT
BEGIN:VEVENT
DTSTART;TZID=UTC:20260813T200000
DTEND;TZID=UTC:20260813T200000
DTSTAMP:20260423T185938
CREATED:20250703T235739Z
LAST-MODIFIED:20260206T144305Z
UID:10021255-1786651200-1786651200@www.maddhatterpro.com
SUMMARY:The480Bar Karaoke
DESCRIPTION:Everyone’s favorite neighborhood bar in chandler! Always a great time with Wilde in the house. Come see what the big deal is. Thursdays 8pm-midnight\, Friday/Saturday 9pm-1am \n480 N Arizona Ave\, Chandler\, AZ 85225 \n+14808992268
URL:https://www.maddhatterpro.com/event/the480bar-karaoke/2026-08-13/
LOCATION:the480bar\, 480 N Arizona Ave\, Chandler\, AZ\, 85225\, United States
CATEGORIES:Karaoke,KJ Wilde
ATTACH;FMTTYPE=image/jpeg:https://www.maddhatterpro.com/wp-content/uploads/2026/02/480-Chandler.jpg
END:VEVENT
BEGIN:VEVENT
DTSTART;TZID=UTC:20260814T210000
DTEND;TZID=UTC:20260814T210000
DTSTAMP:20260423T185938
CREATED:20250703T235929Z
LAST-MODIFIED:20260206T145047Z
UID:10021778-1786741200-1786741200@www.maddhatterpro.com
SUMMARY:The480Bar Karaoke
DESCRIPTION:Everyone’s favorite neighborhood bar in chandler! Always a great time with Wilde in the house. Come see what the big deal is. Thursdays 8pm-midnight\, Friday/Saturday 9pm-1am \n480 N Arizona Ave\, Chandler\, AZ 85225 \n+14808992268
URL:https://www.maddhatterpro.com/event/the480bar-karaoke-2/2026-08-14/
LOCATION:the480bar\, 480 N Arizona Ave\, Chandler\, AZ\, 85225\, United States
CATEGORIES:Karaoke,KJ Wilde
ATTACH;FMTTYPE=image/jpeg:https://www.maddhatterpro.com/wp-content/uploads/2026/02/480-Chandler.jpg
END:VEVENT
BEGIN:VEVENT
DTSTART;TZID=UTC:20260815T210000
DTEND;TZID=UTC:20260815T210000
DTSTAMP:20260423T185938
CREATED:20250703T235929Z
LAST-MODIFIED:20260206T145047Z
UID:10025131-1786827600-1786827600@www.maddhatterpro.com
SUMMARY:The480Bar Karaoke
DESCRIPTION:Everyone’s favorite neighborhood bar in chandler! Always a great time with Wilde in the house. Come see what the big deal is. Thursdays 8pm-midnight\, Friday/Saturday 9pm-1am \n480 N Arizona Ave\, Chandler\, AZ 85225 \n+14808992268
URL:https://www.maddhatterpro.com/event/the480bar-karaoke-2/2026-08-15/
LOCATION:the480bar\, 480 N Arizona Ave\, Chandler\, AZ\, 85225\, United States
CATEGORIES:Karaoke,KJ Wilde
ATTACH;FMTTYPE=image/jpeg:https://www.maddhatterpro.com/wp-content/uploads/2026/02/480-Chandler.jpg
END:VEVENT
BEGIN:VEVENT
DTSTART;TZID=UTC:20260820T200000
DTEND;TZID=UTC:20260820T200000
DTSTAMP:20260423T185938
CREATED:20250703T235739Z
LAST-MODIFIED:20260206T144305Z
UID:10021256-1787256000-1787256000@www.maddhatterpro.com
SUMMARY:The480Bar Karaoke
DESCRIPTION:Everyone’s favorite neighborhood bar in chandler! Always a great time with Wilde in the house. Come see what the big deal is. Thursdays 8pm-midnight\, Friday/Saturday 9pm-1am \n480 N Arizona Ave\, Chandler\, AZ 85225 \n+14808992268
URL:https://www.maddhatterpro.com/event/the480bar-karaoke/2026-08-20/
LOCATION:the480bar\, 480 N Arizona Ave\, Chandler\, AZ\, 85225\, United States
CATEGORIES:Karaoke,KJ Wilde
ATTACH;FMTTYPE=image/jpeg:https://www.maddhatterpro.com/wp-content/uploads/2026/02/480-Chandler.jpg
END:VEVENT
BEGIN:VEVENT
DTSTART;TZID=UTC:20260821T210000
DTEND;TZID=UTC:20260821T210000
DTSTAMP:20260423T185938
CREATED:20250703T235929Z
LAST-MODIFIED:20260206T145047Z
UID:10021779-1787346000-1787346000@www.maddhatterpro.com
SUMMARY:The480Bar Karaoke
DESCRIPTION:Everyone’s favorite neighborhood bar in chandler! Always a great time with Wilde in the house. Come see what the big deal is. Thursdays 8pm-midnight\, Friday/Saturday 9pm-1am \n480 N Arizona Ave\, Chandler\, AZ 85225 \n+14808992268
URL:https://www.maddhatterpro.com/event/the480bar-karaoke-2/2026-08-21/
LOCATION:the480bar\, 480 N Arizona Ave\, Chandler\, AZ\, 85225\, United States
CATEGORIES:Karaoke,KJ Wilde
ATTACH;FMTTYPE=image/jpeg:https://www.maddhatterpro.com/wp-content/uploads/2026/02/480-Chandler.jpg
END:VEVENT
BEGIN:VEVENT
DTSTART;TZID=UTC:20260822T210000
DTEND;TZID=UTC:20260822T210000
DTSTAMP:20260423T185938
CREATED:20250703T235929Z
LAST-MODIFIED:20260206T145047Z
UID:10025132-1787432400-1787432400@www.maddhatterpro.com
SUMMARY:The480Bar Karaoke
DESCRIPTION:Everyone’s favorite neighborhood bar in chandler! Always a great time with Wilde in the house. Come see what the big deal is. Thursdays 8pm-midnight\, Friday/Saturday 9pm-1am \n480 N Arizona Ave\, Chandler\, AZ 85225 \n+14808992268
URL:https://www.maddhatterpro.com/event/the480bar-karaoke-2/2026-08-22/
LOCATION:the480bar\, 480 N Arizona Ave\, Chandler\, AZ\, 85225\, United States
CATEGORIES:Karaoke,KJ Wilde
ATTACH;FMTTYPE=image/jpeg:https://www.maddhatterpro.com/wp-content/uploads/2026/02/480-Chandler.jpg
END:VEVENT
BEGIN:VEVENT
DTSTART;TZID=UTC:20260827T200000
DTEND;TZID=UTC:20260827T200000
DTSTAMP:20260423T185938
CREATED:20250703T235739Z
LAST-MODIFIED:20260206T144305Z
UID:10021257-1787860800-1787860800@www.maddhatterpro.com
SUMMARY:The480Bar Karaoke
DESCRIPTION:Everyone’s favorite neighborhood bar in chandler! Always a great time with Wilde in the house. Come see what the big deal is. Thursdays 8pm-midnight\, Friday/Saturday 9pm-1am \n480 N Arizona Ave\, Chandler\, AZ 85225 \n+14808992268
URL:https://www.maddhatterpro.com/event/the480bar-karaoke/2026-08-27/
LOCATION:the480bar\, 480 N Arizona Ave\, Chandler\, AZ\, 85225\, United States
CATEGORIES:Karaoke,KJ Wilde
ATTACH;FMTTYPE=image/jpeg:https://www.maddhatterpro.com/wp-content/uploads/2026/02/480-Chandler.jpg
END:VEVENT
BEGIN:VEVENT
DTSTART;TZID=UTC:20260828T210000
DTEND;TZID=UTC:20260828T210000
DTSTAMP:20260423T185938
CREATED:20250703T235929Z
LAST-MODIFIED:20260206T145047Z
UID:10021780-1787950800-1787950800@www.maddhatterpro.com
SUMMARY:The480Bar Karaoke
DESCRIPTION:Everyone’s favorite neighborhood bar in chandler! Always a great time with Wilde in the house. Come see what the big deal is. Thursdays 8pm-midnight\, Friday/Saturday 9pm-1am \n480 N Arizona Ave\, Chandler\, AZ 85225 \n+14808992268
URL:https://www.maddhatterpro.com/event/the480bar-karaoke-2/2026-08-28/
LOCATION:the480bar\, 480 N Arizona Ave\, Chandler\, AZ\, 85225\, United States
CATEGORIES:Karaoke,KJ Wilde
ATTACH;FMTTYPE=image/jpeg:https://www.maddhatterpro.com/wp-content/uploads/2026/02/480-Chandler.jpg
END:VEVENT
BEGIN:VEVENT
DTSTART;TZID=UTC:20260829T210000
DTEND;TZID=UTC:20260829T210000
DTSTAMP:20260423T185938
CREATED:20250703T235929Z
LAST-MODIFIED:20260206T145047Z
UID:10025133-1788037200-1788037200@www.maddhatterpro.com
SUMMARY:The480Bar Karaoke
DESCRIPTION:Everyone’s favorite neighborhood bar in chandler! Always a great time with Wilde in the house. Come see what the big deal is. Thursdays 8pm-midnight\, Friday/Saturday 9pm-1am \n480 N Arizona Ave\, Chandler\, AZ 85225 \n+14808992268
URL:https://www.maddhatterpro.com/event/the480bar-karaoke-2/2026-08-29/
LOCATION:the480bar\, 480 N Arizona Ave\, Chandler\, AZ\, 85225\, United States
CATEGORIES:Karaoke,KJ Wilde
ATTACH;FMTTYPE=image/jpeg:https://www.maddhatterpro.com/wp-content/uploads/2026/02/480-Chandler.jpg
END:VEVENT
BEGIN:VEVENT
DTSTART;TZID=UTC:20260903T200000
DTEND;TZID=UTC:20260903T200000
DTSTAMP:20260423T185938
CREATED:20250703T235739Z
LAST-MODIFIED:20260206T144305Z
UID:10021258-1788465600-1788465600@www.maddhatterpro.com
SUMMARY:The480Bar Karaoke
DESCRIPTION:Everyone’s favorite neighborhood bar in chandler! Always a great time with Wilde in the house. Come see what the big deal is. Thursdays 8pm-midnight\, Friday/Saturday 9pm-1am \n480 N Arizona Ave\, Chandler\, AZ 85225 \n+14808992268
URL:https://www.maddhatterpro.com/event/the480bar-karaoke/2026-09-03/
LOCATION:the480bar\, 480 N Arizona Ave\, Chandler\, AZ\, 85225\, United States
CATEGORIES:Karaoke,KJ Wilde
ATTACH;FMTTYPE=image/jpeg:https://www.maddhatterpro.com/wp-content/uploads/2026/02/480-Chandler.jpg
END:VEVENT
BEGIN:VEVENT
DTSTART;TZID=UTC:20260904T210000
DTEND;TZID=UTC:20260904T210000
DTSTAMP:20260423T185938
CREATED:20250703T235929Z
LAST-MODIFIED:20260206T145047Z
UID:10021781-1788555600-1788555600@www.maddhatterpro.com
SUMMARY:The480Bar Karaoke
DESCRIPTION:Everyone’s favorite neighborhood bar in chandler! Always a great time with Wilde in the house. Come see what the big deal is. Thursdays 8pm-midnight\, Friday/Saturday 9pm-1am \n480 N Arizona Ave\, Chandler\, AZ 85225 \n+14808992268
URL:https://www.maddhatterpro.com/event/the480bar-karaoke-2/2026-09-04/
LOCATION:the480bar\, 480 N Arizona Ave\, Chandler\, AZ\, 85225\, United States
CATEGORIES:Karaoke,KJ Wilde
ATTACH;FMTTYPE=image/jpeg:https://www.maddhatterpro.com/wp-content/uploads/2026/02/480-Chandler.jpg
END:VEVENT
BEGIN:VEVENT
DTSTART;TZID=UTC:20260905T210000
DTEND;TZID=UTC:20260905T210000
DTSTAMP:20260423T185939
CREATED:20250703T235929Z
LAST-MODIFIED:20260206T145047Z
UID:10025134-1788642000-1788642000@www.maddhatterpro.com
SUMMARY:The480Bar Karaoke
DESCRIPTION:Everyone’s favorite neighborhood bar in chandler! Always a great time with Wilde in the house. Come see what the big deal is. Thursdays 8pm-midnight\, Friday/Saturday 9pm-1am \n480 N Arizona Ave\, Chandler\, AZ 85225 \n+14808992268
URL:https://www.maddhatterpro.com/event/the480bar-karaoke-2/2026-09-05/
LOCATION:the480bar\, 480 N Arizona Ave\, Chandler\, AZ\, 85225\, United States
CATEGORIES:Karaoke,KJ Wilde
ATTACH;FMTTYPE=image/jpeg:https://www.maddhatterpro.com/wp-content/uploads/2026/02/480-Chandler.jpg
END:VEVENT
BEGIN:VEVENT
DTSTART;TZID=UTC:20260910T200000
DTEND;TZID=UTC:20260910T200000
DTSTAMP:20260423T185939
CREATED:20250703T235739Z
LAST-MODIFIED:20260206T144305Z
UID:10021259-1789070400-1789070400@www.maddhatterpro.com
SUMMARY:The480Bar Karaoke
DESCRIPTION:Everyone’s favorite neighborhood bar in chandler! Always a great time with Wilde in the house. Come see what the big deal is. Thursdays 8pm-midnight\, Friday/Saturday 9pm-1am \n480 N Arizona Ave\, Chandler\, AZ 85225 \n+14808992268
URL:https://www.maddhatterpro.com/event/the480bar-karaoke/2026-09-10/
LOCATION:the480bar\, 480 N Arizona Ave\, Chandler\, AZ\, 85225\, United States
CATEGORIES:Karaoke,KJ Wilde
ATTACH;FMTTYPE=image/jpeg:https://www.maddhatterpro.com/wp-content/uploads/2026/02/480-Chandler.jpg
END:VEVENT
BEGIN:VEVENT
DTSTART;TZID=UTC:20260911T210000
DTEND;TZID=UTC:20260911T210000
DTSTAMP:20260423T185939
CREATED:20250703T235929Z
LAST-MODIFIED:20260206T145047Z
UID:10021782-1789160400-1789160400@www.maddhatterpro.com
SUMMARY:The480Bar Karaoke
DESCRIPTION:Everyone’s favorite neighborhood bar in chandler! Always a great time with Wilde in the house. Come see what the big deal is. Thursdays 8pm-midnight\, Friday/Saturday 9pm-1am \n480 N Arizona Ave\, Chandler\, AZ 85225 \n+14808992268
URL:https://www.maddhatterpro.com/event/the480bar-karaoke-2/2026-09-11/
LOCATION:the480bar\, 480 N Arizona Ave\, Chandler\, AZ\, 85225\, United States
CATEGORIES:Karaoke,KJ Wilde
ATTACH;FMTTYPE=image/jpeg:https://www.maddhatterpro.com/wp-content/uploads/2026/02/480-Chandler.jpg
END:VEVENT
BEGIN:VEVENT
DTSTART;TZID=UTC:20260912T210000
DTEND;TZID=UTC:20260912T210000
DTSTAMP:20260423T185939
CREATED:20250703T235929Z
LAST-MODIFIED:20260206T145047Z
UID:10025135-1789246800-1789246800@www.maddhatterpro.com
SUMMARY:The480Bar Karaoke
DESCRIPTION:Everyone’s favorite neighborhood bar in chandler! Always a great time with Wilde in the house. Come see what the big deal is. Thursdays 8pm-midnight\, Friday/Saturday 9pm-1am \n480 N Arizona Ave\, Chandler\, AZ 85225 \n+14808992268
URL:https://www.maddhatterpro.com/event/the480bar-karaoke-2/2026-09-12/
LOCATION:the480bar\, 480 N Arizona Ave\, Chandler\, AZ\, 85225\, United States
CATEGORIES:Karaoke,KJ Wilde
ATTACH;FMTTYPE=image/jpeg:https://www.maddhatterpro.com/wp-content/uploads/2026/02/480-Chandler.jpg
END:VEVENT
BEGIN:VEVENT
DTSTART;TZID=UTC:20260917T200000
DTEND;TZID=UTC:20260917T200000
DTSTAMP:20260423T185939
CREATED:20250703T235739Z
LAST-MODIFIED:20260206T144305Z
UID:10021260-1789675200-1789675200@www.maddhatterpro.com
SUMMARY:The480Bar Karaoke
DESCRIPTION:Everyone’s favorite neighborhood bar in chandler! Always a great time with Wilde in the house. Come see what the big deal is. Thursdays 8pm-midnight\, Friday/Saturday 9pm-1am \n480 N Arizona Ave\, Chandler\, AZ 85225 \n+14808992268
URL:https://www.maddhatterpro.com/event/the480bar-karaoke/2026-09-17/
LOCATION:the480bar\, 480 N Arizona Ave\, Chandler\, AZ\, 85225\, United States
CATEGORIES:Karaoke,KJ Wilde
ATTACH;FMTTYPE=image/jpeg:https://www.maddhatterpro.com/wp-content/uploads/2026/02/480-Chandler.jpg
END:VEVENT
BEGIN:VEVENT
DTSTART;TZID=UTC:20260918T210000
DTEND;TZID=UTC:20260918T210000
DTSTAMP:20260423T185939
CREATED:20250703T235929Z
LAST-MODIFIED:20260206T145047Z
UID:10021783-1789765200-1789765200@www.maddhatterpro.com
SUMMARY:The480Bar Karaoke
DESCRIPTION:Everyone’s favorite neighborhood bar in chandler! Always a great time with Wilde in the house. Come see what the big deal is. Thursdays 8pm-midnight\, Friday/Saturday 9pm-1am \n480 N Arizona Ave\, Chandler\, AZ 85225 \n+14808992268
URL:https://www.maddhatterpro.com/event/the480bar-karaoke-2/2026-09-18/
LOCATION:the480bar\, 480 N Arizona Ave\, Chandler\, AZ\, 85225\, United States
CATEGORIES:Karaoke,KJ Wilde
ATTACH;FMTTYPE=image/jpeg:https://www.maddhatterpro.com/wp-content/uploads/2026/02/480-Chandler.jpg
END:VEVENT
BEGIN:VEVENT
DTSTART;TZID=UTC:20260919T210000
DTEND;TZID=UTC:20260919T210000
DTSTAMP:20260423T185939
CREATED:20250703T235929Z
LAST-MODIFIED:20260206T145047Z
UID:10025136-1789851600-1789851600@www.maddhatterpro.com
SUMMARY:The480Bar Karaoke
DESCRIPTION:Everyone’s favorite neighborhood bar in chandler! Always a great time with Wilde in the house. Come see what the big deal is. Thursdays 8pm-midnight\, Friday/Saturday 9pm-1am \n480 N Arizona Ave\, Chandler\, AZ 85225 \n+14808992268
URL:https://www.maddhatterpro.com/event/the480bar-karaoke-2/2026-09-19/
LOCATION:the480bar\, 480 N Arizona Ave\, Chandler\, AZ\, 85225\, United States
CATEGORIES:Karaoke,KJ Wilde
ATTACH;FMTTYPE=image/jpeg:https://www.maddhatterpro.com/wp-content/uploads/2026/02/480-Chandler.jpg
END:VEVENT
END:VCALENDAR