BEGIN:VCALENDAR
VERSION:2.0
PRODID:-//MaddHatterPro.com - ECPv6.15.20//NONSGML v1.0//EN
CALSCALE:GREGORIAN
METHOD:PUBLISH
X-WR-CALNAME:MaddHatterPro.com
X-ORIGINAL-URL:https://www.maddhatterpro.com
X-WR-CALDESC:Events for MaddHatterPro.com
REFRESH-INTERVAL;VALUE=DURATION:PT1H
X-Robots-Tag:noindex
X-PUBLISHED-TTL:PT1H
BEGIN:VTIMEZONE
TZID:UTC
BEGIN:STANDARD
TZOFFSETFROM:+0000
TZOFFSETTO:+0000
TZNAME:UTC
DTSTART:20290101T000000
END:STANDARD
END:VTIMEZONE
BEGIN:VEVENT
DTSTART;TZID=UTC:20300802T210000
DTEND;TZID=UTC:20300802T210000
DTSTAMP:20260426T031605
CREATED:20250704T012040Z
LAST-MODIFIED:20260206T144628Z
UID:10024958-1911934800-1911934800@www.maddhatterpro.com
SUMMARY:92nd St Cafe Karaoke
DESCRIPTION:MHP in East Scottsdale! Best karaoke spot on the east side with DJ Wonder and YOU! Lets have a great time and sing the night away. Try the Prime rib\, its to sing for! 9pm-1am \nNW Corner\, 9160 E Shea Blvd\, Scottsdale\, AZ 85260 \n+14808604003
URL:https://www.maddhatterpro.com/event/92nd-st-cafe-karaoke/2030-08-02/
LOCATION:92nd Street Cafe\, 9160 E Shea Blvd\, Scottsdale\, AZ\, 85260\, United States
CATEGORIES:DJ Wonder,Karaoke
ATTACH;FMTTYPE=image/jpeg:https://www.maddhatterpro.com/wp-content/uploads/2026/02/92st-scottsdale.jpg
END:VEVENT
BEGIN:VEVENT
DTSTART;TZID=UTC:20300803T210000
DTEND;TZID=UTC:20300803T210000
DTSTAMP:20260426T031605
CREATED:20250704T012040Z
LAST-MODIFIED:20260206T144628Z
UID:10024959-1912021200-1912021200@www.maddhatterpro.com
SUMMARY:92nd St Cafe Karaoke
DESCRIPTION:MHP in East Scottsdale! Best karaoke spot on the east side with DJ Wonder and YOU! Lets have a great time and sing the night away. Try the Prime rib\, its to sing for! 9pm-1am \nNW Corner\, 9160 E Shea Blvd\, Scottsdale\, AZ 85260 \n+14808604003
URL:https://www.maddhatterpro.com/event/92nd-st-cafe-karaoke/2030-08-03/
LOCATION:92nd Street Cafe\, 9160 E Shea Blvd\, Scottsdale\, AZ\, 85260\, United States
CATEGORIES:DJ Wonder,Karaoke
ATTACH;FMTTYPE=image/jpeg:https://www.maddhatterpro.com/wp-content/uploads/2026/02/92st-scottsdale.jpg
END:VEVENT
BEGIN:VEVENT
DTSTART;TZID=UTC:20300809T210000
DTEND;TZID=UTC:20300809T210000
DTSTAMP:20260426T031605
CREATED:20250704T012040Z
LAST-MODIFIED:20260206T144628Z
UID:10024960-1912539600-1912539600@www.maddhatterpro.com
SUMMARY:92nd St Cafe Karaoke
DESCRIPTION:MHP in East Scottsdale! Best karaoke spot on the east side with DJ Wonder and YOU! Lets have a great time and sing the night away. Try the Prime rib\, its to sing for! 9pm-1am \nNW Corner\, 9160 E Shea Blvd\, Scottsdale\, AZ 85260 \n+14808604003
URL:https://www.maddhatterpro.com/event/92nd-st-cafe-karaoke/2030-08-09/
LOCATION:92nd Street Cafe\, 9160 E Shea Blvd\, Scottsdale\, AZ\, 85260\, United States
CATEGORIES:DJ Wonder,Karaoke
ATTACH;FMTTYPE=image/jpeg:https://www.maddhatterpro.com/wp-content/uploads/2026/02/92st-scottsdale.jpg
END:VEVENT
BEGIN:VEVENT
DTSTART;TZID=UTC:20300810T210000
DTEND;TZID=UTC:20300810T210000
DTSTAMP:20260426T031605
CREATED:20250704T012040Z
LAST-MODIFIED:20260206T144628Z
UID:10024961-1912626000-1912626000@www.maddhatterpro.com
SUMMARY:92nd St Cafe Karaoke
DESCRIPTION:MHP in East Scottsdale! Best karaoke spot on the east side with DJ Wonder and YOU! Lets have a great time and sing the night away. Try the Prime rib\, its to sing for! 9pm-1am \nNW Corner\, 9160 E Shea Blvd\, Scottsdale\, AZ 85260 \n+14808604003
URL:https://www.maddhatterpro.com/event/92nd-st-cafe-karaoke/2030-08-10/
LOCATION:92nd Street Cafe\, 9160 E Shea Blvd\, Scottsdale\, AZ\, 85260\, United States
CATEGORIES:DJ Wonder,Karaoke
ATTACH;FMTTYPE=image/jpeg:https://www.maddhatterpro.com/wp-content/uploads/2026/02/92st-scottsdale.jpg
END:VEVENT
BEGIN:VEVENT
DTSTART;TZID=UTC:20300816T210000
DTEND;TZID=UTC:20300816T210000
DTSTAMP:20260426T031605
CREATED:20250704T012040Z
LAST-MODIFIED:20260206T144628Z
UID:10024962-1913144400-1913144400@www.maddhatterpro.com
SUMMARY:92nd St Cafe Karaoke
DESCRIPTION:MHP in East Scottsdale! Best karaoke spot on the east side with DJ Wonder and YOU! Lets have a great time and sing the night away. Try the Prime rib\, its to sing for! 9pm-1am \nNW Corner\, 9160 E Shea Blvd\, Scottsdale\, AZ 85260 \n+14808604003
URL:https://www.maddhatterpro.com/event/92nd-st-cafe-karaoke/2030-08-16/
LOCATION:92nd Street Cafe\, 9160 E Shea Blvd\, Scottsdale\, AZ\, 85260\, United States
CATEGORIES:DJ Wonder,Karaoke
ATTACH;FMTTYPE=image/jpeg:https://www.maddhatterpro.com/wp-content/uploads/2026/02/92st-scottsdale.jpg
END:VEVENT
BEGIN:VEVENT
DTSTART;TZID=UTC:20300817T210000
DTEND;TZID=UTC:20300817T210000
DTSTAMP:20260426T031605
CREATED:20250704T012040Z
LAST-MODIFIED:20260206T144628Z
UID:10024963-1913230800-1913230800@www.maddhatterpro.com
SUMMARY:92nd St Cafe Karaoke
DESCRIPTION:MHP in East Scottsdale! Best karaoke spot on the east side with DJ Wonder and YOU! Lets have a great time and sing the night away. Try the Prime rib\, its to sing for! 9pm-1am \nNW Corner\, 9160 E Shea Blvd\, Scottsdale\, AZ 85260 \n+14808604003
URL:https://www.maddhatterpro.com/event/92nd-st-cafe-karaoke/2030-08-17/
LOCATION:92nd Street Cafe\, 9160 E Shea Blvd\, Scottsdale\, AZ\, 85260\, United States
CATEGORIES:DJ Wonder,Karaoke
ATTACH;FMTTYPE=image/jpeg:https://www.maddhatterpro.com/wp-content/uploads/2026/02/92st-scottsdale.jpg
END:VEVENT
BEGIN:VEVENT
DTSTART;TZID=UTC:20300823T210000
DTEND;TZID=UTC:20300823T210000
DTSTAMP:20260426T031605
CREATED:20250704T012040Z
LAST-MODIFIED:20260206T144628Z
UID:10024964-1913749200-1913749200@www.maddhatterpro.com
SUMMARY:92nd St Cafe Karaoke
DESCRIPTION:MHP in East Scottsdale! Best karaoke spot on the east side with DJ Wonder and YOU! Lets have a great time and sing the night away. Try the Prime rib\, its to sing for! 9pm-1am \nNW Corner\, 9160 E Shea Blvd\, Scottsdale\, AZ 85260 \n+14808604003
URL:https://www.maddhatterpro.com/event/92nd-st-cafe-karaoke/2030-08-23/
LOCATION:92nd Street Cafe\, 9160 E Shea Blvd\, Scottsdale\, AZ\, 85260\, United States
CATEGORIES:DJ Wonder,Karaoke
ATTACH;FMTTYPE=image/jpeg:https://www.maddhatterpro.com/wp-content/uploads/2026/02/92st-scottsdale.jpg
END:VEVENT
BEGIN:VEVENT
DTSTART;TZID=UTC:20300824T210000
DTEND;TZID=UTC:20300824T210000
DTSTAMP:20260426T031605
CREATED:20250704T012040Z
LAST-MODIFIED:20260206T144628Z
UID:10024965-1913835600-1913835600@www.maddhatterpro.com
SUMMARY:92nd St Cafe Karaoke
DESCRIPTION:MHP in East Scottsdale! Best karaoke spot on the east side with DJ Wonder and YOU! Lets have a great time and sing the night away. Try the Prime rib\, its to sing for! 9pm-1am \nNW Corner\, 9160 E Shea Blvd\, Scottsdale\, AZ 85260 \n+14808604003
URL:https://www.maddhatterpro.com/event/92nd-st-cafe-karaoke/2030-08-24/
LOCATION:92nd Street Cafe\, 9160 E Shea Blvd\, Scottsdale\, AZ\, 85260\, United States
CATEGORIES:DJ Wonder,Karaoke
ATTACH;FMTTYPE=image/jpeg:https://www.maddhatterpro.com/wp-content/uploads/2026/02/92st-scottsdale.jpg
END:VEVENT
BEGIN:VEVENT
DTSTART;TZID=UTC:20300830T210000
DTEND;TZID=UTC:20300830T210000
DTSTAMP:20260426T031605
CREATED:20250704T012040Z
LAST-MODIFIED:20260206T144628Z
UID:10024966-1914354000-1914354000@www.maddhatterpro.com
SUMMARY:92nd St Cafe Karaoke
DESCRIPTION:MHP in East Scottsdale! Best karaoke spot on the east side with DJ Wonder and YOU! Lets have a great time and sing the night away. Try the Prime rib\, its to sing for! 9pm-1am \nNW Corner\, 9160 E Shea Blvd\, Scottsdale\, AZ 85260 \n+14808604003
URL:https://www.maddhatterpro.com/event/92nd-st-cafe-karaoke/2030-08-30/
LOCATION:92nd Street Cafe\, 9160 E Shea Blvd\, Scottsdale\, AZ\, 85260\, United States
CATEGORIES:DJ Wonder,Karaoke
ATTACH;FMTTYPE=image/jpeg:https://www.maddhatterpro.com/wp-content/uploads/2026/02/92st-scottsdale.jpg
END:VEVENT
BEGIN:VEVENT
DTSTART;TZID=UTC:20300831T210000
DTEND;TZID=UTC:20300831T210000
DTSTAMP:20260426T031605
CREATED:20250704T012040Z
LAST-MODIFIED:20260206T144628Z
UID:10024967-1914440400-1914440400@www.maddhatterpro.com
SUMMARY:92nd St Cafe Karaoke
DESCRIPTION:MHP in East Scottsdale! Best karaoke spot on the east side with DJ Wonder and YOU! Lets have a great time and sing the night away. Try the Prime rib\, its to sing for! 9pm-1am \nNW Corner\, 9160 E Shea Blvd\, Scottsdale\, AZ 85260 \n+14808604003
URL:https://www.maddhatterpro.com/event/92nd-st-cafe-karaoke/2030-08-31/
LOCATION:92nd Street Cafe\, 9160 E Shea Blvd\, Scottsdale\, AZ\, 85260\, United States
CATEGORIES:DJ Wonder,Karaoke
ATTACH;FMTTYPE=image/jpeg:https://www.maddhatterpro.com/wp-content/uploads/2026/02/92st-scottsdale.jpg
END:VEVENT
BEGIN:VEVENT
DTSTART;TZID=UTC:20300906T210000
DTEND;TZID=UTC:20300906T210000
DTSTAMP:20260426T031605
CREATED:20250704T012040Z
LAST-MODIFIED:20260206T144628Z
UID:10024968-1914958800-1914958800@www.maddhatterpro.com
SUMMARY:92nd St Cafe Karaoke
DESCRIPTION:MHP in East Scottsdale! Best karaoke spot on the east side with DJ Wonder and YOU! Lets have a great time and sing the night away. Try the Prime rib\, its to sing for! 9pm-1am \nNW Corner\, 9160 E Shea Blvd\, Scottsdale\, AZ 85260 \n+14808604003
URL:https://www.maddhatterpro.com/event/92nd-st-cafe-karaoke/2030-09-06/
LOCATION:92nd Street Cafe\, 9160 E Shea Blvd\, Scottsdale\, AZ\, 85260\, United States
CATEGORIES:DJ Wonder,Karaoke
ATTACH;FMTTYPE=image/jpeg:https://www.maddhatterpro.com/wp-content/uploads/2026/02/92st-scottsdale.jpg
END:VEVENT
BEGIN:VEVENT
DTSTART;TZID=UTC:20300907T210000
DTEND;TZID=UTC:20300907T210000
DTSTAMP:20260426T031605
CREATED:20250704T012040Z
LAST-MODIFIED:20260206T144628Z
UID:10024969-1915045200-1915045200@www.maddhatterpro.com
SUMMARY:92nd St Cafe Karaoke
DESCRIPTION:MHP in East Scottsdale! Best karaoke spot on the east side with DJ Wonder and YOU! Lets have a great time and sing the night away. Try the Prime rib\, its to sing for! 9pm-1am \nNW Corner\, 9160 E Shea Blvd\, Scottsdale\, AZ 85260 \n+14808604003
URL:https://www.maddhatterpro.com/event/92nd-st-cafe-karaoke/2030-09-07/
LOCATION:92nd Street Cafe\, 9160 E Shea Blvd\, Scottsdale\, AZ\, 85260\, United States
CATEGORIES:DJ Wonder,Karaoke
ATTACH;FMTTYPE=image/jpeg:https://www.maddhatterpro.com/wp-content/uploads/2026/02/92st-scottsdale.jpg
END:VEVENT
BEGIN:VEVENT
DTSTART;TZID=UTC:20300913T210000
DTEND;TZID=UTC:20300913T210000
DTSTAMP:20260426T031605
CREATED:20250704T012040Z
LAST-MODIFIED:20260206T144628Z
UID:10024970-1915563600-1915563600@www.maddhatterpro.com
SUMMARY:92nd St Cafe Karaoke
DESCRIPTION:MHP in East Scottsdale! Best karaoke spot on the east side with DJ Wonder and YOU! Lets have a great time and sing the night away. Try the Prime rib\, its to sing for! 9pm-1am \nNW Corner\, 9160 E Shea Blvd\, Scottsdale\, AZ 85260 \n+14808604003
URL:https://www.maddhatterpro.com/event/92nd-st-cafe-karaoke/2030-09-13/
LOCATION:92nd Street Cafe\, 9160 E Shea Blvd\, Scottsdale\, AZ\, 85260\, United States
CATEGORIES:DJ Wonder,Karaoke
ATTACH;FMTTYPE=image/jpeg:https://www.maddhatterpro.com/wp-content/uploads/2026/02/92st-scottsdale.jpg
END:VEVENT
BEGIN:VEVENT
DTSTART;TZID=UTC:20300914T210000
DTEND;TZID=UTC:20300914T210000
DTSTAMP:20260426T031605
CREATED:20250704T012040Z
LAST-MODIFIED:20260206T144628Z
UID:10024971-1915650000-1915650000@www.maddhatterpro.com
SUMMARY:92nd St Cafe Karaoke
DESCRIPTION:MHP in East Scottsdale! Best karaoke spot on the east side with DJ Wonder and YOU! Lets have a great time and sing the night away. Try the Prime rib\, its to sing for! 9pm-1am \nNW Corner\, 9160 E Shea Blvd\, Scottsdale\, AZ 85260 \n+14808604003
URL:https://www.maddhatterpro.com/event/92nd-st-cafe-karaoke/2030-09-14/
LOCATION:92nd Street Cafe\, 9160 E Shea Blvd\, Scottsdale\, AZ\, 85260\, United States
CATEGORIES:DJ Wonder,Karaoke
ATTACH;FMTTYPE=image/jpeg:https://www.maddhatterpro.com/wp-content/uploads/2026/02/92st-scottsdale.jpg
END:VEVENT
BEGIN:VEVENT
DTSTART;TZID=UTC:20300920T210000
DTEND;TZID=UTC:20300920T210000
DTSTAMP:20260426T031605
CREATED:20250704T012040Z
LAST-MODIFIED:20260206T144628Z
UID:10024972-1916168400-1916168400@www.maddhatterpro.com
SUMMARY:92nd St Cafe Karaoke
DESCRIPTION:MHP in East Scottsdale! Best karaoke spot on the east side with DJ Wonder and YOU! Lets have a great time and sing the night away. Try the Prime rib\, its to sing for! 9pm-1am \nNW Corner\, 9160 E Shea Blvd\, Scottsdale\, AZ 85260 \n+14808604003
URL:https://www.maddhatterpro.com/event/92nd-st-cafe-karaoke/2030-09-20/
LOCATION:92nd Street Cafe\, 9160 E Shea Blvd\, Scottsdale\, AZ\, 85260\, United States
CATEGORIES:DJ Wonder,Karaoke
ATTACH;FMTTYPE=image/jpeg:https://www.maddhatterpro.com/wp-content/uploads/2026/02/92st-scottsdale.jpg
END:VEVENT
BEGIN:VEVENT
DTSTART;TZID=UTC:20300921T210000
DTEND;TZID=UTC:20300921T210000
DTSTAMP:20260426T031605
CREATED:20250704T012040Z
LAST-MODIFIED:20260206T144628Z
UID:10024973-1916254800-1916254800@www.maddhatterpro.com
SUMMARY:92nd St Cafe Karaoke
DESCRIPTION:MHP in East Scottsdale! Best karaoke spot on the east side with DJ Wonder and YOU! Lets have a great time and sing the night away. Try the Prime rib\, its to sing for! 9pm-1am \nNW Corner\, 9160 E Shea Blvd\, Scottsdale\, AZ 85260 \n+14808604003
URL:https://www.maddhatterpro.com/event/92nd-st-cafe-karaoke/2030-09-21/
LOCATION:92nd Street Cafe\, 9160 E Shea Blvd\, Scottsdale\, AZ\, 85260\, United States
CATEGORIES:DJ Wonder,Karaoke
ATTACH;FMTTYPE=image/jpeg:https://www.maddhatterpro.com/wp-content/uploads/2026/02/92st-scottsdale.jpg
END:VEVENT
BEGIN:VEVENT
DTSTART;TZID=UTC:20300927T210000
DTEND;TZID=UTC:20300927T210000
DTSTAMP:20260426T031605
CREATED:20250704T012040Z
LAST-MODIFIED:20260206T144628Z
UID:10024974-1916773200-1916773200@www.maddhatterpro.com
SUMMARY:92nd St Cafe Karaoke
DESCRIPTION:MHP in East Scottsdale! Best karaoke spot on the east side with DJ Wonder and YOU! Lets have a great time and sing the night away. Try the Prime rib\, its to sing for! 9pm-1am \nNW Corner\, 9160 E Shea Blvd\, Scottsdale\, AZ 85260 \n+14808604003
URL:https://www.maddhatterpro.com/event/92nd-st-cafe-karaoke/2030-09-27/
LOCATION:92nd Street Cafe\, 9160 E Shea Blvd\, Scottsdale\, AZ\, 85260\, United States
CATEGORIES:DJ Wonder,Karaoke
ATTACH;FMTTYPE=image/jpeg:https://www.maddhatterpro.com/wp-content/uploads/2026/02/92st-scottsdale.jpg
END:VEVENT
BEGIN:VEVENT
DTSTART;TZID=UTC:20300928T210000
DTEND;TZID=UTC:20300928T210000
DTSTAMP:20260426T031605
CREATED:20250704T012040Z
LAST-MODIFIED:20260206T144628Z
UID:10024975-1916859600-1916859600@www.maddhatterpro.com
SUMMARY:92nd St Cafe Karaoke
DESCRIPTION:MHP in East Scottsdale! Best karaoke spot on the east side with DJ Wonder and YOU! Lets have a great time and sing the night away. Try the Prime rib\, its to sing for! 9pm-1am \nNW Corner\, 9160 E Shea Blvd\, Scottsdale\, AZ 85260 \n+14808604003
URL:https://www.maddhatterpro.com/event/92nd-st-cafe-karaoke/2030-09-28/
LOCATION:92nd Street Cafe\, 9160 E Shea Blvd\, Scottsdale\, AZ\, 85260\, United States
CATEGORIES:DJ Wonder,Karaoke
ATTACH;FMTTYPE=image/jpeg:https://www.maddhatterpro.com/wp-content/uploads/2026/02/92st-scottsdale.jpg
END:VEVENT
BEGIN:VEVENT
DTSTART;TZID=UTC:20301004T210000
DTEND;TZID=UTC:20301004T210000
DTSTAMP:20260426T031605
CREATED:20250704T012040Z
LAST-MODIFIED:20260206T144628Z
UID:10024976-1917378000-1917378000@www.maddhatterpro.com
SUMMARY:92nd St Cafe Karaoke
DESCRIPTION:MHP in East Scottsdale! Best karaoke spot on the east side with DJ Wonder and YOU! Lets have a great time and sing the night away. Try the Prime rib\, its to sing for! 9pm-1am \nNW Corner\, 9160 E Shea Blvd\, Scottsdale\, AZ 85260 \n+14808604003
URL:https://www.maddhatterpro.com/event/92nd-st-cafe-karaoke/2030-10-04/
LOCATION:92nd Street Cafe\, 9160 E Shea Blvd\, Scottsdale\, AZ\, 85260\, United States
CATEGORIES:DJ Wonder,Karaoke
ATTACH;FMTTYPE=image/jpeg:https://www.maddhatterpro.com/wp-content/uploads/2026/02/92st-scottsdale.jpg
END:VEVENT
BEGIN:VEVENT
DTSTART;TZID=UTC:20301005T210000
DTEND;TZID=UTC:20301005T210000
DTSTAMP:20260426T031605
CREATED:20250704T012040Z
LAST-MODIFIED:20260206T144628Z
UID:10024977-1917464400-1917464400@www.maddhatterpro.com
SUMMARY:92nd St Cafe Karaoke
DESCRIPTION:MHP in East Scottsdale! Best karaoke spot on the east side with DJ Wonder and YOU! Lets have a great time and sing the night away. Try the Prime rib\, its to sing for! 9pm-1am \nNW Corner\, 9160 E Shea Blvd\, Scottsdale\, AZ 85260 \n+14808604003
URL:https://www.maddhatterpro.com/event/92nd-st-cafe-karaoke/2030-10-05/
LOCATION:92nd Street Cafe\, 9160 E Shea Blvd\, Scottsdale\, AZ\, 85260\, United States
CATEGORIES:DJ Wonder,Karaoke
ATTACH;FMTTYPE=image/jpeg:https://www.maddhatterpro.com/wp-content/uploads/2026/02/92st-scottsdale.jpg
END:VEVENT
BEGIN:VEVENT
DTSTART;TZID=UTC:20301011T210000
DTEND;TZID=UTC:20301011T210000
DTSTAMP:20260426T031605
CREATED:20250704T012040Z
LAST-MODIFIED:20260206T144628Z
UID:10024978-1917982800-1917982800@www.maddhatterpro.com
SUMMARY:92nd St Cafe Karaoke
DESCRIPTION:MHP in East Scottsdale! Best karaoke spot on the east side with DJ Wonder and YOU! Lets have a great time and sing the night away. Try the Prime rib\, its to sing for! 9pm-1am \nNW Corner\, 9160 E Shea Blvd\, Scottsdale\, AZ 85260 \n+14808604003
URL:https://www.maddhatterpro.com/event/92nd-st-cafe-karaoke/2030-10-11/
LOCATION:92nd Street Cafe\, 9160 E Shea Blvd\, Scottsdale\, AZ\, 85260\, United States
CATEGORIES:DJ Wonder,Karaoke
ATTACH;FMTTYPE=image/jpeg:https://www.maddhatterpro.com/wp-content/uploads/2026/02/92st-scottsdale.jpg
END:VEVENT
BEGIN:VEVENT
DTSTART;TZID=UTC:20301012T210000
DTEND;TZID=UTC:20301012T210000
DTSTAMP:20260426T031605
CREATED:20250704T012040Z
LAST-MODIFIED:20260206T144628Z
UID:10024979-1918069200-1918069200@www.maddhatterpro.com
SUMMARY:92nd St Cafe Karaoke
DESCRIPTION:MHP in East Scottsdale! Best karaoke spot on the east side with DJ Wonder and YOU! Lets have a great time and sing the night away. Try the Prime rib\, its to sing for! 9pm-1am \nNW Corner\, 9160 E Shea Blvd\, Scottsdale\, AZ 85260 \n+14808604003
URL:https://www.maddhatterpro.com/event/92nd-st-cafe-karaoke/2030-10-12/
LOCATION:92nd Street Cafe\, 9160 E Shea Blvd\, Scottsdale\, AZ\, 85260\, United States
CATEGORIES:DJ Wonder,Karaoke
ATTACH;FMTTYPE=image/jpeg:https://www.maddhatterpro.com/wp-content/uploads/2026/02/92st-scottsdale.jpg
END:VEVENT
BEGIN:VEVENT
DTSTART;TZID=UTC:20301018T210000
DTEND;TZID=UTC:20301018T210000
DTSTAMP:20260426T031605
CREATED:20250704T012040Z
LAST-MODIFIED:20260206T144628Z
UID:10024980-1918587600-1918587600@www.maddhatterpro.com
SUMMARY:92nd St Cafe Karaoke
DESCRIPTION:MHP in East Scottsdale! Best karaoke spot on the east side with DJ Wonder and YOU! Lets have a great time and sing the night away. Try the Prime rib\, its to sing for! 9pm-1am \nNW Corner\, 9160 E Shea Blvd\, Scottsdale\, AZ 85260 \n+14808604003
URL:https://www.maddhatterpro.com/event/92nd-st-cafe-karaoke/2030-10-18/
LOCATION:92nd Street Cafe\, 9160 E Shea Blvd\, Scottsdale\, AZ\, 85260\, United States
CATEGORIES:DJ Wonder,Karaoke
ATTACH;FMTTYPE=image/jpeg:https://www.maddhatterpro.com/wp-content/uploads/2026/02/92st-scottsdale.jpg
END:VEVENT
BEGIN:VEVENT
DTSTART;TZID=UTC:20301019T210000
DTEND;TZID=UTC:20301019T210000
DTSTAMP:20260426T031605
CREATED:20250704T012040Z
LAST-MODIFIED:20260206T144628Z
UID:10024981-1918674000-1918674000@www.maddhatterpro.com
SUMMARY:92nd St Cafe Karaoke
DESCRIPTION:MHP in East Scottsdale! Best karaoke spot on the east side with DJ Wonder and YOU! Lets have a great time and sing the night away. Try the Prime rib\, its to sing for! 9pm-1am \nNW Corner\, 9160 E Shea Blvd\, Scottsdale\, AZ 85260 \n+14808604003
URL:https://www.maddhatterpro.com/event/92nd-st-cafe-karaoke/2030-10-19/
LOCATION:92nd Street Cafe\, 9160 E Shea Blvd\, Scottsdale\, AZ\, 85260\, United States
CATEGORIES:DJ Wonder,Karaoke
ATTACH;FMTTYPE=image/jpeg:https://www.maddhatterpro.com/wp-content/uploads/2026/02/92st-scottsdale.jpg
END:VEVENT
BEGIN:VEVENT
DTSTART;TZID=UTC:20301025T210000
DTEND;TZID=UTC:20301025T210000
DTSTAMP:20260426T031605
CREATED:20250704T012040Z
LAST-MODIFIED:20260206T144628Z
UID:10024982-1919192400-1919192400@www.maddhatterpro.com
SUMMARY:92nd St Cafe Karaoke
DESCRIPTION:MHP in East Scottsdale! Best karaoke spot on the east side with DJ Wonder and YOU! Lets have a great time and sing the night away. Try the Prime rib\, its to sing for! 9pm-1am \nNW Corner\, 9160 E Shea Blvd\, Scottsdale\, AZ 85260 \n+14808604003
URL:https://www.maddhatterpro.com/event/92nd-st-cafe-karaoke/2030-10-25/
LOCATION:92nd Street Cafe\, 9160 E Shea Blvd\, Scottsdale\, AZ\, 85260\, United States
CATEGORIES:DJ Wonder,Karaoke
ATTACH;FMTTYPE=image/jpeg:https://www.maddhatterpro.com/wp-content/uploads/2026/02/92st-scottsdale.jpg
END:VEVENT
BEGIN:VEVENT
DTSTART;TZID=UTC:20301026T210000
DTEND;TZID=UTC:20301026T210000
DTSTAMP:20260426T031605
CREATED:20250704T012040Z
LAST-MODIFIED:20260206T144628Z
UID:10024983-1919278800-1919278800@www.maddhatterpro.com
SUMMARY:92nd St Cafe Karaoke
DESCRIPTION:MHP in East Scottsdale! Best karaoke spot on the east side with DJ Wonder and YOU! Lets have a great time and sing the night away. Try the Prime rib\, its to sing for! 9pm-1am \nNW Corner\, 9160 E Shea Blvd\, Scottsdale\, AZ 85260 \n+14808604003
URL:https://www.maddhatterpro.com/event/92nd-st-cafe-karaoke/2030-10-26/
LOCATION:92nd Street Cafe\, 9160 E Shea Blvd\, Scottsdale\, AZ\, 85260\, United States
CATEGORIES:DJ Wonder,Karaoke
ATTACH;FMTTYPE=image/jpeg:https://www.maddhatterpro.com/wp-content/uploads/2026/02/92st-scottsdale.jpg
END:VEVENT
BEGIN:VEVENT
DTSTART;TZID=UTC:20301101T210000
DTEND;TZID=UTC:20301101T210000
DTSTAMP:20260426T031605
CREATED:20250704T012040Z
LAST-MODIFIED:20260206T144628Z
UID:10024984-1919797200-1919797200@www.maddhatterpro.com
SUMMARY:92nd St Cafe Karaoke
DESCRIPTION:MHP in East Scottsdale! Best karaoke spot on the east side with DJ Wonder and YOU! Lets have a great time and sing the night away. Try the Prime rib\, its to sing for! 9pm-1am \nNW Corner\, 9160 E Shea Blvd\, Scottsdale\, AZ 85260 \n+14808604003
URL:https://www.maddhatterpro.com/event/92nd-st-cafe-karaoke/2030-11-01/
LOCATION:92nd Street Cafe\, 9160 E Shea Blvd\, Scottsdale\, AZ\, 85260\, United States
CATEGORIES:DJ Wonder,Karaoke
ATTACH;FMTTYPE=image/jpeg:https://www.maddhatterpro.com/wp-content/uploads/2026/02/92st-scottsdale.jpg
END:VEVENT
BEGIN:VEVENT
DTSTART;TZID=UTC:20301102T210000
DTEND;TZID=UTC:20301102T210000
DTSTAMP:20260426T031605
CREATED:20250704T012040Z
LAST-MODIFIED:20260206T144628Z
UID:10024985-1919883600-1919883600@www.maddhatterpro.com
SUMMARY:92nd St Cafe Karaoke
DESCRIPTION:MHP in East Scottsdale! Best karaoke spot on the east side with DJ Wonder and YOU! Lets have a great time and sing the night away. Try the Prime rib\, its to sing for! 9pm-1am \nNW Corner\, 9160 E Shea Blvd\, Scottsdale\, AZ 85260 \n+14808604003
URL:https://www.maddhatterpro.com/event/92nd-st-cafe-karaoke/2030-11-02/
LOCATION:92nd Street Cafe\, 9160 E Shea Blvd\, Scottsdale\, AZ\, 85260\, United States
CATEGORIES:DJ Wonder,Karaoke
ATTACH;FMTTYPE=image/jpeg:https://www.maddhatterpro.com/wp-content/uploads/2026/02/92st-scottsdale.jpg
END:VEVENT
BEGIN:VEVENT
DTSTART;TZID=UTC:20301108T210000
DTEND;TZID=UTC:20301108T210000
DTSTAMP:20260426T031605
CREATED:20250704T012040Z
LAST-MODIFIED:20260206T144628Z
UID:10024986-1920402000-1920402000@www.maddhatterpro.com
SUMMARY:92nd St Cafe Karaoke
DESCRIPTION:MHP in East Scottsdale! Best karaoke spot on the east side with DJ Wonder and YOU! Lets have a great time and sing the night away. Try the Prime rib\, its to sing for! 9pm-1am \nNW Corner\, 9160 E Shea Blvd\, Scottsdale\, AZ 85260 \n+14808604003
URL:https://www.maddhatterpro.com/event/92nd-st-cafe-karaoke/2030-11-08/
LOCATION:92nd Street Cafe\, 9160 E Shea Blvd\, Scottsdale\, AZ\, 85260\, United States
CATEGORIES:DJ Wonder,Karaoke
ATTACH;FMTTYPE=image/jpeg:https://www.maddhatterpro.com/wp-content/uploads/2026/02/92st-scottsdale.jpg
END:VEVENT
BEGIN:VEVENT
DTSTART;TZID=UTC:20301109T210000
DTEND;TZID=UTC:20301109T210000
DTSTAMP:20260426T031605
CREATED:20250704T012040Z
LAST-MODIFIED:20260206T144628Z
UID:10024987-1920488400-1920488400@www.maddhatterpro.com
SUMMARY:92nd St Cafe Karaoke
DESCRIPTION:MHP in East Scottsdale! Best karaoke spot on the east side with DJ Wonder and YOU! Lets have a great time and sing the night away. Try the Prime rib\, its to sing for! 9pm-1am \nNW Corner\, 9160 E Shea Blvd\, Scottsdale\, AZ 85260 \n+14808604003
URL:https://www.maddhatterpro.com/event/92nd-st-cafe-karaoke/2030-11-09/
LOCATION:92nd Street Cafe\, 9160 E Shea Blvd\, Scottsdale\, AZ\, 85260\, United States
CATEGORIES:DJ Wonder,Karaoke
ATTACH;FMTTYPE=image/jpeg:https://www.maddhatterpro.com/wp-content/uploads/2026/02/92st-scottsdale.jpg
END:VEVENT
END:VCALENDAR