BEGIN:VCALENDAR
VERSION:2.0
PRODID:-//MaddHatterPro.com - ECPv6.15.20//NONSGML v1.0//EN
CALSCALE:GREGORIAN
METHOD:PUBLISH
X-ORIGINAL-URL:https://www.maddhatterpro.com
X-WR-CALDESC:Events for MaddHatterPro.com
REFRESH-INTERVAL;VALUE=DURATION:PT1H
X-Robots-Tag:noindex
X-PUBLISHED-TTL:PT1H
BEGIN:VTIMEZONE
TZID:UTC
BEGIN:STANDARD
TZOFFSETFROM:+0000
TZOFFSETTO:+0000
TZNAME:UTC
DTSTART:20270101T000000
END:STANDARD
END:VTIMEZONE
BEGIN:VEVENT
DTSTART;TZID=UTC:20281007T210000
DTEND;TZID=UTC:20281007T210000
DTSTAMP:20260425T144245
CREATED:20250703T235929Z
LAST-MODIFIED:20260206T145047Z
UID:10025243-1854565200-1854565200@www.maddhatterpro.com
SUMMARY:The480Bar Karaoke
DESCRIPTION:Everyone’s favorite neighborhood bar in chandler! Always a great time with Wilde in the house. Come see what the big deal is. Thursdays 8pm-midnight\, Friday/Saturday 9pm-1am \n480 N Arizona Ave\, Chandler\, AZ 85225 \n+14808992268
URL:https://www.maddhatterpro.com/event/the480bar-karaoke-2/2028-10-07/
LOCATION:the480bar\, 480 N Arizona Ave\, Chandler\, AZ\, 85225\, United States
CATEGORIES:Karaoke,KJ Wilde
ATTACH;FMTTYPE=image/jpeg:https://www.maddhatterpro.com/wp-content/uploads/2026/02/480-Chandler.jpg
END:VEVENT
BEGIN:VEVENT
DTSTART;TZID=UTC:20281012T200000
DTEND;TZID=UTC:20281012T200000
DTSTAMP:20260425T144245
CREATED:20250703T235739Z
LAST-MODIFIED:20260206T144305Z
UID:10021368-1854993600-1854993600@www.maddhatterpro.com
SUMMARY:The480Bar Karaoke
DESCRIPTION:Everyone’s favorite neighborhood bar in chandler! Always a great time with Wilde in the house. Come see what the big deal is. Thursdays 8pm-midnight\, Friday/Saturday 9pm-1am \n480 N Arizona Ave\, Chandler\, AZ 85225 \n+14808992268
URL:https://www.maddhatterpro.com/event/the480bar-karaoke/2028-10-12/
LOCATION:the480bar\, 480 N Arizona Ave\, Chandler\, AZ\, 85225\, United States
CATEGORIES:Karaoke,KJ Wilde
ATTACH;FMTTYPE=image/jpeg:https://www.maddhatterpro.com/wp-content/uploads/2026/02/480-Chandler.jpg
END:VEVENT
BEGIN:VEVENT
DTSTART;TZID=UTC:20281013T210000
DTEND;TZID=UTC:20281013T210000
DTSTAMP:20260425T144245
CREATED:20250703T235929Z
LAST-MODIFIED:20260206T145047Z
UID:10021891-1855083600-1855083600@www.maddhatterpro.com
SUMMARY:The480Bar Karaoke
DESCRIPTION:Everyone’s favorite neighborhood bar in chandler! Always a great time with Wilde in the house. Come see what the big deal is. Thursdays 8pm-midnight\, Friday/Saturday 9pm-1am \n480 N Arizona Ave\, Chandler\, AZ 85225 \n+14808992268
URL:https://www.maddhatterpro.com/event/the480bar-karaoke-2/2028-10-13/
LOCATION:the480bar\, 480 N Arizona Ave\, Chandler\, AZ\, 85225\, United States
CATEGORIES:Karaoke,KJ Wilde
ATTACH;FMTTYPE=image/jpeg:https://www.maddhatterpro.com/wp-content/uploads/2026/02/480-Chandler.jpg
END:VEVENT
BEGIN:VEVENT
DTSTART;TZID=UTC:20281014T210000
DTEND;TZID=UTC:20281014T210000
DTSTAMP:20260425T144245
CREATED:20250703T235929Z
LAST-MODIFIED:20260206T145047Z
UID:10025244-1855170000-1855170000@www.maddhatterpro.com
SUMMARY:The480Bar Karaoke
DESCRIPTION:Everyone’s favorite neighborhood bar in chandler! Always a great time with Wilde in the house. Come see what the big deal is. Thursdays 8pm-midnight\, Friday/Saturday 9pm-1am \n480 N Arizona Ave\, Chandler\, AZ 85225 \n+14808992268
URL:https://www.maddhatterpro.com/event/the480bar-karaoke-2/2028-10-14/
LOCATION:the480bar\, 480 N Arizona Ave\, Chandler\, AZ\, 85225\, United States
CATEGORIES:Karaoke,KJ Wilde
ATTACH;FMTTYPE=image/jpeg:https://www.maddhatterpro.com/wp-content/uploads/2026/02/480-Chandler.jpg
END:VEVENT
BEGIN:VEVENT
DTSTART;TZID=UTC:20281019T200000
DTEND;TZID=UTC:20281019T200000
DTSTAMP:20260425T144245
CREATED:20250703T235739Z
LAST-MODIFIED:20260206T144305Z
UID:10021369-1855598400-1855598400@www.maddhatterpro.com
SUMMARY:The480Bar Karaoke
DESCRIPTION:Everyone’s favorite neighborhood bar in chandler! Always a great time with Wilde in the house. Come see what the big deal is. Thursdays 8pm-midnight\, Friday/Saturday 9pm-1am \n480 N Arizona Ave\, Chandler\, AZ 85225 \n+14808992268
URL:https://www.maddhatterpro.com/event/the480bar-karaoke/2028-10-19/
LOCATION:the480bar\, 480 N Arizona Ave\, Chandler\, AZ\, 85225\, United States
CATEGORIES:Karaoke,KJ Wilde
ATTACH;FMTTYPE=image/jpeg:https://www.maddhatterpro.com/wp-content/uploads/2026/02/480-Chandler.jpg
END:VEVENT
BEGIN:VEVENT
DTSTART;TZID=UTC:20281020T210000
DTEND;TZID=UTC:20281020T210000
DTSTAMP:20260425T144245
CREATED:20250703T235929Z
LAST-MODIFIED:20260206T145047Z
UID:10021892-1855688400-1855688400@www.maddhatterpro.com
SUMMARY:The480Bar Karaoke
DESCRIPTION:Everyone’s favorite neighborhood bar in chandler! Always a great time with Wilde in the house. Come see what the big deal is. Thursdays 8pm-midnight\, Friday/Saturday 9pm-1am \n480 N Arizona Ave\, Chandler\, AZ 85225 \n+14808992268
URL:https://www.maddhatterpro.com/event/the480bar-karaoke-2/2028-10-20/
LOCATION:the480bar\, 480 N Arizona Ave\, Chandler\, AZ\, 85225\, United States
CATEGORIES:Karaoke,KJ Wilde
ATTACH;FMTTYPE=image/jpeg:https://www.maddhatterpro.com/wp-content/uploads/2026/02/480-Chandler.jpg
END:VEVENT
BEGIN:VEVENT
DTSTART;TZID=UTC:20281021T210000
DTEND;TZID=UTC:20281021T210000
DTSTAMP:20260425T144245
CREATED:20250703T235929Z
LAST-MODIFIED:20260206T145047Z
UID:10025245-1855774800-1855774800@www.maddhatterpro.com
SUMMARY:The480Bar Karaoke
DESCRIPTION:Everyone’s favorite neighborhood bar in chandler! Always a great time with Wilde in the house. Come see what the big deal is. Thursdays 8pm-midnight\, Friday/Saturday 9pm-1am \n480 N Arizona Ave\, Chandler\, AZ 85225 \n+14808992268
URL:https://www.maddhatterpro.com/event/the480bar-karaoke-2/2028-10-21/
LOCATION:the480bar\, 480 N Arizona Ave\, Chandler\, AZ\, 85225\, United States
CATEGORIES:Karaoke,KJ Wilde
ATTACH;FMTTYPE=image/jpeg:https://www.maddhatterpro.com/wp-content/uploads/2026/02/480-Chandler.jpg
END:VEVENT
BEGIN:VEVENT
DTSTART;TZID=UTC:20281026T200000
DTEND;TZID=UTC:20281026T200000
DTSTAMP:20260425T144245
CREATED:20250703T235739Z
LAST-MODIFIED:20260206T144305Z
UID:10021370-1856203200-1856203200@www.maddhatterpro.com
SUMMARY:The480Bar Karaoke
DESCRIPTION:Everyone’s favorite neighborhood bar in chandler! Always a great time with Wilde in the house. Come see what the big deal is. Thursdays 8pm-midnight\, Friday/Saturday 9pm-1am \n480 N Arizona Ave\, Chandler\, AZ 85225 \n+14808992268
URL:https://www.maddhatterpro.com/event/the480bar-karaoke/2028-10-26/
LOCATION:the480bar\, 480 N Arizona Ave\, Chandler\, AZ\, 85225\, United States
CATEGORIES:Karaoke,KJ Wilde
ATTACH;FMTTYPE=image/jpeg:https://www.maddhatterpro.com/wp-content/uploads/2026/02/480-Chandler.jpg
END:VEVENT
BEGIN:VEVENT
DTSTART;TZID=UTC:20281027T210000
DTEND;TZID=UTC:20281027T210000
DTSTAMP:20260425T144245
CREATED:20250703T235929Z
LAST-MODIFIED:20260206T145047Z
UID:10021893-1856293200-1856293200@www.maddhatterpro.com
SUMMARY:The480Bar Karaoke
DESCRIPTION:Everyone’s favorite neighborhood bar in chandler! Always a great time with Wilde in the house. Come see what the big deal is. Thursdays 8pm-midnight\, Friday/Saturday 9pm-1am \n480 N Arizona Ave\, Chandler\, AZ 85225 \n+14808992268
URL:https://www.maddhatterpro.com/event/the480bar-karaoke-2/2028-10-27/
LOCATION:the480bar\, 480 N Arizona Ave\, Chandler\, AZ\, 85225\, United States
CATEGORIES:Karaoke,KJ Wilde
ATTACH;FMTTYPE=image/jpeg:https://www.maddhatterpro.com/wp-content/uploads/2026/02/480-Chandler.jpg
END:VEVENT
BEGIN:VEVENT
DTSTART;TZID=UTC:20281028T210000
DTEND;TZID=UTC:20281028T210000
DTSTAMP:20260425T144245
CREATED:20250703T235929Z
LAST-MODIFIED:20260206T145047Z
UID:10025246-1856379600-1856379600@www.maddhatterpro.com
SUMMARY:The480Bar Karaoke
DESCRIPTION:Everyone’s favorite neighborhood bar in chandler! Always a great time with Wilde in the house. Come see what the big deal is. Thursdays 8pm-midnight\, Friday/Saturday 9pm-1am \n480 N Arizona Ave\, Chandler\, AZ 85225 \n+14808992268
URL:https://www.maddhatterpro.com/event/the480bar-karaoke-2/2028-10-28/
LOCATION:the480bar\, 480 N Arizona Ave\, Chandler\, AZ\, 85225\, United States
CATEGORIES:Karaoke,KJ Wilde
ATTACH;FMTTYPE=image/jpeg:https://www.maddhatterpro.com/wp-content/uploads/2026/02/480-Chandler.jpg
END:VEVENT
BEGIN:VEVENT
DTSTART;TZID=UTC:20281102T200000
DTEND;TZID=UTC:20281102T200000
DTSTAMP:20260425T144245
CREATED:20250703T235739Z
LAST-MODIFIED:20260206T144305Z
UID:10021371-1856808000-1856808000@www.maddhatterpro.com
SUMMARY:The480Bar Karaoke
DESCRIPTION:Everyone’s favorite neighborhood bar in chandler! Always a great time with Wilde in the house. Come see what the big deal is. Thursdays 8pm-midnight\, Friday/Saturday 9pm-1am \n480 N Arizona Ave\, Chandler\, AZ 85225 \n+14808992268
URL:https://www.maddhatterpro.com/event/the480bar-karaoke/2028-11-02/
LOCATION:the480bar\, 480 N Arizona Ave\, Chandler\, AZ\, 85225\, United States
CATEGORIES:Karaoke,KJ Wilde
ATTACH;FMTTYPE=image/jpeg:https://www.maddhatterpro.com/wp-content/uploads/2026/02/480-Chandler.jpg
END:VEVENT
BEGIN:VEVENT
DTSTART;TZID=UTC:20281103T210000
DTEND;TZID=UTC:20281103T210000
DTSTAMP:20260425T144245
CREATED:20250703T235929Z
LAST-MODIFIED:20260206T145047Z
UID:10021894-1856898000-1856898000@www.maddhatterpro.com
SUMMARY:The480Bar Karaoke
DESCRIPTION:Everyone’s favorite neighborhood bar in chandler! Always a great time with Wilde in the house. Come see what the big deal is. Thursdays 8pm-midnight\, Friday/Saturday 9pm-1am \n480 N Arizona Ave\, Chandler\, AZ 85225 \n+14808992268
URL:https://www.maddhatterpro.com/event/the480bar-karaoke-2/2028-11-03/
LOCATION:the480bar\, 480 N Arizona Ave\, Chandler\, AZ\, 85225\, United States
CATEGORIES:Karaoke,KJ Wilde
ATTACH;FMTTYPE=image/jpeg:https://www.maddhatterpro.com/wp-content/uploads/2026/02/480-Chandler.jpg
END:VEVENT
BEGIN:VEVENT
DTSTART;TZID=UTC:20281104T210000
DTEND;TZID=UTC:20281104T210000
DTSTAMP:20260425T144245
CREATED:20250703T235929Z
LAST-MODIFIED:20260206T145047Z
UID:10025247-1856984400-1856984400@www.maddhatterpro.com
SUMMARY:The480Bar Karaoke
DESCRIPTION:Everyone’s favorite neighborhood bar in chandler! Always a great time with Wilde in the house. Come see what the big deal is. Thursdays 8pm-midnight\, Friday/Saturday 9pm-1am \n480 N Arizona Ave\, Chandler\, AZ 85225 \n+14808992268
URL:https://www.maddhatterpro.com/event/the480bar-karaoke-2/2028-11-04/
LOCATION:the480bar\, 480 N Arizona Ave\, Chandler\, AZ\, 85225\, United States
CATEGORIES:Karaoke,KJ Wilde
ATTACH;FMTTYPE=image/jpeg:https://www.maddhatterpro.com/wp-content/uploads/2026/02/480-Chandler.jpg
END:VEVENT
BEGIN:VEVENT
DTSTART;TZID=UTC:20281109T200000
DTEND;TZID=UTC:20281109T200000
DTSTAMP:20260425T144245
CREATED:20250703T235739Z
LAST-MODIFIED:20260206T144305Z
UID:10021372-1857412800-1857412800@www.maddhatterpro.com
SUMMARY:The480Bar Karaoke
DESCRIPTION:Everyone’s favorite neighborhood bar in chandler! Always a great time with Wilde in the house. Come see what the big deal is. Thursdays 8pm-midnight\, Friday/Saturday 9pm-1am \n480 N Arizona Ave\, Chandler\, AZ 85225 \n+14808992268
URL:https://www.maddhatterpro.com/event/the480bar-karaoke/2028-11-09/
LOCATION:the480bar\, 480 N Arizona Ave\, Chandler\, AZ\, 85225\, United States
CATEGORIES:Karaoke,KJ Wilde
ATTACH;FMTTYPE=image/jpeg:https://www.maddhatterpro.com/wp-content/uploads/2026/02/480-Chandler.jpg
END:VEVENT
BEGIN:VEVENT
DTSTART;TZID=UTC:20281110T210000
DTEND;TZID=UTC:20281110T210000
DTSTAMP:20260425T144245
CREATED:20250703T235929Z
LAST-MODIFIED:20260206T145047Z
UID:10021895-1857502800-1857502800@www.maddhatterpro.com
SUMMARY:The480Bar Karaoke
DESCRIPTION:Everyone’s favorite neighborhood bar in chandler! Always a great time with Wilde in the house. Come see what the big deal is. Thursdays 8pm-midnight\, Friday/Saturday 9pm-1am \n480 N Arizona Ave\, Chandler\, AZ 85225 \n+14808992268
URL:https://www.maddhatterpro.com/event/the480bar-karaoke-2/2028-11-10/
LOCATION:the480bar\, 480 N Arizona Ave\, Chandler\, AZ\, 85225\, United States
CATEGORIES:Karaoke,KJ Wilde
ATTACH;FMTTYPE=image/jpeg:https://www.maddhatterpro.com/wp-content/uploads/2026/02/480-Chandler.jpg
END:VEVENT
BEGIN:VEVENT
DTSTART;TZID=UTC:20281111T210000
DTEND;TZID=UTC:20281111T210000
DTSTAMP:20260425T144245
CREATED:20250703T235929Z
LAST-MODIFIED:20260206T145047Z
UID:10025248-1857589200-1857589200@www.maddhatterpro.com
SUMMARY:The480Bar Karaoke
DESCRIPTION:Everyone’s favorite neighborhood bar in chandler! Always a great time with Wilde in the house. Come see what the big deal is. Thursdays 8pm-midnight\, Friday/Saturday 9pm-1am \n480 N Arizona Ave\, Chandler\, AZ 85225 \n+14808992268
URL:https://www.maddhatterpro.com/event/the480bar-karaoke-2/2028-11-11/
LOCATION:the480bar\, 480 N Arizona Ave\, Chandler\, AZ\, 85225\, United States
CATEGORIES:Karaoke,KJ Wilde
ATTACH;FMTTYPE=image/jpeg:https://www.maddhatterpro.com/wp-content/uploads/2026/02/480-Chandler.jpg
END:VEVENT
BEGIN:VEVENT
DTSTART;TZID=UTC:20281116T200000
DTEND;TZID=UTC:20281116T200000
DTSTAMP:20260425T144245
CREATED:20250703T235739Z
LAST-MODIFIED:20260206T144305Z
UID:10021373-1858017600-1858017600@www.maddhatterpro.com
SUMMARY:The480Bar Karaoke
DESCRIPTION:Everyone’s favorite neighborhood bar in chandler! Always a great time with Wilde in the house. Come see what the big deal is. Thursdays 8pm-midnight\, Friday/Saturday 9pm-1am \n480 N Arizona Ave\, Chandler\, AZ 85225 \n+14808992268
URL:https://www.maddhatterpro.com/event/the480bar-karaoke/2028-11-16/
LOCATION:the480bar\, 480 N Arizona Ave\, Chandler\, AZ\, 85225\, United States
CATEGORIES:Karaoke,KJ Wilde
ATTACH;FMTTYPE=image/jpeg:https://www.maddhatterpro.com/wp-content/uploads/2026/02/480-Chandler.jpg
END:VEVENT
BEGIN:VEVENT
DTSTART;TZID=UTC:20281117T210000
DTEND;TZID=UTC:20281117T210000
DTSTAMP:20260425T144245
CREATED:20250703T235929Z
LAST-MODIFIED:20260206T145047Z
UID:10021896-1858107600-1858107600@www.maddhatterpro.com
SUMMARY:The480Bar Karaoke
DESCRIPTION:Everyone’s favorite neighborhood bar in chandler! Always a great time with Wilde in the house. Come see what the big deal is. Thursdays 8pm-midnight\, Friday/Saturday 9pm-1am \n480 N Arizona Ave\, Chandler\, AZ 85225 \n+14808992268
URL:https://www.maddhatterpro.com/event/the480bar-karaoke-2/2028-11-17/
LOCATION:the480bar\, 480 N Arizona Ave\, Chandler\, AZ\, 85225\, United States
CATEGORIES:Karaoke,KJ Wilde
ATTACH;FMTTYPE=image/jpeg:https://www.maddhatterpro.com/wp-content/uploads/2026/02/480-Chandler.jpg
END:VEVENT
BEGIN:VEVENT
DTSTART;TZID=UTC:20281118T210000
DTEND;TZID=UTC:20281118T210000
DTSTAMP:20260425T144245
CREATED:20250703T235929Z
LAST-MODIFIED:20260206T145047Z
UID:10025249-1858194000-1858194000@www.maddhatterpro.com
SUMMARY:The480Bar Karaoke
DESCRIPTION:Everyone’s favorite neighborhood bar in chandler! Always a great time with Wilde in the house. Come see what the big deal is. Thursdays 8pm-midnight\, Friday/Saturday 9pm-1am \n480 N Arizona Ave\, Chandler\, AZ 85225 \n+14808992268
URL:https://www.maddhatterpro.com/event/the480bar-karaoke-2/2028-11-18/
LOCATION:the480bar\, 480 N Arizona Ave\, Chandler\, AZ\, 85225\, United States
CATEGORIES:Karaoke,KJ Wilde
ATTACH;FMTTYPE=image/jpeg:https://www.maddhatterpro.com/wp-content/uploads/2026/02/480-Chandler.jpg
END:VEVENT
BEGIN:VEVENT
DTSTART;TZID=UTC:20281123T200000
DTEND;TZID=UTC:20281123T200000
DTSTAMP:20260425T144245
CREATED:20250703T235739Z
LAST-MODIFIED:20260206T144305Z
UID:10021374-1858622400-1858622400@www.maddhatterpro.com
SUMMARY:The480Bar Karaoke
DESCRIPTION:Everyone’s favorite neighborhood bar in chandler! Always a great time with Wilde in the house. Come see what the big deal is. Thursdays 8pm-midnight\, Friday/Saturday 9pm-1am \n480 N Arizona Ave\, Chandler\, AZ 85225 \n+14808992268
URL:https://www.maddhatterpro.com/event/the480bar-karaoke/2028-11-23/
LOCATION:the480bar\, 480 N Arizona Ave\, Chandler\, AZ\, 85225\, United States
CATEGORIES:Karaoke,KJ Wilde
ATTACH;FMTTYPE=image/jpeg:https://www.maddhatterpro.com/wp-content/uploads/2026/02/480-Chandler.jpg
END:VEVENT
BEGIN:VEVENT
DTSTART;TZID=UTC:20281124T210000
DTEND;TZID=UTC:20281124T210000
DTSTAMP:20260425T144245
CREATED:20250703T235929Z
LAST-MODIFIED:20260206T145047Z
UID:10021897-1858712400-1858712400@www.maddhatterpro.com
SUMMARY:The480Bar Karaoke
DESCRIPTION:Everyone’s favorite neighborhood bar in chandler! Always a great time with Wilde in the house. Come see what the big deal is. Thursdays 8pm-midnight\, Friday/Saturday 9pm-1am \n480 N Arizona Ave\, Chandler\, AZ 85225 \n+14808992268
URL:https://www.maddhatterpro.com/event/the480bar-karaoke-2/2028-11-24/
LOCATION:the480bar\, 480 N Arizona Ave\, Chandler\, AZ\, 85225\, United States
CATEGORIES:Karaoke,KJ Wilde
ATTACH;FMTTYPE=image/jpeg:https://www.maddhatterpro.com/wp-content/uploads/2026/02/480-Chandler.jpg
END:VEVENT
BEGIN:VEVENT
DTSTART;TZID=UTC:20281125T210000
DTEND;TZID=UTC:20281125T210000
DTSTAMP:20260425T144245
CREATED:20250703T235929Z
LAST-MODIFIED:20260206T145047Z
UID:10025250-1858798800-1858798800@www.maddhatterpro.com
SUMMARY:The480Bar Karaoke
DESCRIPTION:Everyone’s favorite neighborhood bar in chandler! Always a great time with Wilde in the house. Come see what the big deal is. Thursdays 8pm-midnight\, Friday/Saturday 9pm-1am \n480 N Arizona Ave\, Chandler\, AZ 85225 \n+14808992268
URL:https://www.maddhatterpro.com/event/the480bar-karaoke-2/2028-11-25/
LOCATION:the480bar\, 480 N Arizona Ave\, Chandler\, AZ\, 85225\, United States
CATEGORIES:Karaoke,KJ Wilde
ATTACH;FMTTYPE=image/jpeg:https://www.maddhatterpro.com/wp-content/uploads/2026/02/480-Chandler.jpg
END:VEVENT
BEGIN:VEVENT
DTSTART;TZID=UTC:20281130T200000
DTEND;TZID=UTC:20281130T200000
DTSTAMP:20260425T144245
CREATED:20250703T235739Z
LAST-MODIFIED:20260206T144305Z
UID:10021375-1859227200-1859227200@www.maddhatterpro.com
SUMMARY:The480Bar Karaoke
DESCRIPTION:Everyone’s favorite neighborhood bar in chandler! Always a great time with Wilde in the house. Come see what the big deal is. Thursdays 8pm-midnight\, Friday/Saturday 9pm-1am \n480 N Arizona Ave\, Chandler\, AZ 85225 \n+14808992268
URL:https://www.maddhatterpro.com/event/the480bar-karaoke/2028-11-30/
LOCATION:the480bar\, 480 N Arizona Ave\, Chandler\, AZ\, 85225\, United States
CATEGORIES:Karaoke,KJ Wilde
ATTACH;FMTTYPE=image/jpeg:https://www.maddhatterpro.com/wp-content/uploads/2026/02/480-Chandler.jpg
END:VEVENT
BEGIN:VEVENT
DTSTART;TZID=UTC:20281201T210000
DTEND;TZID=UTC:20281201T210000
DTSTAMP:20260425T144245
CREATED:20250703T235929Z
LAST-MODIFIED:20260206T145047Z
UID:10021898-1859317200-1859317200@www.maddhatterpro.com
SUMMARY:The480Bar Karaoke
DESCRIPTION:Everyone’s favorite neighborhood bar in chandler! Always a great time with Wilde in the house. Come see what the big deal is. Thursdays 8pm-midnight\, Friday/Saturday 9pm-1am \n480 N Arizona Ave\, Chandler\, AZ 85225 \n+14808992268
URL:https://www.maddhatterpro.com/event/the480bar-karaoke-2/2028-12-01/
LOCATION:the480bar\, 480 N Arizona Ave\, Chandler\, AZ\, 85225\, United States
CATEGORIES:Karaoke,KJ Wilde
ATTACH;FMTTYPE=image/jpeg:https://www.maddhatterpro.com/wp-content/uploads/2026/02/480-Chandler.jpg
END:VEVENT
BEGIN:VEVENT
DTSTART;TZID=UTC:20281202T210000
DTEND;TZID=UTC:20281202T210000
DTSTAMP:20260425T144245
CREATED:20250703T235929Z
LAST-MODIFIED:20260206T145047Z
UID:10025251-1859403600-1859403600@www.maddhatterpro.com
SUMMARY:The480Bar Karaoke
DESCRIPTION:Everyone’s favorite neighborhood bar in chandler! Always a great time with Wilde in the house. Come see what the big deal is. Thursdays 8pm-midnight\, Friday/Saturday 9pm-1am \n480 N Arizona Ave\, Chandler\, AZ 85225 \n+14808992268
URL:https://www.maddhatterpro.com/event/the480bar-karaoke-2/2028-12-02/
LOCATION:the480bar\, 480 N Arizona Ave\, Chandler\, AZ\, 85225\, United States
CATEGORIES:Karaoke,KJ Wilde
ATTACH;FMTTYPE=image/jpeg:https://www.maddhatterpro.com/wp-content/uploads/2026/02/480-Chandler.jpg
END:VEVENT
BEGIN:VEVENT
DTSTART;TZID=UTC:20281207T200000
DTEND;TZID=UTC:20281207T200000
DTSTAMP:20260425T144245
CREATED:20250703T235739Z
LAST-MODIFIED:20260206T144305Z
UID:10021376-1859832000-1859832000@www.maddhatterpro.com
SUMMARY:The480Bar Karaoke
DESCRIPTION:Everyone’s favorite neighborhood bar in chandler! Always a great time with Wilde in the house. Come see what the big deal is. Thursdays 8pm-midnight\, Friday/Saturday 9pm-1am \n480 N Arizona Ave\, Chandler\, AZ 85225 \n+14808992268
URL:https://www.maddhatterpro.com/event/the480bar-karaoke/2028-12-07/
LOCATION:the480bar\, 480 N Arizona Ave\, Chandler\, AZ\, 85225\, United States
CATEGORIES:Karaoke,KJ Wilde
ATTACH;FMTTYPE=image/jpeg:https://www.maddhatterpro.com/wp-content/uploads/2026/02/480-Chandler.jpg
END:VEVENT
BEGIN:VEVENT
DTSTART;TZID=UTC:20281208T210000
DTEND;TZID=UTC:20281208T210000
DTSTAMP:20260425T144245
CREATED:20250703T235929Z
LAST-MODIFIED:20260206T145047Z
UID:10021899-1859922000-1859922000@www.maddhatterpro.com
SUMMARY:The480Bar Karaoke
DESCRIPTION:Everyone’s favorite neighborhood bar in chandler! Always a great time with Wilde in the house. Come see what the big deal is. Thursdays 8pm-midnight\, Friday/Saturday 9pm-1am \n480 N Arizona Ave\, Chandler\, AZ 85225 \n+14808992268
URL:https://www.maddhatterpro.com/event/the480bar-karaoke-2/2028-12-08/
LOCATION:the480bar\, 480 N Arizona Ave\, Chandler\, AZ\, 85225\, United States
CATEGORIES:Karaoke,KJ Wilde
ATTACH;FMTTYPE=image/jpeg:https://www.maddhatterpro.com/wp-content/uploads/2026/02/480-Chandler.jpg
END:VEVENT
BEGIN:VEVENT
DTSTART;TZID=UTC:20281209T210000
DTEND;TZID=UTC:20281209T210000
DTSTAMP:20260425T144245
CREATED:20250703T235929Z
LAST-MODIFIED:20260206T145047Z
UID:10025252-1860008400-1860008400@www.maddhatterpro.com
SUMMARY:The480Bar Karaoke
DESCRIPTION:Everyone’s favorite neighborhood bar in chandler! Always a great time with Wilde in the house. Come see what the big deal is. Thursdays 8pm-midnight\, Friday/Saturday 9pm-1am \n480 N Arizona Ave\, Chandler\, AZ 85225 \n+14808992268
URL:https://www.maddhatterpro.com/event/the480bar-karaoke-2/2028-12-09/
LOCATION:the480bar\, 480 N Arizona Ave\, Chandler\, AZ\, 85225\, United States
CATEGORIES:Karaoke,KJ Wilde
ATTACH;FMTTYPE=image/jpeg:https://www.maddhatterpro.com/wp-content/uploads/2026/02/480-Chandler.jpg
END:VEVENT
BEGIN:VEVENT
DTSTART;TZID=UTC:20281214T200000
DTEND;TZID=UTC:20281214T200000
DTSTAMP:20260425T144245
CREATED:20250703T235739Z
LAST-MODIFIED:20260206T144305Z
UID:10021377-1860436800-1860436800@www.maddhatterpro.com
SUMMARY:The480Bar Karaoke
DESCRIPTION:Everyone’s favorite neighborhood bar in chandler! Always a great time with Wilde in the house. Come see what the big deal is. Thursdays 8pm-midnight\, Friday/Saturday 9pm-1am \n480 N Arizona Ave\, Chandler\, AZ 85225 \n+14808992268
URL:https://www.maddhatterpro.com/event/the480bar-karaoke/2028-12-14/
LOCATION:the480bar\, 480 N Arizona Ave\, Chandler\, AZ\, 85225\, United States
CATEGORIES:Karaoke,KJ Wilde
ATTACH;FMTTYPE=image/jpeg:https://www.maddhatterpro.com/wp-content/uploads/2026/02/480-Chandler.jpg
END:VEVENT
BEGIN:VEVENT
DTSTART;TZID=UTC:20281215T210000
DTEND;TZID=UTC:20281215T210000
DTSTAMP:20260425T144245
CREATED:20250703T235929Z
LAST-MODIFIED:20260206T145047Z
UID:10021900-1860526800-1860526800@www.maddhatterpro.com
SUMMARY:The480Bar Karaoke
DESCRIPTION:Everyone’s favorite neighborhood bar in chandler! Always a great time with Wilde in the house. Come see what the big deal is. Thursdays 8pm-midnight\, Friday/Saturday 9pm-1am \n480 N Arizona Ave\, Chandler\, AZ 85225 \n+14808992268
URL:https://www.maddhatterpro.com/event/the480bar-karaoke-2/2028-12-15/
LOCATION:the480bar\, 480 N Arizona Ave\, Chandler\, AZ\, 85225\, United States
CATEGORIES:Karaoke,KJ Wilde
ATTACH;FMTTYPE=image/jpeg:https://www.maddhatterpro.com/wp-content/uploads/2026/02/480-Chandler.jpg
END:VEVENT
END:VCALENDAR