BEGIN:VCALENDAR
VERSION:2.0
PRODID:-//MaddHatterPro.com - ECPv6.15.20//NONSGML v1.0//EN
CALSCALE:GREGORIAN
METHOD:PUBLISH
X-WR-CALNAME:MaddHatterPro.com
X-ORIGINAL-URL:https://www.maddhatterpro.com
X-WR-CALDESC:Events for MaddHatterPro.com
REFRESH-INTERVAL;VALUE=DURATION:PT1H
X-Robots-Tag:noindex
X-PUBLISHED-TTL:PT1H
BEGIN:VTIMEZONE
TZID:UTC
BEGIN:STANDARD
TZOFFSETFROM:+0000
TZOFFSETTO:+0000
TZNAME:UTC
DTSTART:20280101T000000
END:STANDARD
END:VTIMEZONE
BEGIN:VEVENT
DTSTART;TZID=UTC:20291229T210000
DTEND;TZID=UTC:20291229T210000
DTSTAMP:20260425T201136
CREATED:20250704T012040Z
LAST-MODIFIED:20260206T144628Z
UID:10024541-1893272400-1893272400@www.maddhatterpro.com
SUMMARY:92nd St Cafe Karaoke
DESCRIPTION:MHP in East Scottsdale! Best karaoke spot on the east side with DJ Wonder and YOU! Lets have a great time and sing the night away. Try the Prime rib\, its to sing for! 9pm-1am \nNW Corner\, 9160 E Shea Blvd\, Scottsdale\, AZ 85260 \n+14808604003
URL:https://www.maddhatterpro.com/event/92nd-st-cafe-karaoke/2029-12-29/
LOCATION:92nd Street Cafe\, 9160 E Shea Blvd\, Scottsdale\, AZ\, 85260\, United States
CATEGORIES:DJ Wonder,Karaoke
ATTACH;FMTTYPE=image/jpeg:https://www.maddhatterpro.com/wp-content/uploads/2026/02/92st-scottsdale.jpg
END:VEVENT
BEGIN:VEVENT
DTSTART;TZID=UTC:20300104T210000
DTEND;TZID=UTC:20300104T210000
DTSTAMP:20260425T201136
CREATED:20250704T012040Z
LAST-MODIFIED:20260206T144628Z
UID:10024542-1893790800-1893790800@www.maddhatterpro.com
SUMMARY:92nd St Cafe Karaoke
DESCRIPTION:MHP in East Scottsdale! Best karaoke spot on the east side with DJ Wonder and YOU! Lets have a great time and sing the night away. Try the Prime rib\, its to sing for! 9pm-1am \nNW Corner\, 9160 E Shea Blvd\, Scottsdale\, AZ 85260 \n+14808604003
URL:https://www.maddhatterpro.com/event/92nd-st-cafe-karaoke/2030-01-04/
LOCATION:92nd Street Cafe\, 9160 E Shea Blvd\, Scottsdale\, AZ\, 85260\, United States
CATEGORIES:DJ Wonder,Karaoke
ATTACH;FMTTYPE=image/jpeg:https://www.maddhatterpro.com/wp-content/uploads/2026/02/92st-scottsdale.jpg
END:VEVENT
BEGIN:VEVENT
DTSTART;TZID=UTC:20300105T210000
DTEND;TZID=UTC:20300105T210000
DTSTAMP:20260425T201136
CREATED:20250704T012040Z
LAST-MODIFIED:20260206T144628Z
UID:10024543-1893877200-1893877200@www.maddhatterpro.com
SUMMARY:92nd St Cafe Karaoke
DESCRIPTION:MHP in East Scottsdale! Best karaoke spot on the east side with DJ Wonder and YOU! Lets have a great time and sing the night away. Try the Prime rib\, its to sing for! 9pm-1am \nNW Corner\, 9160 E Shea Blvd\, Scottsdale\, AZ 85260 \n+14808604003
URL:https://www.maddhatterpro.com/event/92nd-st-cafe-karaoke/2030-01-05/
LOCATION:92nd Street Cafe\, 9160 E Shea Blvd\, Scottsdale\, AZ\, 85260\, United States
CATEGORIES:DJ Wonder,Karaoke
ATTACH;FMTTYPE=image/jpeg:https://www.maddhatterpro.com/wp-content/uploads/2026/02/92st-scottsdale.jpg
END:VEVENT
BEGIN:VEVENT
DTSTART;TZID=UTC:20300111T210000
DTEND;TZID=UTC:20300111T210000
DTSTAMP:20260425T201136
CREATED:20250704T012040Z
LAST-MODIFIED:20260206T144628Z
UID:10024544-1894395600-1894395600@www.maddhatterpro.com
SUMMARY:92nd St Cafe Karaoke
DESCRIPTION:MHP in East Scottsdale! Best karaoke spot on the east side with DJ Wonder and YOU! Lets have a great time and sing the night away. Try the Prime rib\, its to sing for! 9pm-1am \nNW Corner\, 9160 E Shea Blvd\, Scottsdale\, AZ 85260 \n+14808604003
URL:https://www.maddhatterpro.com/event/92nd-st-cafe-karaoke/2030-01-11/
LOCATION:92nd Street Cafe\, 9160 E Shea Blvd\, Scottsdale\, AZ\, 85260\, United States
CATEGORIES:DJ Wonder,Karaoke
ATTACH;FMTTYPE=image/jpeg:https://www.maddhatterpro.com/wp-content/uploads/2026/02/92st-scottsdale.jpg
END:VEVENT
BEGIN:VEVENT
DTSTART;TZID=UTC:20300112T210000
DTEND;TZID=UTC:20300112T210000
DTSTAMP:20260425T201136
CREATED:20250704T012040Z
LAST-MODIFIED:20260206T144628Z
UID:10024545-1894482000-1894482000@www.maddhatterpro.com
SUMMARY:92nd St Cafe Karaoke
DESCRIPTION:MHP in East Scottsdale! Best karaoke spot on the east side with DJ Wonder and YOU! Lets have a great time and sing the night away. Try the Prime rib\, its to sing for! 9pm-1am \nNW Corner\, 9160 E Shea Blvd\, Scottsdale\, AZ 85260 \n+14808604003
URL:https://www.maddhatterpro.com/event/92nd-st-cafe-karaoke/2030-01-12/
LOCATION:92nd Street Cafe\, 9160 E Shea Blvd\, Scottsdale\, AZ\, 85260\, United States
CATEGORIES:DJ Wonder,Karaoke
ATTACH;FMTTYPE=image/jpeg:https://www.maddhatterpro.com/wp-content/uploads/2026/02/92st-scottsdale.jpg
END:VEVENT
BEGIN:VEVENT
DTSTART;TZID=UTC:20300118T210000
DTEND;TZID=UTC:20300118T210000
DTSTAMP:20260425T201136
CREATED:20250704T012040Z
LAST-MODIFIED:20260206T144628Z
UID:10024546-1895000400-1895000400@www.maddhatterpro.com
SUMMARY:92nd St Cafe Karaoke
DESCRIPTION:MHP in East Scottsdale! Best karaoke spot on the east side with DJ Wonder and YOU! Lets have a great time and sing the night away. Try the Prime rib\, its to sing for! 9pm-1am \nNW Corner\, 9160 E Shea Blvd\, Scottsdale\, AZ 85260 \n+14808604003
URL:https://www.maddhatterpro.com/event/92nd-st-cafe-karaoke/2030-01-18/
LOCATION:92nd Street Cafe\, 9160 E Shea Blvd\, Scottsdale\, AZ\, 85260\, United States
CATEGORIES:DJ Wonder,Karaoke
ATTACH;FMTTYPE=image/jpeg:https://www.maddhatterpro.com/wp-content/uploads/2026/02/92st-scottsdale.jpg
END:VEVENT
BEGIN:VEVENT
DTSTART;TZID=UTC:20300119T210000
DTEND;TZID=UTC:20300119T210000
DTSTAMP:20260425T201136
CREATED:20250704T012040Z
LAST-MODIFIED:20260206T144628Z
UID:10024547-1895086800-1895086800@www.maddhatterpro.com
SUMMARY:92nd St Cafe Karaoke
DESCRIPTION:MHP in East Scottsdale! Best karaoke spot on the east side with DJ Wonder and YOU! Lets have a great time and sing the night away. Try the Prime rib\, its to sing for! 9pm-1am \nNW Corner\, 9160 E Shea Blvd\, Scottsdale\, AZ 85260 \n+14808604003
URL:https://www.maddhatterpro.com/event/92nd-st-cafe-karaoke/2030-01-19/
LOCATION:92nd Street Cafe\, 9160 E Shea Blvd\, Scottsdale\, AZ\, 85260\, United States
CATEGORIES:DJ Wonder,Karaoke
ATTACH;FMTTYPE=image/jpeg:https://www.maddhatterpro.com/wp-content/uploads/2026/02/92st-scottsdale.jpg
END:VEVENT
BEGIN:VEVENT
DTSTART;TZID=UTC:20300125T210000
DTEND;TZID=UTC:20300125T210000
DTSTAMP:20260425T201136
CREATED:20250704T012040Z
LAST-MODIFIED:20260206T144628Z
UID:10024548-1895605200-1895605200@www.maddhatterpro.com
SUMMARY:92nd St Cafe Karaoke
DESCRIPTION:MHP in East Scottsdale! Best karaoke spot on the east side with DJ Wonder and YOU! Lets have a great time and sing the night away. Try the Prime rib\, its to sing for! 9pm-1am \nNW Corner\, 9160 E Shea Blvd\, Scottsdale\, AZ 85260 \n+14808604003
URL:https://www.maddhatterpro.com/event/92nd-st-cafe-karaoke/2030-01-25/
LOCATION:92nd Street Cafe\, 9160 E Shea Blvd\, Scottsdale\, AZ\, 85260\, United States
CATEGORIES:DJ Wonder,Karaoke
ATTACH;FMTTYPE=image/jpeg:https://www.maddhatterpro.com/wp-content/uploads/2026/02/92st-scottsdale.jpg
END:VEVENT
BEGIN:VEVENT
DTSTART;TZID=UTC:20300126T210000
DTEND;TZID=UTC:20300126T210000
DTSTAMP:20260425T201136
CREATED:20250704T012040Z
LAST-MODIFIED:20260206T144628Z
UID:10024549-1895691600-1895691600@www.maddhatterpro.com
SUMMARY:92nd St Cafe Karaoke
DESCRIPTION:MHP in East Scottsdale! Best karaoke spot on the east side with DJ Wonder and YOU! Lets have a great time and sing the night away. Try the Prime rib\, its to sing for! 9pm-1am \nNW Corner\, 9160 E Shea Blvd\, Scottsdale\, AZ 85260 \n+14808604003
URL:https://www.maddhatterpro.com/event/92nd-st-cafe-karaoke/2030-01-26/
LOCATION:92nd Street Cafe\, 9160 E Shea Blvd\, Scottsdale\, AZ\, 85260\, United States
CATEGORIES:DJ Wonder,Karaoke
ATTACH;FMTTYPE=image/jpeg:https://www.maddhatterpro.com/wp-content/uploads/2026/02/92st-scottsdale.jpg
END:VEVENT
BEGIN:VEVENT
DTSTART;TZID=UTC:20300201T210000
DTEND;TZID=UTC:20300201T210000
DTSTAMP:20260425T201136
CREATED:20250704T012040Z
LAST-MODIFIED:20260206T144628Z
UID:10024550-1896210000-1896210000@www.maddhatterpro.com
SUMMARY:92nd St Cafe Karaoke
DESCRIPTION:MHP in East Scottsdale! Best karaoke spot on the east side with DJ Wonder and YOU! Lets have a great time and sing the night away. Try the Prime rib\, its to sing for! 9pm-1am \nNW Corner\, 9160 E Shea Blvd\, Scottsdale\, AZ 85260 \n+14808604003
URL:https://www.maddhatterpro.com/event/92nd-st-cafe-karaoke/2030-02-01/
LOCATION:92nd Street Cafe\, 9160 E Shea Blvd\, Scottsdale\, AZ\, 85260\, United States
CATEGORIES:DJ Wonder,Karaoke
ATTACH;FMTTYPE=image/jpeg:https://www.maddhatterpro.com/wp-content/uploads/2026/02/92st-scottsdale.jpg
END:VEVENT
BEGIN:VEVENT
DTSTART;TZID=UTC:20300202T210000
DTEND;TZID=UTC:20300202T210000
DTSTAMP:20260425T201136
CREATED:20250704T012040Z
LAST-MODIFIED:20260206T144628Z
UID:10024551-1896296400-1896296400@www.maddhatterpro.com
SUMMARY:92nd St Cafe Karaoke
DESCRIPTION:MHP in East Scottsdale! Best karaoke spot on the east side with DJ Wonder and YOU! Lets have a great time and sing the night away. Try the Prime rib\, its to sing for! 9pm-1am \nNW Corner\, 9160 E Shea Blvd\, Scottsdale\, AZ 85260 \n+14808604003
URL:https://www.maddhatterpro.com/event/92nd-st-cafe-karaoke/2030-02-02/
LOCATION:92nd Street Cafe\, 9160 E Shea Blvd\, Scottsdale\, AZ\, 85260\, United States
CATEGORIES:DJ Wonder,Karaoke
ATTACH;FMTTYPE=image/jpeg:https://www.maddhatterpro.com/wp-content/uploads/2026/02/92st-scottsdale.jpg
END:VEVENT
BEGIN:VEVENT
DTSTART;TZID=UTC:20300208T210000
DTEND;TZID=UTC:20300208T210000
DTSTAMP:20260425T201136
CREATED:20250704T012040Z
LAST-MODIFIED:20260206T144628Z
UID:10024552-1896814800-1896814800@www.maddhatterpro.com
SUMMARY:92nd St Cafe Karaoke
DESCRIPTION:MHP in East Scottsdale! Best karaoke spot on the east side with DJ Wonder and YOU! Lets have a great time and sing the night away. Try the Prime rib\, its to sing for! 9pm-1am \nNW Corner\, 9160 E Shea Blvd\, Scottsdale\, AZ 85260 \n+14808604003
URL:https://www.maddhatterpro.com/event/92nd-st-cafe-karaoke/2030-02-08/
LOCATION:92nd Street Cafe\, 9160 E Shea Blvd\, Scottsdale\, AZ\, 85260\, United States
CATEGORIES:DJ Wonder,Karaoke
ATTACH;FMTTYPE=image/jpeg:https://www.maddhatterpro.com/wp-content/uploads/2026/02/92st-scottsdale.jpg
END:VEVENT
BEGIN:VEVENT
DTSTART;TZID=UTC:20300209T210000
DTEND;TZID=UTC:20300209T210000
DTSTAMP:20260425T201136
CREATED:20250704T012040Z
LAST-MODIFIED:20260206T144628Z
UID:10024553-1896901200-1896901200@www.maddhatterpro.com
SUMMARY:92nd St Cafe Karaoke
DESCRIPTION:MHP in East Scottsdale! Best karaoke spot on the east side with DJ Wonder and YOU! Lets have a great time and sing the night away. Try the Prime rib\, its to sing for! 9pm-1am \nNW Corner\, 9160 E Shea Blvd\, Scottsdale\, AZ 85260 \n+14808604003
URL:https://www.maddhatterpro.com/event/92nd-st-cafe-karaoke/2030-02-09/
LOCATION:92nd Street Cafe\, 9160 E Shea Blvd\, Scottsdale\, AZ\, 85260\, United States
CATEGORIES:DJ Wonder,Karaoke
ATTACH;FMTTYPE=image/jpeg:https://www.maddhatterpro.com/wp-content/uploads/2026/02/92st-scottsdale.jpg
END:VEVENT
BEGIN:VEVENT
DTSTART;TZID=UTC:20300215T210000
DTEND;TZID=UTC:20300215T210000
DTSTAMP:20260425T201136
CREATED:20250704T012040Z
LAST-MODIFIED:20260206T144628Z
UID:10024554-1897419600-1897419600@www.maddhatterpro.com
SUMMARY:92nd St Cafe Karaoke
DESCRIPTION:MHP in East Scottsdale! Best karaoke spot on the east side with DJ Wonder and YOU! Lets have a great time and sing the night away. Try the Prime rib\, its to sing for! 9pm-1am \nNW Corner\, 9160 E Shea Blvd\, Scottsdale\, AZ 85260 \n+14808604003
URL:https://www.maddhatterpro.com/event/92nd-st-cafe-karaoke/2030-02-15/
LOCATION:92nd Street Cafe\, 9160 E Shea Blvd\, Scottsdale\, AZ\, 85260\, United States
CATEGORIES:DJ Wonder,Karaoke
ATTACH;FMTTYPE=image/jpeg:https://www.maddhatterpro.com/wp-content/uploads/2026/02/92st-scottsdale.jpg
END:VEVENT
BEGIN:VEVENT
DTSTART;TZID=UTC:20300216T210000
DTEND;TZID=UTC:20300216T210000
DTSTAMP:20260425T201136
CREATED:20250704T012040Z
LAST-MODIFIED:20260206T144628Z
UID:10024555-1897506000-1897506000@www.maddhatterpro.com
SUMMARY:92nd St Cafe Karaoke
DESCRIPTION:MHP in East Scottsdale! Best karaoke spot on the east side with DJ Wonder and YOU! Lets have a great time and sing the night away. Try the Prime rib\, its to sing for! 9pm-1am \nNW Corner\, 9160 E Shea Blvd\, Scottsdale\, AZ 85260 \n+14808604003
URL:https://www.maddhatterpro.com/event/92nd-st-cafe-karaoke/2030-02-16/
LOCATION:92nd Street Cafe\, 9160 E Shea Blvd\, Scottsdale\, AZ\, 85260\, United States
CATEGORIES:DJ Wonder,Karaoke
ATTACH;FMTTYPE=image/jpeg:https://www.maddhatterpro.com/wp-content/uploads/2026/02/92st-scottsdale.jpg
END:VEVENT
BEGIN:VEVENT
DTSTART;TZID=UTC:20300222T210000
DTEND;TZID=UTC:20300222T210000
DTSTAMP:20260425T201136
CREATED:20250704T012040Z
LAST-MODIFIED:20260206T144628Z
UID:10024556-1898024400-1898024400@www.maddhatterpro.com
SUMMARY:92nd St Cafe Karaoke
DESCRIPTION:MHP in East Scottsdale! Best karaoke spot on the east side with DJ Wonder and YOU! Lets have a great time and sing the night away. Try the Prime rib\, its to sing for! 9pm-1am \nNW Corner\, 9160 E Shea Blvd\, Scottsdale\, AZ 85260 \n+14808604003
URL:https://www.maddhatterpro.com/event/92nd-st-cafe-karaoke/2030-02-22/
LOCATION:92nd Street Cafe\, 9160 E Shea Blvd\, Scottsdale\, AZ\, 85260\, United States
CATEGORIES:DJ Wonder,Karaoke
ATTACH;FMTTYPE=image/jpeg:https://www.maddhatterpro.com/wp-content/uploads/2026/02/92st-scottsdale.jpg
END:VEVENT
BEGIN:VEVENT
DTSTART;TZID=UTC:20300223T210000
DTEND;TZID=UTC:20300223T210000
DTSTAMP:20260425T201136
CREATED:20250704T012040Z
LAST-MODIFIED:20260206T144628Z
UID:10024557-1898110800-1898110800@www.maddhatterpro.com
SUMMARY:92nd St Cafe Karaoke
DESCRIPTION:MHP in East Scottsdale! Best karaoke spot on the east side with DJ Wonder and YOU! Lets have a great time and sing the night away. Try the Prime rib\, its to sing for! 9pm-1am \nNW Corner\, 9160 E Shea Blvd\, Scottsdale\, AZ 85260 \n+14808604003
URL:https://www.maddhatterpro.com/event/92nd-st-cafe-karaoke/2030-02-23/
LOCATION:92nd Street Cafe\, 9160 E Shea Blvd\, Scottsdale\, AZ\, 85260\, United States
CATEGORIES:DJ Wonder,Karaoke
ATTACH;FMTTYPE=image/jpeg:https://www.maddhatterpro.com/wp-content/uploads/2026/02/92st-scottsdale.jpg
END:VEVENT
BEGIN:VEVENT
DTSTART;TZID=UTC:20300301T210000
DTEND;TZID=UTC:20300301T210000
DTSTAMP:20260425T201136
CREATED:20250704T012040Z
LAST-MODIFIED:20260206T144628Z
UID:10024558-1898629200-1898629200@www.maddhatterpro.com
SUMMARY:92nd St Cafe Karaoke
DESCRIPTION:MHP in East Scottsdale! Best karaoke spot on the east side with DJ Wonder and YOU! Lets have a great time and sing the night away. Try the Prime rib\, its to sing for! 9pm-1am \nNW Corner\, 9160 E Shea Blvd\, Scottsdale\, AZ 85260 \n+14808604003
URL:https://www.maddhatterpro.com/event/92nd-st-cafe-karaoke/2030-03-01/
LOCATION:92nd Street Cafe\, 9160 E Shea Blvd\, Scottsdale\, AZ\, 85260\, United States
CATEGORIES:DJ Wonder,Karaoke
ATTACH;FMTTYPE=image/jpeg:https://www.maddhatterpro.com/wp-content/uploads/2026/02/92st-scottsdale.jpg
END:VEVENT
BEGIN:VEVENT
DTSTART;TZID=UTC:20300302T210000
DTEND;TZID=UTC:20300302T210000
DTSTAMP:20260425T201136
CREATED:20250704T012040Z
LAST-MODIFIED:20260206T144628Z
UID:10024559-1898715600-1898715600@www.maddhatterpro.com
SUMMARY:92nd St Cafe Karaoke
DESCRIPTION:MHP in East Scottsdale! Best karaoke spot on the east side with DJ Wonder and YOU! Lets have a great time and sing the night away. Try the Prime rib\, its to sing for! 9pm-1am \nNW Corner\, 9160 E Shea Blvd\, Scottsdale\, AZ 85260 \n+14808604003
URL:https://www.maddhatterpro.com/event/92nd-st-cafe-karaoke/2030-03-02/
LOCATION:92nd Street Cafe\, 9160 E Shea Blvd\, Scottsdale\, AZ\, 85260\, United States
CATEGORIES:DJ Wonder,Karaoke
ATTACH;FMTTYPE=image/jpeg:https://www.maddhatterpro.com/wp-content/uploads/2026/02/92st-scottsdale.jpg
END:VEVENT
BEGIN:VEVENT
DTSTART;TZID=UTC:20300308T210000
DTEND;TZID=UTC:20300308T210000
DTSTAMP:20260425T201136
CREATED:20250704T012040Z
LAST-MODIFIED:20260206T144628Z
UID:10024560-1899234000-1899234000@www.maddhatterpro.com
SUMMARY:92nd St Cafe Karaoke
DESCRIPTION:MHP in East Scottsdale! Best karaoke spot on the east side with DJ Wonder and YOU! Lets have a great time and sing the night away. Try the Prime rib\, its to sing for! 9pm-1am \nNW Corner\, 9160 E Shea Blvd\, Scottsdale\, AZ 85260 \n+14808604003
URL:https://www.maddhatterpro.com/event/92nd-st-cafe-karaoke/2030-03-08/
LOCATION:92nd Street Cafe\, 9160 E Shea Blvd\, Scottsdale\, AZ\, 85260\, United States
CATEGORIES:DJ Wonder,Karaoke
ATTACH;FMTTYPE=image/jpeg:https://www.maddhatterpro.com/wp-content/uploads/2026/02/92st-scottsdale.jpg
END:VEVENT
BEGIN:VEVENT
DTSTART;TZID=UTC:20300309T210000
DTEND;TZID=UTC:20300309T210000
DTSTAMP:20260425T201136
CREATED:20250704T012040Z
LAST-MODIFIED:20260206T144628Z
UID:10024561-1899320400-1899320400@www.maddhatterpro.com
SUMMARY:92nd St Cafe Karaoke
DESCRIPTION:MHP in East Scottsdale! Best karaoke spot on the east side with DJ Wonder and YOU! Lets have a great time and sing the night away. Try the Prime rib\, its to sing for! 9pm-1am \nNW Corner\, 9160 E Shea Blvd\, Scottsdale\, AZ 85260 \n+14808604003
URL:https://www.maddhatterpro.com/event/92nd-st-cafe-karaoke/2030-03-09/
LOCATION:92nd Street Cafe\, 9160 E Shea Blvd\, Scottsdale\, AZ\, 85260\, United States
CATEGORIES:DJ Wonder,Karaoke
ATTACH;FMTTYPE=image/jpeg:https://www.maddhatterpro.com/wp-content/uploads/2026/02/92st-scottsdale.jpg
END:VEVENT
BEGIN:VEVENT
DTSTART;TZID=UTC:20300315T210000
DTEND;TZID=UTC:20300315T210000
DTSTAMP:20260425T201136
CREATED:20250704T012040Z
LAST-MODIFIED:20260206T144628Z
UID:10024562-1899838800-1899838800@www.maddhatterpro.com
SUMMARY:92nd St Cafe Karaoke
DESCRIPTION:MHP in East Scottsdale! Best karaoke spot on the east side with DJ Wonder and YOU! Lets have a great time and sing the night away. Try the Prime rib\, its to sing for! 9pm-1am \nNW Corner\, 9160 E Shea Blvd\, Scottsdale\, AZ 85260 \n+14808604003
URL:https://www.maddhatterpro.com/event/92nd-st-cafe-karaoke/2030-03-15/
LOCATION:92nd Street Cafe\, 9160 E Shea Blvd\, Scottsdale\, AZ\, 85260\, United States
CATEGORIES:DJ Wonder,Karaoke
ATTACH;FMTTYPE=image/jpeg:https://www.maddhatterpro.com/wp-content/uploads/2026/02/92st-scottsdale.jpg
END:VEVENT
BEGIN:VEVENT
DTSTART;TZID=UTC:20300316T210000
DTEND;TZID=UTC:20300316T210000
DTSTAMP:20260425T201136
CREATED:20250704T012040Z
LAST-MODIFIED:20260206T144628Z
UID:10024563-1899925200-1899925200@www.maddhatterpro.com
SUMMARY:92nd St Cafe Karaoke
DESCRIPTION:MHP in East Scottsdale! Best karaoke spot on the east side with DJ Wonder and YOU! Lets have a great time and sing the night away. Try the Prime rib\, its to sing for! 9pm-1am \nNW Corner\, 9160 E Shea Blvd\, Scottsdale\, AZ 85260 \n+14808604003
URL:https://www.maddhatterpro.com/event/92nd-st-cafe-karaoke/2030-03-16/
LOCATION:92nd Street Cafe\, 9160 E Shea Blvd\, Scottsdale\, AZ\, 85260\, United States
CATEGORIES:DJ Wonder,Karaoke
ATTACH;FMTTYPE=image/jpeg:https://www.maddhatterpro.com/wp-content/uploads/2026/02/92st-scottsdale.jpg
END:VEVENT
BEGIN:VEVENT
DTSTART;TZID=UTC:20300322T210000
DTEND;TZID=UTC:20300322T210000
DTSTAMP:20260425T201136
CREATED:20250704T012040Z
LAST-MODIFIED:20260206T144628Z
UID:10024564-1900443600-1900443600@www.maddhatterpro.com
SUMMARY:92nd St Cafe Karaoke
DESCRIPTION:MHP in East Scottsdale! Best karaoke spot on the east side with DJ Wonder and YOU! Lets have a great time and sing the night away. Try the Prime rib\, its to sing for! 9pm-1am \nNW Corner\, 9160 E Shea Blvd\, Scottsdale\, AZ 85260 \n+14808604003
URL:https://www.maddhatterpro.com/event/92nd-st-cafe-karaoke/2030-03-22/
LOCATION:92nd Street Cafe\, 9160 E Shea Blvd\, Scottsdale\, AZ\, 85260\, United States
CATEGORIES:DJ Wonder,Karaoke
ATTACH;FMTTYPE=image/jpeg:https://www.maddhatterpro.com/wp-content/uploads/2026/02/92st-scottsdale.jpg
END:VEVENT
BEGIN:VEVENT
DTSTART;TZID=UTC:20300323T210000
DTEND;TZID=UTC:20300323T210000
DTSTAMP:20260425T201136
CREATED:20250704T012040Z
LAST-MODIFIED:20260206T144628Z
UID:10024565-1900530000-1900530000@www.maddhatterpro.com
SUMMARY:92nd St Cafe Karaoke
DESCRIPTION:MHP in East Scottsdale! Best karaoke spot on the east side with DJ Wonder and YOU! Lets have a great time and sing the night away. Try the Prime rib\, its to sing for! 9pm-1am \nNW Corner\, 9160 E Shea Blvd\, Scottsdale\, AZ 85260 \n+14808604003
URL:https://www.maddhatterpro.com/event/92nd-st-cafe-karaoke/2030-03-23/
LOCATION:92nd Street Cafe\, 9160 E Shea Blvd\, Scottsdale\, AZ\, 85260\, United States
CATEGORIES:DJ Wonder,Karaoke
ATTACH;FMTTYPE=image/jpeg:https://www.maddhatterpro.com/wp-content/uploads/2026/02/92st-scottsdale.jpg
END:VEVENT
BEGIN:VEVENT
DTSTART;TZID=UTC:20300329T210000
DTEND;TZID=UTC:20300329T210000
DTSTAMP:20260425T201136
CREATED:20250704T012040Z
LAST-MODIFIED:20260206T144628Z
UID:10024566-1901048400-1901048400@www.maddhatterpro.com
SUMMARY:92nd St Cafe Karaoke
DESCRIPTION:MHP in East Scottsdale! Best karaoke spot on the east side with DJ Wonder and YOU! Lets have a great time and sing the night away. Try the Prime rib\, its to sing for! 9pm-1am \nNW Corner\, 9160 E Shea Blvd\, Scottsdale\, AZ 85260 \n+14808604003
URL:https://www.maddhatterpro.com/event/92nd-st-cafe-karaoke/2030-03-29/
LOCATION:92nd Street Cafe\, 9160 E Shea Blvd\, Scottsdale\, AZ\, 85260\, United States
CATEGORIES:DJ Wonder,Karaoke
ATTACH;FMTTYPE=image/jpeg:https://www.maddhatterpro.com/wp-content/uploads/2026/02/92st-scottsdale.jpg
END:VEVENT
BEGIN:VEVENT
DTSTART;TZID=UTC:20300330T210000
DTEND;TZID=UTC:20300330T210000
DTSTAMP:20260425T201136
CREATED:20250704T012040Z
LAST-MODIFIED:20260206T144628Z
UID:10024567-1901134800-1901134800@www.maddhatterpro.com
SUMMARY:92nd St Cafe Karaoke
DESCRIPTION:MHP in East Scottsdale! Best karaoke spot on the east side with DJ Wonder and YOU! Lets have a great time and sing the night away. Try the Prime rib\, its to sing for! 9pm-1am \nNW Corner\, 9160 E Shea Blvd\, Scottsdale\, AZ 85260 \n+14808604003
URL:https://www.maddhatterpro.com/event/92nd-st-cafe-karaoke/2030-03-30/
LOCATION:92nd Street Cafe\, 9160 E Shea Blvd\, Scottsdale\, AZ\, 85260\, United States
CATEGORIES:DJ Wonder,Karaoke
ATTACH;FMTTYPE=image/jpeg:https://www.maddhatterpro.com/wp-content/uploads/2026/02/92st-scottsdale.jpg
END:VEVENT
BEGIN:VEVENT
DTSTART;TZID=UTC:20300405T210000
DTEND;TZID=UTC:20300405T210000
DTSTAMP:20260425T201136
CREATED:20250704T012040Z
LAST-MODIFIED:20260206T144628Z
UID:10024568-1901653200-1901653200@www.maddhatterpro.com
SUMMARY:92nd St Cafe Karaoke
DESCRIPTION:MHP in East Scottsdale! Best karaoke spot on the east side with DJ Wonder and YOU! Lets have a great time and sing the night away. Try the Prime rib\, its to sing for! 9pm-1am \nNW Corner\, 9160 E Shea Blvd\, Scottsdale\, AZ 85260 \n+14808604003
URL:https://www.maddhatterpro.com/event/92nd-st-cafe-karaoke/2030-04-05/
LOCATION:92nd Street Cafe\, 9160 E Shea Blvd\, Scottsdale\, AZ\, 85260\, United States
CATEGORIES:DJ Wonder,Karaoke
ATTACH;FMTTYPE=image/jpeg:https://www.maddhatterpro.com/wp-content/uploads/2026/02/92st-scottsdale.jpg
END:VEVENT
BEGIN:VEVENT
DTSTART;TZID=UTC:20300406T210000
DTEND;TZID=UTC:20300406T210000
DTSTAMP:20260425T201136
CREATED:20250704T012040Z
LAST-MODIFIED:20260206T144628Z
UID:10024569-1901739600-1901739600@www.maddhatterpro.com
SUMMARY:92nd St Cafe Karaoke
DESCRIPTION:MHP in East Scottsdale! Best karaoke spot on the east side with DJ Wonder and YOU! Lets have a great time and sing the night away. Try the Prime rib\, its to sing for! 9pm-1am \nNW Corner\, 9160 E Shea Blvd\, Scottsdale\, AZ 85260 \n+14808604003
URL:https://www.maddhatterpro.com/event/92nd-st-cafe-karaoke/2030-04-06/
LOCATION:92nd Street Cafe\, 9160 E Shea Blvd\, Scottsdale\, AZ\, 85260\, United States
CATEGORIES:DJ Wonder,Karaoke
ATTACH;FMTTYPE=image/jpeg:https://www.maddhatterpro.com/wp-content/uploads/2026/02/92st-scottsdale.jpg
END:VEVENT
BEGIN:VEVENT
DTSTART;TZID=UTC:20300412T210000
DTEND;TZID=UTC:20300412T210000
DTSTAMP:20260425T201136
CREATED:20250704T012040Z
LAST-MODIFIED:20260206T144628Z
UID:10024570-1902258000-1902258000@www.maddhatterpro.com
SUMMARY:92nd St Cafe Karaoke
DESCRIPTION:MHP in East Scottsdale! Best karaoke spot on the east side with DJ Wonder and YOU! Lets have a great time and sing the night away. Try the Prime rib\, its to sing for! 9pm-1am \nNW Corner\, 9160 E Shea Blvd\, Scottsdale\, AZ 85260 \n+14808604003
URL:https://www.maddhatterpro.com/event/92nd-st-cafe-karaoke/2030-04-12/
LOCATION:92nd Street Cafe\, 9160 E Shea Blvd\, Scottsdale\, AZ\, 85260\, United States
CATEGORIES:DJ Wonder,Karaoke
ATTACH;FMTTYPE=image/jpeg:https://www.maddhatterpro.com/wp-content/uploads/2026/02/92st-scottsdale.jpg
END:VEVENT
END:VCALENDAR