BEGIN:VCALENDAR
VERSION:2.0
PRODID:-//MaddHatterPro.com - ECPv6.15.20//NONSGML v1.0//EN
CALSCALE:GREGORIAN
METHOD:PUBLISH
X-WR-CALNAME:MaddHatterPro.com
X-ORIGINAL-URL:https://www.maddhatterpro.com
X-WR-CALDESC:Events for MaddHatterPro.com
REFRESH-INTERVAL;VALUE=DURATION:PT1H
X-Robots-Tag:noindex
X-PUBLISHED-TTL:PT1H
BEGIN:VTIMEZONE
TZID:UTC
BEGIN:STANDARD
TZOFFSETFROM:+0000
TZOFFSETTO:+0000
TZNAME:UTC
DTSTART:20280101T000000
END:STANDARD
END:VTIMEZONE
BEGIN:VEVENT
DTSTART;TZID=UTC:20290127T210000
DTEND;TZID=UTC:20290127T210000
DTSTAMP:20260425T035537
CREATED:20250703T233325Z
LAST-MODIFIED:20260206T144355Z
UID:10020525-1864242000-1864242000@www.maddhatterpro.com
SUMMARY:Pullanos Pizza
DESCRIPTION:Glendale’s best karaoke spot! The Amazing KJ Zondo in the house\, 9pm-1am. Amazing staff\, amazing foods\, and amazing singers –  but only when YOU take the stage. \n13848 N 51st Ave\, Glendale\, AZ 85306 \n+16029781234
URL:https://www.maddhatterpro.com/event/pullanos-pizza/2029-01-27/
LOCATION:Pullanos Pizza\, 13848 N 51st Ave\, Glendale\, AZ\, 85306\, United States
CATEGORIES:Karaoke,KJ Zondo
ATTACH;FMTTYPE=image/jpeg:https://www.maddhatterpro.com/wp-content/uploads/2026/02/Pullanos-Glendale.jpg
END:VEVENT
BEGIN:VEVENT
DTSTART;TZID=UTC:20290201T210000
DTEND;TZID=UTC:20290201T210000
DTSTAMP:20260425T035537
CREATED:20250703T233325Z
LAST-MODIFIED:20260206T144355Z
UID:10020526-1864674000-1864674000@www.maddhatterpro.com
SUMMARY:Pullanos Pizza
DESCRIPTION:Glendale’s best karaoke spot! The Amazing KJ Zondo in the house\, 9pm-1am. Amazing staff\, amazing foods\, and amazing singers –  but only when YOU take the stage. \n13848 N 51st Ave\, Glendale\, AZ 85306 \n+16029781234
URL:https://www.maddhatterpro.com/event/pullanos-pizza/2029-02-01/
LOCATION:Pullanos Pizza\, 13848 N 51st Ave\, Glendale\, AZ\, 85306\, United States
CATEGORIES:Karaoke,KJ Zondo
ATTACH;FMTTYPE=image/jpeg:https://www.maddhatterpro.com/wp-content/uploads/2026/02/Pullanos-Glendale.jpg
END:VEVENT
BEGIN:VEVENT
DTSTART;TZID=UTC:20290203T210000
DTEND;TZID=UTC:20290203T210000
DTSTAMP:20260425T035537
CREATED:20250703T233325Z
LAST-MODIFIED:20260206T144355Z
UID:10020527-1864846800-1864846800@www.maddhatterpro.com
SUMMARY:Pullanos Pizza
DESCRIPTION:Glendale’s best karaoke spot! The Amazing KJ Zondo in the house\, 9pm-1am. Amazing staff\, amazing foods\, and amazing singers –  but only when YOU take the stage. \n13848 N 51st Ave\, Glendale\, AZ 85306 \n+16029781234
URL:https://www.maddhatterpro.com/event/pullanos-pizza/2029-02-03/
LOCATION:Pullanos Pizza\, 13848 N 51st Ave\, Glendale\, AZ\, 85306\, United States
CATEGORIES:Karaoke,KJ Zondo
ATTACH;FMTTYPE=image/jpeg:https://www.maddhatterpro.com/wp-content/uploads/2026/02/Pullanos-Glendale.jpg
END:VEVENT
BEGIN:VEVENT
DTSTART;TZID=UTC:20290208T210000
DTEND;TZID=UTC:20290208T210000
DTSTAMP:20260425T035537
CREATED:20250703T233325Z
LAST-MODIFIED:20260206T144355Z
UID:10020528-1865278800-1865278800@www.maddhatterpro.com
SUMMARY:Pullanos Pizza
DESCRIPTION:Glendale’s best karaoke spot! The Amazing KJ Zondo in the house\, 9pm-1am. Amazing staff\, amazing foods\, and amazing singers –  but only when YOU take the stage. \n13848 N 51st Ave\, Glendale\, AZ 85306 \n+16029781234
URL:https://www.maddhatterpro.com/event/pullanos-pizza/2029-02-08/
LOCATION:Pullanos Pizza\, 13848 N 51st Ave\, Glendale\, AZ\, 85306\, United States
CATEGORIES:Karaoke,KJ Zondo
ATTACH;FMTTYPE=image/jpeg:https://www.maddhatterpro.com/wp-content/uploads/2026/02/Pullanos-Glendale.jpg
END:VEVENT
BEGIN:VEVENT
DTSTART;TZID=UTC:20290210T210000
DTEND;TZID=UTC:20290210T210000
DTSTAMP:20260425T035537
CREATED:20250703T233325Z
LAST-MODIFIED:20260206T144355Z
UID:10020529-1865451600-1865451600@www.maddhatterpro.com
SUMMARY:Pullanos Pizza
DESCRIPTION:Glendale’s best karaoke spot! The Amazing KJ Zondo in the house\, 9pm-1am. Amazing staff\, amazing foods\, and amazing singers –  but only when YOU take the stage. \n13848 N 51st Ave\, Glendale\, AZ 85306 \n+16029781234
URL:https://www.maddhatterpro.com/event/pullanos-pizza/2029-02-10/
LOCATION:Pullanos Pizza\, 13848 N 51st Ave\, Glendale\, AZ\, 85306\, United States
CATEGORIES:Karaoke,KJ Zondo
ATTACH;FMTTYPE=image/jpeg:https://www.maddhatterpro.com/wp-content/uploads/2026/02/Pullanos-Glendale.jpg
END:VEVENT
BEGIN:VEVENT
DTSTART;TZID=UTC:20290215T210000
DTEND;TZID=UTC:20290215T210000
DTSTAMP:20260425T035537
CREATED:20250703T233325Z
LAST-MODIFIED:20260206T144355Z
UID:10020530-1865883600-1865883600@www.maddhatterpro.com
SUMMARY:Pullanos Pizza
DESCRIPTION:Glendale’s best karaoke spot! The Amazing KJ Zondo in the house\, 9pm-1am. Amazing staff\, amazing foods\, and amazing singers –  but only when YOU take the stage. \n13848 N 51st Ave\, Glendale\, AZ 85306 \n+16029781234
URL:https://www.maddhatterpro.com/event/pullanos-pizza/2029-02-15/
LOCATION:Pullanos Pizza\, 13848 N 51st Ave\, Glendale\, AZ\, 85306\, United States
CATEGORIES:Karaoke,KJ Zondo
ATTACH;FMTTYPE=image/jpeg:https://www.maddhatterpro.com/wp-content/uploads/2026/02/Pullanos-Glendale.jpg
END:VEVENT
BEGIN:VEVENT
DTSTART;TZID=UTC:20290217T210000
DTEND;TZID=UTC:20290217T210000
DTSTAMP:20260425T035537
CREATED:20250703T233325Z
LAST-MODIFIED:20260206T144355Z
UID:10020531-1866056400-1866056400@www.maddhatterpro.com
SUMMARY:Pullanos Pizza
DESCRIPTION:Glendale’s best karaoke spot! The Amazing KJ Zondo in the house\, 9pm-1am. Amazing staff\, amazing foods\, and amazing singers –  but only when YOU take the stage. \n13848 N 51st Ave\, Glendale\, AZ 85306 \n+16029781234
URL:https://www.maddhatterpro.com/event/pullanos-pizza/2029-02-17/
LOCATION:Pullanos Pizza\, 13848 N 51st Ave\, Glendale\, AZ\, 85306\, United States
CATEGORIES:Karaoke,KJ Zondo
ATTACH;FMTTYPE=image/jpeg:https://www.maddhatterpro.com/wp-content/uploads/2026/02/Pullanos-Glendale.jpg
END:VEVENT
BEGIN:VEVENT
DTSTART;TZID=UTC:20290222T210000
DTEND;TZID=UTC:20290222T210000
DTSTAMP:20260425T035537
CREATED:20250703T233325Z
LAST-MODIFIED:20260206T144355Z
UID:10020532-1866488400-1866488400@www.maddhatterpro.com
SUMMARY:Pullanos Pizza
DESCRIPTION:Glendale’s best karaoke spot! The Amazing KJ Zondo in the house\, 9pm-1am. Amazing staff\, amazing foods\, and amazing singers –  but only when YOU take the stage. \n13848 N 51st Ave\, Glendale\, AZ 85306 \n+16029781234
URL:https://www.maddhatterpro.com/event/pullanos-pizza/2029-02-22/
LOCATION:Pullanos Pizza\, 13848 N 51st Ave\, Glendale\, AZ\, 85306\, United States
CATEGORIES:Karaoke,KJ Zondo
ATTACH;FMTTYPE=image/jpeg:https://www.maddhatterpro.com/wp-content/uploads/2026/02/Pullanos-Glendale.jpg
END:VEVENT
BEGIN:VEVENT
DTSTART;TZID=UTC:20290224T210000
DTEND;TZID=UTC:20290224T210000
DTSTAMP:20260425T035537
CREATED:20250703T233325Z
LAST-MODIFIED:20260206T144355Z
UID:10020533-1866661200-1866661200@www.maddhatterpro.com
SUMMARY:Pullanos Pizza
DESCRIPTION:Glendale’s best karaoke spot! The Amazing KJ Zondo in the house\, 9pm-1am. Amazing staff\, amazing foods\, and amazing singers –  but only when YOU take the stage. \n13848 N 51st Ave\, Glendale\, AZ 85306 \n+16029781234
URL:https://www.maddhatterpro.com/event/pullanos-pizza/2029-02-24/
LOCATION:Pullanos Pizza\, 13848 N 51st Ave\, Glendale\, AZ\, 85306\, United States
CATEGORIES:Karaoke,KJ Zondo
ATTACH;FMTTYPE=image/jpeg:https://www.maddhatterpro.com/wp-content/uploads/2026/02/Pullanos-Glendale.jpg
END:VEVENT
BEGIN:VEVENT
DTSTART;TZID=UTC:20290301T210000
DTEND;TZID=UTC:20290301T210000
DTSTAMP:20260425T035537
CREATED:20250703T233325Z
LAST-MODIFIED:20260206T144355Z
UID:10020534-1867093200-1867093200@www.maddhatterpro.com
SUMMARY:Pullanos Pizza
DESCRIPTION:Glendale’s best karaoke spot! The Amazing KJ Zondo in the house\, 9pm-1am. Amazing staff\, amazing foods\, and amazing singers –  but only when YOU take the stage. \n13848 N 51st Ave\, Glendale\, AZ 85306 \n+16029781234
URL:https://www.maddhatterpro.com/event/pullanos-pizza/2029-03-01/
LOCATION:Pullanos Pizza\, 13848 N 51st Ave\, Glendale\, AZ\, 85306\, United States
CATEGORIES:Karaoke,KJ Zondo
ATTACH;FMTTYPE=image/jpeg:https://www.maddhatterpro.com/wp-content/uploads/2026/02/Pullanos-Glendale.jpg
END:VEVENT
BEGIN:VEVENT
DTSTART;TZID=UTC:20290303T210000
DTEND;TZID=UTC:20290303T210000
DTSTAMP:20260425T035537
CREATED:20250703T233325Z
LAST-MODIFIED:20260206T144355Z
UID:10020535-1867266000-1867266000@www.maddhatterpro.com
SUMMARY:Pullanos Pizza
DESCRIPTION:Glendale’s best karaoke spot! The Amazing KJ Zondo in the house\, 9pm-1am. Amazing staff\, amazing foods\, and amazing singers –  but only when YOU take the stage. \n13848 N 51st Ave\, Glendale\, AZ 85306 \n+16029781234
URL:https://www.maddhatterpro.com/event/pullanos-pizza/2029-03-03/
LOCATION:Pullanos Pizza\, 13848 N 51st Ave\, Glendale\, AZ\, 85306\, United States
CATEGORIES:Karaoke,KJ Zondo
ATTACH;FMTTYPE=image/jpeg:https://www.maddhatterpro.com/wp-content/uploads/2026/02/Pullanos-Glendale.jpg
END:VEVENT
BEGIN:VEVENT
DTSTART;TZID=UTC:20290308T210000
DTEND;TZID=UTC:20290308T210000
DTSTAMP:20260425T035537
CREATED:20250703T233325Z
LAST-MODIFIED:20260206T144355Z
UID:10020536-1867698000-1867698000@www.maddhatterpro.com
SUMMARY:Pullanos Pizza
DESCRIPTION:Glendale’s best karaoke spot! The Amazing KJ Zondo in the house\, 9pm-1am. Amazing staff\, amazing foods\, and amazing singers –  but only when YOU take the stage. \n13848 N 51st Ave\, Glendale\, AZ 85306 \n+16029781234
URL:https://www.maddhatterpro.com/event/pullanos-pizza/2029-03-08/
LOCATION:Pullanos Pizza\, 13848 N 51st Ave\, Glendale\, AZ\, 85306\, United States
CATEGORIES:Karaoke,KJ Zondo
ATTACH;FMTTYPE=image/jpeg:https://www.maddhatterpro.com/wp-content/uploads/2026/02/Pullanos-Glendale.jpg
END:VEVENT
BEGIN:VEVENT
DTSTART;TZID=UTC:20290310T210000
DTEND;TZID=UTC:20290310T210000
DTSTAMP:20260425T035537
CREATED:20250703T233325Z
LAST-MODIFIED:20260206T144355Z
UID:10020537-1867870800-1867870800@www.maddhatterpro.com
SUMMARY:Pullanos Pizza
DESCRIPTION:Glendale’s best karaoke spot! The Amazing KJ Zondo in the house\, 9pm-1am. Amazing staff\, amazing foods\, and amazing singers –  but only when YOU take the stage. \n13848 N 51st Ave\, Glendale\, AZ 85306 \n+16029781234
URL:https://www.maddhatterpro.com/event/pullanos-pizza/2029-03-10/
LOCATION:Pullanos Pizza\, 13848 N 51st Ave\, Glendale\, AZ\, 85306\, United States
CATEGORIES:Karaoke,KJ Zondo
ATTACH;FMTTYPE=image/jpeg:https://www.maddhatterpro.com/wp-content/uploads/2026/02/Pullanos-Glendale.jpg
END:VEVENT
BEGIN:VEVENT
DTSTART;TZID=UTC:20290315T210000
DTEND;TZID=UTC:20290315T210000
DTSTAMP:20260425T035537
CREATED:20250703T233325Z
LAST-MODIFIED:20260206T144355Z
UID:10020538-1868302800-1868302800@www.maddhatterpro.com
SUMMARY:Pullanos Pizza
DESCRIPTION:Glendale’s best karaoke spot! The Amazing KJ Zondo in the house\, 9pm-1am. Amazing staff\, amazing foods\, and amazing singers –  but only when YOU take the stage. \n13848 N 51st Ave\, Glendale\, AZ 85306 \n+16029781234
URL:https://www.maddhatterpro.com/event/pullanos-pizza/2029-03-15/
LOCATION:Pullanos Pizza\, 13848 N 51st Ave\, Glendale\, AZ\, 85306\, United States
CATEGORIES:Karaoke,KJ Zondo
ATTACH;FMTTYPE=image/jpeg:https://www.maddhatterpro.com/wp-content/uploads/2026/02/Pullanos-Glendale.jpg
END:VEVENT
BEGIN:VEVENT
DTSTART;TZID=UTC:20290317T210000
DTEND;TZID=UTC:20290317T210000
DTSTAMP:20260425T035537
CREATED:20250703T233325Z
LAST-MODIFIED:20260206T144355Z
UID:10020539-1868475600-1868475600@www.maddhatterpro.com
SUMMARY:Pullanos Pizza
DESCRIPTION:Glendale’s best karaoke spot! The Amazing KJ Zondo in the house\, 9pm-1am. Amazing staff\, amazing foods\, and amazing singers –  but only when YOU take the stage. \n13848 N 51st Ave\, Glendale\, AZ 85306 \n+16029781234
URL:https://www.maddhatterpro.com/event/pullanos-pizza/2029-03-17/
LOCATION:Pullanos Pizza\, 13848 N 51st Ave\, Glendale\, AZ\, 85306\, United States
CATEGORIES:Karaoke,KJ Zondo
ATTACH;FMTTYPE=image/jpeg:https://www.maddhatterpro.com/wp-content/uploads/2026/02/Pullanos-Glendale.jpg
END:VEVENT
BEGIN:VEVENT
DTSTART;TZID=UTC:20290322T210000
DTEND;TZID=UTC:20290322T210000
DTSTAMP:20260425T035537
CREATED:20250703T233325Z
LAST-MODIFIED:20260206T144355Z
UID:10020540-1868907600-1868907600@www.maddhatterpro.com
SUMMARY:Pullanos Pizza
DESCRIPTION:Glendale’s best karaoke spot! The Amazing KJ Zondo in the house\, 9pm-1am. Amazing staff\, amazing foods\, and amazing singers –  but only when YOU take the stage. \n13848 N 51st Ave\, Glendale\, AZ 85306 \n+16029781234
URL:https://www.maddhatterpro.com/event/pullanos-pizza/2029-03-22/
LOCATION:Pullanos Pizza\, 13848 N 51st Ave\, Glendale\, AZ\, 85306\, United States
CATEGORIES:Karaoke,KJ Zondo
ATTACH;FMTTYPE=image/jpeg:https://www.maddhatterpro.com/wp-content/uploads/2026/02/Pullanos-Glendale.jpg
END:VEVENT
BEGIN:VEVENT
DTSTART;TZID=UTC:20290324T210000
DTEND;TZID=UTC:20290324T210000
DTSTAMP:20260425T035537
CREATED:20250703T233325Z
LAST-MODIFIED:20260206T144355Z
UID:10020541-1869080400-1869080400@www.maddhatterpro.com
SUMMARY:Pullanos Pizza
DESCRIPTION:Glendale’s best karaoke spot! The Amazing KJ Zondo in the house\, 9pm-1am. Amazing staff\, amazing foods\, and amazing singers –  but only when YOU take the stage. \n13848 N 51st Ave\, Glendale\, AZ 85306 \n+16029781234
URL:https://www.maddhatterpro.com/event/pullanos-pizza/2029-03-24/
LOCATION:Pullanos Pizza\, 13848 N 51st Ave\, Glendale\, AZ\, 85306\, United States
CATEGORIES:Karaoke,KJ Zondo
ATTACH;FMTTYPE=image/jpeg:https://www.maddhatterpro.com/wp-content/uploads/2026/02/Pullanos-Glendale.jpg
END:VEVENT
BEGIN:VEVENT
DTSTART;TZID=UTC:20290329T210000
DTEND;TZID=UTC:20290329T210000
DTSTAMP:20260425T035537
CREATED:20250703T233325Z
LAST-MODIFIED:20260206T144355Z
UID:10020542-1869512400-1869512400@www.maddhatterpro.com
SUMMARY:Pullanos Pizza
DESCRIPTION:Glendale’s best karaoke spot! The Amazing KJ Zondo in the house\, 9pm-1am. Amazing staff\, amazing foods\, and amazing singers –  but only when YOU take the stage. \n13848 N 51st Ave\, Glendale\, AZ 85306 \n+16029781234
URL:https://www.maddhatterpro.com/event/pullanos-pizza/2029-03-29/
LOCATION:Pullanos Pizza\, 13848 N 51st Ave\, Glendale\, AZ\, 85306\, United States
CATEGORIES:Karaoke,KJ Zondo
ATTACH;FMTTYPE=image/jpeg:https://www.maddhatterpro.com/wp-content/uploads/2026/02/Pullanos-Glendale.jpg
END:VEVENT
BEGIN:VEVENT
DTSTART;TZID=UTC:20290331T210000
DTEND;TZID=UTC:20290331T210000
DTSTAMP:20260425T035537
CREATED:20250703T233325Z
LAST-MODIFIED:20260206T144355Z
UID:10020543-1869685200-1869685200@www.maddhatterpro.com
SUMMARY:Pullanos Pizza
DESCRIPTION:Glendale’s best karaoke spot! The Amazing KJ Zondo in the house\, 9pm-1am. Amazing staff\, amazing foods\, and amazing singers –  but only when YOU take the stage. \n13848 N 51st Ave\, Glendale\, AZ 85306 \n+16029781234
URL:https://www.maddhatterpro.com/event/pullanos-pizza/2029-03-31/
LOCATION:Pullanos Pizza\, 13848 N 51st Ave\, Glendale\, AZ\, 85306\, United States
CATEGORIES:Karaoke,KJ Zondo
ATTACH;FMTTYPE=image/jpeg:https://www.maddhatterpro.com/wp-content/uploads/2026/02/Pullanos-Glendale.jpg
END:VEVENT
BEGIN:VEVENT
DTSTART;TZID=UTC:20290405T210000
DTEND;TZID=UTC:20290405T210000
DTSTAMP:20260425T035537
CREATED:20250703T233325Z
LAST-MODIFIED:20260206T144355Z
UID:10020544-1870117200-1870117200@www.maddhatterpro.com
SUMMARY:Pullanos Pizza
DESCRIPTION:Glendale’s best karaoke spot! The Amazing KJ Zondo in the house\, 9pm-1am. Amazing staff\, amazing foods\, and amazing singers –  but only when YOU take the stage. \n13848 N 51st Ave\, Glendale\, AZ 85306 \n+16029781234
URL:https://www.maddhatterpro.com/event/pullanos-pizza/2029-04-05/
LOCATION:Pullanos Pizza\, 13848 N 51st Ave\, Glendale\, AZ\, 85306\, United States
CATEGORIES:Karaoke,KJ Zondo
ATTACH;FMTTYPE=image/jpeg:https://www.maddhatterpro.com/wp-content/uploads/2026/02/Pullanos-Glendale.jpg
END:VEVENT
BEGIN:VEVENT
DTSTART;TZID=UTC:20290407T210000
DTEND;TZID=UTC:20290407T210000
DTSTAMP:20260425T035537
CREATED:20250703T233325Z
LAST-MODIFIED:20260206T144355Z
UID:10020545-1870290000-1870290000@www.maddhatterpro.com
SUMMARY:Pullanos Pizza
DESCRIPTION:Glendale’s best karaoke spot! The Amazing KJ Zondo in the house\, 9pm-1am. Amazing staff\, amazing foods\, and amazing singers –  but only when YOU take the stage. \n13848 N 51st Ave\, Glendale\, AZ 85306 \n+16029781234
URL:https://www.maddhatterpro.com/event/pullanos-pizza/2029-04-07/
LOCATION:Pullanos Pizza\, 13848 N 51st Ave\, Glendale\, AZ\, 85306\, United States
CATEGORIES:Karaoke,KJ Zondo
ATTACH;FMTTYPE=image/jpeg:https://www.maddhatterpro.com/wp-content/uploads/2026/02/Pullanos-Glendale.jpg
END:VEVENT
BEGIN:VEVENT
DTSTART;TZID=UTC:20290412T210000
DTEND;TZID=UTC:20290412T210000
DTSTAMP:20260425T035537
CREATED:20250703T233325Z
LAST-MODIFIED:20260206T144355Z
UID:10020546-1870722000-1870722000@www.maddhatterpro.com
SUMMARY:Pullanos Pizza
DESCRIPTION:Glendale’s best karaoke spot! The Amazing KJ Zondo in the house\, 9pm-1am. Amazing staff\, amazing foods\, and amazing singers –  but only when YOU take the stage. \n13848 N 51st Ave\, Glendale\, AZ 85306 \n+16029781234
URL:https://www.maddhatterpro.com/event/pullanos-pizza/2029-04-12/
LOCATION:Pullanos Pizza\, 13848 N 51st Ave\, Glendale\, AZ\, 85306\, United States
CATEGORIES:Karaoke,KJ Zondo
ATTACH;FMTTYPE=image/jpeg:https://www.maddhatterpro.com/wp-content/uploads/2026/02/Pullanos-Glendale.jpg
END:VEVENT
BEGIN:VEVENT
DTSTART;TZID=UTC:20290414T210000
DTEND;TZID=UTC:20290414T210000
DTSTAMP:20260425T035537
CREATED:20250703T233325Z
LAST-MODIFIED:20260206T144355Z
UID:10020547-1870894800-1870894800@www.maddhatterpro.com
SUMMARY:Pullanos Pizza
DESCRIPTION:Glendale’s best karaoke spot! The Amazing KJ Zondo in the house\, 9pm-1am. Amazing staff\, amazing foods\, and amazing singers –  but only when YOU take the stage. \n13848 N 51st Ave\, Glendale\, AZ 85306 \n+16029781234
URL:https://www.maddhatterpro.com/event/pullanos-pizza/2029-04-14/
LOCATION:Pullanos Pizza\, 13848 N 51st Ave\, Glendale\, AZ\, 85306\, United States
CATEGORIES:Karaoke,KJ Zondo
ATTACH;FMTTYPE=image/jpeg:https://www.maddhatterpro.com/wp-content/uploads/2026/02/Pullanos-Glendale.jpg
END:VEVENT
BEGIN:VEVENT
DTSTART;TZID=UTC:20290419T210000
DTEND;TZID=UTC:20290419T210000
DTSTAMP:20260425T035537
CREATED:20250703T233325Z
LAST-MODIFIED:20260206T144355Z
UID:10020548-1871326800-1871326800@www.maddhatterpro.com
SUMMARY:Pullanos Pizza
DESCRIPTION:Glendale’s best karaoke spot! The Amazing KJ Zondo in the house\, 9pm-1am. Amazing staff\, amazing foods\, and amazing singers –  but only when YOU take the stage. \n13848 N 51st Ave\, Glendale\, AZ 85306 \n+16029781234
URL:https://www.maddhatterpro.com/event/pullanos-pizza/2029-04-19/
LOCATION:Pullanos Pizza\, 13848 N 51st Ave\, Glendale\, AZ\, 85306\, United States
CATEGORIES:Karaoke,KJ Zondo
ATTACH;FMTTYPE=image/jpeg:https://www.maddhatterpro.com/wp-content/uploads/2026/02/Pullanos-Glendale.jpg
END:VEVENT
BEGIN:VEVENT
DTSTART;TZID=UTC:20290421T210000
DTEND;TZID=UTC:20290421T210000
DTSTAMP:20260425T035537
CREATED:20250703T233325Z
LAST-MODIFIED:20260206T144355Z
UID:10020549-1871499600-1871499600@www.maddhatterpro.com
SUMMARY:Pullanos Pizza
DESCRIPTION:Glendale’s best karaoke spot! The Amazing KJ Zondo in the house\, 9pm-1am. Amazing staff\, amazing foods\, and amazing singers –  but only when YOU take the stage. \n13848 N 51st Ave\, Glendale\, AZ 85306 \n+16029781234
URL:https://www.maddhatterpro.com/event/pullanos-pizza/2029-04-21/
LOCATION:Pullanos Pizza\, 13848 N 51st Ave\, Glendale\, AZ\, 85306\, United States
CATEGORIES:Karaoke,KJ Zondo
ATTACH;FMTTYPE=image/jpeg:https://www.maddhatterpro.com/wp-content/uploads/2026/02/Pullanos-Glendale.jpg
END:VEVENT
BEGIN:VEVENT
DTSTART;TZID=UTC:20290426T210000
DTEND;TZID=UTC:20290426T210000
DTSTAMP:20260425T035537
CREATED:20250703T233325Z
LAST-MODIFIED:20260206T144355Z
UID:10020550-1871931600-1871931600@www.maddhatterpro.com
SUMMARY:Pullanos Pizza
DESCRIPTION:Glendale’s best karaoke spot! The Amazing KJ Zondo in the house\, 9pm-1am. Amazing staff\, amazing foods\, and amazing singers –  but only when YOU take the stage. \n13848 N 51st Ave\, Glendale\, AZ 85306 \n+16029781234
URL:https://www.maddhatterpro.com/event/pullanos-pizza/2029-04-26/
LOCATION:Pullanos Pizza\, 13848 N 51st Ave\, Glendale\, AZ\, 85306\, United States
CATEGORIES:Karaoke,KJ Zondo
ATTACH;FMTTYPE=image/jpeg:https://www.maddhatterpro.com/wp-content/uploads/2026/02/Pullanos-Glendale.jpg
END:VEVENT
BEGIN:VEVENT
DTSTART;TZID=UTC:20290428T210000
DTEND;TZID=UTC:20290428T210000
DTSTAMP:20260425T035537
CREATED:20250703T233325Z
LAST-MODIFIED:20260206T144355Z
UID:10020551-1872104400-1872104400@www.maddhatterpro.com
SUMMARY:Pullanos Pizza
DESCRIPTION:Glendale’s best karaoke spot! The Amazing KJ Zondo in the house\, 9pm-1am. Amazing staff\, amazing foods\, and amazing singers –  but only when YOU take the stage. \n13848 N 51st Ave\, Glendale\, AZ 85306 \n+16029781234
URL:https://www.maddhatterpro.com/event/pullanos-pizza/2029-04-28/
LOCATION:Pullanos Pizza\, 13848 N 51st Ave\, Glendale\, AZ\, 85306\, United States
CATEGORIES:Karaoke,KJ Zondo
ATTACH;FMTTYPE=image/jpeg:https://www.maddhatterpro.com/wp-content/uploads/2026/02/Pullanos-Glendale.jpg
END:VEVENT
BEGIN:VEVENT
DTSTART;TZID=UTC:20290503T210000
DTEND;TZID=UTC:20290503T210000
DTSTAMP:20260425T035537
CREATED:20250703T233325Z
LAST-MODIFIED:20260206T144355Z
UID:10020552-1872536400-1872536400@www.maddhatterpro.com
SUMMARY:Pullanos Pizza
DESCRIPTION:Glendale’s best karaoke spot! The Amazing KJ Zondo in the house\, 9pm-1am. Amazing staff\, amazing foods\, and amazing singers –  but only when YOU take the stage. \n13848 N 51st Ave\, Glendale\, AZ 85306 \n+16029781234
URL:https://www.maddhatterpro.com/event/pullanos-pizza/2029-05-03/
LOCATION:Pullanos Pizza\, 13848 N 51st Ave\, Glendale\, AZ\, 85306\, United States
CATEGORIES:Karaoke,KJ Zondo
ATTACH;FMTTYPE=image/jpeg:https://www.maddhatterpro.com/wp-content/uploads/2026/02/Pullanos-Glendale.jpg
END:VEVENT
BEGIN:VEVENT
DTSTART;TZID=UTC:20290505T210000
DTEND;TZID=UTC:20290505T210000
DTSTAMP:20260425T035537
CREATED:20250703T233325Z
LAST-MODIFIED:20260206T144355Z
UID:10020553-1872709200-1872709200@www.maddhatterpro.com
SUMMARY:Pullanos Pizza
DESCRIPTION:Glendale’s best karaoke spot! The Amazing KJ Zondo in the house\, 9pm-1am. Amazing staff\, amazing foods\, and amazing singers –  but only when YOU take the stage. \n13848 N 51st Ave\, Glendale\, AZ 85306 \n+16029781234
URL:https://www.maddhatterpro.com/event/pullanos-pizza/2029-05-05/
LOCATION:Pullanos Pizza\, 13848 N 51st Ave\, Glendale\, AZ\, 85306\, United States
CATEGORIES:Karaoke,KJ Zondo
ATTACH;FMTTYPE=image/jpeg:https://www.maddhatterpro.com/wp-content/uploads/2026/02/Pullanos-Glendale.jpg
END:VEVENT
BEGIN:VEVENT
DTSTART;TZID=UTC:20290510T210000
DTEND;TZID=UTC:20290510T210000
DTSTAMP:20260425T035537
CREATED:20250703T233325Z
LAST-MODIFIED:20260206T144355Z
UID:10020554-1873141200-1873141200@www.maddhatterpro.com
SUMMARY:Pullanos Pizza
DESCRIPTION:Glendale’s best karaoke spot! The Amazing KJ Zondo in the house\, 9pm-1am. Amazing staff\, amazing foods\, and amazing singers –  but only when YOU take the stage. \n13848 N 51st Ave\, Glendale\, AZ 85306 \n+16029781234
URL:https://www.maddhatterpro.com/event/pullanos-pizza/2029-05-10/
LOCATION:Pullanos Pizza\, 13848 N 51st Ave\, Glendale\, AZ\, 85306\, United States
CATEGORIES:Karaoke,KJ Zondo
ATTACH;FMTTYPE=image/jpeg:https://www.maddhatterpro.com/wp-content/uploads/2026/02/Pullanos-Glendale.jpg
END:VEVENT
END:VCALENDAR