BEGIN:VCALENDAR
VERSION:2.0
PRODID:-//MaddHatterPro.com - ECPv6.15.20//NONSGML v1.0//EN
CALSCALE:GREGORIAN
METHOD:PUBLISH
X-ORIGINAL-URL:https://www.maddhatterpro.com
X-WR-CALDESC:Events for MaddHatterPro.com
REFRESH-INTERVAL;VALUE=DURATION:PT1H
X-Robots-Tag:noindex
X-PUBLISHED-TTL:PT1H
BEGIN:VTIMEZONE
TZID:UTC
BEGIN:STANDARD
TZOFFSETFROM:+0000
TZOFFSETTO:+0000
TZNAME:UTC
DTSTART:20290101T000000
END:STANDARD
END:VTIMEZONE
BEGIN:VEVENT
DTSTART;TZID=UTC:20301205T183000
DTEND;TZID=UTC:20301205T183000
DTSTAMP:20260424T222250
CREATED:20250704T002812Z
LAST-MODIFIED:20260206T144210Z
UID:10024783-1922725800-1922725800@www.maddhatterpro.com
SUMMARY:Pho Cao Karaoke
DESCRIPTION:Homey atmosphere\, and the perfect Thursday evening dinner. Come out and see what Pho Cao has to offer with great Vietnamese cuisine. KJ Skribbz in the house\, 6:30pm-10:30pm yet another early show! \n7436 E McDowell Rd\, Scottsdale\, AZ 85257 \n+16234282173
URL:https://www.maddhatterpro.com/event/pho-cao-karaoke/2030-12-05/
LOCATION:Pho Cao\, 7436 E McDowell Rd\, Scottsdale\, AZ\, 85257\, United States
CATEGORIES:Karaoke,KJ Skribbz
ATTACH;FMTTYPE=image/jpeg:https://www.maddhatterpro.com/wp-content/uploads/2026/02/Pho-Scottsdale.jpg
END:VEVENT
BEGIN:VEVENT
DTSTART;TZID=UTC:20301212T183000
DTEND;TZID=UTC:20301212T183000
DTSTAMP:20260424T222250
CREATED:20250704T002812Z
LAST-MODIFIED:20260206T144210Z
UID:10024784-1923330600-1923330600@www.maddhatterpro.com
SUMMARY:Pho Cao Karaoke
DESCRIPTION:Homey atmosphere\, and the perfect Thursday evening dinner. Come out and see what Pho Cao has to offer with great Vietnamese cuisine. KJ Skribbz in the house\, 6:30pm-10:30pm yet another early show! \n7436 E McDowell Rd\, Scottsdale\, AZ 85257 \n+16234282173
URL:https://www.maddhatterpro.com/event/pho-cao-karaoke/2030-12-12/
LOCATION:Pho Cao\, 7436 E McDowell Rd\, Scottsdale\, AZ\, 85257\, United States
CATEGORIES:Karaoke,KJ Skribbz
ATTACH;FMTTYPE=image/jpeg:https://www.maddhatterpro.com/wp-content/uploads/2026/02/Pho-Scottsdale.jpg
END:VEVENT
BEGIN:VEVENT
DTSTART;TZID=UTC:20301219T183000
DTEND;TZID=UTC:20301219T183000
DTSTAMP:20260424T222250
CREATED:20250704T002812Z
LAST-MODIFIED:20260206T144210Z
UID:10024785-1923935400-1923935400@www.maddhatterpro.com
SUMMARY:Pho Cao Karaoke
DESCRIPTION:Homey atmosphere\, and the perfect Thursday evening dinner. Come out and see what Pho Cao has to offer with great Vietnamese cuisine. KJ Skribbz in the house\, 6:30pm-10:30pm yet another early show! \n7436 E McDowell Rd\, Scottsdale\, AZ 85257 \n+16234282173
URL:https://www.maddhatterpro.com/event/pho-cao-karaoke/2030-12-19/
LOCATION:Pho Cao\, 7436 E McDowell Rd\, Scottsdale\, AZ\, 85257\, United States
CATEGORIES:Karaoke,KJ Skribbz
ATTACH;FMTTYPE=image/jpeg:https://www.maddhatterpro.com/wp-content/uploads/2026/02/Pho-Scottsdale.jpg
END:VEVENT
BEGIN:VEVENT
DTSTART;TZID=UTC:20301226T183000
DTEND;TZID=UTC:20301226T183000
DTSTAMP:20260424T222250
CREATED:20250704T002812Z
LAST-MODIFIED:20260206T144210Z
UID:10024786-1924540200-1924540200@www.maddhatterpro.com
SUMMARY:Pho Cao Karaoke
DESCRIPTION:Homey atmosphere\, and the perfect Thursday evening dinner. Come out and see what Pho Cao has to offer with great Vietnamese cuisine. KJ Skribbz in the house\, 6:30pm-10:30pm yet another early show! \n7436 E McDowell Rd\, Scottsdale\, AZ 85257 \n+16234282173
URL:https://www.maddhatterpro.com/event/pho-cao-karaoke/2030-12-26/
LOCATION:Pho Cao\, 7436 E McDowell Rd\, Scottsdale\, AZ\, 85257\, United States
CATEGORIES:Karaoke,KJ Skribbz
ATTACH;FMTTYPE=image/jpeg:https://www.maddhatterpro.com/wp-content/uploads/2026/02/Pho-Scottsdale.jpg
END:VEVENT
BEGIN:VEVENT
DTSTART;TZID=UTC:20310102T183000
DTEND;TZID=UTC:20310102T183000
DTSTAMP:20260424T222250
CREATED:20250704T002812Z
LAST-MODIFIED:20260206T144210Z
UID:10024787-1925145000-1925145000@www.maddhatterpro.com
SUMMARY:Pho Cao Karaoke
DESCRIPTION:Homey atmosphere\, and the perfect Thursday evening dinner. Come out and see what Pho Cao has to offer with great Vietnamese cuisine. KJ Skribbz in the house\, 6:30pm-10:30pm yet another early show! \n7436 E McDowell Rd\, Scottsdale\, AZ 85257 \n+16234282173
URL:https://www.maddhatterpro.com/event/pho-cao-karaoke/2031-01-02/
LOCATION:Pho Cao\, 7436 E McDowell Rd\, Scottsdale\, AZ\, 85257\, United States
CATEGORIES:Karaoke,KJ Skribbz
ATTACH;FMTTYPE=image/jpeg:https://www.maddhatterpro.com/wp-content/uploads/2026/02/Pho-Scottsdale.jpg
END:VEVENT
BEGIN:VEVENT
DTSTART;TZID=UTC:20310109T183000
DTEND;TZID=UTC:20310109T183000
DTSTAMP:20260424T222250
CREATED:20250704T002812Z
LAST-MODIFIED:20260206T144210Z
UID:10024788-1925749800-1925749800@www.maddhatterpro.com
SUMMARY:Pho Cao Karaoke
DESCRIPTION:Homey atmosphere\, and the perfect Thursday evening dinner. Come out and see what Pho Cao has to offer with great Vietnamese cuisine. KJ Skribbz in the house\, 6:30pm-10:30pm yet another early show! \n7436 E McDowell Rd\, Scottsdale\, AZ 85257 \n+16234282173
URL:https://www.maddhatterpro.com/event/pho-cao-karaoke/2031-01-09/
LOCATION:Pho Cao\, 7436 E McDowell Rd\, Scottsdale\, AZ\, 85257\, United States
CATEGORIES:Karaoke,KJ Skribbz
ATTACH;FMTTYPE=image/jpeg:https://www.maddhatterpro.com/wp-content/uploads/2026/02/Pho-Scottsdale.jpg
END:VEVENT
BEGIN:VEVENT
DTSTART;TZID=UTC:20310116T183000
DTEND;TZID=UTC:20310116T183000
DTSTAMP:20260424T222250
CREATED:20250704T002812Z
LAST-MODIFIED:20260206T144210Z
UID:10024789-1926354600-1926354600@www.maddhatterpro.com
SUMMARY:Pho Cao Karaoke
DESCRIPTION:Homey atmosphere\, and the perfect Thursday evening dinner. Come out and see what Pho Cao has to offer with great Vietnamese cuisine. KJ Skribbz in the house\, 6:30pm-10:30pm yet another early show! \n7436 E McDowell Rd\, Scottsdale\, AZ 85257 \n+16234282173
URL:https://www.maddhatterpro.com/event/pho-cao-karaoke/2031-01-16/
LOCATION:Pho Cao\, 7436 E McDowell Rd\, Scottsdale\, AZ\, 85257\, United States
CATEGORIES:Karaoke,KJ Skribbz
ATTACH;FMTTYPE=image/jpeg:https://www.maddhatterpro.com/wp-content/uploads/2026/02/Pho-Scottsdale.jpg
END:VEVENT
BEGIN:VEVENT
DTSTART;TZID=UTC:20310123T183000
DTEND;TZID=UTC:20310123T183000
DTSTAMP:20260424T222250
CREATED:20250704T002812Z
LAST-MODIFIED:20260206T144210Z
UID:10024790-1926959400-1926959400@www.maddhatterpro.com
SUMMARY:Pho Cao Karaoke
DESCRIPTION:Homey atmosphere\, and the perfect Thursday evening dinner. Come out and see what Pho Cao has to offer with great Vietnamese cuisine. KJ Skribbz in the house\, 6:30pm-10:30pm yet another early show! \n7436 E McDowell Rd\, Scottsdale\, AZ 85257 \n+16234282173
URL:https://www.maddhatterpro.com/event/pho-cao-karaoke/2031-01-23/
LOCATION:Pho Cao\, 7436 E McDowell Rd\, Scottsdale\, AZ\, 85257\, United States
CATEGORIES:Karaoke,KJ Skribbz
ATTACH;FMTTYPE=image/jpeg:https://www.maddhatterpro.com/wp-content/uploads/2026/02/Pho-Scottsdale.jpg
END:VEVENT
BEGIN:VEVENT
DTSTART;TZID=UTC:20310130T183000
DTEND;TZID=UTC:20310130T183000
DTSTAMP:20260424T222250
CREATED:20250704T002812Z
LAST-MODIFIED:20260206T144210Z
UID:10024791-1927564200-1927564200@www.maddhatterpro.com
SUMMARY:Pho Cao Karaoke
DESCRIPTION:Homey atmosphere\, and the perfect Thursday evening dinner. Come out and see what Pho Cao has to offer with great Vietnamese cuisine. KJ Skribbz in the house\, 6:30pm-10:30pm yet another early show! \n7436 E McDowell Rd\, Scottsdale\, AZ 85257 \n+16234282173
URL:https://www.maddhatterpro.com/event/pho-cao-karaoke/2031-01-30/
LOCATION:Pho Cao\, 7436 E McDowell Rd\, Scottsdale\, AZ\, 85257\, United States
CATEGORIES:Karaoke,KJ Skribbz
ATTACH;FMTTYPE=image/jpeg:https://www.maddhatterpro.com/wp-content/uploads/2026/02/Pho-Scottsdale.jpg
END:VEVENT
BEGIN:VEVENT
DTSTART;TZID=UTC:20310206T183000
DTEND;TZID=UTC:20310206T183000
DTSTAMP:20260424T222250
CREATED:20250704T002812Z
LAST-MODIFIED:20260206T144210Z
UID:10024792-1928169000-1928169000@www.maddhatterpro.com
SUMMARY:Pho Cao Karaoke
DESCRIPTION:Homey atmosphere\, and the perfect Thursday evening dinner. Come out and see what Pho Cao has to offer with great Vietnamese cuisine. KJ Skribbz in the house\, 6:30pm-10:30pm yet another early show! \n7436 E McDowell Rd\, Scottsdale\, AZ 85257 \n+16234282173
URL:https://www.maddhatterpro.com/event/pho-cao-karaoke/2031-02-06/
LOCATION:Pho Cao\, 7436 E McDowell Rd\, Scottsdale\, AZ\, 85257\, United States
CATEGORIES:Karaoke,KJ Skribbz
ATTACH;FMTTYPE=image/jpeg:https://www.maddhatterpro.com/wp-content/uploads/2026/02/Pho-Scottsdale.jpg
END:VEVENT
END:VCALENDAR